Workbook

Sheet 1_
B1: 1. SZÁMÚ MELLÉKLET
A5: MOSONMAGYARÓVÁR TÉRSÉGI TÁRSULÁS
A6: 2015. ÉVI KÖLTSÉGVETÉSI HATÁROZATÁHOZ
A11: A Mosonmagyaróvár Térségi Társulás és irányítása alá tartozó költségvetési szervek
A12: 2015. évi költségvetéséről szóló 2/2015. (II.17.) TT. Határozatot
A13: módosító …/2015. (IX….) TT határozat
A15: CÍMRENDJÉT
A16: az alábbiak szerint állapítja meg:
A21: Címszám | B21: Megnevezés
A22: 1. | B22: Mosonmagyaróvár Térségi Társulás
A23: 2. | B23: Kistérségi Egyesített Szociális Intézmény
A24: 3. | B24: Kistérségi Gyermekjóléti és Családsegítő Szolgáltató Központ

Sheet 2A
B1: 2./A SZÁMÚ MELLÉKLET
A3: MOSONMAGYARÓVÁR TÉRSÉGI TÁRSULÁS
A4: 2015. ÉVI KÖLTSÉGVETÉSI HATÁROZATÁHOZ
A5: PÉNZFORGALMI MÉRLEG
A6: adatok ezer Ft-ban
A8: MOSONMAGYARÓVÁRI TÖBBCÉLÚ KISTÉRSÉGI TÁRSULÁS ÉS KÖLTSÉGVETÉSI SZERVEI | D8: kötelező | E8: önként | G8: kötelező | H8: önként
A9: Megnevezés | B9: eredeti | C9: eredeti | D9: eredeti | E9: eredeti | F9: módosított | G9: módosított | H9: módosított | I9: Rovatrend
B10: előirányzat 2014. | C10: előirányzat 2015. | D10: előirányzat 2015. | E10: előirányzat 2015. | F10: előirányzat 2015. | G10: előirányzat 2015. | H10: előirányzat 2015. | I10: 2015. év
A11: Személyi juttatások | B11: ='2B'!B12+'2C'!B12+'2D'!B12 -> 363679.31 | C11: ='2B'!C12+'2C'!B12+'2D'!B12 -> 385136.31 | D11: =SUM(C11-E11) -> 384136.31 | E11: ='2D'!B12 -> 1000 | F11: ='2B'!D12+'2C'!C12+'2D'!C12 -> 396602 | G11: =F11-H11 -> 395602 | H11: ='2D'!C12 -> 1000 | I11: K1
A12: Munkaadót terhelő járulékok | B12: ='2B'!B13+'2C'!B13+'2D'!B13 -> 94973.752 | C12: ='2B'!C13+'2C'!B13+'2D'!B13 -> 102784.75 | D12: =SUM(C12-E12) -> 102273.05 | E12: ='2D'!B13 -> 511.7 | F12: ='2B'!D13+'2C'!C13+'2D'!C13 -> 105085.7 | G12: =F12-H12 -> 104574 | H12: ='2D'!C13 -> 511.7 | I12: K2
A13: Dologi és egyéb folyó kiadások | B13: ='2B'!B14+'2C'!B14+'2D'!B14 -> 231544.3 | C13: ='2B'!C14+'2C'!B14+'2D'!B14 -> 220124.3 | D13: =SUM(C13-E13) -> 207303 | E13: ='2D'!B14 -> 12821.3 | F13: ='2B'!D14+'2C'!C14+'2D'!C14 -> 226748 | G13: =F13-H13 -> 208567 | H13: ='2D'!C14 -> 18181 | I13: K3
A14: Ellátottak pénzbeli juttatásai | C14: ='2B'!C15+'2C'!B15 -> 1120 | D14: ='2B'!D15+'2C'!C15 -> 1120 | E14: 0 | F14: ='2B'!D15+'2C'!C15 -> 1120
A15: Pénzeszköz átadás, támogatás | B15: ='2B'!B15+'2C'!B15+'2D'!B15 -> 7117 | C15: ='2D'!B15 -> 6127 | D15: =SUM(C15-E15) -> 0 | E15: ='2D'!B15 -> 6127 | F15: ='2D'!C15 -> 8247 | G15: =F15-H15 -> 0 | H15: ='2D'!C15 -> 8247 | I15: K4
A16: Elvonások és befizetések | C16: 0 | F16: ='2B'!D16+'2C'!C16 -> 512 | G16: =F16-H16 -> 512 | H16: 0
A17: Felhalmozási kiadások | B17: 0 | C17: ='2B'!C17+'2C'!B17+'2D'!B17 -> 2435 | D17: =SUM(C17-E17) -> 2435 | E17: 0 | F17: ='2B'!D17+'2C'!C17+'2D'!C17 -> 7893 | G17: =F17-H17 -> 7893 | H17: 0 | I17: K61-67, K71-74
A18: Hitelek és kölcsönök kiadásai | B18: 0 | C18: 0 | D18: =SUM(C18-E18) -> 0 | E18: 0 | F18: 0 | G18: =F18-H18 -> 0 | H18: 0 | I18: K9111
A19: Pénzforgalmi kiadások | B19: =SUM(B11:B18) -> 697314.37 | C19: =SUM(C11:C18) -> 717727.37 | D19: =SUM(C19-E19) -> 697267.37 | E19: =SUM(E11:E18) -> 20460 | F19: =SUM(F11:F18) -> 746207.7 | G19: =SUM(G11:G18) -> 717148 | H19: =SUM(H11:H18) -> 27939.7
A20: Államháztartási tartalék | B20: ='2D'!B20 -> 18060 | C20: ='2D'!B20 -> 18060 | D20: =SUM(C20-E20) -> 17013 | E20: 1047 | F20: ='2D'!C20 -> 23631 | G20: =F20-H20 -> 22584 | H20: 1047 | I20: K512
A21: Kiadások összesen: | B21: =B19+B20 -> 715374.37 | C21: =C19+C20 -> 735787.37 | D21: =SUM(C21-E21) -> 714280.37 | E21: =SUM(E19+E20) -> 21507 | F21: =SUM(F19:F20) -> 769838.7 | G21: =SUM(G19:G20) -> 739732 | H21: =SUM(H19:H20) -> 28986.7
A23: Intézményi működési bevételek | B23: ='2B'!B23+'2C'!B21+'2D'!B23 -> 203341 | C23: ='2B'!C23+'2C'!B21+'2D'!B23 -> 200170 | D23: =C23-E23 -> 200170 | E23: ='2D'!B23 -> 0 | F23: ='2B'!D23+'2C'!C21+'2D'!C23 -> 210335 | G23: =F23-H23 -> 199755 | H23: ='2D'!C23 -> 10580 | I23: B4
A24: Költségvetési visszatérülések | B24: 0 | C24: ='2B'!C24+'2C'!B22+'2D'!B24 -> 0 | D24: =C24-E24 -> 0 | E24: 0 | F24: ='2D'!C24 -> 0 | G24: =F24-H24 -> 0 | H24: ='2C'!C22 -> 0
A25: Felhalmozási és tőke jellegű bevételek | B25: 0 | C25: ='2B'!C25+'2C'!B23+'2D'!B25 -> 0 | D25: =C25-E25 -> 0 | E25: ='2D'!C25 -> 0 | F25: ='2B'!D24+'2C'!C22+'2D'!C25 -> 0 | G25: =F25-H25 -> 0 | H25: ='2C'!C23 -> 0 | I25: B21, B25, B52, B72, B73
A26: ebből: sajátos felhalm. és tőkef. | B26: 0 | C26: 0 | D26: =C26-E26 -> 0 | E26: 0 | F26: 0 | G26: =F26-H26 -> 0 | H26: 0
A27: Támogatások, kiegészítések és átvett pénzeszközök | B27: ='2B'!B26+'2C'!B24+'2D'!B27 -> 536637.37 | C27: ='2B'!C26+'2C'!B24+'2D'!B27 -> 533182.37 | D27: =C27-E27 -> 511675.37 | E27: =18407+3100 -> 21507 | F27: ='2B'!D26+'2C'!C24+'2D'!C27 -> 554994 | G27: =F27-H27 -> 536587 | H27: =17360+1047 -> 18407 | I27: B816
A28: ebből: önkorm. költségvetési tám. | B28: ='2D'!B28 -> 321246.5 | C28: ='2B'!C27+'2C'!B25+'2D'!B28 -> 331337.5 | D28: =C28-E28 -> 331337.5 | E28: 0 | F28: ='2B'!D27+'2C'!C25+'2D'!C28 -> 350673 | G28: =F28-H28 -> 350673 | H28: 0
A29: Hitelek, kölcsönök bevételei | B29: 0 | C29: ='2B'!C29+'2C'!B27+'2D'!B29 -> 0 | D29: =C29-E29 -> 0 | E29: 0 | F29: 0 | G29: =F29-H29 -> 0 | H29: ='2C'!C27 -> 0 | I29: B8111
A30: Pénzforgalmi bevételek összesen | B30: =B27+B23 -> 739978.37 | C30: =C27+C23 -> 733352.37 | D30: =C30-E30 -> 711845.37 | E30: =E27+E23 -> 21507 | F30: =SUM(F29+F27+F26+F25+F24+F23) -> 765329 | G30: =F30-H30 -> 736342 | H30: =SUM(H23+H24+H25+H27) -> 28987
A31: Maradvány felhasználás | B31: 0 | C31: ='2B'!C31+'2C'!B29+'2D'!B32 -> 2435 | F31: ='2B'!D31+'2C'!C29+'2D'!C32 -> 4510 | G31: =F31-H31 -> 4510 | H31: 0
A32: Bevételek összesen: | B32: =B30+B31 -> 739978.37 | C32: =C30+C31 -> 735787.37 | D32: =C32-E32 -> 714280.37 | E32: =E30+E31 -> 21507 | F32: =SUM(F30:F31) -> 769839 | G32: =F32-H32 -> 740852 | H32: =SUM(H30:H31) -> 28987
A35: Mosonmagyaróvár, 2015.szeptember 4.
B36: …./2014. (XII.09.) Kt. Határozat alapján
B38: 200 Ft/lakos
B39: 100 Ft/lakos
B40: 20 Ft/lakos
B41: 10 Ft/lakos
B42: 100 Ft/lakos

Sheet 2B
B1: 2./B SZÁMÚ MELLÉKLET
A3: MOSONMAGYARÓVÁR TÉRSÉGI TÁRSULÁS
A4: 2015. ÉVI KÖLTSÉGVETÉSI HATÁROZAT MÓDOSÍTÁSA
A5: PÉNZFORGALMI MÉRLEG
A6: adatok ezer Ft-ban
C8: kötelező feladat | D8: kötelező feladat
A9: KISTÉRSÉGI EGYESÍTETT SZOCIÁLIS INTÉZET
A10: Megnevezés | B10: eredeti | C10: eredeti | D10: módosított | E10: Rovatrend
B11: előirányzat 2014. | C11: előirányzat 2015. | D11: előirányzat 2015. | E11: 2015. év
A12: Személyi juttatások | B12: 264817 | C12: ='[1]KESZI költségvetés'!$D$9 -> 286274 | D12: 293850 | E12: K1
A13: Munkaadót terhelő járulékok | B13: 69967 | C13: ='[1]KESZI költségvetés'!$D$10 -> 77778 | D13: 79250 | E13: K2
A14: Dologi és egyéb folyó kiadások | B14: =SUM(200046) -> 200046 | C14: ='[1]KESZI költségvetés'!$D$16 -> 188626 | D14: 187866 | E14: K3
A15: Ellátottak pénzbeli juttatásai | B15: 570 | C15: ='[1]KESZI költségvetés'!$D$17 -> 700 | D15: 700 | E15: K4
A16: Elvonások és befizetések | C16: 0 | D16: 344 | E16: K502
A17: Felhalmozási kiadások | B17: 0 | C17: ='[1]KESZI költségvetés'!$D$18 -> 2435 | D17: =1350+2187 -> 3537 | E17: K61-67, K71-74
A18: Hitelek és kölcsönök kiadásai | B18: 0 | C18: 0 | D18: 0 | E18: K9111
A19: Pénzforgalmi kiadások | B19: =SUM(B12:B18) -> 535400 | C19: =SUM(C12:C18) -> 555813 | D19: =SUM(D12:D18) -> 565547
A20: Kiegyenlítő, átfutó, függő kiadás | B20: nem releváns | C20: nem releváns
A21: Kiadások összesen: | B21: =SUM(B19) -> 535400 | C21: =SUM(C19) -> 555813 | D21: =SUM(D19) -> 565547
A23: Intézményi működési bevételek | B23: 201101 | C23: ='[1]KESZI költségvetés'!$D$22 -> 197930 | D23: 197930 | E23: B4
A24: Felhalmozási és tőke jellegű bevételek | B24: 0 | C24: 0 | D24: 0 | E24: B21, B25, B52, B72, B73
A25: ebből: sajátos felhalm. és tőkef. | B25: 0 | C25: 0 | D25: 0
A26: Támogatások, kiegészítések és átvett pénzeszközök | B26: =SUM(50763-12615) -> 38148 | C26: ='[1]KESZI költségvetés'!$D$21+'[1]KESZI költségvetés'!$D$23 -> 34693 | D26: 35243 | E26: B16, B63
A27: ebből: önkorm. költségvetési tám. | B27: 0 | C27: 10091 | D27: 10091
A28: Irányító szervtől kapott támogatás | B28: =SUM(283536+12615) -> 296151 | C28: ='[1]KESZI költségvetés'!$D$25+'[1]KESZI költségvetés'!$D$26+'[1]KESZI költségvetés'!$D$27+'[1]KESZI költségvetés'!$D$28 -> 320755 | D28: 331537 | E28: B816
A29: Hitelek, kölcsönök bevételei | B29: 0 | C29: 0 | D29: 0 | E29: B8111
A30: Pénzforgalmi bevételek összesen | B30: =SUM(B29+B28+B26+B24+B23) -> 535400 | C30: =SUM(C29+C28+C26+C24+C23) -> 553378 | D30: =SUM(D29+D28+D26+D24+D23) -> 564710
A31: Maradvány felhasználás | B31: 0 | C31: ='[1]KESZI költségvetés'!$D$24 -> 2435 | D31: 837 | E31: B8131
A32: Kiegyenlítő, átfutó, függő bevételek | B32: nem releváns | C32: nem releváns
A33: Bevételek összesen: | B33: =B30+B31 -> 535400 | C33: =C30+C31 -> 555813 | D33: =D30+D31 -> 565547
A36: Irányító szervi támogatás részletezése 2014.-2015. év eredeti | B36: adatok Ft-ban
B37: 2014. évi | C37: 2015. évi eredeti | D37: 2015. évi módosított
A38: Szociális étkeztetés | B38: 27403200 | C38: =[2]Munka1!$E$18 -> 25941696 | D38: =[2]Munka1!$E$18 -> 25941696
A39: Házi segítségnyújtás | B39: 34872500 | C39: =[2]Munka1!$E$19 -> 36192000 | D39: =[2]Munka1!$E$19 -> 36192000
A40: Időskorúak nappali int. Ellátása | B40: 7357500 | C40: =[2]Munka1!$E$20 -> 6213000 | D40: =[2]Munka1!$E$20 -> 6213000
A41: Fogyatékos és demens személyek ell. | B41: =SUM(6050000+4180000+12100000) -> 22330000 | C41: =[2]Munka1!$E$21+[2]Munka1!$E$22+[2]Munka1!$E$23 -> 24970000 | D41: =[2]Munka1!$E$21+[2]Munka1!$E$22+[2]Munka1!$E$23 -> 24970000
A42: Hajléktalanok nappali ellátása | B42: 11129400 | C42: =[2]Munka1!$E$24 -> 8903520 | D42: =[2]Munka1!$E$24 -> 8903520
A43: Hajléktalanok átmeneti ellátása | B43: 20607400 | C43: =[2]Munka1!$E$25 -> 20607400 | D43: =[2]Munka1!$E$25 -> 20607400 | F43: =SUM(D38:D45,D47,D49) -> 250133953
A44: Bértámogatás szociális szféra | B44: 83393280 | C44: =[2]Munka1!$E$26 -> 83393280 | D44: =[2]Munka1!$E$26 -> 83393280
A45: intézmény üzemeltetési támogatás | B45: 19973000 | C45: 25725104 | D45: 25725104
A46: Gesztor önkormányzat támogatása | B46: 56470000 | C46: ='[1]KESZI költségvetés'!$D$27*1000 -> 72513000 | D46: ='[1]KESZI költségvetés'!$D$27*1000 -> 72513000
A47: Szociális foglalkoztatás támogatása (gesztor önk. Keresztül) | B47: 12615000 | C47: ='[1]KESZI költségvetés'!$D$26*1000 -> 12615000 | D47: ='[1]KESZI költségvetés'!$D$26*1000 -> 12615000
A48: Térségi Társulás felé befizetett tagdíjból átadásra kerülő | C48: ='[1]KESZI költségvetés'!$D$28*1000 -> 3681000 | D48: ='[1]KESZI költségvetés'!$D$28*1000 -> 3681000 | F48: =D48+D50+D51 -> 8890238
A49: Bérkompenzáció | D49: 5572953
A50: Jubileumi jutalom, felmentési bérek | D50: 3269344
A51: Felújításra átadott előirányzat | D51: 1939894
B52: =SUM(B38:B47) -> 296151280 | C52: =SUM(C38:C48) -> 320755000 | D52: =SUM(D38:D51) -> 331537191
A54: Mosonmagyaróvár, 2015. szeptember 4.

Sheet 2C
B1: 2./C SZÁMÚ MELLÉKLET
A3: MOSONMAGYARÓVÁR TÉRSÉGI TÁRSULÁS
A4: 2015. ÉVI KÖLTSÉGVETÉSI HATÁROZATÁHOZ
A5: PÉNZFORGALMI MÉRLEG
A6: adatok ezer Ft-ban
C8: kötelező feladat
A9: Kistérségi Gyermekjóléti és Családsegítő Szolgáltató Központ
A10: Megnevezés | B10: eredeti | C10: módosított | D10: Rovatrend
B11: előirányzat 2015. | C11: előirányzat 2015. | D11: 2015. év
A12: Személyi juttatások | B12: ='[1]KGYCSSZK költségvetés'!$F$4/1000 -> 97862.314 | C12: 101752 | D12: K1
A13: Munkaadót terhelő járulékok | B13: ='[1]KGYCSSZK költségvetés'!$F$5/1000 -> 24495.052 | C13: 25324 | D13: K2
A14: Dologi és egyéb folyó kiadások | B14: ='[1]KGYCSSZK költségvetés'!$F$19/1000 -> 18677 | C14: 20701 | D14: K3
A15: Ellátottak pénzbeli juttatásai | B15: ='[1]KGYCSSZK költségvetés'!$F$20/1000 -> 420 | C15: ='[1]KGYCSSZK költségvetés'!$F$20/1000 -> 420 | D15: K4
A16: Elvonások és befizetések | C16: 168 | D16: K502
A17: Felhalmozási kiadások | B17: 0 | C17: =270+4086 -> 4356 | D17: K61-67, K71-74
A18: Pénzforgalmi kiadások | B18: =SUM(B12:B17) -> 141454.37 | C18: =SUM(C12:C17) -> 152721
A19: Kiadások összesen: | B19: =B18 -> 141454.37 | C19: =C18 -> 152721
A21: Intézményi működési bevételek | B21: ='[1]KGYCSSZK költségvetés'!$F$25/1000+'[1]KGYCSSZK költségvetés'!$F$24/1000 -> 2240 | C21: 1825 | D21: B4
A22: Felhalmozási és tőke jellegű bevételek | B22: 0 | C22: 0 | D22: B21, B25, B52, B72, B73
A23: ebből: sajátos felhalm. és tőkef. | B23: 0 | C23: 0
A24: Támogatások, kiegészítések és átvett pénzeszközök | B24: ='[1]KGYCSSZK költségvetés'!$F$23/1000 -> 370 | C24: =1250+1414 -> 2664 | D24: B16, B63
A25: ebből: önkorm. költségvetési tám. | B25: 0 | C25: 0
A26: Felügyeleti szervtől átvett támogatás | B26: ='[1]KGYCSSZK költségvetés'!$F$27/1000 -> 138844.37 | C26: 147817 | D26: B816
A27: Hitelek, kölcsönök bevételei | B27: 0 | C27: 0 | D27: B8111
A28: Pénzforgalmi bevételek összesen | B28: =SUM(B27,B26,B24,B21) -> 141454.37 | C28: =SUM(C27,C26,C24,C21) -> 152306
A29: Maradvány felhasználás | B29: 0 | C29: 415
A30: Bevételek összesen: | B30: =SUM(B28+B29) -> 141454.37 | C30: =SUM(C28+C29) -> 152721
A32: Irányító szervi támogatás részletezése 2015. év eredeti és módosított | B32: adatok Ft-ban
B33: 2015. év eredeti | C33: 2015. év módosított
A34: Szociális és gyermekjóléti alapszolg., állami támogatás | B34: 78138520 | C34: =[2]Munka1!$E$6+[2]Munka1!$E$7+[2]Munka1!$E$8+[2]Munka1!$E$9 -> 78138520
A35: Gesztor önkormányzat támogatása | B35: 42261266 | C35: ='[1]KGYCSSZK költségvetés'!$F$32 -> 42261266
A36: Tagönkormányzatok támogatása | B36: 7282500 | C36: ='[1]KGYCSSZK költségvetés'!$F$31 -> 7282500
A37: Bértámogatás és intézmény üzemeltetés támogatás mint állami támogatás | B37: 11162080 | C37: 11162080 | F37: =SUM(C34+C37+C40) -> 92387288
A38: Gyáó épület felújítására átadott előirányzat | C38: 4086225 | F38: =C36+C39+C38 -> 13168911
A39: Jubileumi jutalom, felmentési bérekre átadott előirányzat | C39: 1800186
A40: bérkompenzáció | C40: 3086688
A41: Összesen | B41: =SUM(B34:B38) -> 138844366 | C41: =SUM(C34:C40) -> 147817465
A43: Mosonmagyaróvár, 2015. szeptember 4.

Sheet 2D
B1: 2./D SZÁMÚ MELLÉKLET
A3: MOSONMAGYARÓVÁR TÉRSÉGI TÁRSULÁS
A4: 2015. ÉVI KÖLTSÉGVETÉSI HATÁROZATÁHOZ
A5: PÉNZFORGALMI MÉRLEG
A6: adatok ezer Ft-ban
C8: önként vállalt feladat
A9: Mosonmagyaróvár Térségi Társulás
A10: Megnevezés | B10: eredeti | C10: módosított | D10: Rovatrend
B11: előirányzat 2015. | C11: előirányzat 2015. | D11: 2015. év
A12: Személyi juttatások | B12: =[1]Munka1!$C$6/1000 -> 1000 | C12: =[1]Munka1!$C$6/1000 -> 1000 | D12: K1 | E12: *
A13: Munkaadót terhelő járulékok | B13: =[1]Munka1!$C$11/1000 -> 511.7 | C13: =[1]Munka1!$C$11/1000 -> 511.7 | D13: K2 | E13: *
A14: Dologi és egyéb folyó kiadások | B14: =[1]Munka1!$C$19/1000 -> 12821.3 | C14: 18181 | D14: K3 | E14: *
A15: Pénzeszköz átadás, támogatás | B15: =[1]Munka1!$C$24/1000 -> 6127 | C15: 8247 | D15: K5
A16: Felügyelet alá tartozó költségvetési szerv. Támogat. | B16: =[1]Munka1!$C$33/1000 -> 459599.37 | C16: 479354 | D16: K915
A17: Felhalmozási kiadások | B17: 0 | C17: 0 | D17: K61-67, K71-74
A18: Hitelek és kölcsönök kiadásai | B18: 0 | C18: 0 | D18: K9111
A19: Pénzforgalmi kiadások | B19: =SUM(B12:B18) -> 480059.37 | C19: =SUM(C12:C18) -> 507293.7
A20: Államháztartási tartalék | B20: =[1]Munka1!$C$25/1000 -> 18060 | C20: 23631 | D20: K513
A21: Kiadások összesen: | B21: =SUM(B19+B20) -> 498119.37 | C21: =SUM(C19+C20) -> 530924.7
A23: Intézményi működési bevételek | B23: 0 | C23: 10580 | D23: B4
A24: Költségvetési visszatérülések | B24: 0 | C24: 0
A25: Felhalmozási és tőke jellegű bevételek | B25: 0 | C25: 0 | D25: B21, B25, B52, B72, B73
A26: ebből: sajátos felhalm. és tőkef. | B26: 0 | C26: 0
A27: Támogatások, kiegészítések és átvett pénzeszközök | B27: =[1]Munka1!$C$65/1000+[1]Munka1!$C$46/1000+[1]Munka1!$C$45/1000+[1]Munka1!$C$44/1000 -> 498119.37 | C27: 517087 | D27: B16, 816
A28: ebből: önkorm. költségvetési tám. | B28: =[1]Munka1!$C$47/1000 -> 321246.5 | C28: 340582
A29: Felügyeleti szervtől átvett támogatás | B29: 0 | C29: 0
A30: Hitelek, kölcsönök bevételei | B30: 0 | C30: 0 | D30: B8111
A31: Pénzforgalmi bevételek összesen | B31: =SUM(B23+B24+B25+B27+B29+B30) -> 498119.37 | C31: =SUM(C23+C24+C25+C27+C29+C30) -> 527667
A32: Maradvány felhasználás | B32: 0 | C32: 3258
A33: Bevételek összesen: | B33: =B31+B32 -> 498119.37 | C33: =C31+C32 -> 530925
A39: Mosonmagyaróvár, 2015. szeptember 4.

Sheet 3
G1: 3. SZÁMÚ MELLÉKLET
A2: MOSONMAGYARÓVÁR TÉRSÉGI TÁRSULÁS
A3: 2015. ÉVI KÖLTSÉGVETÉSI HATÁROZATÁHOZ
A5: Kiadások és Bevételek működési egyensúlya módosított előirányzat szerint
A6: 2015. év terv
A7: adatok ezer Ft-ban
A8: Működési kiadások ezer Ft
A10: Intézmény megnevezése | B10: Személyi juttatások | C10: Járulékok | D10: Dologi kiadások | E10: Ellátottak juttatása | F10: Tartalékképzés | G10: Átadott pénzeszközök működési | H10: Összesen
A11: Kistérségi Egyesített Szociális Intézmény | B11: ='2B'!D12 -> 293850 | C11: ='2B'!D13 -> 79250 | D11: ='2B'!D14 -> 187866 | E11: ='2B'!D15 -> 700 | F11: 0 | G11: ='2B'!D16 -> 344 | H11: =SUM(B11:G11) -> 562010
A12: Kistérségi Gyermekjóléti és Családsegítő Szolgáltató Központ | B12: ='2C'!C12 -> 101752 | C12: ='2C'!C13 -> 25324 | D12: ='2C'!C14 -> 20701 | E12: ='2C'!C15 -> 420 | F12: 0 | G12: ='2C'!C16 -> 168 | H12: =SUM(B12:G12) -> 148365
A13: Mosonmagyaróvár Térségi Társulás | B13: ='2D'!C12 -> 1000 | C13: ='2D'!C13 -> 511.7 | D13: ='2D'!C14 -> 18181 | E13: 0 | F13: ='2D'!C20 -> 23631 | G13: ='2D'!C15 -> 8247 | H13: =SUM(B13:G13) -> 51570.7
A14: Mindösszesen: | B14: =SUM(B11:B13) -> 396602 | C14: =SUM(C11:C13) -> 105085.7 | D14: =SUM(D11:D13) -> 226748 | E14: =SUM(E11:E13) -> 1120 | F14: =SUM(F11:F13) -> 23631 | G14: =SUM(G11:G13) -> 8759 | H14: =SUM(H11:H13) -> 761945.7
A16: Működési bevételek ezer Ft
A18: Intézmény megnevezése | B18: Intézmény saját bevételei | C18: Állami támogatás | D18: MÖK támogatás | E18: Egyéb támogatás értékű műk. bevétel | F18: Feladatfinanszírozás | G18: Társulási támogatás | H18: Maradvány felhasználás | I18: Összesen
A19: Kistérségi Egyesített Szociális Intézmény | B19: ='2B'!D23 -> 197930 | C19: =250134-12615 -> 237519 | D19: =72513-760 -> 71753 | E19: ='2B'!D26 -> 35243 | F19: 12615 | G19: ='2B'!D28-'3'!C19-'3'!D19-'3'!F19-1512-428-760 -> 6950 | H19: 0 | I19: =SUM(B19:G19) -> 562010
A20: Kistérségi Gyermekjóléti és Családsegítő Szolgáltató Központ | B20: ='2C'!C21 -> 1825 | C20: 92387 | D20: 42261 | E20: 2664 | F20: 0 | G20: ='2C'!C26-'3'!C20-'3'!D20-'3'!F20-4086 -> 9083 | H20: 145 | I20: =SUM(B20:H20) -> 148365
A21: Mosonmagyaróvár Térségi Társulás | B21: ='2D'!C23 -> 10580 | C21: 0 | D21: 0 | E21: 37733 | F21: 0 | G21: 0 | H21: ='2D'!C32 -> 3258 | I21: =SUM(B21:H21) -> 51571
A22: Mindösszesen: | B22: =SUM(B19:B21) -> 210335 | C22: =SUM(C19:C21) -> 329906 | D22: =SUM(D19:D21) -> 114014 | E22: =SUM(E19:E21) -> 75640 | F22: =SUM(F19:F21) -> 12615 | G22: =SUM(G19:G21) -> 16033 | I22: =SUM(I19:I21) -> 761946
A24: Felhalmozási kiadások ezer Ft | E24: Felhalmozási bevételek ezer Ft
A25: Intézmény megnevezése | B25: Felhalmozási kiadások | C25: Összesen | E25: Intézmény megnevezése | F25: Pénzmaradvány felhasználás | G25: Társulási támogatás | H25: MÖK támogatás | I25: Összesen
A26: Kistérségi Egyesített Szociális Intézmény | B26: ='2B'!D17 -> 3537 | C26: =B26 -> 3537 | E26: Kistérségi Egyesített Szociális Intézmény | F26: 837 | G26: =1512+428 -> 1940 | H26: 760 | I26: =SUM(F26:H26) -> 3537
A27: Kistérségi Gyermekjóléti és Családsegítő Szolgáltató Központ | B27: ='2C'!C17 -> 4356 | C27: =B27 -> 4356 | E27: Kistérségi Gyermekjóléti és Családsegítő Szolgáltató Központ | F27: 270 | G27: 4086 | H27: 0 | I27: =SUM(F27:H27) -> 4356
A28: Mosonmagyaróvár Térségi Társulás | B28: ='2D'!C24 -> 0 | C28: 0 | E28: Mosonmagyaróvár Térségi Társulás | F28: 0 | G28: 0 | H28: 0 | I28: 0
A29: Mindösszesen: | B29: =SUM(B26:B28) -> 7893 | C29: =SUM(C26:C28) -> 7893 | E29: Mindösszesen: | F29: =SUM(F26:F28) -> 1107 | G29: =SUM(G26:G28) -> 6026 | H29: =SUM(H26:H28) -> 760 | I29: =SUM(I26:I28) -> 7893
A34: Mosonmagyaróvár,2015. szeptember 4.

Sheet 4
A3: Mosonmagyaróvár Térségi Társulás
A4: és felügyelete alá tartozó költségvetési szerv
A5: 2015. évi költségvetéséről szóló határozatához
A7: Költségvetési engedélyzett létszámhely
B9: adatok: fő-ben
A10: Megnevezés | B10: 2015. január 1. | C10: 2015. január 1. | D10: Közfoglalkoztatottak átlagos létszáma
A11: (intézmény, szakfeladat, stb.) | B11: engedélyezett | C11: engedélyezett
B12: létszámhely | C12: létszámhely
A13: Kistérségi Gyermekjóléti és Családsegítő Szolgáltató Központ | B13: =SUM(B14:B16) -> 43 | C13: =SUM(C14:C16) -> 43 | D13: 0
A14: GyÁÓ | B14: 8 | C14: 8 | D14: 0
A15: Gyermekjóléti szolgálat | B15: 16 | C15: 16 | D15: 0
A16: Családsegítő | B16: 19 | C16: 19 | D16: 0
A17: Kistérségi Egyesített Szociális Intézet | B17: =SUM(B18:B28) -> 134 | C17: =SUM(C18:C28) -> 135 | D17: =SUM(D18:D28) -> 0
A18: Aranykor, kp.-i irányítás | B18: 42 | C18: =42+1 -> 43 | D18: 0
A19: Gondozóház | B19: 28 | C19: 28 | D19: 0
A20: ESZO | D20: 0
A21: Hajléktalan | B21: 6 | C21: 6 | D21: 0
A22: Idősek klubja | B22: 16 | C22: 16 | D22: 0
A23: FÉNI | B23: 7 | C23: 7 | D23: 0
A24: Nappali melegedő | B24: 2 | C24: 2 | D24: 0
A25: Szociális étkezés | B25: 4 | C25: 4 | D25: 0
A26: Házi segítségnyújtás | B26: 24 | C26: 24 | D26: 0
A27: Jelzőrendszer | B27: 1 | C27: 1 | D27: 0
A28: Szoc. foglalkoztatás | B28: 4 | C28: 4 | D28: 0
A29: Mosonmagyaróvár Térségi Társulás | B29: 0 | C29: 0 | D29: 0
A30: TÁMOP 5.4.9-11/1-2012-0014 | B30: 0 | C30: 0 | D30: 0
A31: Összesen: | B31: =SUM(B13+B17+B29) -> 177 | C31: =SUM(C13+C17+C29) -> 178 | D31: =SUM(D13+D17+D29) -> 0
A33: Mosonmagyaróvár, 2015. szeptember 4.

Sheet 5
B1: 5. számú melléklet
A2: Mosonmagyaróvár Térségi Társulás
A4: Állami támogatások
A6: Kistérségi Egyesített Szociális Intézmény
A7: Rovat: B113, B115
A8: Jogcím | B8: Feladat | C8: Fajlagos támogatás 2014. évi C. tv. Alapján | D8: mutató | E8: Eredeti előirányzat | F8: Módosított előirányzat
A9: 3.c. | B9: Szociális étkeztetés | C9: 60896 | D9: 426 | E9: =SUM(D9*C9) -> 25941696 | F9: 25941696
A10: 3.d. | B10: Házi segítségnyújtás | C10: 188500 | D10: 192 | E10: =SUM(D10*C10) -> 36192000 | F10: 36192000
A11: 3.f. | B11: Időskorúak nappali int. ellátása | C11: 163500 | D11: 38 | E11: =SUM(D11*C11) -> 6213000 | F11: 6213000
A12: 3.g. | B12: Fogyatékos személyek napp. int. ellátása | C12: 550000 | D12: 11 | E12: =SUM(D12*C12) -> 6050000 | F12: 6050000
A13: 3.g. | B13: Foglalkoztatási támogatásban rész. fogy. | C13: 220000 | D13: 16 | E13: =SUM(D13*C13) -> 3520000 | F13: 3520000
A14: 3.g. | B14: Demens szem. napp. int. ellátása | C14: 550000 | D14: 28 | E14: =SUM(D14*C14) -> 15400000 | F14: 15400000
A15: 3.i. | B15: Hajléktalanik napp. int. ellátása | C15: 247320 | D15: 36 | E15: =SUM(D15*C15) -> 8903520 | F15: 8903520
A16: 3.k. | B16: Hajléktalanok Átmeneti Szállása | C16: 515185 | D16: 40 | E16: =SUM(D16*C16) -> 20607400 | F16: 20607400
A17: 4.a. | B17: Bértámogatás | C17: 2606040 | D17: 32 | E17: 83393280 | F17: 83393280
A18: 4.b. | B18: Intézmény-üzemeltetési támogatás | E18: 25725104 | F18: 25725104
B19: Bérkompenzáció | F19: 5572953
B20: Szociális ágazgati pótlék* | F20: 8130034
B21: Összesen | E21: =SUM(E9:E18) -> 231946000 | F21: =SUM(F9:F20) -> 245648987
A23: Kistérségi Gyermekjóléti és Családsegítő Szolgáltató Központ
A24: Jogcím | B24: Feladat | C24: Fajlagos támogatás 2014. évi C. tv. Alapján | D24: mutató | E24: Eredeti előirányzat | F24: Módosított előirányzat
A25: 3.a. | B25: Családsegítés | C25: L/7000*1 975 000 | D25: 10.4036 | E25: 20547110 | F25: 20547110
A26: 3.aa. | B26: Családsegítés társult kiegészítés | C26: 300 Ft/fő | D26: 72825 | E26: 21847500 | F26: 21847500
A27: 3.a. | B27: Gyeremkjóléti szolgáltatás | C27: L/7000*1 975 000 | D27: 10.4036 | E27: 20547110 | F27: 20547110
A28: 3.aa. | B28: Gyeremkjóléti szolg. társult kiegészítés | C28: 1200 Ft/fő | D28: 12664 | E28: 15196800 | F28: 15196800
A29: 4.a | B29: GyÁÓ bértámogatás | C29: 2606040 | D29: 2 | E29: 5212080 | F29: 5212080
A30: 4.b | B30: GyÁÓ intézmény-üzelemtetés | E30: 5950000 | F30: 5950000
B31: Bérkompenzáció | F31: 3086688
B32: Szociális ágazati pótlék* | F32: 2546244
B33: Összesen: | E33: =SUM(E25:E30) -> 89300600 | F33: =SUM(F25:F32) -> 94933532
B35: Mindösszesen | E35: =E21+E33 -> 321246600 | F35: =F33+F21 -> 340582519
A37: * A szociális ágazgati pótlék kiadás szintje eredeti előirányzatban tervezésre került, így a bevételt az intézmény finanszírozás eredeti előirányzatban
A38: tartalmazza. Az ágazati pótlék elszámolására az év végi történik, a tényleges igénylések alapján.
A40: Mosonmagyaróvár, 2015. szeptember 4.
