Workbook

Sheet 1_
B1: 1. SZ. MELLÉKLET
A9: A Mosonmagyaróvár Térségi Társulás és irányítása alá tartozó költségvetési szervek
A10: 2021. évi költségvetéséről szóló 25/2021. (III.11.) elnöki határozatot
A11: módosításító ……./2021. (IX.28.) TT. Határozat
A13: CÍMRENDJÉT
A14: az alábbiak szerint állapítja meg:
A19: Címszám | B19: Megnevezés
A20: 1. | B20: Mosonmagyaróvár Térségi Társulás
A21: 2. | B21: Kistérségi Egyesített Szociális Intézmény
A22: 3. | B22: Család és Gyermekjóléti Központ

Sheet 2A
B1: 2./A SZ. MELLÉKLET
A3: MOSONMAGYARÓVÁR TÉRSÉGI TÁRSULÁS
A4: 2021. ÉVI KÖLTSÉGVETÉSI HATÁROZATÁNAK MÓDOSÍTÁSÁHOZ
A5: PÉNZFORGALMI MÉRLEG
A6: adatok Ft-ban
A8: MOSONMAGYARÓVÁR TÉRSÉGI TÁRSULÁS ÉS KÖLTSÉGVETÉSI SZERVEI | C8: kötelező | D8: önként | F8: kötelező | G8: önként
A9: Megnevezés | B9: eredeti | C9: eredeti | D9: eredeti | E9: módosított | F9: módosított | G9: módosított | H9: Rovatrend
B10: előirányzat 2021 | C10: előirányzat 2021 | D10: előirányzat 2021 | E10: előirányzat 2021.06.30 | F10: előirányzat 2021.06.30 | G10: előirányzat 2021.06.30
A11: Személyi juttatások | B11: ='2B'!B12+'2C'!B12+'2D'!B12 -> 800345500 | C11: =SUM(B11-D11) -> 799845500 | D11: ='2D'!B12 -> 500000 | E11: ='2B'!C12+'2C'!C12+'2D'!C12 -> 811096990 | F11: =E11-G11 -> 810596990 | G11: ='2D'!C12 -> 500000 | H11: K1 | J11: =B11/#REF! -> #REF!
A12: Munkaadót terhelő járulékok | B12: ='2B'!B13+'2C'!B13+'2D'!B13 -> 136203650 | C12: =SUM(B12-D12) -> 136023700 | D12: ='2D'!B13 -> 179950 | E12: ='2B'!C13+'2C'!C13+'2D'!C13 -> 137763491 | F12: =E12-G12 -> 137583541 | G12: ='2D'!C13 -> 179950 | H12: K2 | J12: =B12/#REF! -> #REF!
A13: Dologi és egyéb folyó kiadások | B13: ='2B'!B14+'2C'!B14+'2D'!B14 -> 323724370 | C13: =SUM(B13-D13) -> 319860000 | D13: ='2D'!B14 -> 3864370 | E13: ='2B'!C14+'2C'!C14+'2D'!C14 -> 327899303 | F13: =E13-G13 -> 324034933 | G13: ='2D'!C14 -> 3864370 | H13: K3 | J13: =B13/#REF! -> #REF!
A14: Ellátottak pénzbeli juttatásai | B14: 1050000 | C14: 1050000 | D14: 0 | E14: ='2B'!C15+'2C'!C15 -> 1050000 | F14: =E14-G14 -> 1050000 | G14: 0
A15: Pénzeszköz átadás, támogatás | B15: ='2B'!B16+'2D'!B15 -> 7574000 | C15: 17000 | D15: =7574000-17000 -> 7557000 | E15: ='2B'!C16+'2D'!C15 -> 8130814 | F15: =E15-G15 -> 573814 | G15: ='2D'!C15 -> 7557000 | H15: K4 | J15: =B15/#REF! -> #REF!
A16: Felhalmozási kiadások | B16: ='2B'!B17+'2C'!B16+'2D'!B17 -> 40651369 | C16: =SUM(B16-D16) -> 31262369 | D16: ='2D'!B17 -> 9389000 | E16: ='2B'!C17+'2C'!C16+'2D'!C17 -> 40651369 | F16: =E16-G16 -> 31262369 | G16: ='2D'!C17 -> 9389000 | H16: K61-67, K71-74 | J16: =B16/#REF! -> #REF!
A17: Hitelek és kölcsönök kiadásai | B17: 0 | C17: =SUM(B17-D17) -> 0 | D17: 0 | E17: 0 | F17: =E17-G17 -> 0 | G17: 0 | H17: K9111 | J17: =B17/#REF! -> #REF!
A18: Pénzforgalmi kiadások | B18: =SUM(B11:B17) -> 1309548889 | C18: =SUM(B18-D18) -> 1288058569 | D18: =SUM(D11:D17) -> 21490320 | E18: =SUM(E11:E17) -> 1326591967 | F18: =SUM(F11:F17) -> 1305101647 | G18: =SUM(G11:G17) -> 21490320 | J18: =B18/#REF! -> #REF!
A19: Államháztartási tartalék | B19: ='2D'!B20 -> 2.1814365e+08 | C19: =SUM(B19-D19) -> 2.0868257e+08 | D19: =D33-D18 -> 9461080 | E19: ='2D'!C20 -> 210936927 | F19: =208682572-5942000-1264725 -> 201475847 | G19: =E19-F19 -> 9461080 | H19: K513 | J19: =B19/#REF! -> #REF!
A20: Kiegyenlítő, átfutó, függő kiadás | B20: nem releváns | C20: nem releváns | D20: nem releváns | E20: nem releváns | F20: nem releváns | G20: nem releváns | J20: =B20/#REF! -> #VALUE!
A21: Kiadások összesen: | B21: =B18+B19 -> 1.5276925e+09 | C21: =SUM(B21-D21) -> 1.4967411e+09 | D21: =SUM(D18+D19) -> 30951400 | E21: =E18+E19 -> 1537528894 | F21: =F18+F19 -> 1506577494 | G21: =G18+G19 -> 30951400 | J21: =B21/#REF! -> #REF!
A23: Intézményi működési bevételek | B23: ='2B'!B23+'2C'!B22+'2D'!B24 -> 298100000 | C23: =B23-D23 -> 298100000 | D23: ='2D'!B24 -> 0 | E23: ='2B'!C23+'2C'!C22+'2D'!C24 -> 298100000 | F23: =E23-G23 -> 298100000 | G23: ='2D'!C24 -> 0 | H23: B4 | J23: =B23/#REF! -> #REF!
A24: Költségvetési visszatérülések | B24: 0 | C24: =B24-D24 -> 0 | D24: 0 | E24: 0 | F24: =E24-G24 -> 0 | G24: ='2D'!C25 -> 0 | J24: =B24/#REF! -> #REF!
A25: Felhalmozási és tőke jellegű bevételek | B25: ='2B'!B24+'2C'!B23+'2D'!B26 -> 9643000 | C25: =B25-D25 -> 0 | D25: ='2D'!B26 -> 9643000 | E25: ='2B'!C24+'2C'!C23+'2D'!C26 -> 9643000 | F25: =E25-G25 -> 0 | G25: ='2D'!C26 -> 9643000 | H25: B21, B25, B52, B72, B73 | J25: =B25/#REF! -> #REF!
A26: ebből: sajátos felhalm. és tőkef. | B26: 0 | C26: =B26-D26 -> 0 | D26: 0 | E26: 0 | F26: =E26-G26 -> 0 | G26: 0 | J26: =B26/#REF! -> #REF!
A27: Támogatások, kiegészítések és átvett pénzeszközök | B27: ='2B'!B26+'2C'!B25+'2D'!B28 -> 1004031917 | C27: =B27-D27 -> 982723517 | D27: ='[1]2021 tagdíj'!$E$37 -> 21308400 | E27: ='2B'!C26+'2C'!C25+'2D'!C28 -> 1013868250 | F27: =E27-G27 -> 992559850 | G27: 21308400 | H27: B816 | J27: =B27/#REF! -> #REF!
A28: ebből: önkorm. költségvetési tám. | B28: ='2D'!B29 -> 556455877 | C28: =B28-D28 -> 556455877 | D28: 0 | E28: ='2D'!C29 -> 601313182 | F28: =E28-G28 -> 601313182 | G28: 0 | J28: =B28/#REF! -> #REF!
A29: Hitelek, kölcsönök bevételei | B29: 0 | C29: =B29-D29 -> 0 | D29: 0 | E29: 0 | F29: =E29-G29 -> 0 | G29: 0 | H29: B8111 | J29: =B29/#REF! -> #REF!
A30: Pénzforgalmi bevételek összesen | B30: =B27+B23+B25 -> 1311774917 | C30: =B30-D30 -> 1280823517 | D30: =D27+D23+D25 -> 30951400 | E30: =E23+E25+E27 -> 1321611250 | F30: =F23+F25+F27 -> 1290659850 | G30: =G23+G25+G27 -> 30951400 | J30: =B30/#REF! -> #REF!
A31: Maradvány felhasználás | B31: ='2B'!B31+'2C'!B30+'2D'!B33 -> 215917624 | C31: =B31-D31 -> 215917624 | D31: 0 | E31: ='2B'!C31+'2C'!C30+'2D'!C33 -> 215917644 | F31: =E31-G31 -> 215917644 | G31: 0
A32: Kiegyenlítő, átfutó, függő bevételek | B32: nem releváns | C32: nem releváns | D32: nem releváns | E32: nem releváns | F32: nem releváns | G32: nem releváns
A33: Bevételek összesen: | B33: =B30+B31 -> 1527692541 | C33: =B33-D33 -> 1496741141 | D33: =D30+D31 -> 30951400 | E33: =E30+E31 -> 1537528894 | F33: =F30+F31 -> 1506577494 | G33: =G30+G31 -> 30951400
A36: Mosonmagyaróvár, 2021. szeptember 21.
B38: valamint 48/2017. (XI.07.) TT határozat alapján
B39: valamint 5/2019. (II.26.) TT határozat alapján
B40: 270 Ft/lakos | C40: térségi társulás működési támogatása
B41: 100 Ft/lakos | C41: Gyermekjóléti szolgálat működéséhez kapcsolódó hozzájárulás
B42: 20 Ft/lakos | C42: Kórház támogatására
B43: 10 Ft/lakos | C43: Szolidaritási alap
B44: 100 Ft/lakos | C44: Felújítási alap
B45: 1223 Ft/lakos | C45: kiegészítő hozzájárulás (580 Ft+643 Ft)

Sheet 2B
B1: 2./B SZ. MELLÉKLET
A3: MOSONMAGYARÓVÁR TÉRSÉGI TÁRSULÁS
A4: 2021. ÉVI KÖLTSÉGVETÉSI HATÁROZATÁNAK MÓDOSÍTÁSÁHOZ
A5: PÉNZFORGALMI MÉRLEG
A6: tárgyévi adatok Ft-ban
C8: kötelező feladat
A9: KISTÉRSÉGI EGYESÍTETT SZOCIÁLIS INTÉZMÉNY
A10: Megnevezés | B10: eredeti | C10: módosított | D10: Rovatrend
B11: előirányzat 2021. | C11: előirányzat 2021.06.30. | D11: 2021. év
A12: Személyi juttatások | B12: 552860250 | C12: 562516740 | D12: K1 | F12: =C12-B12 -> 9656490
A13: Munkaadót terhelő járulékok | B13: 94462200 | C13: 95689725 | D13: K2 | F13: =C13-B13 -> 1227525
A14: Dologi és egyéb folyó kiadások | B14: 283690000 | C14: 286563003 | D14: K3 | F14: =C14-B14 -> 2873003
A15: Ellátottak pénzbeli juttatásai | B15: 600000 | C15: 600000 | D15: K4 | F15: =C15-B15 -> 0
A16: Pénzeszköz átadás, támogatás | B16: 17000 | C16: 573814 | D16: K5 | F16: =C16-B16 -> 556814
A17: Felhalmozási kiadások | B17: =8929920+19003011 -> 27932931 | C17: =8929920+19003011 -> 27932931 | D17: K61-67, K71-74 | F17: =C17-B17 -> 0
A18: Hitelek és kölcsönök kiadásai | B18: 0 | C18: 0 | D18: K9111 | F18: =C18-B18 -> 0
A19: Pénzforgalmi kiadások | B19: =SUM(B12:B18) -> 959562381 | C19: =SUM(C12:C18) -> 973876213 | F19: =C19-B19 -> 14313832
A20: Kiegyenlítő, átfutó, függő kiadás | B20: nem releváns | C20: nem releváns
A21: Kiadások összesen: | B21: =SUM(B19) -> 959562381 | C21: =C19 -> 973876213 | F21: =C21-B21 -> 14313832
F22: =C22-B22 -> 0
A23: Intézményi működési bevételek | B23: 296100000 | C23: 296100000 | D23: B4 | F23: =C23-B23 -> 0
A24: Felhalmozási és tőke jellegű bevételek | B24: 0 | C24: 0 | D24: B21, B25, B52, B72, B73 | F24: =C24-B24 -> 0
A25: ebből: sajátos felhalm. és tőkef. | B25: 0 | C25: 0 | F25: =C25-B25 -> 0
A26: Támogatások, kiegészítések és átvett pénzeszközök | B26: ='[1]KESZI 2020.12.15'!$G$88 -> 76413910 | C26: 39928437 | D26: B16, B63 | F26: =C26-B26 -> -36485473 | H26: =40345404-3859931 -> 36485473
A27: ebből: költségvetési támogatás | B27: =B26 -> 76413910 | C27: =39928437-3859931 -> 36068506 | F27: =C27-B27 -> -40345404
A28: Irányító szervtől kapott támogatás | B28: ='[2]KESZI 2020.12.15'!$G$109 -> 5.4127229e+08 | C28: 592071594 | D28: B816 | F28: =C28-B28 -> 50799305
A29: Hitelek, kölcsönök bevételei | B29: 0 | C29: 0 | D29: B8111 | F29: =C29-B29 -> 0
A30: Pénzforgalmi bevételek összesen | B30: =SUM(B29+B28+B26+B24+B23) -> 9.137862e+08 | C30: =SUM(C29+C28+C26+C24+C23) -> 928100031 | F30: =C30-B30 -> 14313832
A31: Maradvány felhasználás | B31: ='[2]KESZI 2020.12.15'!$G$107 -> 45776182 | C31: 45776182 | D31: B8131 | F31: =C31-B31 -> 0
A32: Kiegyenlítő, átfutó, függő bevételek | B32: nem releváns | C32: nem releváns
A33: Bevételek összesen: | B33: =B30+B31 -> 9.5956238e+08 | C33: =C30+C31 -> 973876213 | F33: =C33-B33 -> 14313832
B36: adatok Ft-ban
A37: Irányító szervi támogatás részletezése 2021. év eredeti és módosított Ft-ban | B37: 2021. évi eredeti | C37: 2021.06.30-i állapot | D37: Változás 2021. eredetihez képest
A38: Szociális étkeztetés | B38: 33578160 | C38: 33578160 | D38: =C38-B38 -> 0
A39: Házi segítségnyújtás | B39: 61818900 | C39: 61818900 | D39: =C39-B39 -> 0
A40: Időskorúak nappali int. Ellátása | B40: 14322000 | C40: 14322000 | D40: =C40-B40 -> 0
A41: Fogyatékos és demens személyek ell. | B41: 42031440 | C41: 42031440 | D41: =C41-B41 -> 0
A42: Hajléktalanok nappali ellátása | B42: 20913420 | C42: 20913420 | D42: =C42-B42 -> 0
A43: Hajléktalanok átmeneti ellátása | B43: 27120885 | C43: 27120885 | D43: =C43-B43 -> 0
A44: Bértámogatás szociális szféra* | B44: 121309171 | C44: 121309171 | D44: =C44-B44 -> 0
...

Sheet 2C
B1: 2./C SZ. MELLÉKLET
A3: MOSONMAGYARÓVÁR TÉRSÉGI TÁRSULÁS
A4: 2021. ÉVI KÖLTSÉGVETÉSI HATÁROZATÁNAK MÓDOSÍTÁSÁHOZ
A5: PÉNZFORGALMI MÉRLEG
A6: tárgyévi adatok Ft-ban
C8: kötelező feladat
A9: Család és Gyermekjóléti Központ
A10: Megnevezés | B10: eredeti | C10: módosított | D10: Rovatrend
B11: előirányzat 2021. | C11: előirányzat 2021.06.30 | D11: 2021. év
A12: Személyi juttatások | B12: 246985250 | C12: 248080250 | D12: K1 | F12: =C12-B12 -> 1095000
A13: Munkaadót terhelő járulékok | B13: 41561500 | C13: 41893816 | D13: K2 | F13: =C13-B13 -> 332316
A14: Dologi és egyéb folyó kiadások | B14: 36170000 | C14: 37471930 | D14: K3 | F14: =C14-B14 -> 1301930
A15: Ellátottak pénzbeli juttatásai | B15: 450000 | C15: 450000 | D15: K4 | F15: =C15-B15 -> 0
A16: Felhalmozási kiadások | B16: 3329438 | C16: 3329438 | D16: K61-67, K71-74 | F16: =C16-B16 -> 0
A17: Hitelek és kölcsönök kiadásai | B17: 0 | C17: 0 | D17: K9111 | F17: =C17-B17 -> 0
A18: Pénzforgalmi kiadások | B18: =SUM(B12:B17) -> 328496188 | C18: =SUM(C12:C17) -> 331225434 | F18: =C18-B18 -> 2729246
A19: Kiegyenlítő, átfutó, függő kiadás | B19: nem releváns | C19: nem releváns
A20: Kiadások összesen: | B20: =B18 -> 328496188 | C20: =C18 -> 331225434 | F20: =C20-B20 -> 2729246
F21: =C21-B21 -> 0
A22: Intézményi működési bevételek | B22: 2000000 | C22: 2000000 | D22: B4 | F22: =C22-B22 -> 0
A23: Felhalmozási és tőke jellegű bevételek | B23: 0 | C23: 0 | D23: B21, B25, B52, B72, B73 | F23: =C23-B23 -> 0
A24: ebből: sajátos felhalm. és tőkef. | B24: 0 | C24: 0 | F24: =C24-B24 -> 0
A25: Támogatások, kiegészítések és átvett pénzeszközök | B25: 54460000 | C25: 29725952 | D25: B16, B63 | F25: =C25-B25 -> -24734048 | H25: =26198549-1464501 -> 24734048
A26: ebből: költségvetési támogatás | B26: 52860000 | C26: =29725952-1464501 -> 28261451 | F26: =C26-B26 -> -24598549
A27: Felügyeleti szervtől átvett támogatás | B27: 266519305 | C27: 293982579 | D27: B816 | F27: =C27-B27 -> 27463274
A28: Hitelek, kölcsönök bevételei | B28: 0 | C28: 0 | D28: B8111 | F28: =C28-B28 -> 0
A29: Pénzforgalmi bevételek összesen | B29: =SUM(B28,B27,B25,B22) -> 322979305 | C29: =SUM(C28,C27,C25,C22) -> 325708531 | F29: =C29-B29 -> 2729226
A30: Maradvány felhasználást | B30: 5516883 | C30: 5516903 | F30: =C30-B30 -> 20
A31: Kiegyenlítő, átfutó, függő bevételek | B31: nem releváns | C31: nem releváns
A32: Bevételek összesen: | B32: =SUM(B29+B30) -> 328496188 | C32: =SUM(C29+C30) -> 331225434 | F32: =C32-B32 -> 2729246
B34: adatok Ft-ban
A35: Irányító szervi támogatás részletezése 2021. év eredeti és módosított | B35: 2021. év eredeti | C35: 2021.06.30-i állapot | D35: Változás 2021. eredetihez képest
A36: Szociális és gyermekjóléti alapszolg., állami támogatás | B36: 108535000 | C36: 108535000 | D36: =C36-B36 -> 0
A37: Gyermekek átmeneti int. Ellátása, állami támogatás | G37: =B36+B38+B41 -> 160711301
A38: GYÁÓ bértámogatás és intézményüzemeltetési támogatás | B38: 14180109 | C38: 14180109 | D38: =C38-B38 -> 0
A39: Intézményi hiány gesztor önkormányzat támogatásával való kifinanszírozása | B39: 71143115 | C39: 71143115 | D39: =C39-B39 -> 0
A40: Térségi Társulástól érkező támogatás hozzájárulások* | B40: 33852326 | C40: 33852326 | D40: =C40-B40 -> 0
A41: Óvodai és iskolai szociális segítő tevékenység | B41: 37996192 | C41: 37996192 | D41: =C41-B41 -> 0
A42: Társulás előző évi maradványából biztosított forrás | B42: 812563 | C42: 812563 | D42: =C42-B42 -> 0
A43: Szociális ágazati pótlék | B43: 0 | C43: 26198549 | D43: =C43-B43 -> 26198549
...

Sheet 2D
B1: 2./D SZ. MELLÉKLET
A3: MOSONMAGYARÓVÁR TÉRSÉGI TÁRSULÁS
A4: 2021. ÉVI KÖLTSÉGVETÉSI HATÁROZATÁNAK MÓDOSÍTÁSÁHOZ
A5: PÉNZFORGALMI MÉRLEG
A6: tárgyévi adatok Ft-ban
C8: adatok Ft-ban
A9: Mosonmagyaróvár Térségi Társulás
A10: Megnevezés | B10: eredeti | C10: módosított | D10: Rovatrend
B11: előirányzat 2021. adatok | C11: előirányzat 2021.06.30 | D11: 2021. év
A12: Személyi juttatások | B12: =[1]Társulás!$G$19 -> 500000 | C12: 500000 | D12: K1 | E12: * | F12: =C12-B12 -> 0
A13: Munkaadót terhelő járulékok | B13: =[1]Társulás!$G$24 -> 179950 | C13: 179950 | D13: K2 | E13: * | F13: =C13-B13 -> 0
A14: Dologi és egyéb folyó kiadások | B14: =[1]Társulás!$G$38 -> 3864370 | C14: 3864370 | D14: K3 | E14: * | F14: =C14-B14 -> 0
A15: Pénzeszköz átadás, támogatás | B15: =[1]Társulás!$G$40+[1]Társulás!$G$41+[1]Társulás!$G$42+[1]Társulás!$G$43+[1]Társulás!$G$44+[1]Társulás!$G$45 -> 7557000 | C15: =4817000+2740000 -> 7557000 | D15: K5 | F15: =C15-B15 -> 0
A16: Felügyelet alá tartozó költségvetési szerv. Támogat. | B16: =[2]Társulás!$G$69 -> 807791594 | C16: 886054173 | D16: K915 | F16: =C16-B16 -> 78262579
A17: Felhalmozási kiadások | B17: =[1]Társulás!$G$68 -> 9389000 | C17: 9389000 | D17: K61-67, K71-74 | F17: =C17-B17 -> 0
A18: Hitelek és kölcsönök kiadásai | B18: 0 | C18: 0 | D18: K9111 | F18: =C18-B18 -> 0
A19: Pénzforgalmi kiadások | B19: =SUM(B12:B18) -> 829281914 | C19: =SUM(C12:C18) -> 907544493 | F19: =C19-B19 -> 78262579
A20: Államháztartási tartalék | B20: =[2]Társulás!$G$47 -> 2.1814365e+08 | C20: 210936927 | D20: K513 | F20: =C20-B20 -> -7206724.8
A21: Kiegyenlítő, átfutó, függő kiadás | B21: nem releváns | C21: nem releváns
A22: Kiadások összesen: | B22: =SUM(B19+B20) -> 1.0474256e+09 | C22: =C19+C20 -> 1118481420 | F22: =C22-B22 -> 71055854
F23: =C23-B23 -> 0
A24: Intézményi működési bevételek | B24: =[3]Társulás!$H$81 -> 0 | C24: 0 | D24: B4 | F24: =C24-B24 -> 0
A25: Költségvetési visszatérülések | B25: 0 | C25: 0 | F25: =C25-B25 -> 0
A26: Felhalmozási és tőke jellegű bevételek, felhalmozási célú pénzeszköz átvételek | B26: =[1]Társulás!$G$117+[1]Társulás!$G$118 -> 9643000 | C26: 9643000 | D26: B21, B25, B52, B72, B73 | F26: =C26-B26 -> 0
A27: ebből: sajátos felhalm. és tőkef. | B27: 0 | C27: 0 | F27: =C27-B27 -> 0
A28: Támogatások, kiegészítések és átvett pénzeszközök | B28: =[1]Társulás!$G$79+[1]Társulás!$G$80+[1]Társulás!$G$81+[1]Társulás!$G$85+[1]Társulás!$G$94 -> 873158007 | C28: 944213861 | D28: B16, 816 | F28: =C28-B28 -> 71055854
A29: ebből: költségvetési támogatás | B29: ='2B'!B58+'2C'!B48 -> 556455877 | C29: ='2B'!C58+'2C'!C48 -> 601313182 | F29: =C29-B29 -> 44857305
A30: Felügyeleti szervtől átvett támogatás | B30: 0 | C30: 0 | F30: =C30-B30 -> 0
A31: Hitelek, kölcsönök bevételei | B31: 0 | C31: 0 | D31: B8111 | F31: =C31-B31 -> 0
A32: Pénzforgalmi bevételek összesen | B32: =SUM(B24+B25+B26+B28+B30+B31) -> 882801007 | C32: =SUM(C24:C28) -> 953856861 | F32: =C32-B32 -> 71055854
A33: Maradvány felhasználást | B33: =[2]Társulás!$G$102 -> 164624559 | C33: 164624559 | F33: =C33-B33 -> 0
A34: Kiegyenlítő, átfutó, függő bevételek | B34: nem releváns | C34: nem releváns
A35: Bevételek összesen: | B35: =B32+B33 -> 1047425566 | C35: =C32+C33 -> 1118481420 | F35: =C35-B35 -> 71055854
A38: Mosonmagyaróvár, 2021. szeptember 21.

Sheet 3
H1: 3. SZ. MELLÉKLET
A3: MOSONMAGYARÓVÁR TÉRSÉGI TÁRSULÁS
A4: 2021. ÉVI KÖLTSÉGVETÉSI HATOZATÁHOZ
A6: Kiadások összefoglalása
A7: 2021. év terv
A8: adatok Ft-ban
A10: Tervezett kiadások összesítése Ft
A12: Intézmény megnevezése | B12: Személyi juttatások | C12: Járulékok | D12: Dologi kiadások | E12: Ellátottak juttatása | F12: Tartalékképzés | G12: Átadott pénzeszközök működési | H12: Felhalmozási kiadások | I12: Összesen
A13: Kistérségi Egyesített Szociális Intézmény | B13: ='2B'!B12 -> 552860250 | C13: ='2B'!B13 -> 94462200 | D13: ='2B'!B14 -> 283690000 | E13: ='2B'!B16 -> 17000 | F13: 0 | G13: 0 | H13: ='2B'!B17 -> 27932931 | I13: =SUM(B13:H13) -> 958962381
A14: Család és Gyermekjóléti Központ | B14: ='2C'!B12 -> 246985250 | C14: ='2C'!B13 -> 41561500 | D14: ='2C'!B14 -> 36170000 | E14: ='2C'!B15 -> 450000 | F14: 0 | G14: 0 | H14: ='2C'!B16 -> 3329438 | I14: =SUM(B14:H14) -> 328496188
A15: Mosonmagyaróvár Térségi Társulás | B15: ='2D'!B12 -> 500000 | C15: ='2D'!B13 -> 179950 | D15: ='2D'!B14 -> 3864370 | E15: 0 | F15: ='2D'!B20 -> 2.1814365e+08 | G15: ='2D'!B15 -> 7557000 | H15: ='2D'!B17 -> 9389000 | I15: =SUM(B15:H15) -> 2.3963397e+08
A16: Mindösszesen: | B16: =SUM(B13:B15) -> 800345500 | C16: =SUM(C13:C15) -> 136203650 | D16: =SUM(D13:D15) -> 323724370 | E16: =SUM(E13:E15) -> 467000 | F16: =SUM(F13:F15) -> 2.1814365e+08 | G16: =SUM(G13:G15) -> 7557000 | H16: =SUM(H13:H15) -> 40651369 | I16: =SUM(I13:I15) -> 1.5270925e+09
A20: Mosonmagyaróvár, 2021. március 2

Sheet 4
I1: 4. SZ. MELLÉKLET
A3: MOSONMAGYARÓVÁR TÉRSÉGI TÁRSULÁS
A4: 2021. ÉVI KÖLTSÉGVETÉSI HATOZATÁHOZ
A6: Bevételek összefoglalása
A7: 2021. év terv
A8: adatokFt-ban
A10: Tervezett bevételek összesítéseFt
A12: Intézmény megnevezése | B12: Intézmény saját bevételei | C12: Állami támogatás | D12: MÖK támogatás | E12: Egyéb támogatás értékű műk. bevétel | F12: Pályázati források bevételi forrása | G12: Feladatfinanszírozás | H12: Társulás tagjai által finanszírozott forrás tagdíj, hozzájárulás, maradvány forrásból | I12: Maradvány felhasználás | J12: Összesen
A13: Kistérségi Egyesített Szociális Intézmény | B13: ='2B'!B23 -> 296100000 | C13: ='2B'!B38+'2B'!B39+'2B'!B40+'2B'!B41+'2B'!B42+'2B'!B43+'2B'!B44+'2B'!B45 -> 363556976 | D13: ='2B'!B46 -> 72862905 | E13: ='2B'!B26 -> 76413910 | F13: 0 | G13: ='2B'!B47 -> 32187600 | H13: ='2B'!B48+'2B'!B53 -> 70558834 | I13: ='2B'!B31 -> 45776182 | J13: =SUM(B13:I13) -> 957456407 | K13: =J13-'3'!I13 -> -1505974
A14: Család és Gyermekjóléti Központ | B14: ='2C'!B22 -> 2000000 | C14: =108535000+'2C'!B38+'2C'!B41 -> 160711301 | D14: ='2C'!B39 -> 71143115 | E14: ='2C'!B25 -> 54460000 | F14: 0 | G14: 0 | H14: ='2C'!B40+'2C'!#REF! -> #REF! | I14: ='2C'!B30 -> 5516883 | J14: =SUM(B14:I14) -> #REF! | K14: =J14-'3'!I14 -> #REF!
A15: Mosonmagyaróvár Térségi Társulás* | B15: ='2D'!B24 -> 0 | C15: 0 | D15: =[1]Társulás!$G$84 -> 36699950 | E15: =[1]Társulás!$G$79 -> 17000 | F15: ='2D'!B26 -> 9643000 | G15: 0 | H15: =31568000-2918537 -> 28649463 | I15: ='2D'!B33 -> 164624559 | J15: =SUM(B15:I15) -> 239633972 | K15: =J15-'3'!I15 -> 0.25
A16: Mindösszesen: | B16: =SUM(B13:B15) -> 298100000 | C16: =SUM(C13:C15) -> 524268277 | D16: =SUM(D13:D15) -> 180705970 | E16: =SUM(E13:E15) -> 130890910 | F16: =SUM(F13:F15) -> 9643000 | G16: =SUM(G13:G15) -> 32187600 | H16: =SUM(H13:H15) -> #REF! | I16: =SUM(I13:I15) -> 215917624 | J16: =SUM(J13:J15) -> #REF!
A18: * A Térségi Társulásnál maradó tagok által fizetett tagdíj és hozzájárulások a következő tételekből állnak:
A19: - Társulás működésére (270 Ft/lakos) | C19: ='[1]2021 tagdíj'!$E$37 -> 21308400
A20: '- ebből KESZI működésére igénybe vett | D20: 2105974
A21: '- ebből CSGYK működésére igénybe vett | D21: 812563
A22: - kórházi eszközök beszerzésére (20 Ft/lakos) | C22: ='[1]2021 tagdíj'!$G$37 -> 1578400
A23: - szolidartiási alap (10 Ft/lakos) | C23: ='[1]2021 tagdíj'!$D$70 -> 789200
A24: - felújítási alap (100 Ft/lakos) | C24: ='[1]2021 tagdíj'!$E$70 -> 7892000 | E24: Társulásnál maradó
A25: Mindösszesen | C25: =SUM(C19:C24) -> 31568000 | D25: =SUM(D20:D21) -> 2918537 | E25: =C25-D25 -> 28649463
A26: Mosonmagyaróvár, 2021. március 2.

Sheet 5
G1: 3. SZ. MELLÉKLET
A2: MOSONMAGYARÓVÁR TÉRSÉGI TÁRSULÁS
A3: 2021. ÉVI KÖLTSÉGVETÉSI HATÁROZATÁNAK MÓDOSÍTÁSÁHOZ
A5: Kiadások és Bevételek működési egyensúlya
A6: 2021. év terv
A7: adatok Ft-ban
A8: Működési kiadások Ft
A9: Eredeti
A10: Intézmény megnevezése | B10: Személyi juttatások | C10: Járulékok | D10: Dologi kiadások | E10: Ellátottak juttatása | F10: Tartalékképzés | G10: Átadott pénzeszközök működési | H10: Összesen
A11: Kistérségi Egyesített Szociális Intézmény | B11: ='2B'!B12 -> 552860250 | C11: ='2B'!B13 -> 94462200 | D11: ='2B'!B14 -> 283690000 | E11: ='2B'!B15 -> 600000 | F11: 0 | G11: ='2B'!B16 -> 17000 | H11: =SUM(B11:G11) -> 931629450
A12: Család és Gyermekjóléti Központ | B12: ='2C'!B12 -> 246985250 | C12: ='2C'!B13 -> 41561500 | D12: ='2C'!B14 -> 36170000 | E12: ='2C'!B15 -> 450000 | F12: 0 | G12: 0 | H12: =SUM(B12:G12) -> 325166750
A13: Mosonmagyaróvár Térségi Társulás | B13: ='2D'!B12 -> 500000 | C13: ='2D'!B13 -> 179950 | D13: ='2D'!B14 -> 3864370 | E13: 0 | F13: ='2D'!B20 -> 2.1814365e+08 | G13: ='2D'!B15 -> 7557000 | H13: =SUM(B13:G13) -> 2.3024497e+08
A14: Mindösszesen: | B14: =SUM(B11:B13) -> 800345500 | C14: =SUM(C11:C13) -> 136203650 | D14: =SUM(D11:D13) -> 323724370 | E14: =SUM(E11:E13) -> 1050000 | F14: =SUM(F11:F13) -> 2.1814365e+08 | G14: =SUM(G11:G13) -> 7574000 | H14: =SUM(H11:H13) -> 1.4870412e+09
A16: Működési kiadások Ft
A17: Módosított
A18: Intézmény megnevezése | B18: Személyi juttatások | C18: Járulékok | D18: Dologi kiadások | E18: Ellátottak juttatása | F18: Tartalékképzés | G18: Átadott pénzeszközök működési | H18: Összesen
A19: Kistérségi Egyesített Szociális Intézmény | B19: ='2B'!C12 -> 562516740 | C19: ='2B'!C13 -> 95689725 | D19: ='2B'!C14 -> 286563003 | E19: ='2B'!C15 -> 600000 | F19: 0 | G19: ='2B'!C16 -> 573814 | H19: =SUM(B19:G19) -> 945943282
A20: Család és Gyermekjóléti Központ | B20: ='2C'!C12 -> 248080250 | C20: ='2C'!C13 -> 41893816 | D20: ='2C'!C14 -> 37471930 | E20: ='2C'!C15 -> 450000 | F20: 0 | G20: 0 | H20: =SUM(B20:G20) -> 327895996
A21: Mosonmagyaróvár Térségi Társulás | B21: ='2D'!C12 -> 500000 | C21: ='2D'!C13 -> 179950 | D21: ='2D'!C14 -> 3864370 | E21: 0 | F21: ='2D'!C20 -> 210936927 | G21: ='2D'!C15 -> 7557000 | H21: =SUM(B21:G21) -> 223038247
A22: Mindösszesen: | B22: =SUM(B19:B21) -> 811096990 | C22: =SUM(C19:C21) -> 137763491 | D22: =SUM(D19:D21) -> 327899303 | E22: =SUM(E19:E21) -> 1050000 | F22: =SUM(F19:F21) -> 210936927 | G22: =SUM(G19:G21) -> 8130814 | H22: =SUM(H19:H21) -> 1496877525
A24: Működési bevételek Ft
A25: Eredeti
A26: Intézmény megnevezése | B26: Intézmény saját bevételei | C26: Állami támogatás | D26: MÖK támogatás | E26: Egyéb támogatás értékű műk. bevétel | F26: Feladatfinanszírozás | G26: Maradvány felhasználás | H26: Összesen
A27: Kistérségi Egyesített Szociális Intézmény | B27: ='2B'!B23 -> 296100000 | C27: ='2B'!B38+'2B'!B39+'2B'!B40+'2B'!B41+'2B'!B42+'2B'!B43+'2B'!B44+'2B'!B45 -> 363556976 | D27: ='2B'!B46 -> 72862905 | E27: ='2B'!B48+'2B'!B26+'2B'!B49 -> 149078718 | F27: ='2B'!B47 -> 32187600 | G27: ='2B'!B31-27932931 -> 17843251 | H27: =SUM(B27:G27) -> 931629450
A28: Család és Gyermekjóléti Központ | B28: ='2C'!B22 -> 2000000 | C28: ='2C'!B48 -> 160711301 | D28: ='2C'!B39 -> 71143115 | E28: ='2C'!B40+'2C'!B42+'2C'!B25 -> 89124889 | F28: 0 | G28: ='2C'!B30-3329438 -> 2187445 | H28: =SUM(B28:G28) -> 325166750
A29: Mosonmagyaróvár Térségi Társulás | B29: ='2D'!B24 -> 0 | C29: 0 | D29: ='4'!D15 -> 36699950 | E29: ='4'!H15+'4'!E15+254000 -> 28920463 | F29: 0 | G29: ='2D'!B33 -> 164624559 | H29: =SUM(B29:G29) -> 230244972
A30: Mindösszesen: | B30: =SUM(B27:B29) -> 298100000 | C30: =SUM(C27:C29) -> 524268277 | D30: =SUM(D27:D29) -> 180705970 | E30: =SUM(E27:E29) -> 267124070 | F30: =SUM(F27:F29) -> 32187600 | G30: =SUM(G27:G29) -> 184655255 | H30: =SUM(H27:H29) -> 1487041172
A32: Működési bevételek Ft
A33: Módosított
A34: Intézmény megnevezése | B34: Intézmény saját bevételei | C34: Állami támogatás | D34: MÖK támogatás | E34: Egyéb támogatás értékű műk. bevétel | F34: Feladatfinanszírozás | G34: Maradvány felhasználás | H34: Összesen
A35: Kistérségi Egyesített Szociális Intézmény | B35: ='2B'!C23 -> 296100000 | C35: ='2B'!C38+'2B'!C39+'2B'!C40+'2B'!C41+'2B'!C42+'2B'!C43+'2B'!C44+'2B'!C45+'2B'!C50+'2B'!C51+'2B'!C52 -> 408414281 | D35: ='2B'!C46+'2B'!C53 -> 78804905 | E35: ='2B'!C48+'2B'!C49+'2B'!C26 -> 112593245 | F35: ='2B'!C47 -> 32187600 | G35: 17843251 | H35: =SUM(B35:G35) -> 945943282 | I35: 945943282
A36: Család és Gyermekjóléti Központ | B36: ='2C'!C22 -> 2000000 | C36: ='2C'!C48+'2C'!C43 -> 186909850 | D36: ='2C'!C39+'2C'!C44 -> 72407840 | E36: ='2C'!C42+'2C'!C40+'2C'!C25 -> 64390841 | F36: 0 | G36: =2187445+20 -> 2187465 | H36: =SUM(B36:G36) -> 327895996 | I36: 327895996
A37: Mosonmagyaróvár Térségi Társulás | B37: ='2D'!C24 -> 0 | C37: 0 | D37: =36699950-7206725 -> 29493225 | E37: 28920463 | F37: 0 | G37: 164624559 | H37: =SUM(B37:G37) -> 223038247 | I37: 223038247
A38: Mindösszesen: | B38: =SUM(B35:B37) -> 298100000 | C38: =SUM(C35:C37) -> 595324131 | D38: =SUM(D35:D37) -> 180705970 | E38: =SUM(E35:E37) -> 205904549 | F38: =SUM(F35:F37) -> 32187600 | G38: =SUM(G35:G37) -> 184655275 | H38: =SUM(H35:H37) -> 1496877525
A40: Felhalmozási kiadások Ft | B40: Eredeti | C40: Módosított | E40: Felhalmozási bevételek Ft | F40: Eredeti | G40: Módosított
A41: Intézmény megnevezése | B41: Felhalmozási kiadások | C41: Felhalmozási kiadások | E41: Intézmény megnevezése | F41: Maradvány felhasználás/Társulási forrásból | G41: Maradvány felhasználás/Társulási forrásból
A42: Kistérségi Egyesített Szociális Intézmény | B42: ='2B'!B17 -> 27932931 | C42: ='2B'!C17 -> 27932931 | E42: Kistérségi Egyesített Szociális Intézmény | F42: ='2B'!B31-'5'!G27 -> 27932931 | G42: 27932931
A43: Család és Gyermekjóléti Központ | B43: ='2C'!B16 -> 3329438 | C43: ='2C'!C16 -> 3329438 | E43: Család és Gyermekjóléti Központ | F43: ='2C'!B30-'5'!G28 -> 3329438 | G43: 3329438
A44: Mosonmagyaróvár Térségi Társulás | B44: ='2D'!B17 -> 9389000 | C44: ='2D'!C17 -> 9389000 | E44: Mosonmagyaróvár Térségi Társulás (pályázati forrás!) | F44: ='2D'!B26-254000 -> 9389000 | G44: 9389000
A45: Mindösszesen: | B45: =SUM(B42:B44) -> 40651369 | C45: =SUM(C42:C44) -> 40651369 | E45: Mindösszesen: | F45: =SUM(F42:F44) -> 40651369 | G45: =SUM(G42:G44) -> 40651369
...

Sheet 6
B1: 6. SZ. MELLÉKLET
A5: MOSONMAGYARÓVÁR TÉRSÉGI TÁRSULÁS
A6: 2021. ÉVI KÖLTSÉGVETÉSI HATÁROZATÁHOZ
A9: A Mosonmagyaróvár Térségi Társulás által tervezett átvett
A10: támogatások
A12: Átadó megnevezése | B12: Átadás célja | C12: Összege Ft-ban
A13: Magyar Államkincstár | B13: Állami támogatással finanszírozott feladatok ellátásra | C13: ='4'!C16 -> 524268277
A14: Nemzeti Szociálpolitikai Intézet | B14: Fejlesztő foglalkoztatás támogatása (gesztor önkormányzaton keresztül) | C14: =[1]Társulás!$G$86 -> 14014000
A15: Nemzeti Szociálpolitikai Intézet | B15: Jelzőrendszer támogatása (gesztor önkormányzaton keresztül) | C15: =[1]Társulás!$G$87 -> 9995600
A16: Nemzeti Szociálpolitikai Intézet | B16: Utcai szociális munka (gesztor önkormányzaton keresztül) | C16: =[1]Társulás!$G$88 -> 8178000
A17: Mosonmagyaróvár Város Önkormányzata | B17: Kistérségi Egyesített Szociális Intézmény működésének támogatása működési hiány finanszírozása | C17: =[1]Társulás!$G$83 -> 72862905 | D17: =SUM(C17:C21) -> 236283058 | E17: összes gesztor Önk. Támogatás
A18: Mosonmagyaróvár Város Önkormányzata | B18: Család és Gyermekjóléti Központ működési hiány finanszírozása | C18: =[1]Társulás!$G$82 -> 71143115
A19: Mosonmagyaróvár Város Önkormányzata | B19: Intézmények jövőbeli fejlesztésére vagy működési támogatására elkülönített forrás | C19: =[1]Társulás!$G$84 -> 36699950
A20: Mosonmagyaróvár Város Önkormányzata | B20: Család és Gyermekjóléti Központ valamint a Kistérségi Egyesített Szociális Intézmény működésének finanszírozása | C20: ='[1]2021 tagdíj'!$D$28+'[1]2021 tagdíj'!$F$28 -> 42674688
A21: Mosonmagyaróvár Város Önkormányzata | B21: Térségi társulás működéséhez és egyéb alapokhoz és intézmények működéséhez való hozzájárulás | C21: =[1]Társulás!$G$89+[1]Társulás!$G$90+[1]Társulás!$G$91+[1]Társulás!$G$92+[1]Társulás!$G$93-C20 -> 12902400
A22: Gesztor önkormányzati hozzájáruláson kívüli tagtelepülések hozzájárulása | B22: Család és Gyermekjóléti Központ működésének finanszírozásához | C22: ='[1]2021 tagdíj'!$D$37-'[1]2021 tagdíj'!$D$28+'[1]2021 tagdíj'!$F$37-'[1]2021 tagdíj'!$F$28 -> 61736472 | D22: =C22+C24 -> 80402072 | E22: gesztor Önk. Kívüli tagtelepülési támogatások
A23: Gesztor önkormányzati hozzájáruláson kívüli tagtelepülések hozzájárulása | B23: Kistérségi Egyesített Szociális Intézmény működésének finanszírozásához
A24: Gesztor önkormányzati hozzájáruláson kívüli tagtelepülések támogatása | B24: Térségi tagdíj, felújítási alap, szolidaritási alap, orvosi gép- műszer beszerzés támogatása | C24: =[1]Társulás!$G$94-C22 -> 18665600
A25: Magyar Államkincstár (közvetelenül intézménynél tervezve) | B25: Család és Gyermekjóléti központ összevont ágazati pótlék becsült összege | C25: ='[1]CSGYK 2020.12.15'!$F$89 -> 51900000
A26: Magyar Államkincstár (közvetelenül intézménynél tervezve) | B26: Család és Gyermekjóléti központ bérkompenzáció becsült összege | C26: ='[1]CSGYK 2020.12.15'!$F$91 -> 960000
A27: Magyar Államkincstár (közvetelenül intézménynél tervezve) | B27: Kistérségi Egyesített Szociális Intézmény összevont ágazati pótlék becsült összege | C27: ='[1]KESZI 2020.12.15'!$G$89 -> 70000000
A28: Magyar Államkincstár (közvetelenül intézménynél tervezve) | B28: Kistérségi Egyesített Szociális Intézmény éjjeli menedékhely becsült támogatása | C28: ='[1]KESZI 2020.12.15'!$G$91 -> 3968910
A29: Magyar Államkincstár (közvetelenül intézménynél tervezve) | B29: Kistérségi Egyesített Szociális Intézmény bérkompenzáció becsült összege | C29: ='[1]KESZI 2020.12.15'!$G$92 -> 945000
A30: Magyar Államkincstár (közvetelenül intézménynél tervezve) | B30: Kistérségi Egyesített Szociális Intézmény egészségügyi pótlék becsült összege | C30: ='[1]KESZI 2020.12.15'!$G$90 -> 1500000
A31: Hajléktalanokért Közalapítvány 2021-Covid azonosítójelű pályázata | B31: Kistérségi Egyesített Szociális Intézmény "komfort növelő eszközbeszerzés" | C31: =[1]Társulás!$G$118 -> 1800000
A32: Hajléktalanokért Közalapítvány 2021-Covid azonosítójelű pályázata | B32: Kistérségi Egyesített Szociális Intézmény "hajléktalanszálló zsúfoltságának csökkentése, elkülönítés lehetőségének megteremtése" | C32: =[1]Társulás!$G$117 -> 7843000
A33: Összesen: | C33: =SUM(C24:C32,C13:C21)+26392320 -> 976713765
B34: 1. oldal
A36: A Mosonmagyaróvár Térségi Társulás által tervezett átadandó
A37: támogatások
A39: Átvevő megnevezése | B39: Támogatás célja | C39: Összege Ft-ban
A40: Mosonmagyaróvári Polgármesteri Hivatal | B40: Társulási feladatok ellátására hozzájárulás | C40: =[1]Társulás!$G$41 -> 3600000
A41: Civil szervezet számára Tanács döntése alapján | B41: Társulás által átadandó pénzeszköz | C41: =[1]Társulás!$G$43 -> 900000
A42: Karolina Kórház - Rendelőintézet | B42: Orvosi gép-, műszer beszerzés támogatása | C42: =[1]Társulás!$G$45 -> 1840000
A43: Család és Gyermekjóléti Központ | B43: Működési támogatás, mely tartalmazza normatív állami támogatást, feladatalapú támogatást, MÖK hozzájárulást, tagtelepülések társulási hozzájárulást | C43: ='[1]CSGYK 2020.12.15'!$G$102 -> 2.6570674e+08
A44: Kistérségi Egyesített Szociális Intézmény | B44: Működési támogatás, mely tartalmazza normatív állami támogatást, feladatalapú támogatást, MÖK hozzájárulást, tagtelepülések társulási hozzájárulását, jelzőrendszer- és fejlesztő foglalkoztatás, utcai szociális munka támogatás átadását | C44: ='[1]KESZI 2020.12.15'!$G$109 -> 5.3916632e+08
A45: Család és Gyermekjóléti Központ | B45: Jubileumi jutalomra, felmentési bérre átadandó | C45: =[1]Társulás!$G$52 -> 1264725
A46: Kistérségi Egyesített Szociális Intézmény | B46: Jubileumi jutalomra, felmentési bérre átadandó | C46: =[1]Társulás!$G$53 -> 14663841
A47: Összesen: | C47: =SUM(C39:C46) -> 8.2714162e+08
B48: 2. oldal
...

Sheet 7
M1: 7. SZ. MELLÉKLET
A5: MOSONMAGYARÓVÁR TÉRSÉGI TÁRSULÁS
A6: 2021. ÉVI KÖLTSÉGVETÉSI HATOZATÁHOZ
A8: Mosonmagyaróvár Térségi Társulás Tanácsa
A9: likviditási ütemterve 2021. év Ft-ban
A11: Havi bontás | B11: január | C11: február | D11: március | E11: április | F11: május | G11: június | H11: július | I11: augusztus | J11: szeptember | K11: október | L11: november | M11: december | N11: összesen
A12: Kiadásnem
A13: Személyi juttatás | B13: 0 | C13: 0 | D13: 0 | E13: 0 | F13: 0 | G13: 0 | H13: 0 | I13: 0 | J13: 0 | K13: 0 | L13: 500000 | M13: 0 | N13: ='2D'!B12 -> 500000
A14: Járulékok | B14: =B13*0.175 -> 0 | C14: =C13*0.175 -> 0 | D14: =D13*0.175 -> 0 | E14: =E13*0.175 -> 0 | F14: =F13*0.175 -> 0 | G14: =G13*0.175 -> 0 | H14: =H13*0.175 -> 0 | I14: 0 | J14: 0 | K14: 0 | L14: 179950 | M14: =M13*1.18*0.15+M13*1.18*0.175 -> 0 | N14: ='2D'!B13 -> 179950
A15: Dologi kiadások | B15: 150000 | C15: 200000 | D15: 200000 | E15: 450000 | F15: 450000 | G15: 450000 | H15: 350000 | I15: 350000 | J15: 200000 | K15: 564370 | L15: 250000 | M15: 250000 | N15: ='2D'!B14 -> 3864370
A16: Támogatások | B16: 0 | D16: 17000 | E16: 1800000 | F16: 1200000 | G16: 900000 | K16: 1800000 | L16: 1840000 | N16: ='2D'!B15 -> 7557000
A17: Beruházási kiadás | B17: 0 | C17: 0 | D17: 0 | E17: 0 | F17: 0 | G17: 0 | H17: 0 | I17: 0 | J17: 0 | K17: 0 | L17: 9389000 | M17: 0 | N17: ='2D'!B17 -> 9389000
A18: Tartalék felhasználás | B18: 0 | C18: 0 | D18: 0 | E18: 96519160 | F18: 21000000 | G18: 11000000 | H18: 0 | I18: 0 | J18: 0 | K18: 0 | L18: 0 | M18: =92545698-2921206 -> 89624492 | N18: ='2D'!B20 -> 2.1814365e+08
A19: Kiadások összesen | B19: =SUM(B13:B18) -> 150000 | C19: =SUM(C13:C18) -> 200000 | D19: =SUM(D13:D18) -> 217000 | E19: =SUM(E13:E18) -> 98769160 | F19: =SUM(F13:F18) -> 22650000 | G19: =SUM(G13:G18) -> 12350000 | H19: =SUM(H13:H18) -> 350000 | I19: =SUM(I13:I18) -> 350000 | ... N19: =SUM(N13:N18) -> 2.3963397e+08
A21: Havi bontás | B21: január | C21: február | D21: március | E21: április | F21: május | G21: június | H21: július | I21: augusztus | J21: szeptember | K21: október | L21: november | M21: december | N21: összesen
A22: Bevétel
A23: Intézményi működési bevétel | B23: 0 | C23: 0 | D23: 0 | E23: 0 | F23: 0 | G23: 0 | H23: 0 | I23: 0 | J23: 0 | K23: 0 | L23: 0 | M23: 0 | N23: ='2D'!B24 -> 0
A24: Állami támogatás | B24: 0 | C24: 0 | D24: 0 | E24: 0 | F24: 0 | G24: 0 | H24: 0 | I24: 0 | J24: 0 | K24: 0 | L24: 0 | M24: 0 | N24: 0
A25: Egyéb támogatás | B25: 0 | C25: 17000 | F25: 34133975 | K25: 34133975 | L25: 0 | M25: 0 | N25: ='4'!H15+'4'!D15+'4'!E15 -> 65366413
A26: Felhalmozási projekt bevétel | B26: 0 | C26: 0 | E26: 9643000 | F26: 0 | G26: 0 | H26: 0 | I26: 0 | J26: 0 | K26: 0 | L26: 0 | M26: 0 | N26: ='2D'!B26 -> 9643000
A27: Maradvány felhasználás | B27: 150000 | C27: 183000 | D27: 217000 | E27: 90000000 | H27: 400000 | I27: 300000 | J27: 200000 | M27: 73177228 | N27: ='2D'!B33 -> 164624559
A28: Bevételek összesen | B28: =SUM(B23:B27) -> 150000 | C28: =SUM(C23:C27) -> 200000 | D28: =SUM(D23:D27) -> 217000 | E28: =SUM(E23:E27) -> 99643000 | F28: =SUM(F23:F27) -> 34133975 | G28: =SUM(G23:G27) -> 0 | H28: =SUM(H23:H27) -> 400000 | I28: =SUM(I23:I27) -> 300000 | ... N28: =SUM(N23:N27) -> 239633972
A29: halmozott egyenleg | B29: =B28-B19 -> 0 | C29: =B29+C28-C19 -> 0 | D29: =C29+D28-D19 -> 0 | E29: =D29+E28-E19 -> 873840 | F29: =E29+F28-F19 -> 12357815 | G29: =F29+G28-G19 -> 7815 | H29: =G29+H28-H19 -> 57815 | I29: =H29+I28-I19 -> 7815 | J29: =I29+J28-J19 -> 7815 | ... M29: =L29+M28-M19 -> 2921206
A30: 1. oldal
A32: MOSONMAGYARÓVÁR TÉRSÉGI TÁRSULÁS
A33: 2021. ÉVI KÖLTSÉGVETÉSI HATOZATÁHOZ
A35: Család és Gyermekjóléti Központ
A36: likviditási ütemterve 2021. év Ft-ban
A38: Havi bontás | B38: január | C38: február | D38: március | E38: április | F38: május | G38: június | H38: július | I38: augusztus | J38: szeptember | K38: október | L38: november | M38: december | N38: összesen
A39: Kiadásnem
A40: Személyi juttatás | B40: 17699000 | C40: =17699000+1500000 -> 19199000 | D40: =17699000+1500000 -> 19199000 | E40: =17699000+1500000 -> 19199000 | F40: =17699000+1500000 -> 19199000 | G40: =17699000+8849750+1500000 -> 28048750 | H40: =17699000+1500000 -> 19199000 | I40: =17699000+1500000 -> 19199000 | J40: =17699000+1500000 -> 19199000 | K40: =17699000+1500000 -> 19199000 | L40: =17699000+8849750+1897750 -> 28446500 | M40: =17699000+1500000 -> 19199000 | N40: ='2C'!B12 -> 246985250 | Q40: =P40/2 -> 0
A41: Járulékok | B41: =B40*0.155 -> 2743345 | C41: =C40*0.155 -> 2975845 | D41: =D40*0.155 -> 2975845 | E41: =E40*0.155+1600000 -> 4575845 | F41: =F40*0.155 -> 2975845 | G41: =G40*0.155 -> 4347556.2 | H41: =H40*0.155 -> 2975845 | I41: =I40*0.155 -> 2975845 | J41: =J40*0.155 -> 2975845 | K41: =K40*0.155+1678786 -> 4654631 | L41: =L40*0.155 -> 4409207.5 | M41: =M40*0.155 -> 2975845 | N41: ='2C'!B13 -> 41561500
A42: Dologi kiadások | B42: 2220000 | C42: 3250000 | D42: 3000000 | E42: 3000000 | F42: 3000000 | G42: 3000000 | H42: 3000000 | I42: 3000000 | J42: 3000000 | K42: =4681407-1932000 -> 2749407 | L42: 3450000 | M42: 3500593 | N42: ='2C'!B14 -> 36170000
A43: Támogatások | B43: 37500 | C43: 37500 | D43: 37500 | E43: 37500 | F43: 37500 | G43: 37500 | H43: 37500 | I43: 37500 | J43: 37500 | K43: 37500 | L43: 37500 | M43: 37500 | N43: ='2C'!B15 -> 450000
A44: Beruházási kiadás | B44: 0 | C44: 0 | D44: 0 | E44: 0 | F44: 1500000 | G44: 1829438 | H44: 0 | I44: 0 | J44: 0 | K44: 0 | L44: 0 | M44: 0 | N44: ='2C'!B16 -> 3329438
A45: Kiadások összesen | B45: =SUM(B40:B44) -> 22699845 | C45: =SUM(C40:C44) -> 25462345 | D45: =SUM(D40:D44) -> 25212345 | E45: =SUM(E40:E44) -> 26812345 | F45: =SUM(F40:F44) -> 26712345 | G45: =SUM(G40:G44) -> 37263244 | H45: =SUM(H40:H44) -> 25212345 | I45: =SUM(I40:I44) -> 25212345 | ... N45: =SUM(N40:N44) -> 328496188
A47: Havi bontás | B47: január | C47: február | D47: március | E47: április | F47: május | G47: június | H47: július | I47: augusztus | J47: szeptember | K47: október | L47: november | M47: december | N47: összesen
A48: Bevétel
A49: Intézményi működési bevétel | B49: 100000 | C49: 100000 | D49: 100000 | E49: 100000 | F49: 100000 | G49: 150000 | H49: 350000 | I49: 350000 | J49: 250000 | K49: 150000 | L49: 150000 | M49: 100000 | N49: ='2C'!B22 -> 2000000
A50: Állami támogatás | B50: 13392608 | C50: 13392608 | D50: 13392608 | E50: 13392608 | F50: 13392608 | G50: 13392608 | H50: 13392608 | I50: 13392608 | J50: 13392608 | K50: 13392608 | L50: 13392608 | M50: 13392613 | N50: ='4'!C14 -> 160711301
...

Sheet 8
C1: 4. sz. melléklet
A3: Mosonmagyaróvár Térségi Társulás
A4: és felügyelete alá tartozó költségvetési szerv
A5: 2021. évi költségvetésének módosításáról szóló határozatához
A7: Költségvetési engedélyzett létszámhely
B9: adatok: fő-ben
A10: Megnevezés | B10: 2021. január 1. | C10: Közfoglalkoztatottak átlagos létszáma
A11: (intézmény, szakfeladat, stb.) | B11: engedélyezett
B12: létszámhely
A13: Család és Gyermekjóléti Központ | B13: =SUM(B14:B17) -> 58.5 | C13: 0
A14: GyÁÓ | B14: 8.5 | C14: 0
A15: Család- és Gyermekjóléti Szolgálat | B15: 16 | C15: 0
A16: Család- és Gyermekjóléti Központ Hatósági és Speciális Munkacsoporot | B16: 23 | C16: 0
A17: Óvodai és iskolai szociális segítő tevékenység (2018. szeptember 1-jétől) | B17: 11
A18: Kistérségi Egyesített Szociális Intézet | B18: =SUM(B19:B30) -> 159 | C18: =SUM(C19:C30) -> 0
A19: Aranykor, kp.-i irányítás | B19: 48 | C19: 0
A20: Gondozóház, főzőkonyha, karbantartás | B20: 36 | C20: 0
A21: Hajléktalanok Átmeneti Szállása | B21: 9 | C21: 0
A22: Idősek klubja | B22: 15 | C22: 0
A23: FÉNI | B23: 6 | C23: 0
A24: Nappali melegedő | B24: 3 | C24: 0
A25: Éjjeli menedékhely | B25: 2
A26: Utcai szociális munka | B26: 2
A27: Szociális étkezés | B27: 1 | C27: 0
A28: Házi segítségnyújtás | B28: 34 | C28: 0
A29: Jelzőrendszer | B29: 1 | C29: 0
A30: Szoc. foglalkoztatás | B30: 2 | C30: 0
A31: Mosonmagyaróvár Térségi Társulás (projektekhez kapcsolódó megbízási díj került betervezésre, állandó létszámhely nincs | B31: 0 | C31: 0
A32: Összesen: | B32: =SUM(B13+B18+B31) -> 217.5 | C32: =SUM(C13+C18+C31) -> 0
A34: Mosonmagyaróvár, 2021. szeptember 21.

Sheet 9
B1: 9. sz. melléklet
A2: Mosonmagyaróvár Térségi Társulás
A4: Állami támogatások 2021. év
A6: Kistérségi Egyesített Szociális Intézmény
A7: Rovat: B113
A8: Jogcím | B8: Feladat | C8: Fajlagos támogatás 2020. évi XC. tv. alapján | D8: mutató | E8: Eredeti előirányzat
A9: 1.3.2.3.2 | B9: Szociális étkeztetés | C9: 72996 | D9: =E9/C9 -> 460 | E9: ='2B'!B38 -> 33578160
A10: 1.3.2.4.3 | B10: Házi segítségnyújtás | C10: 471900 | D10: =E10/C10 -> 131 | E10: ='2B'!B39 -> 61818900
A11: 1.3.2.6.2 | B11: Időskorúak nappali int. ellátása | C11: 325500 | D11: =E11/C11 -> 44 | E11: ='2B'!B40 -> 14322000
A12: 1.3.2.7.2 | B12: Fogyatékos személyek napp. int. ellátása | C12: 805200 | D12: 15 | E12: =SUM(D12*C12) -> 12078000
A13: 1.3.2.7.4 | B13: Foglalkoztatási támogatásban rész. fogy. | C13: 483120 | D13: 12 | E13: =SUM(D13*C13) -> 5797440 | G13: =E13+E12+E14 -> 42031440
A14: 1.3.2.8.2 | B14: Demens szem. napp. int. ellátása | C14: 805200 | D14: 30 | E14: =SUM(D14*C14) -> 24156000
A15: 1.3.2.11.2 | B15: Hajléktalanok napp. int. ellátása | C15: 301320 | D15: 36 | E15: =SUM(D15*C15) -> 10847520 | G15: =E15+E17 -> 37968405
A16: 1.3.2.11.3 | B16: Hajléktalanok napp. Int. Ellátása - kiemelt intézmény | C16: 10065900 | D16: 1 | E16: =SUM(D16*C16) -> 10065900
A17: 1.3.2.13.5 | B17: Hajléktalanok Átmeneti Szállása | C17: 661485 | D17: 41 | E17: =SUM(D17*C17) -> 27120885
A18: 1.3.4.1 | B18: Bértámogatás | C18: 4234040 | D18: =E18/C18 -> 28.650927 | E18: ='2B'!B44 -> 121309171
A19: 1.3.4.2 | B19: Intézmény-üzemeltetési támogatás | E19: ='2B'!B45 -> 42463000
B20: Összesen | E20: =SUM(E9:E19) -> 363556976
A22: Család és Gyermekjóléti Központ
A23: Jogcím | B23: Feladat | C23: Fajlagos támogatás 2020. évi XC. tv. alapján | D23: mutató | E23: Eredeti előirányzat
A24: 1.3.2.1 | B24: Család és gyermekjóléti szolgálat | C24: 4 100 000 Ft/mutató | D24: =E24/3400000 -> 18.932353 | E24: 64370000
A25: 1.3.2.2 | B25: Család és gyermekjóléti központ | C25: 3 650 000 Ft/mutató | D25: =E25/3300000 -> 13.383333 | E25: 44165000
A26: 1.3.4.1 | B26: CSGYK bértámogatás | C26: 4 234 040 Ft/mutató | D26: =E26/4234040 -> 3.349073 | E26: ='2C'!B38 -> 14180109
A27: 1.3.4.2 | B27: Intézmény-üzemeltetési támogatás | E27: 0
B28: Óvodai és iskolai szociáis segítő tevékenység támgoatása | E28: ='2C'!B41 -> 37996192
B29: Összesen: | E29: =SUM(E24:E28) -> 160711301
B31: Mindösszesen | E31: =E20+E29 -> 524268277
A33: Mosonmagyaróvár, 2021. március 2.

Sheet 2021 tagdíj
F1: 10. sz. melléklet
B2: Mosonmagyaróvár Térségi Társulás tagjai által fizetendő hozzájárulások, tagdjíak 2021. év
D6: intézményekre felosztva | E6: társulási működésre | F6: CSGYK megjelenítve | G6: Társulás kifizetés
C7: Lakosságszám | E7: Meglévő tagdíj 270 Ft/lakos | F7: Gyemekjóléti szolgálat támogatása 100 Ft/lakos | G7: Kórházi eszközök beszerzése 20 Ft/lakos
B8: Település | C8: 43831 | D8: 580 Ft + 643 Ft/lakos=1 223 Ft/lakos
A9: 1 | B9: Ásványráró | C9: ='[4]2020_ALL_GYO_ÖSSZ'!$F$24 -> 2062 | D9: =SUM(C9*1223) -> 2521826 | E9: =C9*270 -> 556740 | F9: =C9*100 -> 206200 | G9: =C9*20 -> 41240
A10: =A9+1 -> 2 | B10: Bezenye | C10: ='[4]2020_ALL_GYO_ÖSSZ'!$F$31 -> 1435 | D10: =SUM(C10*1223) -> 1755005 | E10: =C10*270 -> 387450 | F10: =C10*100 -> 143500 | G10: =C10*20 -> 28700
A11: =A10+1 -> 3 | B11: Darnózseli | C11: ='[4]2020_ALL_GYO_ÖSSZ'!$F$43 -> 1606 | D11: =SUM(C11*1223) -> 1964138 | E11: =C11*270 -> 433620 | F11: =C11*100 -> 160600 | G11: =C11*20 -> 32120
A12: =A11+1 -> 4 | B12: Dunakiliti | C12: ='[4]2020_ALL_GYO_ÖSSZ'!$F$46 -> 2015 | D12: =SUM(C12*1223) -> 2464345 | E12: =C12*270 -> 544050 | F12: =C12*100 -> 201500 | G12: =C12*20 -> 40300
A13: =A12+1 -> 5 | B13: Dunaremete | C13: ='[4]2020_ALL_GYO_ÖSSZ'!$F$47 -> 248 | D13: =SUM(C13*1223) -> 303304 | E13: =C13*270 -> 66960 | F13: =C13*100 -> 24800 | G13: =C13*20 -> 4960
A14: =A13+1 -> 6 | B14: Dunasziget | C14: ='[4]2020_ALL_GYO_ÖSSZ'!$F$50 -> 1721 | D14: =SUM(C14*1223) -> 2104783 | E14: =C14*270 -> 464670 | F14: =C14*100 -> 172100 | G14: =C14*20 -> 34420
A15: =A14+1 -> 7 | B15: Feketeerdő | C15: ='[4]2020_ALL_GYO_ÖSSZ'!$F$59 -> 632 | D15: =SUM(C15*1223) -> 772936 | E15: =C15*270 -> 170640 | F15: =C15*100 -> 63200 | G15: =C15*20 -> 12640
A16: =A15+1 -> 8 | B16: Halászi | C16: ='[4]2020_ALL_GYO_ÖSSZ'!$F$80 -> 3213 | D16: =SUM(C16*1223) -> 3929499 | E16: =C16*270 -> 867510 | F16: =C16*100 -> 321300 | G16: =C16*20 -> 64260
A17: =A16+1 -> 9 | B17: Hegyeshalom | C17: ='[4]2020_ALL_GYO_ÖSSZ'!$F$16 -> 3704 | D17: =SUM(C17*1223) -> 4529992 | E17: =C17*270 -> 1000080 | F17: =C17*100 -> 370400 | G17: =C17*20 -> 74080
A18: =A17+1 -> 10 | B18: Hédervár | C18: ='[4]2020_ALL_GYO_ÖSSZ'!$F$82 -> 1285 | D18: =SUM(C18*1223) -> 1571555 | E18: =C18*270 -> 346950 | F18: =C18*100 -> 128500 | G18: =C18*20 -> 25700
A19: =A18+1 -> 11 | B19: Jánossomorja | C19: ='[4]2020_ALL_GYO_ÖSSZ'!$F$9 -> 6065 | D19: =SUM(C19*1223) -> 7417495 | E19: =C19*270 -> 1637550 | F19: =C19*100 -> 606500 | G19: =C19*20 -> 121300
A20: =A19+1 -> 12 | B20: Károlyháza | C20: ='[4]2020_ALL_GYO_ÖSSZ'!$F$91 -> 568 | D20: =SUM(C20*1223) -> 694664 | E20: =C20*270 -> 153360 | F20: =C20*100 -> 56800 | G20: =C20*20 -> 11360
A21: =A20+1 -> 13 | B21: Kimle | C21: ='[4]2020_ALL_GYO_ÖSSZ'!$F$92 -> 2312 | D21: =SUM(C21*1223) -> 2827576 | E21: =C21*270 -> 624240 | F21: =C21*100 -> 231200 | G21: =C21*20 -> 46240
A22: =A21+1 -> 14 | B22: Kisbodak | C22: ='[4]2020_ALL_GYO_ÖSSZ'!$F$95 -> 369 | D22: =SUM(C22*1223) -> 451287 | E22: =C22*270 -> 99630 | F22: =C22*100 -> 36900 | G22: =C22*20 -> 7380
A23: =A22+1 -> 15 | B23: Levél | C23: ='[4]2020_ALL_GYO_ÖSSZ'!$F$102 -> 2070 | D23: =SUM(C23*1223) -> 2531610 | E23: =C23*270 -> 558900 | F23: =C23*100 -> 207000 | G23: =C23*20 -> 41400
A24: =A23+1 -> 16 | B24: Lébény | C24: ='[4]2020_ALL_GYO_ÖSSZ'!$F$11 -> 3311 | D24: =SUM(C24*1223) -> 4049353 | E24: =C24*270 -> 893970 | F24: =C24*100 -> 331100 | G24: =C24*20 -> 66220
A25: =A24+1 -> 17 | B25: Lipót | C25: ='[4]2020_ALL_GYO_ÖSSZ'!$F$103 -> 782 | D25: =SUM(C25*1223) -> 956386 | E25: =C25*270 -> 211140 | F25: =C25*100 -> 78200 | G25: =C25*20 -> 15640
A26: =A25+1 -> 18 | B26: Máriakálnok | C26: ='[4]2020_ALL_GYO_ÖSSZ'!$F$107 -> 2049 | D26: =SUM(C26*1223) -> 2505927 | E26: =C26*270 -> 553230 | F26: =C26*100 -> 204900 | G26: =C26*20 -> 40980
A27: =A26+1 -> 19 | B27: Mecsér | C27: ='[4]2020_ALL_GYO_ÖSSZ'!$F$109 -> 640 | D27: =SUM(C27*1223) -> 782720 | E27: =C27*270 -> 172800 | F27: =C27*100 -> 64000 | G27: =C27*20 -> 12800
A28: =A27+1 -> 20 | B28: Mosonmagyaróvár | C28: ='[4]2020_ALL_GYO_ÖSSZ'!$F$12 -> 32256 | D28: =SUM(C28*1223) -> 39449088 | E28: =C28*270 -> 8709120 | F28: =C28*100 -> 3225600 | G28: =C28*20 -> 645120
A29: =A28+1 -> 21 | B29: Mosonszentmiklós | C29: ='[4]2020_ALL_GYO_ÖSSZ'!$F$114 -> 2541 | D29: =SUM(C29*1223) -> 3107643 | E29: =C29*270 -> 686070 | F29: =C29*100 -> 254100 | G29: =C29*20 -> 50820
A30: =A29+1 -> 22 | B30: Mosonszolnok | C30: ='[4]2020_ALL_GYO_ÖSSZ'!$F$115 -> 1825 | D30: =SUM(C30*1223) -> 2231975 | E30: =C30*270 -> 492750 | F30: =C30*100 -> 182500 | G30: =C30*20 -> 36500
A31: =A30+1 -> 23 | B31: Mosonudvar | C31: ='[4]2020_ALL_GYO_ÖSSZ'!$F$116 -> 443 | D31: =SUM(C31*1223) -> 541789 | E31: =C31*270 -> 119610 | F31: =C31*100 -> 44300 | G31: =C31*20 -> 8860
A32: =A31+1 -> 24 | B32: Püski | C32: ='[4]2020_ALL_GYO_ÖSSZ'!$F$134 -> 642 | D32: =SUM(C32*1223) -> 785166 | E32: =C32*270 -> 173340 | F32: =C32*100 -> 64200 | G32: =C32*20 -> 12840
A33: =A32+1 -> 25 | B33: Rajka | C33: ='[4]2020_ALL_GYO_ÖSSZ'!$F$146 -> 3868 | D33: =SUM(C33*1223) -> 4730564 | E33: =C33*270 -> 1044360 | F33: =C33*100 -> 386800 | G33: =C33*20 -> 77360
A34: =A33+1 -> 26 | B34: Újrónafő | C34: ='[4]2020_ALL_GYO_ÖSSZ'!$F$172 -> 862 | D34: =SUM(C34*1223) -> 1054226 | E34: =C34*270 -> 232740 | F34: =C34*100 -> 86200 | G34: =C34*20 -> 17240
A35: =A34+1 -> 27 | B35: Várbalog | C35: ='[4]2020_ALL_GYO_ÖSSZ'!$F$177 -> 396 | D35: =SUM(C35*1223) -> 484308 | E35: =C35*270 -> 106920 | F35: =C35*100 -> 39600 | G35: =C35*20 -> 7920
B37: Összesen | C37: =SUM(C9:C35) -> 78920 | D37: =SUM(D9:D36) -> 96519160 | E37: =SUM(E9:E36) -> 21308400 | F37: =SUM(F9:F36) -> 7892000 | G37: =SUM(G9:G36) -> 1578400
D39: tartalék | E39: tartalék
C40: Lakosságszám | D40: Szolidaritási alap 10 Ft/lakos | E40: Felújítási alap 100 Ft/lakos | F40: Fizetési kötelezettség összesen
B41: Település | C41: 43831
B42: Ásványráró | C42: ='[4]2020_ALL_GYO_ÖSSZ'!$F$24 -> 2062 | D42: =C9*10 -> 20620 | E42: =C9*100 -> 206200 | F42: =SUM(D9:G9,D42:E42) -> 3552826
B43: Bezenye | C43: ='[4]2020_ALL_GYO_ÖSSZ'!$F$31 -> 1435 | D43: =C10*10 -> 14350 | E43: =C10*100 -> 143500 | F43: =SUM(D10:G10,D43:E43) -> 2472505
B44: Darnózseli | C44: ='[4]2020_ALL_GYO_ÖSSZ'!$F$43 -> 1606 | D44: =C11*10 -> 16060 | E44: =C11*100 -> 160600 | F44: =SUM(D11:G11,D44:E44) -> 2767138
B45: Dunakiliti | C45: ='[4]2020_ALL_GYO_ÖSSZ'!$F$46 -> 2015 | D45: =C12*10 -> 20150 | E45: =C12*100 -> 201500 | F45: =SUM(D12:G12,D45:E45) -> 3471845
...
