Workbook

Sheet 1_
B1: 1. SZÁMÚ MELLÉKLET
A5: MOSONMAGYARÓVÁR TÉRSÉGI TÁRSULÁS
A6: 2020. ÉVI KÖLTSÉGVETÉSI HATÁROZATÁNAK MÓDOSÍTÁSÁHOZ
A11: A Mosonmagyaróvár Térségi Társulás és irányítása alá tartozó költségvetési szervek
A12: 2020. évi költségvetéséről szóló 4/2020. (II.18.) TT. Határozatot
A13: módosító …/2020. (IX.22.) TT. Határozat
A15: CÍMRENDJÉT
A16: az alábbiak szerint állapítja meg:
A21: Címszám | B21: Megnevezés
A22: 1. | B22: Mosonmagyaróvár Térségi Társulás
A23: 2. | B23: Kistérségi Egyesített Szociális Intézmény
A24: 3. | B24: Család és Gyermekjóléti Központ

Sheet 2A
A3: MOSONMAGYARÓVÁR TÉRSÉGI TÁRSULÁS
A4: 2020. ÉVI KÖLTSÉGVETÉSI HATÁROZAT MÓDOSÍTÁSA
A5: PÉNZFORGALMI MÉRLEG
A6: adatok Ft-ban
A8: MOSONMAGYARÓVÁRI TÖBBCÉLÚ KISTÉRSÉGI TÁRSULÁS ÉS KÖLTSÉGVETÉSI SZERVEI | C8: kötelező | D8: önként | F8: kötelező | G8: önként
A9: Megnevezés | B9: eredeti | C9: eredeti | D9: eredeti | E9: módosított | F9: módosított | G9: módosított | H9: Rovatrend
B10: előirányzat 2020 | C10: előirányzat 2020 | D10: előirányzat 2020 | E10: előirányzat 2020.06.30 | F10: előirányzat 2020.06.30 | G10: előirányzat 2020.06.30
A11: Személyi juttatások | B11: ='2B'!B12+'2C'!B12+'2D'!B12 -> 768157500 | C11: =SUM(B11-D11) -> 767177500 | D11: ='2D'!B12 -> 980000 | E11: ='2B'!C12+'2C'!C12+'2D'!C12 -> 774206958 | F11: =E11-G11 -> 773226958 | G11: 980000 | H11: K1
A12: Munkaadót terhelő járulékok | B12: ='2B'!B13+'2C'!B13+'2D'!B13 -> 1.5018051e+08 | C12: =SUM(B12-D12) -> 1.4990476e+08 | D12: ='2D'!B13 -> 275750 | E12: ='2B'!C13+'2C'!C13+'2D'!C13 -> 151474334 | F12: =E12-G12 -> 151198584 | G12: 275750 | H12: K2
A13: Dologi és egyéb folyó kiadások | B13: ='2B'!B14+'2C'!B14+'2D'!B14 -> 315224519 | C13: =SUM(B13-D13) -> 311081069 | D13: ='2D'!B14 -> 4143450 | E13: ='2B'!C14+'2C'!C14+'2D'!C14 -> 315707523 | F13: =E13-G13 -> 311134073 | G13: 4573450 | H13: K3
A14: Ellátottak pénzbeli juttatásai | B14: ='2B'!B15+'2C'!B15 -> 1050000 | C14: 1050000 | D14: 0 | E14: ='2B'!C15+'2C'!C15 -> 1050000 | F14: =E14-G14 -> 1050000 | G14: 0 | H14: K4
A15: Pénzeszköz átadás, támogatás | B15: ='2B'!B16+'2D'!B15 -> 8638790 | C15: 0 | D15: ='2D'!B15 -> 8638790 | E15: ='2D'!C15+'2B'!C16 -> 9941628 | F15: =E15-G15 -> 1302838 | G15: 8638790 | H15: K5
A16: Felhalmozási kiadások | B16: ='2B'!B17+'2C'!B16+'2D'!B17 -> 6835855 | C16: =SUM(B16-D16) -> 6835855 | D16: ='2D'!B17 -> 0 | E16: ='2B'!C17+'2C'!C16+'2D'!C17 -> 7143856 | F16: =E16-G16 -> 7143855 | G16: 1 | H16: K61-67, K71-74
A17: Hitelek és kölcsönök kiadásai | B17: 0 | C17: =SUM(B17-D17) -> 0 | D17: 0 | E17: 0 | F17: 0 | G17: 0 | H17: K9111
A18: Pénzforgalmi kiadások | B18: =SUM(B11:B17) -> 1.2500872e+09 | C18: =SUM(B18-D18) -> 1.2360492e+09 | D18: =SUM(D11:D17) -> 14037990 | E18: =SUM(E11:E17) -> 1259524299 | F18: =SUM(F11:F17) -> 1245056308 | G18: =SUM(G11:G17) -> 14467991
A19: Államháztartási tartalék | B19: ='2D'!B20 -> 65913276 | C19: =SUM(B19-D19) -> 21942822 | D19: =[1]Társulás!$F$47+[1]Társulás!$F$48+[1]Társulás!$F$57 -> 43970454 | E19: ='2D'!C20 -> 56686562 | F19: =21942822-1899012+210411-1 -> 20254220 | G19: =43970454-7108112-430000 -> 36432342 | H19: K512
A20: Kiegyenlítő, átfutó, függő kiadás | B20: nem releváns | E20: nem releváns
A21: Kiadások összesen: | B21: =B18+B19 -> 1.3160004e+09 | C21: =SUM(B21-D21) -> 1.257992e+09 | D21: =SUM(D18+D19) -> 58008444 | E21: =E19+E18 -> 1316210861 | F21: =F19+F18 -> 1265310528 | G21: =G19+G18 -> 50900333
A23: Intézményi működési bevételek | B23: ='2B'!C23+'2C'!C22+'2D'!B24 -> 301700000 | C23: =B23-D23 -> 301700000 | D23: ='2D'!B24 -> 0 | E23: ='2B'!C23+'2C'!C22+'2D'!C24 -> 301910411 | F23: =E23-G23 -> 301700000 | G23: 210411 | H23: B4
A24: Költségvetési visszatérülések | B24: 0 | C24: =B24-D24 -> 0 | D24: 0 | E24: 0 | F24: =E24-G24 -> 0 | G24: 0
A25: Felhalmozási és tőke jellegű bevételek | B25: ='2B'!C24+'2C'!C23+'2D'!B26 -> 0 | C25: =B25-D25 -> 0 | D25: ='2D'!B26 -> 0 | E25: 0 | F25: =E25-G25 -> 0 | G25: 0 | H25: B21, B25, B52, B72, B73
A26: ebből: sajátos felhalm. és tőkef. | B26: 0 | C26: =B26-D26 -> 0 | D26: 0 | E26: 0 | F26: =E26-G26 -> 0 | G26: 0
A27: Támogatások, kiegészítések és átvett pénzeszközök | B27: ='2B'!B26+'2C'!B25+'2D'!B28 -> 9.0953277e+08 | C27: =B27-D27 -> 8.7653319e+08 | D27: ='[1]tagdíjak (2)'!$E$37+'[2]tagdíjak (2)'!$G$37+8411690+1840000 -> 32999580 | E27: ='2B'!C26+'2C'!C25+'2D'!C28 -> 909532769 | F27: =E27-G27 -> 876533189 | G27: 32999580 | H27: B816
A28: ebből: önkorm. költségvetési tám. | B28: ='2D'!B29 -> 483659197 | C28: =B28-D28 -> 483659197 | D28: 0 | E28: 490625197 | F28: =E28-G28 -> 490625197 | G28: 0
A29: Hitelek, kölcsönök bevételei | B29: 0 | C29: =B29-D29 -> 0 | D29: 0 | E29: 0 | F29: 0 | G29: 0 | H29: B8111
A30: Pénzforgalmi bevételek összesen | B30: =B27+B23+B25 -> 1.2112328e+09 | C30: =B30-D30 -> 1.1782332e+09 | D30: =D27+D23+D25 -> 32999580 | E30: =SUM(E23:E27) -> 1211443180 | F30: =SUM(F23:F27) -> 1178233189 | G30: =SUM(G23:G27) -> 33209991
A31: Maradvány felhasználás | B31: ='2B'!B31+'2C'!B30+'2D'!B33 -> 104767681 | C31: =B31-D31 -> 79758817 | D31: =[2]Társulás!$F$100+[2]Társulás!$F$109 -> 25008864 | E31: 104767681 | F31: 87077339 | G31: =E31-F31 -> 17690342
A32: Kiegyenlítő, átfutó, függő bevételek | B32: nem releváns | E32: nem releváns
A33: Bevételek összesen: | B33: =B30+B31 -> 1.3160005e+09 | C33: =B33-D33 -> 1.257992e+09 | D33: =D30+D31 -> 58008444 | E33: =E30+E31 -> 1316210861 | F33: =F30+F31 -> 1265310528 | G33: =G30+G31 -> 50900333
A36: Mosonmagyaróvár, 2020. szeptember 14.
B40: térségi társulás támogatása | D40: évi kétszeri befizetés
B41: Gyermekjóléti szolgálat működéséhez kapcsolódó hozzájárulás
B42: Kórház támogatására
B43: Szolidaritási alap
B44: Felújítási alap | D44: évi kétszeri befizetés
B45: kiegészítő hozzájárulás (580 Ft+643 Ft)

Sheet 2B
B1: 2./B SZÁMÚ MELLÉKLET
A3: MOSONMAGYARÓVÁR TÉRSÉGI TÁRSULÁS
A4: 2020. ÉVI KÖLTSÉGVETÉSI HATÁROZAT MÓDOSÍTÁSA
A5: PÉNZFORGALMI MÉRLEG
A6: tárgyévi adatok Ft-ban
A9: KISTÉRSÉGI EGYESÍTETT SZOCIÁLIS INTÉZET | C9: kötelező feladat
A10: Megnevezés | B10: eredeti | C10: módosított | D10: Rovatrend
B11: előirányzat 2020. adatok Ft-ban | C11: előirányzat 2020.06.30-i adatok Ft-ban | D11: 2020. év
A12: Személyi juttatások | B12: ='[1]KESZI 2019.10.30'!$F$24 -> 537090000 | C12: 540120992 | D12: K1 | F12: =C12-B12 -> 3030992
A13: Munkaadót terhelő járulékok | B13: ='[1]KESZI 2019.10.30'!$F$25 -> 105914760 | C13: 106646982 | D13: K2 | F13: =C13-B13 -> 732222
A14: Dologi és egyéb folyó kiadások | B14: ='[1]KESZI 2019.10.30'!$F$64 -> 270979069 | C14: 271101081 | D14: K3 | F14: =C14-B14 -> 122012
A15: Ellátottak pénzbeli juttatásai | B15: ='[1]KESZI 2019.10.30'!$F$65 -> 600000 | C15: ='[1]KESZI 2019.10.30'!$F$65 -> 600000 | D15: K4 | F15: =C15-B15 -> 0
A16: Pénzeszköz átadás, támogatás | B16: 0 | C16: 1302838 | D16: K5 | F16: =C16-B16 -> 1302838
A17: Felhalmozási kiadások (Konyha fejlesztés miatt pinceében lévő tárolók megszűntetése helyett szekrények kialakítása 2018.11.20-án tanácsülésen engedélyezett előirányzat módosítás terhére.Konyha felújításból kimaradt 2018.09.18-i tanácsülésen engedélyezett előirányzat módosítás terhére megrendelt. Partner Service Kft-től tűzjelző rendszer kiépítése, ÓvárVill Kft.-től Energiahálózat bővítése. Csendes szoba kialakítása: Lions 300.000.-Ft ; Rotary 542.415.-Ft , 279.000.-Ft magánszemélytől ) | B17: ='[1]KESZI 2019.10.30'!$F$74+'[1]KESZI 2019.10.30'!$F$79 -> 6835855 | C17: ='[1]KESZI 2019.10.30'!$F$74+'[1]KESZI 2019.10.30'!$F$79 -> 6835855 | D17: K61-67, K71-74 | F17: =C17-B17 -> 0
A18: Hitelek és kölcsönök kiadásai | B18: 0 | C18: 0 | D18: K9111 | F18: =C18-B18 -> 0
A19: Pénzforgalmi kiadások | B19: =SUM(B12:B18) -> 921419684 | C19: =SUM(C12:C18) -> 926607748 | F19: =C19-B19 -> 5188064
A20: Kiegyenlítő, átfutó, függő kiadás | B20: nem releváns | C20: nem releváns
A21: Kiadások összesen: | B21: =SUM(B19) -> 921419684 | C21: =SUM(C19) -> 926607748 | F21: =C21-B21 -> 5188064
F22: =C22-B22 -> 0
A23: Intézményi működési bevételek | B23: ='[1]KESZI 2019.10.30'!$E$92+'[1]KESZI 2019.10.30'!$E$94+'[1]KESZI 2019.10.30'!$E$95+'[1]KESZI 2019.10.30'!$E$96+'[1]KESZI 2019.10.30'!$E$97+'[1]KESZI 2019.10.30'!$E$98+'[1]KESZI 2019.10.30'!$E$99+'[1]KESZI 2019.10.30'!$E$100+'[1]KESZI 2019.10.30'!$E$101 -> 299400000 | C23: ='[1]KESZI 2019.10.30'!$E$92+'[1]KESZI 2019.10.30'!$E$94+'[1]KESZI 2019.10.30'!$E$95+'[1]KESZI 2019.10.30'!$E$96+'[1]KESZI 2019.10.30'!$E$97+'[1]KESZI 2019.10.30'!$E$98+'[1]KESZI 2019.10.30'!$E$99+'[1]KESZI 2019.10.30'!$E$100+'[1]KESZI 2019.10.30'!$E$101 -> 299400000 | D23: B4 | F23: =C23-B23 -> 0
A24: Felhalmozási és tőke jellegű bevételek | B24: 0 | C24: 0 | D24: B21, B25, B52, B72, B73 | F24: =C24-B24 -> 0
A25: ebből: sajátos felhalm. és tőkef. | B25: 0 | C25: 0 | F25: =C25-B25 -> 0
A26: Támogatások, kiegészítések és átvett pénzeszközök | B26: ='[1]KESZI 2019.10.30'!$E$88+'[1]KESZI 2019.10.30'!$E$89+'[1]KESZI 2019.10.30'!$E$90+'[1]KESZI 2019.10.30'!$E$91 -> 61297631 | C26: 24058630 | D26: B16, B63 | F26: =C26-B26 -> -37239001
A27: ebből: önkorm. költségvetési tám. | B27: =B26 -> 61297631 | C27: =C26 -> 24058630 | F27: =C27-B27 -> -37239001
A28: Irányító szervtől kapott támogatás | B28: ='[1]KESZI 2019.10.30'!$E$107 -> 5.0935868e+08 | C28: 551785746 | D28: B816 | F28: =C28-B28 -> 42427065
A29: Hitelek, kölcsönök bevételei | B29: 0 | C29: 0 | D29: B8111 | F29: =C29-B29 -> 0
A30: Pénzforgalmi bevételek összesen | B30: =SUM(B29+B28+B26+B24+B23) -> 8.7005631e+08 | C30: =SUM(C29+C28+C26+C24+C23) -> 875244376 | F30: =C30-B30 -> 5188064
A31: Maradvány felhasználás | B31: ='[1]KESZI 2019.10.30'!$E$105 -> 51363372 | C31: ='[1]KESZI 2019.10.30'!$E$105 -> 51363372 | F31: =C31-B31 -> 0
A32: Kiegyenlítő, átfutó, függő bevételek | B32: nem releváns | C32: nem releváns
A33: Bevételek összesen: | B33: =B30+B31 -> 9.2141968e+08 | C33: =C30+C31 -> 926607748 | F33: =C33-B33 -> 5188064
A36: Irányító szervi támogatás részletezése 2020. év eredeti és módosított Ft-ban | B36: adatok Ft-ban
B37: 2020. év eredeti | C37: 2020.06.30-i módosított állapot | D37: Változás eredetihez képest
A38: Szociális étkeztetés | B38: ='[1]KESZI 2019.10.30'!$E$112 -> 31562344 | C38: ='[1]KESZI 2019.10.30'!$E$112 -> 31562344 | D38: =C38-B38 -> 0 | H38: =C38/B38 -> 1
A39: Házi segítségnyújtás | B39: ='[1]KESZI 2019.10.30'!$E$114 -> 56199000 | C39: ='[1]KESZI 2019.10.30'!$E$114 -> 56199000 | D39: =C39-B39 -> 0 | H39: =C39/B39 -> 1
A40: Időskorúak nappali int. Ellátása | B40: ='[1]KESZI 2019.10.30'!$E$117 -> 13110000 | C40: ='[1]KESZI 2019.10.30'!$E$117 -> 13110000 | D40: =C40-B40 -> 0 | H40: =C40/B40 -> 1
A41: Fogyatékos és demens személyek ell. | B41: ='[1]KESZI 2019.10.30'!$E$118+'[1]KESZI 2019.10.30'!$E$119+'[1]KESZI 2019.10.30'!$E$120 -> 40926600 | C41: ='[1]KESZI 2019.10.30'!$E$118+'[1]KESZI 2019.10.30'!$E$119+'[1]KESZI 2019.10.30'!$E$120 -> 40926600 | D41: =C41-B41 -> 0 | H41: =C41/B41 -> 1
A42: Hajléktalanok nappali ellátása | B42: ='[1]KESZI 2019.10.30'!$E$121 -> 10329120 | C42: ='[1]KESZI 2019.10.30'!$E$121 -> 10329120 | D42: =C42-B42 -> 0 | H42: =C42/B42 -> 1
A43: Hajléktalanok átmeneti ellátása | B43: ='[1]KESZI 2019.10.30'!$E$123 -> 24425115 | C43: ='[1]KESZI 2019.10.30'!$E$123 -> 24425115 | D43: =C43-B43 -> 0 | H43: =C43/B43 -> 1
A44: Bértámogatás szociális szféra | B44: ='[1]KESZI 2019.10.30'!$E$124 -> 120679491 | C44: ='[1]KESZI 2019.10.30'!$E$124 -> 120679491 | D44: =C44-B44 -> 0 | H44: =C44/B44 -> 1
A45: intézmény üzemeltetési támogatás | B45: ='[1]KESZI 2019.10.30'!$E$125 -> 42391760 | C45: ='[1]KESZI 2019.10.30'!$E$125 -> 42391760 | D45: =C45-B45 -> 0 | H45: =C45/B45 -> 1
...

Sheet 2C
B1: 2./C SZÁMÚ MELLÉKLET
A3: MOSONMAGYARÓVÁR TÉRSÉGI TÁRSULÁS
A4: 2020. ÉVI KÖLTSÉGVETÉSI HATÁROZAT MÓDOSÍTÁSA
A5: PÉNZFORGALMI MÉRLEG
A6: tárgyévi adatok Ft-ban
A9: Család és Gyermekjóléti Központ | D9: kötelező feladat
A10: Megnevezés | B10: eredeti | C10: módosított | D10: Rovatrend
B11: előirányzat 2020. adatok Ft-ban | C11: előirányzat 2020.06.30-i adatok Ft-ban | D11: 2020. év
A12: Személyi juttatások | B12: ='[1]CSGYK 2019.10.30'!$F$24 -> 230087500 | C12: 233105966 | D12: K1 | F12: =C12-B12 -> 3018466
A13: Munkaadót terhelő járulékok | B13: ='[1]CSGYK 2019.10.30'!$F$25 -> 43990000 | C13: 44551602 | D13: K2 | F13: =C13-B13 -> 561601.79
A14: Dologi és egyéb folyó kiadások | B14: ='[1]CSGYK 2019.10.30'!$F$64 -> 40102000 | C14: 40032992 | D14: K3 | F14: =C14-B14 -> -69008
A15: Ellátottak pénzbeli juttatásai | B15: ='[1]CSGYK 2019.10.30'!$F$65 -> 450000 | C15: ='[1]CSGYK 2019.10.30'!$F$65 -> 450000 | D15: K4 | F15: =C15-B15 -> 0
A16: Felhalmozási kiadások | B16: ='[1]CSGYK 2019.10.30'!$F$74+'[1]CSGYK 2019.10.30'!$F$79 -> 0 | C16: 308000 | D16: K61-67, K71-74 | F16: =C16-B16 -> 308000
A17: Hitelek és kölcsönök kiadásai | B17: 0 | C17: 0 | D17: K9111 | F17: =C17-B17 -> 0
A18: Pénzforgalmi kiadások | B18: =SUM(B12:B17) -> 3.146295e+08 | C18: =SUM(C12:C17) -> 318448560 | F18: =C18-B18 -> 3819059.8
A19: Kiegyenlítő, átfutó, függő kiadás | B19: nem releváns | C19: nem releváns
A20: Kiadások összesen: | B20: =B18 -> 3.146295e+08 | C20: =C18 -> 318448560 | F20: =C20-B20 -> 3819059.8
F21: =C21-B21 -> 0
A22: Intézményi működési bevételek | B22: ='[1]CSGYK 2019.10.30'!$E$95+'[1]CSGYK 2019.10.30'!$E$98 -> 2300000 | C22: ='[1]CSGYK 2019.10.30'!$E$95+'[1]CSGYK 2019.10.30'!$E$98 -> 2300000 | D22: B4 | F22: =C22-B22 -> 0
A23: Felhalmozási és tőke jellegű bevételek | B23: 0 | C23: 0 | D23: B21, B25, B52, B72, B73 | F23: =C23-B23 -> 0
A24: ebből: sajátos felhalm. és tőkef. | B24: 0 | C24: 0 | F24: =C24-B24 -> 0
A25: Támogatások, kiegészítések és átvett pénzeszközök | B25: ='[1]CSGYK 2019.10.30'!$E$88 -> 50988654 | C25: 24373596 | D25: B16, B63 | F25: =C25-B25 -> -26615058
A26: ebből: önkorm. költségvetési tám. | B26: ='[1]CSGYK 2019.10.30'!$E$89+'[1]CSGYK 2019.10.30'!$E$91 -> 50988654 | C26: 24373596 | F26: =C26-B26 -> -26615058
A27: Felügyeleti szervtől átvett támogatás | B27: ='[1]CSGYK 2019.10.30'!$E$102 -> 2.5530419e+08 | C27: 285738312 | D27: B816 | F27: =C27-B27 -> 30434118
A28: Hitelek, kölcsönök bevételei | B28: 0 | C28: 0 | D28: B8111 | F28: =C28-B28 -> 0
A29: Pénzforgalmi bevételek összesen | B29: =SUM(B28,B27,B25,B22) -> 3.0859285e+08 | C29: =SUM(C28,C27,C25,C22) -> 312411908 | F29: =C29-B29 -> 3819059.8
A30: Maradvány felhasználást | B30: ='[1]CSGYK 2019.10.30'!$E$100 -> 6036652 | C30: ='[1]CSGYK 2019.10.30'!$E$100 -> 6036652 | F30: =C30-B30 -> 0
A31: Kiegyenlítő, átfutó, függő bevételek | B31: nem releváns | C31: nem releváns
A32: Bevételek összesen: | B32: =SUM(B29+B30) -> 3.146295e+08 | C32: =SUM(C29+C30) -> 318448560 | F32: =C32-B32 -> 3819059.8
A34: Irányító szervi támogatás részletezése 2020. év eredeti és módosított | B34: adatok Ft-ban
B35: 2020. év eredeti | C35: 2020.06.30-i módosított állapot | D35: Változás eredetihez képest
A36: Szociális és gyermekjóléti alapszolg., állami támogatás | B36: ='[1]CSGYK 2019.10.30'!$E$108+'[1]CSGYK 2019.10.30'!$E$109 -> 91980000 | C36: 98946000 | D36: =C36-B36 -> 6966000
A37: Gyermekek átmeneti int. Ellátása, állami támogatás
A38: GYÁÓ bértámogatás és intézményüzemeltetési támogatás | B38: ='[1]CSGYK 2019.10.30'!$E$110+'[1]CSGYK 2019.10.30'!$E$111 -> 14180109 | C38: ='[1]CSGYK 2019.10.30'!$E$110+'[1]CSGYK 2019.10.30'!$E$111 -> 14180109 | D38: =C38-B38 -> 0
A39: Intézményi hiány gesztor önkormányzat támogatásával való kifinanszírozása | B39: ='[1]CSGYK 2019.10.30'!$E$114 -> 80418749 | C39: ='[1]CSGYK 2019.10.30'!$E$114-6966000 -> 73452749 | D39: =C39-B39 -> -6966000
A40: Térségi Társulástól érkező támogatás hozzájárulások* | B40: ='[1]CSGYK 2019.10.30'!$E$115 -> 30849678 | C40: ='[1]CSGYK 2019.10.30'!$E$115 -> 30849678 | D40: =C40-B40 -> 0
A41: Óvodai és iskolai szociális segítő tevékenység | B41: ='[1]CSGYK 2019.10.30'!$E$107 -> 37875658 | C41: ='[1]CSGYK 2019.10.30'!$E$107 -> 37875658 | D41: =C41-B41 -> 0
A42: Bérkompenzáció | B42: 0 | C42: 682208 | D42: =C42-B42 -> 682208
A43: Szociális ágazati pótlék | B43: 0 | C43: 25932850 | D43: =C43-B43 -> 25932850
A44: Jubileumi jutalom, felmentési bér | B44: 0 | C44: 3546698 | D44: =C44-B44 -> 3546698
...

Sheet 2D
B1: 2./D SZÁMÚ MELLÉKLET
A3: MOSONMAGYARÓVÁR TÉRSÉGI TÁRSULÁS
A4: 2020. ÉVI KÖLTSÉGVETÉSI HATÁROZAT MÓDOSÍTÁSA
A5: PÉNZFORGALMI MÉRLEG
A6: tárgyévi adatok Ft-ban
A9: Mosonmagyaróvár Térségi Társulás
A10: Megnevezés | B10: eredeti | C10: módosított | D10: Rovatrend
B11: előirányzat 2020 adatok Ft-ban | C11: előirányzat 2020.06.30 adatok Ft-ban | D11: 2019. év
A12: Személyi juttatások | B12: =[1]Társulás!$F$19 -> 980000 | C12: =[1]Társulás!$F$19 -> 980000 | D12: K1 | E12: * | F12: =C12-B12 -> 0
A13: Munkaadót terhelő járulékok | B13: =[1]Társulás!$F$24 -> 275750 | C13: =[1]Társulás!$F$24 -> 275750 | D13: K2 | E13: * | F13: =C13-B13 -> 0
A14: Dologi és egyéb folyó kiadások | B14: =[1]Társulás!$F$38 -> 4143450 | C14: 4573450 | D14: K3 | E14: * | F14: =C14-B14 -> 430000
A15: Egyéb működési kiadások, pénzeszköz átadás | B15: =[2]Társulás!$F$45 -> 8638790 | C15: =[2]Társulás!$F$45 -> 8638790 | D15: K5 | F15: =C15-B15 -> 0
A16: Felügyelet alá tartozó költségvetési szerv. Támogat. | B16: =[1]Társulás!$F$68 -> 7.6466288e+08 | C16: 837524058 | D16: K915 | F16: =C16-B16 -> 72861183
A17: Felhalmozási kiadások | B17: =[1]Társulás!$F$62+[1]Társulás!$F$67 -> 0 | C17: 1 | D17: K61-67, K71-74 | F17: =C17-B17 -> 1
A18: Hitelek és kölcsönök kiadásai | B18: 0 | C18: 0 | D18: K9111 | F18: =C18-B18 -> 0
A19: Pénzforgalmi kiadások | B19: =SUM(B12:B18) -> 7.7870087e+08 | C19: =SUM(C12:C18) -> 851992049 | F19: =C19-B19 -> 73291184
A20: Államháztartási tartalék | B20: =[2]Társulás!$F$46 -> 65913276 | C20: 56686562 | D20: K513 | F20: =C20-B20 -> -9226713.8
A21: Kiegyenlítő, átfutó, függő kiadás | B21: nem releváns | C21: nem releváns
A22: Kiadások összesen: | B22: =SUM(B19+B20) -> 8.4461414e+08 | C22: =SUM(C19+C20) -> 908678611 | F22: =C22-B22 -> 64064470
F23: =C23-B23 -> 0
A24: Intézményi működési bevételek | B24: 0 | C24: 210411 | D24: B4 | F24: =C24-B24 -> 210411
A25: Költségvetési visszatérülések | B25: 0 | C25: 0 | F25: =C25-B25 -> 0
A26: Felhalmozási és tőke jellegű bevételek, felhalmozási célú pénzeszköz átvételek | B26: =[1]Társulás!$F$110 -> 0 | C26: =[1]Társulás!$F$110 -> 0 | D26: B21, B25, B52, B72, B73 | F26: =C26-B26 -> 0
A27: ebből: sajátos felhalm. és tőkef. | B27: 0 | C27: 0 | F27: =C27-B27 -> 0
A28: Támogatások, kiegészítések és átvett pénzeszközök | B28: =[1]Társulás!$F$79+[1]Társulás!$F$91+[1]Társulás!$F$80+[1]Társulás!$F$83 -> 7.9724648e+08 | C28: 861100543 | D28: B16, 816 | F28: =C28-B28 -> 63854059
A29: ebből: önkorm. költségvetési tám. | B29: =[1]Társulás!$F$79 -> 483659197 | C29: 490625167 | F29: =C29-B29 -> 6965970
A30: Felügyeleti szervtől átvett támogatás | B30: 0 | C30: 0 | F30: =C30-B30 -> 0
A31: Hitelek, kölcsönök bevételei | B31: 0 | C31: 0 | D31: B8111 | F31: =C31-B31 -> 0
A32: Pénzforgalmi bevételek összesen | B32: =SUM(B24+B25+B26+B28+B30+B31) -> 7.9724648e+08 | C32: =SUM(C24+C25+C26+C28+C30+C31) -> 861310954 | F32: =C32-B32 -> 64064470
A33: Maradvány felhasználást | B33: =[1]Társulás!$F$99 -> 47367657 | C33: =[1]Társulás!$F$99 -> 47367657 | F33: =C33-B33 -> 0
A34: Kiegyenlítő, átfutó, függő bevételek | B34: nem releváns | C34: nem releváns
A35: Bevételek összesen: | B35: =B32+B33 -> 8.4461414e+08 | C35: =C32+C33 -> 908678611 | F35: =C35-B35 -> 64064470
A37: Mosonmagyaróvár, 2020. szeptember 14.

Sheet 3
G1: 3. SZÁMÚ MELLÉKLET
A2: MOSONMAGYARÓVÁR TÉRSÉGI TÁRSULÁS
A3: 2020. ÉVI KÖLTSÉGVETÉSI HATÁROZAT MÓDOSÍTÁSA
A5: Kiadások és Bevételek működési egyensúlya
A6: 2020. év
A7: adatok Ft-ban
A8: Működési kiadások Ft | B8: Eredeti
A9: Intézmény megnevezése | B9: Személyi juttatások | C9: Járulékok | D9: Dologi kiadások | E9: Ellátottak juttatása | F9: Tartalékképzés | G9: Átadott pénzeszközök működési | H9: Összesen
A10: Kistérségi Egyesített Szociális Intézmény | B10: ='[3]2B'!C12 -> 537090000 | C10: ='[3]2B'!C13 -> 105914760 | D10: ='[3]2B'!C14 -> 270979069 | E10: ='[3]2B'!C15 -> 600000 | F10: 0 | G10: 0 | H10: =SUM(B10:G10) -> 914583829
A11: Család és Gyermekjóléti Központ | B11: ='[3]2C'!C12 -> 230087500 | C11: ='[3]2C'!C13 -> 43990000 | D11: ='[3]2C'!C14 -> 40102000 | E11: ='[3]2C'!C15 -> 450000 | F11: 0 | G11: 0 | H11: =SUM(B11:G11) -> 3.146295e+08
A12: Mosonmagyaróvár Térségi Társulás | B12: ='[3]2D'!C12 -> 980000 | C12: ='[3]2D'!C13 -> 275750 | D12: ='[3]2D'!C14 -> 4143450 | E12: 0 | F12: ='[3]2D'!C20 -> 65913276 | G12: ='[3]2D'!C15 -> 8638790 | H12: =SUM(B12:G12) -> 79951266
A13: Mindösszesen: | B13: =SUM(B10:B12) -> 768157500 | C13: =SUM(C10:C12) -> 1.5018051e+08 | D13: =SUM(D10:D12) -> 315224519 | E13: =SUM(E10:E12) -> 1050000 | F13: =SUM(F10:F12) -> 65913276 | G13: =SUM(G10:G12) -> 8638790 | H13: =SUM(H10:H12) -> 1.3091646e+09
A15: Működési kiadások Ft | B15: Módosított
A16: Intézmény megnevezése | B16: Személyi juttatások | C16: Járulékok | D16: Dologi kiadások | E16: Ellátottak juttatása | F16: Tartalékképzés | G16: Átadott pénzeszközök működési | H16: Összesen
A17: Kistérségi Egyesített Szociális Intézmény | B17: 540120992 | C17: 106646982 | D17: 271101081 | E17: 600000 | F17: 0 | G17: 1302838 | H17: =SUM(B17:G17) -> 919771893
A18: Család és Gyermekjóléti Központ | B18: 233105966 | C18: 44551602 | D18: 40032992 | E18: 450000 | F18: 0 | G18: 0 | H18: =SUM(B18:G18) -> 318140560
A19: Mosonmagyaróvár Térségi Társulás | B19: 980000 | C19: 275750 | D19: 4573450 | E19: 0 | F19: 56686562 | G19: 8638790 | H19: =SUM(B19:G19) -> 71154552
A20: Mindösszesen: | B20: =SUM(B17:B19) -> 774206958 | C20: =SUM(C17:C19) -> 151474334 | D20: =SUM(D17:D19) -> 315707523 | E20: =SUM(E17:E19) -> 1050000 | F20: =SUM(F17:F19) -> 56686562 | G20: =SUM(G17:G19) -> 9941628 | H20: =SUM(H17:H19) -> 1309067005
A23: Működési bevételek Ft | B23: Eredeti
A24: Intézmény megnevezése | B24: Intézmény saját bevételei | C24: Állami támogatás | D24: MÖK támogatás | E24: Egyéb támogatás értékű műk. bevétel | F24: Feladatfinanszírozás | G24: Maradvány felhasználás | H24: Összesen
A25: Kistérségi Egyesített Szociális Intézmény | B25: ='[3]2B'!C22 -> 299400000 | C25: ='[3]2B'!C37+'[3]2B'!C38+'[3]2B'!C39+'[3]2B'!C40+'[3]2B'!C41+'[3]2B'!C42+'[3]2B'!C43+'[3]2B'!C44 -> 339623430 | D25: ='[3]4'!D13 -> 71928146 | E25: ='[3]4'!E13+'[3]4'!H13 -> 1.342253e+08 | F25: ='[3]4'!G13 -> 24879440 | G25: ='[3]2B'!C30-6835855 -> 44527517 | H25: =SUM(B25:G25) -> 9.1458383e+08 | I25: =H10-H25 -> 0.0023201704
A26: Család és Gyermekjóléti Központ | B26: ='[3]2C'!C22 -> 2300000 | C26: ='[3]4'!C14 -> 144035767 | D26: ='[3]4'!D14 -> 80418749 | E26: ='[3]4'!E14+'[3]4'!H14 -> 81838332 | F26: 0 | G26: ='[3]2C'!C30 -> 6036652 | H26: =SUM(B26:G26) -> 3.146295e+08
A27: Mosonmagyaróvár Térségi Társulás | B27: ='[3]2D'!C24 -> 0 | C27: 0 | D27: ='[3]4'!D15 -> 0 | E27: ='[3]4'!H15 -> 32583609 | F27: 0 | G27: ='[3]2D'!C33 -> 47367657 | H27: =SUM(B27:G27) -> 79951266
A28: Mindösszesen: | B28: =SUM(B25:B27) -> 301700000 | C28: =SUM(C25:C27) -> 483659197 | D28: =SUM(D25:D27) -> 1.523469e+08 | E28: =SUM(E25:E27) -> 2.4864724e+08 | F28: =SUM(F25:F27) -> 24879440 | G28: =SUM(G25:G27) -> 97931826 | H28: =SUM(H25:H27) -> 1.3091646e+09
A31: Működési bevételek Ft | B31: Módosított
A32: Intézmény megnevezése | B32: Intézmény saját bevételei | C32: Állami támogatás | D32: MÖK támogatás | E32: Egyéb támogatás értékű műk. bevétel | F32: Feladatfinanszírozás | G32: Maradvány felhasználás | H32: Összesen
A33: Kistérségi Egyesített Szociális Intézmény | B33: 299400000 | C33: =C25 -> 339623430 | D33: =D25 -> 71928146 | E33: 139413360 | F33: =F25 -> 24879440 | G33: =G25 -> 44527517 | H33: =SUM(B33:G33) -> 919771893
A34: Család és Gyermekjóléti Központ | B34: 2300000 | C34: =C26+6966000 -> 151001767 | D34: =D26-6966000 -> 73452749 | E34: 85657392 | F34: 0 | G34: =G26-308000 -> 5728652 | H34: =SUM(B34:G34) -> 3.1814056e+08
A35: Mosonmagyaróvár Térségi Társulás | B35: 210411 | C35: 0 | D35: ='[3]4'!D24 -> 0 | E35: 23576485 | F35: 0 | G35: 47367656 | H35: =SUM(B35:G35) -> 71154552
A36: Mindösszesen: | B36: =SUM(B33:B35) -> 301910411 | C36: =SUM(C33:C35) -> 490625197 | D36: =SUM(D33:D35) -> 1.453809e+08 | E36: =SUM(E33:E35) -> 248647237 | F36: =SUM(F33:F35) -> 24879440 | G36: =SUM(G33:G35) -> 97623825 | H36: =SUM(H33:H35) -> 1.309067e+09
A39: Felhalmozási kiadások Ft | E39: Felhalmozási bevételek Ft
A40: Intézmény megnevezése | B40: Felhalmozási kiadások eredeti | C40: Felhalmozási kiadások/módosított | E40: Intézmény megnevezése | F40: Maradvány felhasználás/ Társulási forrásból/ eredeti | G40: Maradvány felhasználás/Társulási forrásból/ módosított
A41: Kistérségi Egyesített Szociális Intézmény | B41: ='[3]2B'!C16 -> 6835855 | C41: 6835855 | E41: Kistérségi Egyesített Szociális Intézmény | F41: ='[3]2B'!C30-'[3]5'!G19 -> 6835855 | G41: 6835855
A42: Család és Gyermekjóléti Központ | B42: ='[3]2C'!C16 -> 0 | C42: 308000 | E42: Család és Gyermekjóléti Központ | F42: 0 | G42: 308000
A43: Mosonmagyaróvár Térségi Társulás | B43: ='[3]2D'!C17 -> 0 | C43: 1 | E43: Mosonmagyaróvár Térségi Társulás (maradványfelhasználás, pályázati tartalék támogatások) | F43: ='[3]2D'!C33-'[3]5'!G21+'[3]4'!F15 -> 0 | G43: 1
A44: Mindösszesen: | B44: =SUM(B41:B43) -> 6835855 | C44: =SUM(C41:C43) -> 7143856 | E44: Mindösszesen: | F44: =SUM(F41:F43) -> 6835855 | G44: =SUM(G41:G43) -> 7143856
A49: Mosonmagyaróvár, 2020. január 31.
