Workbook

Sheet címrend
B1: 1. MELLÉKLET
A6: A Mosonmagyaróvár Térségi Társulás és irányítása alá tartozó költségvetési szervek
A7: 2019. évi költségvetés végrehajtásáról szóló
A8: …/2020. (….) TT határozat
A10: CÍMRENDJÉT
A11: az alábbiak szerint állapítja meg:
A16: Címszám | B16: Megnevezés
A17: 1. | B17: Mosonmagyaróvár Térségi Társulás
A18: 2. | B18: Kistérségi Egyesített Szociális Intézmény
A19: 3. | B19: Család és Gyermekjóléti Központ

Sheet összevont ktgvetési mérleg
B1: 2./A MELLÉKLET
A3: MOSONMAGYARÓVÁR TÉRSÉGI TÁRSULÁS
A4: 2019. ÉVI KÖLTSÉGVETÉS VÉGREHAJTÁSA
A5: PÉNZFORGALMI MÉRLEG
A6: adatok Ft-ban
A8: Mosonmagyaróvár Térségi Társulás | C8: kötelező | D8: önként | F8: kötelező | G8: önként | I8: kötelező | J8: önként | L8: kötelező | M8: önként | O8: kötelező | P8: önként
A9: Megnevezés | B9: eredeti | C9: eredeti | D9: eredeti | E9: módosított | F9: módosított | G9: módosított | H9: módosított | I9: módosított | J9: módosított | K9: módosított | L9: módosított | M9: módosított | N9: teljesítés | O9: teljesítés | P9: teljesítés
B10: előirányzat 2019. | C10: előirányzat 2019. | D10: előirányzat 2019. | E10: előirányzat 2019.07.31 | F10: előirányzat 2019.07.31 | G10: előirányzat 2019.07.31 | H10: előirányzat 2019.09.30 | I10: előirányzat 2019.09.30 | J10: előirányzat 2019.09.30 | K10: előirányzat 2019.12.31 | L10: előirányzat 2019.12.31 | M10: előirányzat 2019.12.31 | N10: 43830 | O10: 43830 | P10: 43830
A11: Személyi juttatások | B11: =' KESZI ktgvetési mérleg'!B12+'CSGYK ktgvetési mérleg'!B12+'Társulás ktgvetési mérleg'!B12 -> 700982110 | C11: =SUM(B11-D11) -> 699500222 | D11: ='Társulás ktgvetési mérleg'!B12 -> 1481888 | E11: =' KESZI ktgvetési mérleg'!C12+'CSGYK ktgvetési mérleg'!C12+'Társulás ktgvetési mérleg'!C12 -> 703675614 | F11: =E11-G11 -> 702193726 | G11: ='Társulás ktgvetési mérleg'!C12 -> 1481888 | H11: =' KESZI ktgvetési mérleg'!D12+'CSGYK ktgvetési mérleg'!D12+'Társulás ktgvetési mérleg'!D12 -> 676163171 | I11: =H11-J11 -> 674681283 | J11: 1481888 | K11: =' KESZI ktgvetési mérleg'!E12+'CSGYK ktgvetési mérleg'!E12+'Társulás ktgvetési mérleg'!E12 -> 667520830 | L11: =K11-M11 -> 666038942 | M11: 1481888 | N11: =' KESZI ktgvetési mérleg'!F12+'CSGYK ktgvetési mérleg'!F12+'Társulás ktgvetési mérleg'!F12 -> 623692239 | O11: =N11-P11 -> 622766603 | P11: ='Társulás ktgvetési mérleg'!F12 -> 925636
A12: Munkaadót terhelő járulékok | B12: =' KESZI ktgvetési mérleg'!B13+'CSGYK ktgvetési mérleg'!B13+'Társulás ktgvetési mérleg'!B13 -> 151176190 | C12: =SUM(B12-D12) -> 150736000 | D12: ='Társulás ktgvetési mérleg'!B13 -> 440190 | E12: =' KESZI ktgvetési mérleg'!C13+'CSGYK ktgvetési mérleg'!C13+'Társulás ktgvetési mérleg'!C13 -> 151701423 | F12: =E12-G12 -> 151261233 | G12: ='Társulás ktgvetési mérleg'!C13 -> 440190 | H12: =' KESZI ktgvetési mérleg'!D13+'CSGYK ktgvetési mérleg'!D13+'Társulás ktgvetési mérleg'!D13 -> 145208548 | I12: =H12-J12 -> 144768358 | J12: 440190 | K12: =' KESZI ktgvetési mérleg'!E13+'CSGYK ktgvetési mérleg'!E13+'Társulás ktgvetési mérleg'!E13 -> 144382290 | L12: =K12-M12 -> 143942100 | M12: 440190 | N12: =' KESZI ktgvetési mérleg'!F13+'CSGYK ktgvetési mérleg'!F13+'Társulás ktgvetési mérleg'!F13 -> 119694565 | O12: =N12-P12 -> 119437937 | P12: ='Társulás ktgvetési mérleg'!F13 -> 256628
A13: Dologi és egyéb folyó kiadások | B13: =' KESZI ktgvetési mérleg'!B14+'CSGYK ktgvetési mérleg'!B14+'Társulás ktgvetési mérleg'!B14 -> 266437133 | C13: =SUM(B13-D13) -> 261857755 | D13: ='Társulás ktgvetési mérleg'!B14 -> 4579378 | E13: =' KESZI ktgvetési mérleg'!C14+'CSGYK ktgvetési mérleg'!C14+'Társulás ktgvetési mérleg'!C14 -> 310475063 | F13: =E13-G13 -> 258052085 | G13: ='Társulás ktgvetési mérleg'!C14 -> 52422978 | H13: =' KESZI ktgvetési mérleg'!D14+'CSGYK ktgvetési mérleg'!D14+'Társulás ktgvetési mérleg'!D14 -> 348047074 | I13: =H13-J13 -> 295624096 | J13: 52422978 | K13: =' KESZI ktgvetési mérleg'!E14+'CSGYK ktgvetési mérleg'!E14+'Társulás ktgvetési mérleg'!E14 -> 357918386 | L13: =K13-M13 -> 303491584 | M13: 54426802 | N13: =' KESZI ktgvetési mérleg'!F14+'CSGYK ktgvetési mérleg'!F14+'Társulás ktgvetési mérleg'!F14 -> 333287811 | O13: =N13-P13 -> 279456060 | P13: ='Társulás ktgvetési mérleg'!F14 -> 53831751
A14: Ellátottak pénzbeli juttatásai | B14: =' KESZI ktgvetési mérleg'!B15+'CSGYK ktgvetési mérleg'!B15 -> 1050000 | C14: =' KESZI ktgvetési mérleg'!C15+'CSGYK ktgvetési mérleg'!C15 -> 1050000 | D14: 0 | E14: =' KESZI ktgvetési mérleg'!C15+'CSGYK ktgvetési mérleg'!C15 -> 1050000 | F14: =E14-G14 -> 1050000 | G14: 0 | H14: =' KESZI ktgvetési mérleg'!D15+'CSGYK ktgvetési mérleg'!D15 -> 1050000 | I14: =H14-J14 -> 1050000 | J14: 0 | K14: =' KESZI ktgvetési mérleg'!E15+'CSGYK ktgvetési mérleg'!E15 -> 1173100 | L14: =K14-M14 -> 1173100 | M14: 0 | N14: =' KESZI ktgvetési mérleg'!F15+'CSGYK ktgvetési mérleg'!F15 -> 1086550 | O14: =N14-P14 -> 1086550 | P14: 0
A15: Pénzeszköz átadás, támogatás | B15: 6340000 | C15: 0 | D15: 6340000 | E15: ='Társulás ktgvetési mérleg'!C15 -> 14219821 | F15: =E15-G15 -> 0 | G15: ='Társulás ktgvetési mérleg'!C15 -> 14219821 | H15: ='Társulás ktgvetési mérleg'!D15 -> 14219821 | I15: =H15-J15 -> 0 | J15: 14219821 | K15: ='Társulás ktgvetési mérleg'!E15 -> 14219821 | L15: =K15-M15 -> 0 | M15: 14219821 | N15: ='Társulás ktgvetési mérleg'!F15 -> 12329821 | O15: =N15-P15 -> 0 | P15: ='Társulás ktgvetési mérleg'!F15 -> 12329821
A16: Elvonások és befizetések | B16: 0 | E16: =' KESZI ktgvetési mérleg'!C16+'CSGYK ktgvetési mérleg'!C16 -> 0 | F16: =E16-G16 -> 0 | G16: 0 | H16: =' KESZI ktgvetési mérleg'!#REF!+'CSGYK ktgvetési mérleg'!H16 -> #REF! | I16: =H16-J16 -> #REF! | J16: 0 | K16: 0 | L16: =K16-M16 -> 0 | M16: 0 | N16: 0 | O16: =N16-P16 -> 0 | P16: 0
A17: Felhalmozási célú pénzeszköz átadás | B17: 0 | C17: 0 | D17: 0 | E17: 0 | F17: 0 | G17: 0 | H17: 0 | I17: 0 | J17: 0 | K17: 0 | L17: 0 | M17: 0 | N17: 0 | O17: 0 | P17: 0
A18: Felhalmozási kiadások | B18: =' KESZI ktgvetési mérleg'!B17+'CSGYK ktgvetési mérleg'!B17+'Társulás ktgvetési mérleg'!B18 -> 280992577 | C18: =' KESZI ktgvetési mérleg'!B17+'CSGYK ktgvetési mérleg'!B17 -> 18787858 | D18: ='Társulás ktgvetési mérleg'!B18 -> 262204719 | E18: =' KESZI ktgvetési mérleg'!C17+'CSGYK ktgvetési mérleg'!C17+'Társulás ktgvetési mérleg'!C18 -> 245079829 | F18: =E18-G18 -> 30418110 | G18: ='Társulás ktgvetési mérleg'!C18 -> 214661719 | H18: =' KESZI ktgvetési mérleg'!D17+'CSGYK ktgvetési mérleg'!D17+'Társulás ktgvetési mérleg'!D18 -> 254382724 | I18: =H18-J18 -> 40887896 | J18: ='Társulás ktgvetési mérleg'!D18 -> 213494828 | K18: =' KESZI ktgvetési mérleg'!E17+'CSGYK ktgvetési mérleg'!E17+'Társulás ktgvetési mérleg'!E18 -> 266823154 | L18: =K18-M18 -> 53328326 | M18: 213494828 | N18: =' KESZI ktgvetési mérleg'!F17+'CSGYK ktgvetési mérleg'!F17+'Társulás ktgvetési mérleg'!F18 -> 252212855 | O18: =N18-P18 -> 43641346 | P18: ='Társulás ktgvetési mérleg'!F18 -> 208571509
A19: Hitelek és kölcsönök kiadásai | B19: 0 | C19: =SUM(B19-D19) -> 0 | D19: 0 | E19: 0 | F19: =E19-G19 -> 0 | G19: 0 | H19: 0 | I19: =H19-J19 -> 0 | J19: 0 | K19: 0 | L19: =K19-M19 -> 0 | M19: 0 | N19: 0 | O19: =N19-P19 -> 0 | P19: 0
A20: Egyéb működési célú kiadások | B20: 0 | C20: 0 | D20: 0 | E20: =' KESZI ktgvetési mérleg'!C19+'CSGYK ktgvetési mérleg'!C18 -> 7879821 | F20: 7879821 | G20: 0 | H20: =' KESZI ktgvetési mérleg'!D19+'CSGYK ktgvetési mérleg'!D18 -> 7879821 | I20: 7879821 | J20: 0 | K20: =' KESZI ktgvetési mérleg'!E19+'CSGYK ktgvetési mérleg'!E18 -> 7879821 | L20: 7879821 | M20: 0 | N20: =' KESZI ktgvetési mérleg'!F19+'CSGYK ktgvetési mérleg'!F18 -> 7879821 | O20: =N20-P20 -> 7879821 | P20: 0
A21: Pénzforgalmi kiadások | B21: =SUM(B11:B20) -> 1406978010 | C21: =SUM(C11:C19) -> 1131931835 | D21: =SUM(D11:D19) -> 275046175 | E21: =SUM(E11:E20) -> 1434081571 | F21: =SUM(F11:F20) -> 1150854975 | G21: =SUM(G11:G20) -> 283226596 | H21: =SUM(H11:H20) -> #REF! | I21: =SUM(I11:I20) -> #REF! | J21: =SUM(J11:J20) -> 282059705 | K21: =SUM(K11:K20) -> 1459917402 | L21: =SUM(L11:L20) -> 1175853873 | ... P21: =SUM(P11:P20) -> 275915345
A22: Államháztartási tartalék | B22: 28322857 | C22: 23683115 | D22: 2455742 | E22: ='Társulás ktgvetési mérleg'!C21 -> 16978938 | F22: 12349877 | G22: 4629061 | H22: ='Társulás ktgvetési mérleg'!D21 -> 14556704 | I22: =12349877-458250-1365000-238875 -> 10287752 | J22: =4629061-360109 -> 4268952 | K22: ='Társulás ktgvetési mérleg'!E21 -> 3599252 | L22: 0 | M22: 3599252 | N22: ='Társulás ktgvetési mérleg'!I21 -> 0 | O22: 0 | P22: 0
A23: Kiadások összesen: | B23: =B21+B22 -> 1435300867 | C23: =SUM(B23-D23) -> 1157798950 | D23: =SUM(D21+D22) -> 277501917 | E23: =SUM(E21:E22) -> 1451060509 | F23: =SUM(F21:F22) -> 1163204852 | G23: =SUM(G21:G22) -> 287855657 | H23: =SUM(H21:H22) -> #REF! | I23: =SUM(I21:I22) -> #REF! | J23: =SUM(J21:J22) -> 286328657 | K23: =SUM(K21:K22) -> 1463516654 | L23: =SUM(L21:L22) -> 1175853873 | ... P23: =SUM(P21:P22) -> 275915345
A25: Intézményi működési bevételek | B25: =' KESZI ktgvetési mérleg'!B24+'CSGYK ktgvetési mérleg'!B22+'Társulás ktgvetési mérleg'!B24 -> 293900000 | C25: =' KESZI ktgvetési mérleg'!B24+'CSGYK ktgvetési mérleg'!B22 -> 293900000 | D25: ='Társulás ktgvetési mérleg'!B24 -> 0 | E25: ='CSGYK ktgvetési mérleg'!C22+'Társulás ktgvetési mérleg'!C24+' KESZI ktgvetési mérleg'!C24 -> 293900000 | F25: 293900000 | G25: ='Társulás ktgvetési mérleg'!C24 -> 0 | H25: =' KESZI ktgvetési mérleg'!D24+'CSGYK ktgvetési mérleg'!D22+'Társulás ktgvetési mérleg'!D24 -> 294352847 | I25: 293900000 | J25: ='Társulás ktgvetési mérleg'!D24 -> 452847 | K25: =' KESZI ktgvetési mérleg'!E24+'CSGYK ktgvetési mérleg'!E22+'Társulás ktgvetési mérleg'!E24 -> 294376824 | L25: 293900000 | M25: 476824 | N25: =' KESZI ktgvetési mérleg'!F24+'CSGYK ktgvetési mérleg'!F22+'Társulás ktgvetési mérleg'!F24 -> 302267790 | O25: =N25-P25 -> 292399839 | P25: ='Társulás ktgvetési mérleg'!F24 -> 9867951
A26: Működési célú átvett pénzeszközök | B26: 0 | C26: 0 | D26: 0 | E26: 0 | F26: 0 | G26: 0 | H26: 0 | I26: 0 | J26: 0 | K26: =' KESZI ktgvetési mérleg'!E25+'CSGYK ktgvetési mérleg'!E23 -> 2652130 | L26: 2652130 | M26: 0 | N26: =' KESZI ktgvetési mérleg'!F25+'CSGYK ktgvetési mérleg'!F23+1434000 -> 4453130 | O26: =N26-P26 -> 3019130 | P26: 1434000
A27: Költségvetési visszatérülések | B27: =' KESZI ktgvetési mérleg'!B26+'CSGYK ktgvetési mérleg'!B24+'Társulás ktgvetési mérleg'!B25 -> 0 | C27: =B27-D27 -> 0 | D27: 0 | E27: ='Társulás ktgvetési mérleg'!C25 -> 0 | F27: =E27-G27 -> 0 | G27: ='CSGYK ktgvetési mérleg'!C24 -> 0 | H27: ='Társulás ktgvetési mérleg'!#REF! -> #REF! | I27: =H27-J27 -> #REF! | J27: ='CSGYK ktgvetési mérleg'!H24 -> 0 | K27: ='Társulás ktgvetési mérleg'!J25 -> 0 | L27: =K27-M27 -> 0 | M27: ='CSGYK ktgvetési mérleg'!K24 -> 0 | N27: ='Társulás ktgvetési mérleg'!M25 -> 0 | O27: =N27-P27 -> 0 | P27: ='CSGYK ktgvetési mérleg'!N24 -> 0
A28: Felhalmozási és tőke jellegű bevételek | B28: ='Társulás ktgvetési mérleg'!B26 -> 30795820 | C28: 0 | D28: ='Társulás ktgvetési mérleg'!B26 -> 30795820 | E28: =' KESZI ktgvetési mérleg'!C26+'CSGYK ktgvetési mérleg'!C24+'Társulás ktgvetési mérleg'!C26 -> 30795820 | F28: 0 | G28: 30795820 | H28: =' KESZI ktgvetési mérleg'!D26+'CSGYK ktgvetési mérleg'!D24+'Társulás ktgvetési mérleg'!D26 -> 30795820 | I28: 0 | J28: 30795820 | K28: =' KESZI ktgvetési mérleg'!E26+'CSGYK ktgvetési mérleg'!E24+'Társulás ktgvetési mérleg'!E26 -> 30795820 | L28: 0 | M28: 30795820 | N28: =' KESZI ktgvetési mérleg'!F26+'CSGYK ktgvetési mérleg'!F24+'Társulás ktgvetési mérleg'!F26 -> 28229276 | O28: =N28-P28 -> 0 | P28: ='Társulás ktgvetési mérleg'!F26 -> 28229276
A29: ebből: sajátos felhalm. és tőkef. | B29: 0 | C29: =B29-D29 -> 0 | D29: 0 | E29: 0 | F29: =E29-G29 -> 0 | G29: 0 | H29: 0 | I29: =H29-J29 -> 0 | J29: 0 | K29: 0 | L29: =K29-M29 -> 0 | M29: 0 | N29: 0 | O29: =N29-P29 -> 0 | P29: 0
A30: Támogatások, kiegészítések és átvett pénzeszközök | B30: ='CSGYK ktgvetési mérleg'!B26+'Társulás ktgvetési mérleg'!B28+' KESZI ktgvetési mérleg'!B28 -> 796617717 | C30: 756979877 | D30: 39637840 | E30: =' KESZI ktgvetési mérleg'!C28+'CSGYK ktgvetési mérleg'!C26+'Társulás ktgvetési mérleg'!C28 -> 794258088 | F30: =E30-G30 -> 754620248 | G30: 39637840 | H30: =' KESZI ktgvetési mérleg'!D28+'CSGYK ktgvetési mérleg'!D26+'Társulás ktgvetési mérleg'!D28 -> 804252595 | I30: =H30-J30 -> 764614755 | J30: 39637840 | K30: =' KESZI ktgvetési mérleg'!E28+'CSGYK ktgvetési mérleg'!E26+'Társulás ktgvetési mérleg'!E28 -> 803585279 | L30: =K30-M30 -> 763947439 | M30: 39637840 | N30: =' KESZI ktgvetési mérleg'!F28+'CSGYK ktgvetési mérleg'!F26+'Társulás ktgvetési mérleg'!F28-1434000 -> 787894546 | O30: =N30-P30 -> 751483604 | P30: 36410942
A31: ebből: önkorm. költségvetési tám. | B31: 413936235 | C31: 413936235 | D31: 0 | E31: 420638487 | F31: =E31-G31 -> 420638487 | G31: 0 | H31: =420638487+5032950 -> 425671437 | I31: =H31-J31 -> 425671437 | J31: 0 | K31: 495898067 | L31: 495898067 | M31: 0 | N31: ='Társulás ktgvetési mérleg'!F29 -> 619749763 | O31: ='Társulás ktgvetési mérleg'!F29 -> 619749763 | P31: 0
A32: Hitelek, kölcsönök bevételei | B32: =' KESZI ktgvetési mérleg'!B31+'CSGYK ktgvetési mérleg'!B29+'Társulás ktgvetési mérleg'!B30 -> 0 | C32: =B32-D32 -> 0 | D32: 0 | E32: 0 | F32: =E32-G32 -> 0 | G32: ='CSGYK ktgvetési mérleg'!C29 -> 0 | H32: 0 | I32: =H32-J32 -> 0 | J32: ='CSGYK ktgvetési mérleg'!H29 -> 0 | K32: 0 | L32: =K32-M32 -> 0 | M32: ='CSGYK ktgvetési mérleg'!K29 -> 0 | N32: 0 | O32: =N32-P32 -> 0 | P32: ='CSGYK ktgvetési mérleg'!N29 -> 0
A33: Pénzforgalmi bevételek összesen | B33: =B30+B25+B28 -> 1121313537 | C33: =SUM(C25:C30) -> 1050879877 | D33: =SUM(D25:D32) -> 70433660 | E33: =E30+E25+E28 -> 1118953908 | F33: =F30+F25+F28 -> 1048520248 | G33: =G30+G25+G28 -> 70433660 | H33: =H30+H25+H28 -> 1129401262 | I33: =I30+I25+I28 -> 1058514755 | J33: =J30+J25+J28 -> 70886507 | K33: =K30+K25+K28+K26 -> 1131410053 | L33: =L30+L25+L28+L26 -> 1060499569 | M33: =M30+M25+M28+M26 -> 70910484 | N33: =N30+N25+N28+N26 -> 1122844742 | O33: =O30+O25+O28+O26 -> 1046902573 | P33: =P30+P25+P28+P26 -> 75942169
A34: Maradvány felhasználás | B34: =' KESZI ktgvetési mérleg'!B33+'CSGYK ktgvetési mérleg'!B31+'Társulás ktgvetési mérleg'!B33 -> 313987330 | C34: 104735073 | D34: 209252257 | E34: =' KESZI ktgvetési mérleg'!C33+'CSGYK ktgvetési mérleg'!C31+'Társulás ktgvetési mérleg'!C33 -> 332106601 | F34: 114684604 | G34: 217421997 | H34: =' KESZI ktgvetési mérleg'!D33+'CSGYK ktgvetési mérleg'!D31+'Társulás ktgvetési mérleg'!D33 -> 332106601 | I34: =114684604+1979847 -> 116664451 | J34: =217421997-1979847 -> 215442150 | K34: =' KESZI ktgvetési mérleg'!E33+'CSGYK ktgvetési mérleg'!E31+'Társulás ktgvetési mérleg'!E33 -> 332106601 | L34: 115354304 | M34: =K34-L34 -> 216752297 | N34: =' KESZI ktgvetési mérleg'!F33+'CSGYK ktgvetési mérleg'!F31+'Társulás ktgvetési mérleg'!F33 -> 332106601 | O34: =N34-P34 -> 84765768 | P34: ='Társulás ktgvetési mérleg'!F33 -> 247340833
A35: Bevételek összesen: | B35: =B33+B34 -> 1435300867 | C35: =SUM(C33:C34) -> 1155614950 | D35: =SUM(D33:D34) -> 279685917 | E35: =SUM(E33:E34) -> 1451060509 | F35: =SUM(F33:F34) -> 1163204852 | G35: =SUM(G33:G34) -> 287855657 | H35: =SUM(H33:H34) -> 1461507863 | I35: =SUM(I33:I34) -> 1175179206 | J35: =SUM(J33:J34) -> 286328657 | ... P35: =SUM(P33:P34) -> 323283002
A38: Mosonmagyaróvár, 2020. április

Sheet  KESZI ktgvetési mérleg
B1: 2./B MELLÉKLET
A3: MOSONMAGYARÓVÁR TÉRSÉGI TÁRSULÁS
A4: 2019. ÉVI KÖLTSÉGVETÉS VÉGREHAJTÁSA KISTÉRSÉGI EGYESÍTETT SZOCIÁLIS INTÉZMÉNY
A5: PÉNZFORGALMI MÉRLEG
A6: adatok Ft-ban
B8: kötelező feladat | C8: kötelező feladat
A9: KISTÉRSÉGI EGYESÍTETT SZOCIÁLIS INTÉZET
A10: Megnevezés | B10: eredeti | C10: módosított | D10: módosított | E10: módosított | F10: teljesítés | G10: teljesítés
B11: előirányzat 2019. | C11: előirányzat 2019.07.31 | D11: előirányzat 2019.09.30 | E11: előirányzat 2019.12.31 | F11: 43830 | G11: aránya módosított ei. képest %
A12: Személyi juttatások | B12: 487151222 | C12: 489844726 | D12: 472442283 | E12: 474524087 | F12: 442578200 | G12: =F12/E12 -> 0.93267805
A13: Munkaadót terhelő járulékok | B13: 106059000 | C13: 106584233 | D13: 100023108 | E13: 98973575 | F13: 84147341 | G13: =F13/E13 -> 0.85020008
A14: Dologi és egyéb folyó kiadások | B14: 225887162 | C14: 222087162 | D14: 247614326 | E14: 257461661 | F14: 249266645 | G14: =F14/E14 -> 0.96816996
A15: Ellátottak pénzbeli juttatásai | B15: 600000 | C15: 600000 | D15: 600000 | E15: 723100 | F15: 723020 | G15: =F15/E15 -> 0.99988937
A16: Elvonások és befizetések | B16: 0 | C16: 0 | D16: 0 | E16: 0
A17: Felhalmozási kiadások | B17: =6664701+5344011 -> 12008712 | C17: =10464701+13168593 -> 23633294 | D17: =18353701+13844379 -> 32198080 | E17: =18353701+13844379 -> 32198080 | F17: =14834020+12723524 -> 27557544 | G17: =F17/E17 -> 0.85587538
A18: Hitelek és kölcsönök kiadásai | B18: 0 | C18: 0 | D18: 0 | E18: 0
A19: Egyéb működési célú kiadások | B19: 0 | C19: 7693079 | D19: 7693079 | E19: 7693079 | F19: 7693079 | G19: =F19/E19 -> 1
A20: Pénzforgalmi kiadások | B20: =SUM(B12:B19) -> 831706096 | C20: =SUM(C12:C19) -> 850442494 | D20: =SUM(D12:D19) -> 860570876 | E20: =SUM(E12:E19) -> 871573582 | F20: =SUM(F12:F19) -> 811965829 | G20: =F20/E20 -> 0.93160904
A21: Kiegyenlítő, átfutó, függő kiadás | B21: nem releváns | G21: =F21/E21 -> #DIV/0!
A22: Kiadások összesen: | B22: =SUM(B20) -> 831706096 | C22: =SUM(C20) -> 850442494 | D22: =SUM(D20) -> 860570876 | E22: =SUM(E20) -> 871573582 | F22: =SUM(F20) -> 811965829 | G22: =F22/E22 -> 0.93160904
A24: Intézményi működési bevételek | B24: 291600000 | C24: 291600000 | D24: 291600000 | E24: 291600000 | F24: 289209595 | G24: =F24/E24 -> 0.99180245
A25: Működési célú átvett pénzeszközök | B25: 0 | C25: 0 | D25: 0 | E25: 2011700 | F25: 2378700 | G25: =F25/E25 -> 1.1824328
A26: Felhalmozási és tőke jellegű bevételek | B26: 0 | C26: 0 | D26: 0 | E26: 0
A27: ebből: sajátos felhalm. és tőkef. | B27: 0 | C27: 0 | D27: 0 | E27: 0
A28: Támogatások, kiegészítések és átvett pénzeszközök | B28: 63799180 | C28: 30216150 | D28: =22618929+2011700 -> 24630629 | E28: 10409769 | F28: 4188793 | G28: =F28/E28 -> 0.40239058
A29: ebből: önkorm. költségvetési tám. | B29: 0 | C29: 0 | D29: 0 | E29: 0
A30: Irányító szervtől kapott támogatás | B30: 412288833 | C30: 446930060 | D30: 462643963 | E30: 485855829 | F30: 485855829 | G30: =F30/E30 -> 1
A31: Hitelek, kölcsönök bevételei | B31: 0 | C31: 0 | D31: 0 | E31: 0
A32: Pénzforgalmi bevételek összesen | B32: =SUM(B31+B30+B28+B26+B24) -> 767688013 | C32: =SUM(C31+C30+C28+C26+C24) -> 768746210 | D32: =SUM(D31+D30+D28+D26+D24) -> 778874592 | E32: =SUM(E31+E30+E28+E26+E24+E25) -> 789877298 | F32: =SUM(F31+F30+F28+F26+F24+F25) -> 781632917 | G32: =F32/E32 -> 0.98956245
A33: Maradvány felhasználás | B33: 64018083 | C33: 81696284 | D33: 81696284 | E33: 81696284 | F33: 81696284 | G33: =F33/E33 -> 1
A34: Kiegyenlítő, átfutó, függő bevételek | B34: nem releváns | G34: =F34/E34 -> #DIV/0!
A35: Bevételek összesen: | B35: =B32+B33 -> 831706096 | C35: =C32+C33 -> 850442494 | D35: =D32+D33 -> 860570876 | E35: =E32+E33 -> 871573582 | F35: =F32+F33 -> 863329201 | G35: =F35/E35 -> 0.99054081
B38: adatok Ft-ban
A39: Irányító szervi támogatás részletezése 2019. év Ft-ban | B39: 2019. évi eredeti előirányzat | C39: 2019.07.31-i állapot szerint | D39: 2019.09.30-i állapot szerint | E39: 2019.12.31-i módosított előirányzat | F39: 2019.12.31 teljesítés
A40: Szociális étkeztetés | B40: 25880800 | C40: =B40+730752 -> 26611552 | D40: 26611552 | E40: =állami!G11 -> 31408344 | F40: =E40 -> 31408344
A41: Házi segítségnyújtás | B41: 63921000 | C41: =B41-4719000 -> 59202000 | D41: 59202000 | E41: =állami!F12 -> 56199000 | F41: =E41 -> 56199000
A42: Időskorúak nappali int. Ellátása | B42: 8992500 | C42: =B42-1144500+6683000 -> 14531000 | D42: 14531000 | E42: =állami!F13 -> 14204000 | F42: =E42 -> 14204000
A43: Fogyatékos és demens személyek ell. | B43: =9350000+2200000+9900000 -> 21450000 | C43: =B43+1100000+220000+6050000+8108000 -> 36928000 | D43: 36928000 | E43: =állami!F14 -> 36708000 | F43: =E43 -> 36708000
A44: Hajléktalanok nappali ellátása | B44: 8903520 | C44: =B44+1426000 -> 10329520 | D44: 10329520 | E44: =8903520+1426000 -> 10329520 | F44: =E44 -> 10329520
A45: Hajléktalanok átmeneti ellátása | B45: 19404000 | C45: =B45+1617000+3142000 -> 24163000 | D45: =24163000+5032950 -> 29195950 | E45: =állami!F16 -> 24163000 | F45: =E45 -> 24163000
...

Sheet CSGYK ktgvetési mérleg
B1: 2./C MELLÉKLET
A3: MOSONMAGYARÓVÁR TÉRSÉGI TÁRSULÁS
A4: 2019. ÉVI KÖLTSÉGVETÉS VÉGREHAJTÁSA CSALÁD ÉS GYERMEKJÓLÉTI KÖZPONT
A5: PÉNZFORGALMI MÉRLEG
A6: adatok Ft-ban
C8: kötelező feladat
A9: Család- és Gyermekjóléti Központ
A10: Megnevezés | B10: eredeti | C10: módosított | D10: módosított | E10: módosított | F10: teljesítés | G10: teljesítés aránya módosított ei. képest %
B11: előirányzat 2019. | C11: előirányzat 2019.07.31 | D11: előirányzat 2019.09.30 | E11: előirányzat 2019.12.31 | F11: 43830
A12: Személyi juttatások | B12: 212349000 | C12: 212349000 | D12: 202239000 | E12: 191514855 | F12: 180188403 | G12: =F12/E12 -> 0.94085862
A13: Munkaadót terhelő járulékok | B13: 44677000 | C13: 44677000 | D13: 44745250 | E13: 44968525 | F13: 35290596 | G13: =F13/E13 -> 0.78478438
A14: Dologi és egyéb folyó kiadások | B14: 35970593 | C14: 35964923 | D14: 46029923 | E14: 46029923 | F14: 30189415 | G14: =F14/E14 -> 0.65586499
A15: Ellátottak pénzbeli juttatásai | B15: 450000 | C15: 450000 | D15: 450000 | E15: 450000 | F15: 363530 | G15: =F15/E15 -> 0.80784444
A16: Elvonások és befizetések | B16: 0 | C16: 0 | D16: 0 | E16: 0
A17: Felhalmozási kiadások | B17: =1065911+5713235 -> 6779146 | C17: =1071580+5713236 -> 6784816 | D17: =2976580+5713236 -> 8689816 | E17: =11607010+9523236 -> 21130246 | F17: =9282566+6801236 -> 16083802 | G17: =F17/E17 -> 0.76117438
A18: Egyéb működési célú kiadások | C18: 186742 | D18: 186742 | E18: 186742 | F18: 186742 | G18: =F18/E18 -> 1
A19: Pénzforgalmi kiadások | B19: =SUM(B12:B17) -> 300225739 | C19: =SUM(C12:C18) -> 300412481 | D19: =SUM(D12:D18) -> 302340731 | E19: =SUM(E12:E18) -> 304280291 | F19: =SUM(F12:F18) -> 262302488 | G19: =F19/E19 -> 0.86204232
A20: Kiadások összesen: | B20: =B19 -> 300225739 | C20: =C19 -> 300412481 | D20: =D19 -> 302340731 | E20: =E19 -> 304280291 | F20: =F19 -> 262302488 | G20: =F20/E20 -> 0.86204232
A22: Intézményi működési bevételek | B22: 2300000 | C22: 2300000 | D22: 2300000 | E22: 2300000 | F22: 3190244 | G22: =F22/E22 -> 1.3870626
A23: Működési célú átvett pénzeszközök | B23: 0 | C23: 0 | D23: 0 | E23: 640430 | F23: 640430 | G23: =F23/E23 -> 1
A24: Felhalmozási és tőke jellegű bevételek | B24: 0 | C24: 0 | D24: 0 | E24: 0
A25: ebből: sajátos felhalm. és tőkef. | B25: 0 | C25: 0 | D25: 0 | E25: 0
A26: Támogatások, kiegészítések és átvett pénzeszközök | B26: 54078874 | C26: 31710876 | D26: =26207924+200000 -> 26407924 | E26: 16069758 | F26: 5214000 | G26: =F26/E26 -> 0.32446039
A27: ebből: önkorm. költségvetési tám. | B27: 0 | C27: 0 | D27: 0 | E27: 0
A28: Felügyeleti szervtől átvett támogatás | B28: 240946865 | C28: 263332121 | D28: 270563323 | E28: 282200619 | F28: 256224982 | G28: =F28/E28 -> 0.9079533
A29: Hitelek, kölcsönök bevételei | B29: 0 | C29: 0 | D29: 0 | E29: 0
A30: Pénzforgalmi bevételek összesen | B30: =SUM(B29,B28,B26,B22) -> 297325739 | C30: =SUM(C29,C28,C26,C22) -> 297342997 | D30: =SUM(D29,D28,D26,D22) -> 299271247 | E30: =SUM(E22:E29) -> 301210807 | F30: =SUM(F22:F29) -> 265269656 | G30: =F30/E30 -> 0.88067775
A31: Maradvány felhasználás | B31: 2900000 | C31: 3069484 | D31: 3069484 | E31: 3069484 | F31: 3069484 | G31: =F31/E31 -> 1
A32: Bevételek összesen: | B32: =SUM(B30+B31) -> 300225739 | C32: =SUM(C30+C31) -> 300412481 | D32: =SUM(D30+D31) -> 302340731 | E32: =SUM(E30+E31) -> 304280291 | F32: =SUM(F30+F31) -> 268339140 | G32: =F32/E32 -> 0.88188144
A35: Irányító szervi támogatás részletezése 2019. év Ft-ban | B35: 2019. év eredeti | C35: 2019.07.31-i állapot szerint | D35: 2019.09.30-i állapot szerint | E35: 2019.12.31-i módosított | F35: teljesítés 2019.12.31
A36: Család és gyermekjóléti szolgálat támogatása | B36: =53040000+38940000 -> 91980000 | C36: =91980000+10603000 -> 102583000 | D36: 102583000 | E36: =F36 -> 97908000 | F36: =53040000+38940000+10603000-4675000 -> 97908000
A37: Család és gyermekjóléti központ támogatása
A38: GYÁÓ bértámogatás és intézményüzemeltetési támogatás | B38: =7063937+2560748 -> 9624685 | C38: 9624685 | D38: 9624685 | E38: =F38 -> 11297600 | F38: =SUM(96832000+44388000)/125*10 -> 11297600 | K38: =97908000+F38+F41 -> 186004015
A39: Intézményi hiány gesztor önkormányzat támogatásával való kifinanszírozása | B39: 62183926 | C39: =75880564-8797000-1655125 -> 65428439 | D39: 65428439 | E39: 10972489 | F39: =19650397-' KESZI ktgvetési mérleg'!F48 -> 10972489 | H39: =F39+' KESZI ktgvetési mérleg'!F48 -> 19650397 | I39: =E39+' KESZI ktgvetési mérleg'!E48 -> 19650397
A40: Térségi Társulástól érkező támogatás hozzájárulások* | B40: 39568839 | C40: 25872201 | D40: 25872201 | E40: =25872201+28329686-15386158+5830239-15386158+20106316-5830239-5032950+871999+71300+4675000 -> 44121236 | F40: =E40-19092799-680286+4769937-10972489 -> 18145599 | H40: =F40+' KESZI ktgvetési mérleg'!F50 -> 94415858
A41: Óvodai és iskolai szociális segítő tevékenység | B41: ='[1]CSGYK 20190104'!$G$105 -> 37589415 | C41: 37589415 | D41: 37589415 | E41: =37589415+39209000 -> 76798415 | F41: =37589415+39209000 -> 76798415 | H41: =E40+' KESZI ktgvetési mérleg'!E50 -> 120391495 | I41: =H41-H40 -> 25975637
A42: Szociális ágazati összevont pótlék | C42: 20704962 | D42: =C42+3251791+3134822 -> 27091575 | E42: =D42+3119536+3265826+3226521 -> 36703458 | F42: =E42 -> 36703458 | H42: =' KESZI ktgvetési mérleg'!I55 -> 102307590 | I42: =H42-H40 -> 7891732
A43: Bérkompenzáció | C43: 1512161 | D43: =C43+194462+191877 -> 1898500 | E43: =D43+175427+175429+175427 -> 2424783 | F43: =E43 -> 2424783 | H43: =H41-H42 -> 18083905
A44: Jubileumi jutalom, felmentési bér | D44: =390000+68250 -> 458250 | E44: =D44+(423335*3)+229125 -> 1957380 | F44: =E44 -> 1957380
A45: 2018. évi állami támogatás visszafizetése miatti korrekció | C45: 186742 | D45: 186742 | E45: 186742 | F45: =E45 -> 186742 | H45: =' KESZI ktgvetési mérleg'!I52 -> 103250889
...

Sheet Társulás ktgvetési mérleg
B1: 2./D MELLÉKLET
A3: MOSONMAGYARÓVÁR TÉRSÉGI TÁRSULÁS
A4: 2019. ÉVI KÖLTSÉGVETÉS VÉGREHAJTÁSA TÁRSULÁS
A5: PÉNZFORGALMI MÉRLEG
A6: adatok Ft-ban
C8: önként vállalt feladat
A9: Mosonmagyaróvár Térségi Társulás
A10: Megnevezés | B10: eredeti | C10: módosított | D10: módosított | E10: módosított | F10: teljesítés | G10: teljesítés aránya módosított ei. képest %
B11: előirányzat 2019. | C11: előirányzat 2019.07.31 | D11: előirányzat 2019.09.30 | E11: előirányzat 2019.12.31 | F11: 43830
A12: Személyi juttatások | B12: 1481888 | C12: 1481888 | D12: 1481888 | E12: 1481888 | F12: 925636 | G12: =F12/E12 -> 0.6246329
A13: Munkaadót terhelő járulékok | B13: 440190 | C13: 440190 | D13: 440190 | E13: 440190 | F13: 256628 | G13: =F13/E13 -> 0.58299371
A14: Dologi és egyéb folyó kiadások | B14: 4579378 | C14: 52422978 | D14: 54402825 | E14: 54426802 | F14: 53831751 | G14: =F14/E14 -> 0.98906695
A15: Pénzeszköz átadás, támogatás | B15: 6340000 | C15: =11479821+2740000 -> 14219821 | D15: =11479821+2740000 -> 14219821 | E15: =11479821+2740000 -> 14219821 | F15: =11479821+850000 -> 12329821 | G15: =F15/E15 -> 0.86708693
A16: Felhalmozási célú pénzeszköz átadás | B16: 0 | C16: 0 | D16: 0 | E16: 0 | F16: 0
A17: Felügyelet alá tartozó költségvetési szerv. Támogat. | B17: 653235698 | C17: 710262181 | D17: 733207286 | E17: 768056448 | F17: 742080811 | G17: =F17/E17 -> 0.96618004
A18: Felhalmozási kiadások | B18: =100159837+162044882 -> 262204719 | C18: =85282837+129378882 -> 214661719 | D18: =84115946+129378882 -> 213494828 | E18: =84115946+129378882 -> 213494828 | F18: =84115940+124455569 -> 208571509 | G18: =F18/E18 -> 0.9769394
A19: Hitelek és kölcsönök kiadásai | B19: 0 | C19: 0 | D19: 0 | E19: 0 | F19: 0
A20: Pénzforgalmi kiadások | B20: =SUM(B12:B19) -> 928281873 | C20: =SUM(C12:C19) -> 993488777 | D20: =SUM(D12:D19) -> 1017246838 | E20: =SUM(E12:E19) -> 1052119977 | F20: =SUM(F12:F19) -> 1017996156 | G20: =F20/E20 -> 0.96756661
A21: Államháztartási tartalék | B21: 28322857 | C21: 16978938 | D21: 14556704 | E21: 3599252 | F21: 0 | G21: =F21/E21 -> 0
A22: Kiadások összesen: | B22: =SUM(B20+B21) -> 956604730 | C22: =SUM(C20+C21) -> 1010467715 | D22: =SUM(D20+D21) -> 1031803542 | E22: =SUM(E20+E21) -> 1055719229 | F22: =SUM(F20+F21) -> 1017996156 | G22: =F22/E22 -> 0.96426789
A24: Intézményi működési bevételek | B24: 0 | C24: 0 | D24: 452847 | E24: 476824 | F24: 9867951 | G24: =F24/E24 -> 20.695164
A25: Költségvetési visszatérülések | B25: 0 | C25: 0 | D25: 0 | E25: 0 | F25: 0
A26: Felhalmozási és tőke jellegű bevételek | B26: 30795820 | C26: 30795820 | D26: 30795820 | E26: 30795820 | F26: 28229276 | G26: =F26/E26 -> 0.91665934
A27: ebből: sajátos felhalm. és tőkef. | B27: 0 | C27: 0 | D27: 0 | E27: 0
A28: Támogatások, kiegészítések és átvett pénzeszközök | B28: 678739663 | C28: 732331062 | D28: 753214042 | E28: 777105752 | F28: =778491753+1434000 -> 779925753 | G28: =F28/E28 -> 1.0036289
A29: ebből: önkorm. költségvetési tám. | B29: 413936235 | C29: 420638487 | D29: =420638487+5032950 -> 425671437 | E29: =F29 -> 619749763 | F29: =' KESZI ktgvetési mérleg'!F40+' KESZI ktgvetési mérleg'!F41+' KESZI ktgvetési mérleg'!F42+' KESZI ktgvetési mérleg'!F43+' KESZI ktgvetési mérleg'!F44+' KESZI ktgvetési mérleg'!F45+' KESZI ktgvetési mérleg'!F46+' KESZI ktgvetési mérleg'!F47+' KESZI ktgvetési mérleg'!F51+' KESZI ktgvetési mérleg'!F52+' KESZI ktgvetési mérleg'!F53+' KESZI ktgvetési mérleg'!F58+' KESZI ktgvetési mérleg'!F59+102583000+'CSGYK ktgvetési mérleg'!F38+'CSGYK ktgvetési mérleg'!F41+'CSGYK ktgvetési mérleg'!F42+'CSGYK ktgvetési mérleg'!F43+' KESZI ktgvetési mérleg'!F49-4675000 -> 619749763 | G29: =F29/E29 -> 1
A30: Felügyeleti szervtől átvett támogatás | B30: 0 | C30: 0 | D30: 0 | E30: 0 | F30: 0
A31: Hitelek, kölcsönök bevételei | B31: 0 | C31: 0 | D31: 0 | E31: 0 | F31: 0
A32: Pénzforgalmi bevételek összesen | B32: =SUM(B24+B25+B26+B28+B30+B31) -> 709535483 | C32: =SUM(C24+C25+C26+C28+C30+C31) -> 763126882 | D32: =SUM(D24+D25+D26+D28+D30+D31) -> 784462709 | E32: =SUM(E24+E25+E26+E28+E30+E31) -> 808378396 | F32: =SUM(F24+F25+F26+F28+F30+F31) -> 818022980 | G32: =F32/E32 -> 1.0119308
A33: Maradvány felhasználás | B33: 247069247 | C33: 247340833 | D33: 247340833 | E33: 247340833 | F33: 247340833 | G33: =F33/E33 -> 1
A34: Bevételek összesen: | B34: =B32+B33 -> 956604730 | C34: =C32+C33 -> 1010467715 | D34: =D32+D33 -> 1031803542 | E34: =E32+E33 -> 1055719229 | F34: =F32+F33 -> 1065363813 | G34: =F34/E34 -> 1.0091356
A36: Mosonmagyaróvár, 2020. február 10.

Sheet egyensúly
G1: 3. MELLÉKLET
A2: MOSONMAGYARÓVÁR TÉRSÉGI TÁRSULÁS
A3: 2019. ÉVI KÖLTSÉGVETÉSI HATÁROZAT VÉGREHAJTÁSA
A5: Kiadások és Bevételek működési egyensúlya
A6: 2019. év
A7: adatok Ft-ban
A10: Működési kiadások Ft teljesítés
A11: Intézmény megnevezése | B11: Személyi juttatások | C11: Járulékok | D11: Dologi kiadások | E11: Ellátottak juttatása | F11: Tartalékképzés | G11: Átadott pénzeszközök működési | H11: Összesen
A12: Kistérségi Egyesített Szociális Intézmény | B12: =' KESZI ktgvetési mérleg'!F12 -> 442578200 | C12: =' KESZI ktgvetési mérleg'!F13 -> 84147341 | D12: =' KESZI ktgvetési mérleg'!F14 -> 249266645 | E12: =' KESZI ktgvetési mérleg'!F15 -> 723020 | F12: 0 | G12: =' KESZI ktgvetési mérleg'!F19 -> 7693079 | H12: =SUM(B12:G12) -> 784408285
A13: Család és Gyermekjóléti Központ | B13: ='CSGYK ktgvetési mérleg'!F12 -> 180188403 | C13: ='CSGYK ktgvetési mérleg'!F13 -> 35290596 | D13: ='CSGYK ktgvetési mérleg'!F14 -> 30189415 | E13: ='CSGYK ktgvetési mérleg'!F15 -> 363530 | F13: 0 | G13: ='CSGYK ktgvetési mérleg'!F18 -> 186742 | H13: =SUM(B13:G13) -> 246218686
A14: Mosonmagyaróvár Térségi Társulás | B14: ='Társulás ktgvetési mérleg'!F12 -> 925636 | C14: ='Társulás ktgvetési mérleg'!F13 -> 256628 | D14: ='Társulás ktgvetési mérleg'!F14 -> 53831751 | E14: 0 | F14: ='Társulás ktgvetési mérleg'!F21 -> 0 | G14: ='Társulás ktgvetési mérleg'!F15 -> 12329821 | H14: =SUM(B14:G14) -> 67343836
A15: Mindösszesen: | B15: =SUM(B12:B14) -> 623692239 | C15: =SUM(C12:C14) -> 119694565 | D15: =SUM(D12:D14) -> 333287811 | E15: =SUM(E12:E14) -> 1086550 | F15: =SUM(F12:F14) -> 0 | G15: =SUM(G12:G14) -> 20209642 | H15: =SUM(H12:H14) -> 1097970807
A18: Működési bevételek Ft módosított
A19: Intézmény megnevezése | B19: Intézmény saját bevételei | C19: Állami támogatás | D19: MÖK hiányfinanszírozás | E19: Egyéb támogatás értékű műk. Bevétel (tagdíjak, hozzájárulások valamennyi tag esetén) | F19: Feladatfinanszírozás | G19: Maradvány felhasználás | H19: Összesen
A20: Kistérségi Egyesített Szociális Intézmény | B20: =' KESZI ktgvetési mérleg'!F24 -> 289209595 | C20: =' KESZI ktgvetési mérleg'!E40+' KESZI ktgvetési mérleg'!E41+' KESZI ktgvetési mérleg'!E42+' KESZI ktgvetési mérleg'!E43+' KESZI ktgvetési mérleg'!E44+' KESZI ktgvetési mérleg'!E45+' KESZI ktgvetési mérleg'!E46+' KESZI ktgvetési mérleg'!E47+' KESZI ktgvetési mérleg'!E51+' KESZI ktgvetési mérleg'!E52+' KESZI ktgvetési mérleg'!E53 -> 358874878 | D20: =' KESZI ktgvetési mérleg'!E48 -> 8677908 | E20: =' KESZI ktgvetési mérleg'!E50+' KESZI ktgvetési mérleg'!F28+' KESZI ktgvetési mérleg'!F25+4295812 -> 87133564 | F20: =' KESZI ktgvetési mérleg'!E49 -> 24879440 | G20: =' KESZI ktgvetési mérleg'!F33-14700012 -> 66996272 | H20: =SUM(B20:G20) -> 835771657
A21: Család és Gyermekjóléti Központ | B21: ='CSGYK ktgvetési mérleg'!F22 -> 3190244 | C21: =SUM(97908000+'CSGYK ktgvetési mérleg'!F38+'CSGYK ktgvetési mérleg'!F41+'CSGYK ktgvetési mérleg'!F42+'CSGYK ktgvetési mérleg'!F43)-13014318 -> 212117938 | D21: ='CSGYK ktgvetési mérleg'!F39 -> 10972489 | E21: ='CSGYK ktgvetési mérleg'!F40+'CSGYK ktgvetési mérleg'!F44+'CSGYK ktgvetési mérleg'!F45+'CSGYK ktgvetési mérleg'!F46+'CSGYK ktgvetési mérleg'!F23+'CSGYK ktgvetési mérleg'!F26 -> 25974667 | F21: 0 | G21: 0 | H21: =SUM(B21:G21) -> 252255338
A22: Mosonmagyaróvár Térségi Társulás | B22: ='Társulás ktgvetési mérleg'!F24 -> 9867951 | C22: 0 | D22: 0 | E22: 37844942 | F22: 0 | G22: =H14-B22-E22 -> 19630943 | H22: =SUM(B22:G22) -> 67343836
A23: Mindösszesen: | B23: =SUM(B20:B22) -> 302267790 | C23: =SUM(C20:C22) -> 570992816 | D23: =SUM(D20:D22) -> 19650397 | E23: =SUM(E20:E22) -> 150953173 | F23: =SUM(F20:F22) -> 24879440 | G23: =SUM(G20:G22) -> 86627215 | H23: =SUM(H20:H22) -> 1155370831
A25: Felhalmozási kiadások Ft eredeti | E25: Felhalmozási bevételek Ft eredeti
A26: Intézmény megnevezése | B26: Módosított | D26: Intézmény megnevezése | E26: Maradvány felhasználás/ támogatás (módosított)
A27: Kistérségi Egyesített Szociális Intézmény | B27: =' KESZI ktgvetési mérleg'!F17 -> 27557544 | D27: Kistérségi Egyesített Szociális Intézmény maradvány forrás 14.700.012 Ft, felújítási alapból: 1.994.343 Ft. Hajléktalanok ellátásra kapott külön állami támogatás (Nappali melegedő meghosszabbított nyitvatartására) 5.032.950 Ft, valamint Hajléktalan szálló kiegészítő fejlesztési támogatás 5.830.239 Ft | E27: =' KESZI ktgvetési mérleg'!E55+' KESZI ktgvetési mérleg'!E58+' KESZI ktgvetési mérleg'!E59+14700012 -> 27557544
A28: Család és Gyermekjóléti Központ | B28: ='CSGYK ktgvetési mérleg'!F17 -> 16083802 | D28: Család és Gyermekjóléti Központ maradvány forrásból 3.069.484 Ft, állami támogatás terhére 13.014.318 Ft | E28: ='CSGYK ktgvetési mérleg'!F31+13014318 -> 16083802
A29: Mosonmagyaróvár Térségi Társulás | B29: ='Társulás ktgvetési mérleg'!F18 -> 208571509 | D29: Mosonmagyaróvár Térségi Társulás (maradványfelhasználás, pályázati tartalék támogatások), valamint fejlesztési célú péneszköz átvétel | E29: ='Társulás ktgvetési mérleg'!F33-G22+'Társulás ktgvetési mérleg'!F26 -> 255939166
A30: Mindösszesen: | B30: =SUM(B27:B29) -> 252212855 | D30: Mindösszesen: | E30: =SUM(E27:E29) -> 299580512
A33: Mosonmagyaróvár, 2020. április

Sheet Létszámok 
C1: 4. melléklet
A3: Mosonmagyaróvár Térségi Társulás
A4: és felügyelete alá tartozó költségvetési szerv
A5: 2019. évi költségvetéséről szóló határozat végrehajtása
A7: Költségvetési engedélyzett létszámhely, záró átlagos statisztikai létszám
H9: adatok: fő-ben
A10: Megnevezés | B10: 2018. január 1. | C10: 2019. január 1. | D10: 2019. július 31. | E10: 2019. szeptember 30. | F10: 2019.december 31. | G10: 2019.december 31. | H10: Közfoglalkoz- tatottak átlagos létszáma
A11: (intézmény, szakfeladat, stb.) | B11: engedélyezett | C11: engedélyezett | D11: engedélyezett | E11: engedélyezett | F11: engedélyezett | G11: záró
B12: létszámhely | C12: létszámhely | D12: létszámhely | E12: létszámhely | F12: létszámhely | G12: átlagos statisztikai létszám
A13: Család és Gyermekjóléti Központ | B13: =SUM(B14:B17) -> 57 | C13: =SUM(C14:C17) -> 58 | D13: =SUM(D14:D17) -> 58 | E13: =SUM(E14:E17) -> 58 | F13: =SUM(F14:F17) -> 58 | G13: =SUM(G14:G17) -> 48 | H13: 0
A14: GyÁÓ | B14: 8 | C14: 8 | D14: 8 | E14: 8 | F14: 8 | G14: 7 | H14: 0
A15: Család- és Gyermekjóléti Szolgálat | B15: 16 | C15: 17 | D15: 17 | E15: 17 | F15: 17 | G15: 22 | H15: 0
A16: Család- és Gyermekjóléti Központ Hatósági és Speciális Munkacsoporot | B16: 22 | C16: 22 | D16: 22 | E16: 22 | F16: 22 | G16: 17 | H16: 0
A17: Óvodai és iskolai szociális segítő tevékenység (2018. szeptember 1-jétől) | B17: 11 | C17: 11 | D17: 11 | E17: 11 | F17: 11 | G17: 2
A18: Kistérségi Egyesített Szociális Intézet | B18: =SUM(B19:B29) -> 146 | C18: =SUM(C19:C29) -> 154 | D18: =SUM(D19:D29) -> 154 | E18: =SUM(E19:E29) -> 154 | F18: =SUM(F19:F29) -> 154 | G18: =SUM(G19:G29) -> 124 | H18: =SUM(H19:H29) -> 1
A19: Aranykor, kp.-i irányítás | B19: 47 | C19: 47 | D19: 47 | E19: 47 | F19: 47 | G19: 45 | H19: 1
A20: Gondozóház, főzőkonyha | B20: 29 | C20: 35 | D20: 35 | E20: 35 | F20: 35 | G20: 28 | H20: 0
A21: Hajléktalanok Átmeneti Szállása | B21: 7 | C21: 9 | D21: 9 | E21: 9 | F21: 9 | G21: 5 | H21: 0
A22: Idősek klubja | B22: 15 | C22: 15 | D22: 15 | E22: 15 | F22: 15 | G22: 13 | H22: 0
A23: FÉNI | B23: 6 | C23: 6 | D23: 6 | E23: 6 | F23: 6 | G23: 6 | H23: 0
A24: Nappali melegedő | B24: 2 | C24: 3 | D24: 3 | E24: 3 | F24: 3 | G24: 2 | H24: 0
A25: Éjjeli menedékhely | B25: 0 | C25: 2 | D25: 2 | E25: 2 | F25: 2 | G25: 0
A26: Szociális étkezés | B26: 1 | C26: 1 | D26: 1 | E26: 1 | F26: 1 | G26: 1 | H26: 0
A27: Házi segítségnyújtás | B27: 34 | C27: 34 | D27: 34 | E27: 34 | F27: 34 | G27: 22 | H27: 0
A28: Jelzőrendszer | B28: 1 | C28: 1 | D28: 1 | E28: 1 | F28: 1 | G28: 1 | H28: 0
A29: Szoc. foglalkoztatás | B29: 4 | C29: 1 | D29: 1 | E29: 1 | F29: 1 | G29: 1 | H29: 0
A30: Mosonmagyaróvár Térségi Társulás (projektekhez kapcsolódó megbízási díj került betervezésre, állandó létszámhely nincs | B30: 0 | C30: 0 | D30: 0 | E30: 0 | F30: 0 | G30: 0 | H30: 0
A31: Összesen: | B31: =B30+B18+B13 -> 203 | C31: =SUM(C13+C18+C30) -> 212 | D31: =SUM(D13+D18+D30) -> 212 | E31: =SUM(E13+E18+E30) -> 212 | F31: =SUM(F13+F18+F30) -> 212 | G31: =SUM(G13+G18+G30) -> 172 | H31: =SUM(H13+H18+H30) -> 1
A33: Mosonmagyaróvár, 2020. április

Sheet állami
F1: 5. melléklet
A3: MOSONMAGYARÓVÁR TÉRSÉGI TÁRSULÁS
A4: ÁLLAMI TÁMOGATÁS
A5: 2019. ÉVI KÖLTSÉGVETÉSI VÉGREHAJTÁSÁRÓL SZÓLÓ HATÁROZAT MELLÉKLETE
A6: adatok Ft-ban
A8: Jogcím | B8: Megnevezés | C8: Fajlagos mutató módosított | D8: Fajlagos mutató elszámolás szerint | E8: Eredeti előirányzat | F8: Módosított előirányzat | G8: Teljesítés | H8: Járó támogatás | I8: Elszámolás szerinti különbözet | J8: Teljesítés és járó támogatáson belül minimálbér miatt kapott kiegészítés
A9: III.3.a. | B9: Család és Gyermekjóléti Szolgálat | C9: 3400000 | D9: =C9 -> 3400000 | E9: 53040000 | F9: =53040000+5928000 -> 58968000 | G9: =53040000+5928000 -> 58968000 | H9: =53040000+5928000 -> 58968000 | I9: =H9-G9 -> 0 | J9: 5928000
A10: III.3.b. | B10: Család és Gyermekjóléti Központ | C10: 3300000 | D10: 3300000 | E10: 38940000 | F10: =E10 -> 38940000 | G10: =F10 -> 38940000 | H10: =G10 -> 38940000 | I10: =H10-G10 -> 0 | J10: 0
A11: III.3.c. | B11: Szociális Étkeztetés | C11: 439 fő | D11: 435 fő | E11: =' KESZI ktgvetési mérleg'!B40 -> 25880800 | F11: =26733344+4675000 -> 31408344 | G11: =F11 -> 31408344 | H11: =26489760+4675000 -> 31164760 | I11: =H11-G11 -> -243584 | J11: 4675000
A12: III.3.d. | B12: Házi segítségnyújtás | C12: 131 fő | D12: 129 fő | E12: =' KESZI ktgvetési mérleg'!B41 -> 63921000 | F12: 56199000 | G12: =F12 -> 56199000 | H12: 55341000 | I12: =H12-G12 -> -858000 | J12: 0
A13: III.3.f (2) | B13: Időskorúak nappali intézményi ellátása | C13: 46 fő | D13: 43 fő | E13: =' KESZI ktgvetési mérleg'!B42 -> 8992500 | F13: =7521000+6683000 -> 14204000 | G13: =F13 -> 14204000 | H13: =7030500+6683000 -> 13713500 | I13: =H13-G13 -> -490500 | J13: 6683000
A14: III.3.g (2) (3) (6) | B14: Fogyatékos személyek nappali intézményi ellátása, foglalkoztatásban részesülő fogyatékos személyek, demens személyek nappali ellátása | C14: 17 fő, 10fő, 31fő | D14: 17 fő, 11fő, 30fő | E14: =' KESZI ktgvetési mérleg'!B43 -> 21450000 | F14: =9350000+2200000+17050000+8108000 -> 36708000 | G14: =F14 -> 36708000 | H14: =9350000+2420000+16500000+8108000 -> 36378000 | I14: =H14-G14 -> -330000 | J14: 8108000
A15: III.3. i. (2) | B15: hajléktalanok napplai intézményi ellátása | C15: 36 fő | D15: 36 fő | E15: =' KESZI ktgvetési mérleg'!B44 -> 8903520 | F15: =E15+1426000 -> 10329520 | G15: =F15 -> 10329520 | H15: =G15 -> 10329520 | I15: =H15-G15 -> 0 | J15: 1426000
A16: III.3.k | B16: hajléktalanok átmeneti szállása | C16: 39 fő | D16: 41 fő | E16: =' KESZI ktgvetési mérleg'!B45 -> 19404000 | F16: =G16 -> 24163000 | G16: =21021000+3142000 -> 24163000 | H16: =22099000+3142000 -> 25241000 | I16: =H16-G16 -> 1078000 | J16: 3142000
A17: III.3.n. | B17: óvodai- iskolai nevelő munkát segítők támogatása | E17: ='CSGYK ktgvetési mérleg'!B41 -> 37589415 | F17: ='CSGYK ktgvetési mérleg'!E41 -> 76798415 | G17: ='CSGYK ktgvetési mérleg'!F41 -> 76798415 | H17: =37589415+39209000 -> 76798415 | I17: =H17-G17 -> 0 | J17: 39209000
A18: III.4. | B18: szakmai dolgozók bértámogatása | C18: 34 fő | D18: 34 fő | E18: 96832000 | F18: 96832000 | G18: 96832000 | H18: 96832000 | I18: =H18-G18 -> 0 | J18: 0
A19: III.4. b | B19: intézményi- üzemeltetési támgoatás | E19: 44388000 | F19: 44388000 | G19: 44388000 | H19: 44388000 | I19: =H19-G19 -> 0
B20: Összesen | E20: =SUM(E9:E19) -> 419341235 | F20: =SUM(F9:F19) -> 488938279 | G20: =SUM(G9:G19) -> 488938279 | H20: =SUM(H9:H19) -> 488094195 | I20: =SUM(I9:I19) -> -844084
B21: - ebből CSGYK-t érintő elszámolási kötelezettség | I21: 0 | J21: =SUM(J9:J20) -> 69171000
B22: - ebből KESZI-t érintő elszámolási kötelezettség | I22: =I20-I21 -> -844084
B24: Bérkompenzáció | F24: Módosított előirányzat | G24: Teljesítés | H24: Járó támogatás
B25: KESZI | F25: =' KESZI ktgvetési mérleg'!E52 -> 2683764 | G25: =F25 -> 2683764 | H25: =G25 -> 2683764 | I25: =SUM(H25+H26) -> 5108547
B26: CSGYK | F26: ='CSGYK ktgvetési mérleg'!E43 -> 2424783 | G26: =F26 -> 2424783 | H26: =G26 -> 2424783 | I26: =SUM(G26+G25) -> 5108547
B27: Összevont ágazgati pótlék
B28: KESZI | F28: =' KESZI ktgvetési mérleg'!E51 -> 52832753 | G28: =F28 -> 52832753 | H28: =G28 -> 52832753 | I28: =SUM(H28+H29+H31) -> 89960308
B29: CSGYK | F29: ='CSGYK ktgvetési mérleg'!E42 -> 36703458 | G29: =F29 -> 36703458 | H29: =G29 -> 36703458 | I29: =SUM(G28:G29) -> 89536211
B31: Egészségügyi kiegészítő pótlék KESZI | F31: =' KESZI ktgvetési mérleg'!E53 -> 424097 | G31: =F31 -> 424097 | H31: =G31 -> 424097
B33: Hajléktalan ellátás rendkívüli minisztériumi támogatás átadása KESZI (fejlesztési + meghosszabbított nyitvatartásra) | F33: =' KESZI ktgvetési mérleg'!E58+' KESZI ktgvetési mérleg'!E59 -> 10863189 | G33: =F33 -> 10863189 | H33: =G33 -> 10863189
B35: Fejlesztő foglalkoztatás és jelzőrendszer támogatás KESZI | F35: =' KESZI ktgvetési mérleg'!E49 -> 24879440 | G35: =F35 -> 24879440 | H35: =G35 -> 24879440
B36: Mindösszesen | F36: =F31+F29+F28+F26+F25+F20+F35+F33 -> 619749763 | G36: =G31+G29+G28+G26+G25+G20+G35+G33 -> 619749763 | H36: =H20+H25+H26+H28+H29+H31+H33+H35 -> 618905679
B39: A fejlesztő foglalkoztatás támogatása:
B40: - negyedévente 3.644.160 Ft, ez összesen 14.576.640 Ft
B41: - kiegészítő támogatás: 307.200 Ft
B42: összesen: 14.883.840 Ft
B44: A jelzőrendszeres házi segítségnyújtás támogatása:
B45: - 9.995.600 Ft
B46: 2019. évi elszámolás alapján 2020. év elején januárban visszafizettünk: 458.790 Ft-ot, így a felhasznált támogatás: 9.536.810 Ft lett a jelzőrendszeres házi segítségnyújtásnál.
B48: Mosonmagyaróvár, 2020. április

Sheet vagyonmérleg
H1: 6. melléklet
B2: MOSONMAGYARÓVÁR TÉRSÉGI TÁRSULÁS
B3: ÉS IRÁNYÍTÁSA ALÁ TARTOZÓ INTÉZMÉNYEK
B4: 2019. ÉVI KÖLTSÉGVETÉS VÉGREHAJTÁSA
B5: VAGYONMÉRLEG
A7: ÖSSZEVONT VAGYONMÉRLEG | F7: TÉRSÉGI TÁRSULÁS VAGYONMÉRLEG
A8: Mérleg | F8: Mérleg
A9: # | B9: Megnevezés | C9: Előző időszak | D9: Tárgyi időszak | F9: # | G9: Megnevezés | H9: Előző időszak | I9: Tárgyi időszak
A11: 05 | B11: A/II/1 Ingatlanok és a kapcsolódó vagyoni értékű jogok | C11: 418644134 | D11: 692908678 | F11: 05 | G11: A/II/1 Ingatlanok és a kapcsolódó vagyoni értékű jogok | H11: 0 | I11: 269049217
A12: 06 | B12: A/II/2 Gépek, berendezések, felszerelések, járművek | C12: 12778314 | D12: 24984174 | F12: 06 | G12: A/II/2 Gépek, berendezések, felszerelések, járművek | H12: 197376 | I12: 7066323
A13: 08 | B13: A/II/4 Beruházások, felújítások | C13: 123914941 | D13: 7451199 | F13: 08 | G13: A/II/4 Beruházások, felújítások | H13: 123914941 | I13: 7451199
A14: 10 | B14: A/II Tárgyi eszközök (=A/II/1+...+A/II/5) | C14: 555337389 | D14: 725344051 | F14: 10 | G14: A/II Tárgyi eszközök (=A/II/1+...+A/II/5) | H14: 124112317 | I14: 283566739
A15: 28 | B15: A) NEMZETI VAGYONBA TARTOZÓ BEFEKTETETT ESZKÖZÖK (=A/I+A/II+A/III+A/IV) | C15: 555337389 | D15: 725344051 | F15: 28 | G15: A) NEMZETI VAGYONBA TARTOZÓ BEFEKTETETT ESZKÖZÖK (=A/I+A/II+A/III+A/IV) | H15: 124112317 | I15: 283566739
A16: 34 | B16: B/I Készletek (=B/I/1+…+B/I/5) | C16: 4483837 | D16: 7669060 | F16: 51 | G16: C/III/1 Kincstáron kívüli forintszámlák | H16: 97277679 | I16: 57042088
A17: 43 | B17: B) NEMZETI VAGYONBA TARTOZÓ FORGÓESZKÖZÖK (= B/I+B/II) | C17: 4483837 | D17: 7669060 | F17: 52 | G17: C/III/2 Kincstárban vezetett forintszámlák | H17: 168328400 | I17: 8590815
A18: 50 | B18: C/II Pénztárak, csekkek, betétkönyvek (=C/II/1+C/II/2+C/II/3) | C18: 2461996 | D18: 3579166 | F18: 53 | G18: C/III Forintszámlák (=C/III/1+C/III/2) | H18: 265606079 | I18: 65632903
A19: 51 | B19: C/III/1 Kincstáron kívüli forintszámlák | C19: 182753302 | D19: 115381553 | F19: 57 | G19: C) PÉNZESZKÖZÖK (=C/I+…+C/IV) | H19: 265606079 | I19: 65632903
A20: 52 | B20: C/III/2 Kincstárban vezetett forintszámlák | C20: 168328400 | D20: 8590815 | F20: 101 | G20: D/I Költségvetési évben esedékes követelések (=D/I/1+…+D/I/8) | H20: 1103130 | I20: 1207109
A21: 53 | B21: C/III Forintszámlák (=C/III/1+C/III/2) | C21: 351081702 | D21: 123972368 | F21: 159 | G21: D) KÖVETELÉSEK (=D/I+D/II+D/III) | H21: 1103130 | I21: 1207109
A22: 57 | B22: C) PÉNZESZKÖZÖK (=C/I+…+C/IV) | C22: 353543698 | D22: 127551534 | F22: 161 | G22: E/I/2 Más előzetesen felszámított levonható általános forgalmi adó | H22: 12000 | I22: 139000
... A44: 248 | B44: J/3 Halasztott eredményszemléletű bevételek | C44: 309061774 | D44: 277669945 | F44: 250 | G44: FORRÁSOK ÖSSZESEN (=G+H+I+J) | H44: 384509710 | I44: 350439329
A45: 249 | B45: J) PASSZÍV IDŐBELI ELHATÁROLÁSOK (=J/1+J/2+J/3) | C45: 365710768 | D45: 337023305
A46: 250 | B46: FORRÁSOK ÖSSZESEN (=G+H+I+J) | C46: 920854959 | D46: 873897935
A49: CSALÁD ÉS GYERMEKJÓLÉTI KÖZPONT | F49: KISTÉRSÉGI EGYESÍTETT SZOCIÁLIS INTÉZMÉNY
A50: Mérleg | F50: Mérleg
A51: # | B51: Megnevezés | C51: Előző időszak | D51: Tárgyi időszak | F51: # | G51: Megnevezés | H51: Előző időszak | I51: Tárgyi időszak
A53: 05 | B53: A/II/1 Ingatlanok és a kapcsolódó vagyoni értékű jogok | C53: 29174698 | D53: 33109934 | F53: 05 | G53: A/II/1 Ingatlanok és a kapcsolódó vagyoni értékű jogok | H53: 389469436 | I53: 390749527
A54: 06 | B54: A/II/2 Gépek, berendezések, felszerelések, járművek | C54: 4000293 | D54: 9323426 | F54: 06 | G54: A/II/2 Gépek, berendezések, felszerelések, járművek | H54: 8580645 | I54: 8594425
A55: 10 | B55: A/II Tárgyi eszközök (=A/II/1+...+A/II/5) | C55: 33174991 | D55: 42433360 | F55: 10 | G55: A/II Tárgyi eszközök (=A/II/1+...+A/II/5) | H55: 398050081 | I55: 399343952
A56: 28 | B56: A) NEMZETI VAGYONBA TARTOZÓ BEFEKTETETT ESZKÖZÖK (=A/I+A/II+A/III+A/IV) | C56: 33174991 | D56: 42433360 | F56: 29 | G56: B/I/1 Vásárolt készletek | H56: 4483837 | I56: 7669060
A57: 50 | B57: C/II Pénztárak, csekkek, betétkönyvek (=C/II/1+C/II/2+C/II/3) | C57: 0 | D57: 8540 | F57: 34 | G57: B/I Készletek (=B/I/1+…+B/I/5) | H57: 4483837 | I57: 7669060
A58: 51 | B58: C/III/1 Kincstáron kívüli forintszámlák | C58: 2803037 | D58: 5610457 | F58: 43 | G58: B) NEMZETI VAGYONBA TARTOZÓ FORGÓESZKÖZÖK (= B/I+B/II) | H58: 4483837 | I58: 7669060
A59: 53 | B59: C/III Forintszámlák (=C/III/1+C/III/2) | C59: 2803037 | D59: 5610457 | F59: 50 | G59: C/II Pénztárak, csekkek, betétkönyvek (=C/II/1+C/II/2+C/II/3) | H59: 2461996 | I59: 3570626
A60: 57 | B60: C) PÉNZESZKÖZÖK (=C/I+…+C/IV) | C60: 2803037 | D60: 5618997 | F60: 51 | G60: C/III/1 Kincstáron kívüli forintszámlák | H60: 82672586 | I60: 52729008
A61: 101 | B61: D/I Költségvetési évben esedékes követelések (=D/I/1+…+D/I/8) | C61: 57230 | D61: 401315 | F61: 53 | G61: C/III Forintszámlák (=C/III/1+C/III/2) | H61: 82672586 | I61: 52729008
A62: 158 | B62: D/III Követelés jellegű sajátos elszámolások (=D/III/1+…+D/III/9) | C62: 265866 | D62: 425614 | F62: 57 | G62: C) PÉNZESZKÖZÖK (=C/I+…+C/IV) | H62: 85134582 | I62: 56299634
A63: 159 | B63: D) KÖVETELÉSEK (=D/I+D/II+D/III) | C63: 323096 | D63: 826929 | F63: 101 | G63: D/I Költségvetési évben esedékes követelések (=D/I/1+…+D/I/8) | H63: 11107311 | I63: 10518320
A64: 175 | B64: F) AKTÍV IDŐBELI ELHATÁROLÁSOK (=F/1+F/2+F/3) | C64: 9145 | D64: 45558 | F64: 158 | G64: D/III Követelés jellegű sajátos elszámolások (=D/III/1+…+D/III/9) | H64: 621564 | I64: 255055
... A76: 250 | B76: FORRÁSOK ÖSSZESEN (=G+H+I+J) | C76: 36310269 | D76: 48924844 | F76: 182 | G76: G/VI Mérleg szerinti eredmény | H76: 8476171 | I76: -34420441
F77: 183 | G77: G/ SAJÁT TŐKE (= G/I+…+G/VI) | H77: 455616722 | I77: 421196281
...

Sheet eredménykimutatás
H1: 7 melléklet
A2: MOSONMAGYARÓVÁR TÉRSÉGI TÁRSULÁS
A3: ÉS IRÁNYÍTÁSA ALÁ TARTOZÓ INTÉZMÉNYEK
A4: 2019. ÉVI KÖLTSÉGVETÉS VÉGREHAJTÁSA
A5: EREDMÉNYKIMUTATÁS
A6: ÖSSZEVONT | F6: TÉRSÉGI TÁRSULÁS
A7: Eredménykimutatás | F7: Eredménykimutatás
A8: # | B8: Megnevezés | C8: Előző időszak | D8: Tárgyi időszak | F8: # | G8: Megnevezés | H8: Előző időszak | I8: Tárgyi időszak
A10: 02 | B10: 02 Eszközök és szolgáltatások értékesítése nettó eredményszemléletű bevételei | C10: 276671322 | D10: 287381374 | F10: 02 | G10: 02 Eszközök és szolgáltatások értékesítése nettó eredményszemléletű bevételei | H10: 3142351 | I10: 9603003
A11: 04 | B11: I Tevékenység nettó eredményszemléletű bevétele (=01+02+03) | C11: 276671322 | D11: 287381374 | F11: 04 | G11: I Tevékenység nettó eredményszemléletű bevétele (=01+02+03) | H11: 3142351 | I11: 9603003
A12: 08 | B12: 06 Központi működési célú támogatások eredményszemléletű bevételei | C12: 679268579 | D12: 742080811 | F12: 09 | G12: 07 Egyéb működési célú támogatások eredményszemléletű bevételei | H12: 679153413 | I12: 780029732
A13: 09 | B13: 07 Egyéb működési célú támogatások eredményszemléletű bevételei | C13: 689963579 | D13: 792451655 | F13: 10 | G13: 08 Felhalmozási célú támogatások eredményszemléletű bevételei | H13: 26793057 | I13: 59621105
A14: 10 | B14: 08 Felhalmozási célú támogatások eredményszemléletű bevételei | C14: 26793057 | D14: 59621105 | F14: 11 | G14: 09 Különféle egyéb eredményszemléletű bevételek | H14: 80107 | I14: 14681
A15: 11 | B15: 09 Különféle egyéb eredményszemléletű bevételek | C15: 2971513 | D15: 3543495 | F15: 12 | G15: III Egyéb eredményszemléletű bevételek (=06+07+08+09) | H15: 706026577 | I15: 839665518
A16: 12 | B16: III Egyéb eredményszemléletű bevételek (=06+07+08+09) | C16: 1398996728 | D16: 1597697066 | F16: 13 | G16: 10 Anyagköltség | H16: 0 | I16: 4999
A17: 13 | B17: 10 Anyagköltség | C17: 66175341 | D17: 68925075 | F17: 14 | G17: 11 Igénybe vett szolgáltatások értéke | H17: 4643328 | I17: 2888384
A18: 14 | B18: 11 Igénybe vett szolgáltatások értéke | C18: 141846107 | D18: 165531880 | F18: 16 | G18: 13 Eladott (közvetített) szolgáltatások értéke | H18: 671763 | I18: 989137
A19: 16 | B19: 13 Eladott (közvetített) szolgáltatások értéke | C19: 2158089 | D19: 3039976 | F19: 17 | G19: IV Anyagjellegű ráfordítások (=10+11+12+13) | H19: 5315091 | I19: 3882520
A20: 17 | B20: IV Anyagjellegű ráfordítások (=10+11+12+13) | C20: 210179537 | D20: 237496931 | F20: 19 | G20: 15 Személyi jellegű egyéb kifizetések | H20: 3118048 | I20: 751319
A21: 18 | B21: 14 Bérköltség | C21: 517836367 | D21: 572490565 | F21: 20 | G21: 16 Bérjárulékok | H21: 617448 | I21: 222670
... A29: 32 | B29: VIII Pénzügyi műveletek eredményszemléletű bevételei (=17+18+19+20+21) | C29: 154 | D29: 68 | F29: 44 | G29: C) MÉRLEG SZERINTI EREDMÉNY (=±A±B) | H29: -18752439 | I29: 24676283
A30: 43 | B30: B) PÉNZÜGYI MŰVELETEK EREDMÉNYE (=VIII-IX) | C30: 154 | D30: 68
A31: 44 | B31: C) MÉRLEG SZERINTI EREDMÉNY (=±A±B) | C31: -8317173 | D31: 363255
A33: CSALÁD ÉS GYERMEKJÓLÉTI KÖZPONT | F33: KISTÉRSÉGI EGYESÍTETT SZOCIÁLIS INTÉZMÉNY
A34: Eredménykimutatás | F34: 13/A - Eredménykimutatás
A35: # | B35: Megnevezés | C35: Előző időszak | D35: Tárgyi időszak | F35: # | G35: Megnevezés | H35: Előző időszak | I35: Tárgyi időszak
A37: 02 | B37: 02 Eszközök és szolgáltatások értékesítése nettó eredményszemléletű bevételei | C37: 1290475 | D37: 1954785 | F37: 02 | G37: 02 Eszközök és szolgáltatások értékesítése nettó eredményszemléletű bevételei | H37: 272238496 | I37: 275823586
A38: 04 | B38: I Tevékenység nettó eredményszemléletű bevétele (=01+02+03) | C38: 1290475 | D38: 1954785 | F38: 04 | G38: I Tevékenység nettó eredményszemléletű bevétele (=01+02+03) | H38: 272238496 | I38: 275823586
A39: 08 | B39: 06 Központi működési célú támogatások eredményszemléletű bevételei | C39: 213305406 | D39: 256224982 | F39: 08 | G39: 06 Központi működési célú támogatások eredményszemléletű bevételei | H39: 465963173 | I39: 485855829
A40: 09 | B40: 07 Egyéb működési célú támogatások eredményszemléletű bevételei | C40: 5496905 | D40: 5854430 | F40: 09 | G40: 07 Egyéb működési célú támogatások eredményszemléletű bevételei | H40: 5313261 | I40: 6567493
A41: 11 | B41: 09 Különféle egyéb eredményszemléletű bevételek | C41: 1358844 | D41: 1604176 | F41: 11 | G41: 09 Különféle egyéb eredményszemléletű bevételek | H41: 1532562 | I41: 1924638
A42: 12 | B42: III Egyéb eredményszemléletű bevételek (=06+07+08+09) | C42: 220161155 | D42: 263683588 | F42: 12 | G42: III Egyéb eredményszemléletű bevételek (=06+07+08+09) | H42: 472808996 | I42: 494347960
A43: 13 | B43: 10 Anyagköltség | C43: 3707923 | D43: 4699069 | F43: 13 | G43: 10 Anyagköltség | H43: 62467418 | I43: 64221007
A44: 14 | B44: 11 Igénybe vett szolgáltatások értéke | C44: 17439285 | D44: 21700080 | F44: 14 | G44: 11 Igénybe vett szolgáltatások értéke | H44: 119763494 | I44: 140943416
A45: 16 | B45: 13 Eladott (közvetített) szolgáltatások értéke | C45: 0 | D45: 10000 | F45: 16 | G45: 13 Eladott (közvetített) szolgáltatások értéke | H45: 1486326 | I45: 2040839
A46: 17 | B46: IV Anyagjellegű ráfordítások (=10+11+12+13) | C46: 21147208 | D46: 26409149 | F46: 17 | G46: IV Anyagjellegű ráfordítások (=10+11+12+13) | H46: 183717238 | I46: 207205262
A47: 18 | B47: 14 Bérköltség | C47: 141786423 | D47: 168923474 | F47: 18 | G47: 14 Bérköltség | H47: 376049944 | I47: 403567091
A48: 19 | B48: 15 Személyi jellegű egyéb kifizetések | C48: 15609477 | D48: 13304409 | F48: 19 | G48: 15 Személyi jellegű egyéb kifizetések | H48: 41780180 | I48: 41561489
... A54: 44 | B54: C) MÉRLEG SZERINTI EREDMÉNY (=±A±B) | C54: 1959095 | D54: 10107413 | F54: 44 | G54: C) MÉRLEG SZERINTI EREDMÉNY (=±A±B) | H54: 8476171 | I54: -34420441
B56: Mosonmagyaróvár 2020. április

Sheet maradványkimutatás
G1: 8 melléklet
B2: MOSONMAGYARÓVÁR TÉRSÉGI TÁRSULÁS
B3: ÉS IRÁNYÍTÁSA ALÁ TARTOZÓ INTÉZMÉNYEK
B4: 2019. ÉVI KÖLTSÉGVETÉS VÉGREHAJTÁSA
B5: MARADVÁNYKIMUTATÁSA 2019. DECEMBER 31-ÉN
A7: ÖSSZEVONT | E7: TÉRSÉGI TÁRSULÁS
A8: Maradványkimutatás | E8: Maradványkimutatás
A9: # | B9: Megnevezés | C9: Összeg | E9: # | F9: Megnevezés | G9: Összeg
A11: 01 | B11: 01 Alaptevékenység költségvetési bevételei | C11: 1122844742 | E11: 01 | F11: 01 Alaptevékenység költségvetési bevételei | G11: 818022980
A12: 02 | B12: 02 Alaptevékenység költségvetési kiadásai | C12: 1350183662 | E12: 02 | F12: 02 Alaptevékenység költségvetési kiadásai | G12: 275915345
A13: 03 | B13: I Alaptevékenység költségvetési egyenlege (=01-02) | C13: -227338920 | E13: 03 | F13: I Alaptevékenység költségvetési egyenlege (=01-02) | G13: 542107635
A14: 04 | B14: 03 Alaptevékenység finanszírozási bevételei | C14: 1074187412 | E14: 04 | F14: 03 Alaptevékenység finanszírozási bevételei | G14: 247340833
A15: 05 | B15: 04 Alaptevékenység finanszírozási kiadásai | C15: 742080811 | E15: 05 | F15: 04 Alaptevékenység finanszírozási kiadásai | G15: 742080811
A16: 06 | B16: II Alaptevékenység finanszírozási egyenlege (=03-04) | C16: 332106601 | E16: 06 | F16: II Alaptevékenység finanszírozási egyenlege (=03-04) | G16: -494739978
A17: 07 | B17: A) Alaptevékenység maradványa (=±I±II) | C17: 104767681 | E17: 07 | F17: A) Alaptevékenység maradványa (=±I±II) | G17: 47367657
A18: 15 | B18: C) Összes maradvány (=A+B) | C18: 104767681 | E18: 15 | F18: C) Összes maradvány (=A+B) | G18: 47367657
A19: 17 | B19: E) Alaptevékenység szabad maradványa (=A-D) | C19: 104767681 | E19: 17 | F19: E) Alaptevékenység szabad maradványa (=A-D) | G19: 47367657
A21: CSALÁD ÉS GYERMEKJÓLÉTI KÖZPONT | E21: KISTÉRSÉGI EGYESÍTETT SZOCIÁLIS INTÉZMÉNY
A22: Maradványkimutatás | E22: Maradványkimutatás
A23: # | B23: Megnevezés | C23: Összeg | E23: # | F23: Megnevezés | G23: Összeg
A25: 01 | B25: 01 Alaptevékenység költségvetési bevételei | C25: 9044674 | E25: 01 | F25: 01 Alaptevékenység költségvetési bevételei | G25: 295777088
A26: 02 | B26: 02 Alaptevékenység költségvetési kiadásai | C26: 262302488 | E26: 02 | F26: 02 Alaptevékenység költségvetési kiadásai | G26: 811965829
A27: 03 | B27: I Alaptevékenység költségvetési egyenlege (=01-02) | C27: -253257814 | E27: 03 | F27: I Alaptevékenység költségvetési egyenlege (=01-02) | G27: -516188741
A28: 04 | B28: 03 Alaptevékenység finanszírozási bevételei | C28: 259294466 | E28: 04 | F28: 03 Alaptevékenység finanszírozási bevételei | G28: 567552113
A29: 06 | B29: II Alaptevékenység finanszírozási egyenlege (=03-04) | C29: 259294466 | E29: 06 | F29: II Alaptevékenység finanszírozási egyenlege (=03-04) | G29: 567552113
A30: 07 | B30: A) Alaptevékenység maradványa (=±I±II) | C30: 6036652 | E30: 07 | F30: A) Alaptevékenység maradványa (=±I±II) | G30: 51363372
A31: 15 | B31: C) Összes maradvány (=A+B) | C31: 6036652 | E31: 15 | F31: C) Összes maradvány (=A+B) | G31: 51363372
A32: 17 | B32: E) Alaptevékenység szabad maradványa (=A-D) | C32: 6036652 | E32: 17 | F32: E) Alaptevékenység szabad maradványa (=A-D) | G32: 51363372
B35: Mosonmagyaróvár 2020. április

Sheet kiadások
H1: 9 -10 melléklet
B2: MOSONMAGYARÓVÁR TÉRSÉGI TÁRSULÁS
B3: ÉS IRÁNYÍTÁSA ALÁ TARTOZÓ INTÉZMÉNYEK
B4: 2019. ÉVI KÖLTSÉGVETÉS VÉGREHAJTÁSA
B5: KIADÁSOK ALAKULÁSA 2019. DECEMBER 31-ÉN
A7: MOSONMAGYARÓVÁR TÉRSÉGI TÁRSULÁS
A8: Teljesített kiadások kormányzati funkciónként
A9: # | B9: Megnevezés | C9: Összesen | D9: 011130 Önkormányzatok és önkormányzati hivatalok jogalkotó és általános igazgatási tevékenysége | E9: 018030 Támogatási célú finanszírozási műveletek | F9: 062020 Településfejlesztési projektek és támogatásuk | G9: 084032 Civil szervezetek programtámogatása | H9: 107013 Hajléktalanok átmeneti ellátása
