Workbook

Sheet címrend
B1: 1. SZÁMÚ MELLÉKLET
A6: A Mosonmagyaróvár Térségi Társulás és irányítása alá tartozó költségvetési szervek
A7: 2018. évi költségvetéséről szóló 3/2018. (II.20.) TT. határozatot
A8: végrehajtásáról szóló …/2019. (IV…...) TT. határozat
A10: CÍMRENDJÉT
A11: az alábbiak szerint állapítja meg:
A16: Címszám | B16: Megnevezés
A17: 1. | B17: Mosonmagyaróvár Térségi Társulás
A18: 2. | B18: Kistérségi Egyesített Szociális Intézmény
A19: 3. | B19: Család és Gyermekjóléti Központ

Sheet összevont mérleg
B1: 2./A SZÁMÚ MELLÉKLET
A3: MOSONMAGYARÓVÁR TÉRSÉGI TÁRSULÁS
A4: 2018. ÉVI KÖLTSÉGVETÉSI HATÁROZAT MÓDOSÍTÁSÁHOZ
A5: PÉNZFORGALMI MÉRLEG
A6: adatok ezer Ft-ban
A8: Mosonmagyaróvár Térségi Társulás | D8: kötelező | E8: önként | G8: kötelező | H8: önként | J8: kötelező | K8: önként | M8: kötelező | N8: önként | P8: kötelező | Q8: önként
A9: Megnevezés | B9: eredeti | C9: eredeti | D9: eredeti | E9: eredeti | F9: módosított | G9: módosított | H9: módosított | I9: módosított | J9: módosított | K9: módosított | L9: módosított | M9: módosított | N9: módosított | O9: teljesítés | P9: teljesítés | Q9: teljesítés
B10: előirányzat 2014. | C10: előirányzat 2018. | D10: előirányzat 2018. | E10: előirányzat 2018. | F10: előirányzat 2018.07.31 | G10: előirányzat 2018.07.31 | H10: előirányzat 2018.07.31 | I10: előirányzat 2018.09.30 | J10: előirányzat 2018.09.30 | K10: előirányzat 2018.09.30 | L10: előirányzat 2018.12.31 | M10: előirányzat 2018.12.31 | N10: előirányzat 2018.12.31 | O10: 43465 | P10: 43465 | Q10: 43465
A11: Személyi juttatások | B11: ='KESZI mérleg'!B12+'CSGYK mérleg'!B12+'Társulás mérleg'!B12 -> 173364895 | C11: ='KESZI mérleg'!C12+'CSGYK mérleg'!B12+'Társulás mérleg'!B12 -> 626341278 | D11: =SUM(C11-E11) -> 622313200 | E11: ='Társulás mérleg'!B12 -> 4028078 | F11: ='KESZI mérleg'!D12+'CSGYK mérleg'!C12+'Társulás mérleg'!C12 -> 633956000 | G11: =F11-H11 -> 629927922 | H11: ='Társulás mérleg'!C12 -> 4028078 | I11: ='KESZI mérleg'!E12+'CSGYK mérleg'!D12+'Társulás mérleg'!D12 -> 621761216 | J11: =I11-K11 -> 617733138 | K11: 4028078 | L11: ='KESZI mérleg'!F12+'CSGYK mérleg'!E12+'Társulás mérleg'!E12 -> 618149646 | M11: =L11-N11 -> 614121568 | N11: ='Társulás mérleg'!E12 -> 4028078 | O11: ='KESZI mérleg'!G12+'CSGYK mérleg'!F12+'Társulás mérleg'!F12 -> 575319337 | P11: =O11-Q11 -> 572241532 | Q11: ='Társulás mérleg'!F12 -> 3077805
A12: Munkaadót terhelő járulékok | B12: ='KESZI mérleg'!B13+'CSGYK mérleg'!B13+'Társulás mérleg'!B13 -> 35888568 | C12: ='KESZI mérleg'!C13+'CSGYK mérleg'!B13+'Társulás mérleg'!B13 -> 133781601 | D12: =SUM(C12-E12) -> 132870000 | E12: ='Társulás mérleg'!B13 -> 911601 | F12: ='KESZI mérleg'!D13+'CSGYK mérleg'!C13+'Társulás mérleg'!C13 -> 135297816 | G12: =F12-H12 -> 134386215 | H12: ='Társulás mérleg'!C13 -> 911601 | I12: ='KESZI mérleg'!E13+'CSGYK mérleg'!D13+'Társulás mérleg'!D13 -> 131749136 | J12: =I12-K12 -> 130837535 | K12: 911601 | L12: ='KESZI mérleg'!F13+'CSGYK mérleg'!E13+'Társulás mérleg'!E13 -> 134698579 | M12: =L12-N12 -> 133786978 | N12: ='Társulás mérleg'!E13 -> 911601 | O12: ='KESZI mérleg'!G13+'CSGYK mérleg'!F13+'Társulás mérleg'!F13 -> 117576062 | P12: =O12-Q12 -> 116966305 | Q12: ='Társulás mérleg'!F13 -> 609757
A13: Dologi és egyéb folyó kiadások | B13: ='KESZI mérleg'!B14+'CSGYK mérleg'!B14+'Társulás mérleg'!B14 -> 37751913 | C13: ='KESZI mérleg'!C14+'CSGYK mérleg'!B14+'Társulás mérleg'!B14 -> 245613866 | D13: =SUM(C13-E13) -> 238591816 | E13: ='Társulás mérleg'!B14 -> 7022050 | F13: ='KESZI mérleg'!D14+'CSGYK mérleg'!C14+'Társulás mérleg'!C14 -> 245613866 | G13: =F13-H13 -> 238591816 | H13: ='Társulás mérleg'!C14 -> 7022050 | I13: ='KESZI mérleg'!E14+'CSGYK mérleg'!D14+'Társulás mérleg'!D14 -> 258891469 | J13: =I13-K13 -> 251869419 | K13: 7022050 | L13: ='KESZI mérleg'!F14+'CSGYK mérleg'!E14+'Társulás mérleg'!E14 -> 292462223 | M13: =L13-N13 -> 263083799 | N13: ='Társulás mérleg'!E14 -> 29378424 | O13: ='KESZI mérleg'!G14+'CSGYK mérleg'!F14+'Társulás mérleg'!F14 -> 273918267 | P13: =O13-Q13 -> 246909411 | Q13: ='Társulás mérleg'!F14 -> 27008856
A14: Ellátottak pénzbeli juttatásai | C14: ='KESZI mérleg'!C15+'CSGYK mérleg'!B15 -> 1270000 | D14: ='KESZI mérleg'!D15+'CSGYK mérleg'!C15 -> 1270000 | E14: 0 | F14: ='KESZI mérleg'!D15+'CSGYK mérleg'!C15 -> 1270000 | G14: =F14-H14 -> 1270000 | H14: 0 | I14: ='KESZI mérleg'!E15+'CSGYK mérleg'!D15 -> 1270000 | J14: =I14-K14 -> 1270000 | K14: 0 | L14: ='KESZI mérleg'!F15+'CSGYK mérleg'!E15 -> 1270000 | M14: =L14-N14 -> 1270000 | N14: 0 | O14: ='KESZI mérleg'!G15+'CSGYK mérleg'!F15 -> 949780 | P14: =O14-Q14 -> 949780 | Q14: 0
A15: Pénzeszköz átadás, támogatás | B15: ='KESZI mérleg'!B15+'CSGYK mérleg'!B15+'Társulás mérleg'!B15 -> 6760570 | C15: ='Társulás mérleg'!B15 -> 6340000 | D15: =SUM(C15-E15) -> 0 | E15: ='Társulás mérleg'!B15 -> 6340000 | F15: ='Társulás mérleg'!C15 -> 6340000 | G15: =F15-H15 -> 0 | H15: ='Társulás mérleg'!C15 -> 6340000 | I15: ='Társulás mérleg'!D15 -> 6340000 | J15: =I15-K15 -> 0 | K15: 6340000 | L15: ='Társulás mérleg'!E15 -> 8524000 | M15: =L15-N15 -> 0 | N15: ='Társulás mérleg'!E15 -> 8524000 | O15: ='Társulás mérleg'!F15 -> 8341449 | P15: =O15-Q15 -> 0 | Q15: ='Társulás mérleg'!F15 -> 8341449 | S15: =SUM(O21-O18)/(C21-C18) -> 0.96497699 | T15: =SUM(O21-O18)/(L21-L18) -> 0.9252504
A16: Elvonások és befizetések | C16: 0 | F16: ='KESZI mérleg'!D16+'CSGYK mérleg'!C16 -> 0 | G16: =F16-H16 -> 0 | H16: 0 | I16: 0 | J16: =I16-K16 -> 0 | K16: 0 | L16: 0 | M16: =L16-N16 -> 0 | N16: 0 | O16: 0 | P16: =O16-Q16 -> 0 | Q16: 0
A17: Felhalmozási célú pénzeszköz átadás | C17: 0 | D17: 0 | E17: 0 | F17: 0 | G17: 0 | H17: 0 | I17: 0 | J17: 0 | K17: 0 | L17: 0 | M17: 0 | N17: 0 | O17: 0 | P17: 0 | Q17: 0
A18: Felhalmozási kiadások | B18: 0 | C18: ='KESZI mérleg'!C17+'CSGYK mérleg'!B17+'Társulás mérleg'!B18 -> 220414437 | D18: ='KESZI mérleg'!C17+'CSGYK mérleg'!B17 -> 4890001 | E18: ='Társulás mérleg'!B18 -> 215524436 | F18: ='KESZI mérleg'!D17+'CSGYK mérleg'!C17+'Társulás mérleg'!C18 -> 294313658 | G18: =F18-H18 -> 13491664 | H18: ='Társulás mérleg'!C18 -> 280821994 | I18: ='KESZI mérleg'!E17+'CSGYK mérleg'!D17+'Társulás mérleg'!D18 -> 303618948 | J18: =I18-K18 -> 23470054 | K18: ='Társulás mérleg'!D18 -> 280148894 | L18: ='KESZI mérleg'!F17+'CSGYK mérleg'!E17+'Társulás mérleg'!E18 -> 297169029 | M18: =L18-N18 -> 44025686 | N18: ='Társulás mérleg'!E18 -> 253143343 | O18: ='KESZI mérleg'!G17+'CSGYK mérleg'!F17+'Társulás mérleg'!F18 -> 111953305 | P18: =O18-Q18 -> 25068640 | Q18: ='Társulás mérleg'!F18 -> 86884665 | S18: =O18/C18 -> 0.50792183 | T18: =O18/L18 -> 0.37673275
A19: Hitelek és kölcsönök kiadásai | B19: 0 | C19: 0 | D19: =SUM(C19-E19) -> 0 | E19: 0 | F19: 0 | G19: =F19-H19 -> 0 | H19: 0 | I19: 0 | J19: =I19-K19 -> 0 | K19: 0 | L19: 0 | M19: =L19-N19 -> 0 | N19: 0 | O19: 0 | P19: =O19-Q19 -> 0 | Q19: 0
A20: Egyéb működési célú kiadások | C20: 0 | D20: 0 | E20: 0 | F20: ='KESZI mérleg'!D19 -> 1751396 | G20: 1751396 | H20: 0 | I20: ='KESZI mérleg'!D19 -> 1751396 | J20: 1751396 | K20: 0 | L20: ='KESZI mérleg'!F19 -> 1751396 | M20: 1751396 | N20: 0 | O20: ='KESZI mérleg'!G19 -> 1751396 | P20: 1751396 | Q20: 0
A21: Pénzforgalmi kiadások | B21: =SUM(B11:B19) -> 253765946 | C21: =SUM(C11:C20) -> 1233761182 | D21: =SUM(D11:D19) -> 999935017 | E21: =SUM(E11:E19) -> 233826165 | F21: =SUM(F11:F20) -> 1318542736 | G21: =SUM(G11:G20) -> 1019419013 | H21: =SUM(H11:H20) -> 299123723 | I21: =SUM(I11:I20) -> 1325382165 | J21: =SUM(J11:J20) -> 1026931542 | K21: =SUM(K11:K20) -> 298450623 | L21: =SUM(L11:L20) -> 1354024873 | M21: =SUM(M11:M20) -> 1058039427 | ... Q21: =SUM(Q11:Q20) -> 125922532
A22: Államháztartási tartalék | B22: ='Társulás mérleg'!B21 -> 129872089 | C22: ='Társulás mérleg'!B21 -> 129872089 | D22: 23683115 | E22: 106188974 | F22: ='Társulás mérleg'!C21 -> 101891745 | G22: =D22-12682786 -> 11000329 | H22: =F22-G22 -> 90891416 | I22: ='Társulás mérleg'!D21 -> 97955610 | J22: 0 | K22: =I22-J22 -> 97955610 | L22: ='Társulás mérleg'!E21 -> 79635325 | M22: 0 | N22: ='Társulás mérleg'!E21 -> 79635325 | O22: ='Társulás mérleg'!I21 -> 0 | P22: 0 | Q22: ='Társulás mérleg'!I21 -> 0
A23: Kiadások összesen: | B23: =B21+B22 -> 383638035 | C23: =C21+C22 -> 1363633271 | D23: =SUM(C23-E23) -> 1023618132 | E23: =SUM(E21+E22) -> 340015139 | F23: =SUM(F21:F22) -> 1420434481 | G23: =SUM(G21:G22) -> 1030419342 | H23: =SUM(H21:H22) -> 390015139 | I23: =SUM(I21:I22) -> 1423337775 | J23: =SUM(J21:J22) -> 1026931542 | K23: =SUM(K21:K22) -> 396406233 | L23: =SUM(L21:L22) -> 1433660198 | M23: =SUM(M21:M22) -> 1058039427 | ... Q23: =SUM(Q21:Q22) -> 125922532 | S23: =O23/C23 -> 0.79919552 | T23: =O23/L23 -> 0.76015893
A25: Intézményi működési bevételek | B25: ='KESZI mérleg'!B24+'CSGYK mérleg'!B21+'Társulás mérleg'!B24 -> 2501101 | C25: ='KESZI mérleg'!C24+'CSGYK mérleg'!B21+'Társulás mérleg'!B24 -> 268100000 | D25: ='KESZI mérleg'!C24+'CSGYK mérleg'!B21 -> 268100000 | E25: ='Társulás mérleg'!B24 -> 0 | F25: ='CSGYK mérleg'!C21+'Társulás mérleg'!C24+'KESZI mérleg'!D24 -> 268100000 | G25: 268100000 | H25: ='Társulás mérleg'!C24 -> 0 | I25: ='KESZI mérleg'!E24+'CSGYK mérleg'!D21+'Társulás mérleg'!D24 -> 268559503 | J25: 268100001 | K25: ='Társulás mérleg'!D24 -> 459503 | L25: ='KESZI mérleg'!F24+'CSGYK mérleg'!E21+'Társulás mérleg'!E24 -> 271400344 | M25: 268100000 | N25: ='Társulás mérleg'!E24 -> 3300344 | O25: ='KESZI mérleg'!G24+'CSGYK mérleg'!F21+'Társulás mérleg'!F24 -> 287844940 | P25: 268100000 | Q25: ='Társulás mérleg'!F24 -> 3300344
A26: Költségvetési visszatérülések | B26: 0 | C26: ='KESZI mérleg'!C25+'CSGYK mérleg'!B22+'Társulás mérleg'!B25 -> 0 | D26: =C26-E26 -> 0 | E26: 0 | F26: ='Társulás mérleg'!C25 -> 0 | G26: =F26-H26 -> 0 | H26: ='CSGYK mérleg'!C22 -> 0 | I26: ='Társulás mérleg'!G25 -> 0 | J26: =I26-K26 -> 0 | K26: ='CSGYK mérleg'!F22 -> 0 | L26: ='Társulás mérleg'!J25 -> 0 | M26: =L26-N26 -> 0 | N26: ='CSGYK mérleg'!I22 -> 0 | O26: ='Társulás mérleg'!M25 -> 0 | P26: =O26-Q26 -> 0 | Q26: ='CSGYK mérleg'!L22 -> 0
A27: Felhalmozási és tőke jellegű bevételek | B27: 0 | C27: ='Társulás mérleg'!B26 -> 86000000 | D27: 0 | E27: ='Társulás mérleg'!B26 -> 86000000 | F27: ='KESZI mérleg'!D25+'CSGYK mérleg'!C22+'Társulás mérleg'!C26 -> 136000000 | G27: 0 | H27: 136000000 | I27: ='KESZI mérleg'!E25+'CSGYK mérleg'!D22+'Társulás mérleg'!D26 -> 136000000 | J27: 0 | K27: 136000000 | L27: ='Társulás mérleg'!E26 -> 136000000 | M27: 0 | N27: 136000000 | O27: ='Társulás mérleg'!F26 -> 106713819 | P27: 0 | Q27: ='Társulás mérleg'!F26 -> 106713819
A28: ebből: sajátos felhalm. és tőkef. | B28: 0 | C28: 0 | D28: =C28-E28 -> 0 | E28: 0 | F28: 0 | G28: =F28-H28 -> 0 | H28: 0 | I28: 0 | J28: =I28-K28 -> 0 | K28: 0 | L28: 0 | M28: =L28-N28 -> 0 | N28: 0 | O28: 0 | P28: =O28-Q28 -> 0 | Q28: 0
A29: Támogatások, kiegészítések és átvett pénzeszközök | B29: ='KESZI mérleg'!B27+'CSGYK mérleg'!B24+'Társulás mérleg'!B28 -> 635173168 | C29: ='CSGYK mérleg'!B24+'Társulás mérleg'!B28+'KESZI mérleg'!C27 -> 691256500 | D29: 651618660 | E29: 39637840 | F29: ='KESZI mérleg'!D27+'CSGYK mérleg'!C24+'Társulás mérleg'!C28 -> 677709382 | G29: =F29-H29 -> 638071542 | H29: 39637840 | I29: ='KESZI mérleg'!E27+'CSGYK mérleg'!D24+'Társulás mérleg'!D28 -> 680153173 | J29: =I29-K29 -> 652380596 | K29: =39637840-11865263 -> 27772577 | L29: ='KESZI mérleg'!F27+'CSGYK mérleg'!E24+'Társulás mérleg'!E28 -> 687634755 | M29: =L29-N29 -> 683488471 | N29: 4146284 | O29: ='KESZI mérleg'!G27+'CSGYK mérleg'!F24+'Társulás mérleg'!F28 -> 688732339 | P29: =O29-Q29 -> 684586055 | Q29: =N29 -> 4146284
A30: ebből: önkorm. költségvetési tám. | B30: ='Társulás mérleg'!B29 -> 386150860 | C30: 386150860 | D30: 386150860 | E30: 0 | F30: ='Társulás mérleg'!C29 -> 367556928 | G30: =F30-H30 -> 367556928 | H30: 0 | I30: =egyensúly!C23 -> 492667958 | J30: =I30-K30 -> 492667958 | K30: 0 | L30: ='Társulás mérleg'!E29 -> 516410758 | M30: =L30-N30 -> 516410758 | N30: 0 | O30: ='Társulás mérleg'!F29 -> 516410758 | P30: =O30-Q30 -> 516410758 | Q30: 0
A31: Hitelek, kölcsönök bevételei | B31: 0 | C31: ='KESZI mérleg'!C30+'CSGYK mérleg'!B27+'Társulás mérleg'!B30 -> 0 | D31: =C31-E31 -> 0 | E31: 0 | F31: 0 | G31: =F31-H31 -> 0 | H31: ='CSGYK mérleg'!C27 -> 0 | I31: 0 | J31: =I31-K31 -> 0 | K31: ='CSGYK mérleg'!F27 -> 0 | L31: 0 | M31: =L31-N31 -> 0 | N31: ='CSGYK mérleg'!I27 -> 0 | O31: 0 | P31: =O31-Q31 -> 0 | Q31: ='CSGYK mérleg'!L27 -> 0
A32: Pénzforgalmi bevételek összesen | B32: =B29+B25 -> 637674269 | C32: =C29+C25+C27 -> 1045356500 | D32: =SUM(D25:D29) -> 919718660 | E32: =SUM(E25:E31) -> 125637840 | F32: =F29+F25+F27 -> 1081809382 | G32: =G29+G25+G27 -> 906171542 | H32: =H29+H25+H27 -> 175637840 | I32: =I29+I25+I27 -> 1084712676 | J32: =J29+J25+J27 -> 920480597 | K32: =K29+K25+K27 -> 164232080 | L32: =L29+L25+L27 -> 1095035099 | M32: =M29+M25+M27 -> 951588471 | ... Q32: =Q29+Q25+Q27 -> 114160447
A33: Maradvány felhasználás | B33: 0 | C33: ='KESZI mérleg'!C32+'CSGYK mérleg'!B29+'Társulás mérleg'!B33 -> 318276771 | D33: 103899472 | E33: 214377299 | F33: ='KESZI mérleg'!D32+'CSGYK mérleg'!C29+'Társulás mérleg'!C33 -> 338625099 | G33: =103899472+2563765-12281 -> 106450956 | H33: =F33-G33 -> 232174143 | I33: ='KESZI mérleg'!E32+'CSGYK mérleg'!D29+'Társulás mérleg'!D33 -> 338625099 | J33: =103899472+2563765-12281 -> 106450956 | K33: =I33-J33 -> 232174143 | L33: ='KESZI mérleg'!F32+'CSGYK mérleg'!E29+'Társulás mérleg'!E33 -> 338625099 | M33: =103899472+2563765-12281 -> 106450956 | N33: =K33 -> 232174143 | O33: ='KESZI mérleg'!G32+'CSGYK mérleg'!F29+'Társulás mérleg'!F33 -> 338625099 | P33: =103899472+2563765-12281 -> 106450956 | Q33: ='Társulás mérleg'!F33 -> 264467498
A34: Bevételek összesen: | B34: =B32+B33 -> 637674269 | C34: =C32+C33 -> 1363633271 | D34: =SUM(D32:D33) -> 1023618132 | E34: =SUM(E32:E33) -> 340015139 | F34: =SUM(F32:F33) -> 1420434481 | G34: =F34-H34 -> 1012622498 | H34: =SUM(H32:H33) -> 407811983 | I34: =SUM(I32:I33) -> 1423337775 | J34: =I34-K34 -> 1026931552 | K34: =SUM(K32:K33) -> 396406223 | L34: =SUM(L32:L33) -> 1433660198 | M34: =L34-N34 -> 1058039427 | N34: =SUM(N32:N33) -> 375620771 | O34: =SUM(O32:O33) -> 1421916197 | P34: =O34-Q34 -> 1043288252 | Q34: =SUM(Q32:Q33) -> 378627945 | S34: =O34/C34 -> 1.0427409 | T34: =O34/L34 -> 0.99180838
S36: =O34/O23 -> 1.3047382
A37: Mosonmagyaróvár, 2019. április
B38: …./2014. (XII.09.) Kt. Határozat alapján
B40: 200 Ft/lakos
B41: 100 Ft/lakos
B42: 20 Ft/lakos
B43: 10 Ft/lakos
B44: 100 Ft/lakos

Sheet KESZI mérleg
B1: 2./B SZÁMÚ MELLÉKLET
A3: MOSONMAGYARÓVÁR TÉRSÉGI TÁRSULÁS
A4: 2018. ÉVI KÖLTSÉGVETÉSI HATÁROZAT MÓDOSÍTÁSA
A5: PÉNZFORGALMI MÉRLEG
A6: adatok ezer Ft-ban
C8: kötelező feladat | D8: kötelező feladat | F8: kötelező feladat | G8: kötelező feladat
A9: KISTÉRSÉGI EGYESÍTETT SZOCIÁLIS INTÉZET
A10: Megnevezés | B10: eredeti | C10: eredeti | D10: módosított | E10: módosított | F10: módosított | G10: teljesítés
B11: előirányzat 2014. | C11: előirányzat 2018. | D11: előirányzat 2018.07.31 | E11: előirányzat 2018.09.30 | F11: előirányzat 2018.12.31 | G11: 43465
A12: Személyi juttatások | B12: 264817 | C12: 453241200 | D12: 459005022 | E12: 446352838 | F12: 453199138 | G12: 416321825 | H12: =G12/F12 -> 0.9186289
A13: Munkaadót terhelő járulékok | B13: 69967 | C13: 97963000 | D13: 99108409 | E13: 95470541 | F13: 98324458 | G13: 85001699 | H13: =G13/F13 -> 0.86450209 | I13: =SUM(G13+G12)/(F13+F12) -> 0.90897929 | J13: =SUM(G13+G12)-461374534 -> 39948990
A14: Dologi és egyéb folyó kiadások | B14: =SUM(200046) -> 200046 | C14: 208061999 | D14: 208061999 | E14: 217736999 | F14: 226145012 | G14: 222349137 | H14: =G14/F14 -> 0.98321486
A15: Ellátottak pénzbeli juttatásai | B15: 570 | C15: 850000 | D15: 850000 | E15: 850000 | F15: 850000 | G15: 586480
A16: Elvonások és befizetések | C16: 0 | D16: 0 | E16: 0 | F16: 0 | G16: 0
A17: Felhalmozási kiadások | B17: 0 | C17: 2640001 | D17: =2640001+8601663 -> 11241664 | E17: =2640001+18580053 -> 21220054 | F17: =8610001+19169134 -> 27779135 | G17: 16914180
A18: Hitelek és kölcsönök kiadásai | B18: 0 | C18: 0 | D18: 0 | E18: 0 | F18: 0 | G18: 0
A19: Egyéb működési célú kiadások | C19: 0 | D19: 1751396 | E19: 1751396 | F19: 1751396 | G19: 1751396
A20: Pénzforgalmi kiadások | B20: =SUM(B12:B18) -> 535400 | C20: =SUM(C12:C19) -> 762756200 | D20: =SUM(D12:D19) -> 780018490 | E20: =SUM(E12:E19) -> 783381828 | F20: =SUM(F12:F19) -> 808049139 | G20: =SUM(G12:G19) -> 742924717
A21: Kiegyenlítő, átfutó, függő kiadás | B21: nem releváns | C21: nem releváns
A22: Kiadások összesen: | B22: =SUM(B20) -> 535400 | C22: =SUM(C20) -> 762756200 | D22: =SUM(D20) -> 780018490 | E22: =SUM(E20) -> 783381828 | F22: =SUM(F20) -> 808049139 | G22: =SUM(G20) -> 742924717
A24: Intézményi működési bevételek | B24: 201101 | C24: 265800000 | D24: 265800000 | E24: 265800000 | F24: 265800000 | G24: 281780802
A25: Felhalmozási és tőke jellegű bevételek | B25: 0 | C25: 0 | D25: 0 | E25: 0 | F25: 0 | G25: 0
A26: ebből: sajátos felhalm. és tőkef. | B26: 0 | C26: 0 | D26: 0 | E26: 0 | F26: 0 | G26: 0
A27: Támogatások, kiegészítések és átvett pénzeszközök | B27: =SUM(50763-12615) -> 38148 | C27: 56121480 | D27: 24162259 | E27: =16294881+440000 -> 16734881 | F27: =3531201+1191000 -> 4722201 | G27: =3579846+1733415 -> 5313261
A28: ebből: önkorm. költségvetési tám. | B28: 0 | C28: 0 | D28: 0 | E28: 0 | F28: 0 | G28: 0
A29: Irányító szervtől kapott támogatás | B29: =SUM(283536+12615) -> 296151 | C29: 371834720 | D29: 418492466 | E29: 429283182 | F29: 465963173 | G29: 465963173
A30: Hitelek, kölcsönök bevételei | B30: 0 | C30: 0 | D30: 0 | E30: 0 | F30: 0 | G30: 0
A31: Pénzforgalmi bevételek összesen | B31: =SUM(B30+B29+B27+B25+B24) -> 535400 | C31: =SUM(C30+C29+C27+C25+C24) -> 693756200 | D31: =SUM(D30+D29+D27+D25+D24) -> 708454725 | E31: =SUM(E30+E29+E27+E25+E24) -> 711818063 | F31: =SUM(F30+F29+F27+F25+F24) -> 736485374 | G31: =SUM(G30+G29+G27+G25+G24) -> 753057236
A32: Maradvány felhasználás | B32: 0 | C32: 69000000 | D32: 71563765 | E32: 71563765 | F32: 71563765 | G32: 71563765
A33: Kiegyenlítő, átfutó, függő bevételek | B33: nem releváns | C33: nem releváns
A34: Bevételek összesen: | B34: =B31+B32 -> 535400 | C34: =C31+C32 -> 762756200 | D34: =D31+D32 -> 780018490 | E34: =E31+E32 -> 783381828 | F34: =F31+F32 -> 808049139 | G34: =G31+G32 -> 824621001
A37: Irányító szervi támogatás részletezése 2018. év | B37: adatok Ft-ban | C37: adatok Ft-ban
B38: 2017. évi | C38: 2018. eredeti előirányzat | D38: 43312 | E38: 43373 | F38: 2018.12.31 módosított előirányzat | G38: Teljesítés
A39: Szociális étkeztetés | B39: ='[1]KESZI 2016.12.12.'!$G$101 -> 24967360 | C39: 25271840 | D39: 25271840 | E39: =D39-426272 -> 24845568 | F39: =E39+1035232 -> 25880800 | G39: =F39 -> 25880800
A40: Házi segítségnyújtás | B40: ='[1]KESZI 2016.12.12.'!$G$102 -> 41769000 | C40: 71214000 | D40: 71214000 | E40: =D40-9867000 -> 61347000 | F40: =E40+2145000 -> 63492000 | G40: =F40 -> 63492000
A41: Időskorúak nappali int. Ellátása | B41: ='[1]KESZI 2016.12.12.'!$G$105 -> 7357500 | C41: 8011500 | D41: 8011500 | E41: =D41+327000 -> 8338500 | F41: =E41+654000 -> 8992500 | G41: =F41 -> 8992500
A42: Fogyatékos és demens személyek ell. | B42: ='[1]KESZI 2016.12.12.'!$G$106+'[1]KESZI 2016.12.12.'!$G$107+'[1]KESZI 2016.12.12.'!$G$108 -> 21340000 | C42: 20900000 | D42: 20900000 | E42: =D42+2750000-1100000-1100000 -> 21450000 | F42: =E42 -> 21450000 | G42: =F42 -> 21450000
A43: Hajléktalanok nappali ellátása | B43: ='[1]KESZI 2016.12.12.'!$G$109 -> 8903520 | C43: 8903520 | D43: 8903520 | E43: 8903520 | F43: =E43 -> 8903520 | G43: =F43 -> 8903520
A44: Hajléktalanok átmeneti ellátása | B44: ='[1]KESZI 2016.12.12.'!$G$110 -> 19577030 | C44: 20482000 | D44: 20482000 | E44: =D44+539000 -> 21021000 | F44: =E44-1617000 -> 19404000 | G44: =F44 -> 19404000
A45: Bértámogatás szociális szféra | B45: ='[1]KESZI 2016.12.12.'!$G$111 -> 82888885 | C45: 91136000 | D45: 91136000 | E45: 91136000 | F45: =E45 -> 91136000 | G45: =F45 -> 91136000 | I45: =C45 -> 91136000
A46: intézmény üzemeltetési támogatás | B46: ='[1]KESZI 2016.12.12.'!$G$112 -> 33582000 | C46: 33220958 | D46: 33220958 | E46: =D46+5988000 -> 39208958 | F46: =E46 -> 39208958 | G46: =F46 -> 39208958 | I46: =C46+'CSGYK mérleg'!B36 -> 51552000
A47: Intézményi hiány gesztor önkormányzat támogatásával való kifinanszírozása | B47: =[1]Társulás!$E$55 -> 78493074 | C47: 46457092 | D47: 46457092 | E47: 46457092 | F47: =E47 -> 46457092 | G47: =F47 -> 46457092 | I47: =I45+I46 -> 142688000
A48: Jelzőrendszer és fejlesztő támogatás átvétele | B48: ='[1]KESZI 2016.12.12.'!$G$113 -> 17450784 | C48: 23742800 | D48: 23742800 | E48: 23742800 | F48: =E48 -> 23742800 | G48: =F48 -> 23742800
A49: Összevont ágazati pótlék** | B49: ='[1]KESZI 2016.12.12.'!$G$118 -> 42317678 | C49: 0 | D49: 31731090 | E49: =D49+9021624 -> 40752714 | F49: =E49+13101651 -> 53854365 | G49: =F49 -> 53854365
A50: Bérkompenzáció | D50: 2828108 | E50: =D50+641475 -> 3469583 | F50: =E50+670621 -> 4140204 | G50: =F50 -> 4140204
A51: Egészségügyi kiegészítő pótlék | D51: 228131 | E51: =D51+80754 -> 308885 | F51: =E51+121132 -> 430017 | G51: =F51 -> 430017
A52: Jubileumi jutalom és felmentési bér | D52: 4081123 | E52: =D52+1577745 -> 5658868 | F52: =E52+431395 -> 6090263 | G52: =F52 -> 6090263
A53: Felújítási Alapból finanszírozott kiadások | D53: 8601663 | E53: =D53+2358390 -> 10960053 | F53: =E53 -> 10960053 | G53: =F53 -> 10960053
A54: Maradvány miatti korrekció | D54: -812369 | E54: -812369 | F54: =E54 -> -812369 | G54: =F54 -> -812369
A55: Beszedett pótlólagos hozzájárulásból intézményre osztott** | B55: =388995032-378646831 -> 10348201 | C55: 22495010 | D55: 22495010 | E55: 22495010 | F55: =E55 -> 22495010 | G55: =F55 -> 22495010
A56: TOP és EFOP pályázathoz kapcsolódó társulási önerő biztosítás | F56: =127000+52106+38572+462081 -> 679759 | G56: =F56 -> 679759
A57: Hajléktalan ellátás rendkívüli minisztériumi támogatás átadása | F57: 1780000 | G57: =F57-E57 -> 1780000
A58: November hónapban fizetett szociális napi jutalmak munkaadói és munkavállalói járulékok, adók kifinanszírozása | F58: =2217232+15460969 -> 17678201 | G58: =F58-E58 -> 17678201
B59: =SUM(B39:B55) -> 388995032 | C59: =SUM(C39:C55) -> 371834720 | D59: =SUM(D39:D55) -> 418492466 | E59: =SUM(E39:E55) -> 429283182 | F59: =SUM(F39:F58) -> 465963173 | G59: =SUM(G39:G58) -> 465963173 | I59: =F59-F29 -> 0
A64: Mosonmagyaróvár, 2019. április

Sheet CSGYK mérleg
B1: 2./C SZÁMÚ MELLÉKLET
A3: MOSONMAGYARÓVÁR TÉRSÉGI TÁRSULÁS
A4: 2018. ÉVI KÖLTSÉGVETÉSI HATÁROZAT MÓDOSÍTÁSA
A5: PÉNZFORGALMI MÉRLEG
A6: adatok Ft-ban
D8: kötelező feladat
A9: Család- és Gyermekjóléti Központ
A10: Megnevezés | B10: eredeti | C10: módosított | D10: módosított | E10: módosított | F10: teljesítés
B11: előirányzat 2018. | C11: előirányzat 2018.07.31 | D11: előirányzat 2018.09.30 | E11: előirányzat 2018.12.31. | F11: 43465
A12: Személyi juttatások | B12: 169072000 | C12: 170922900 | D12: 171380300 | E12: 160922430 | F12: 155919707 | G12: =F12/E12 -> 0.96891221
A13: Munkaadót terhelő járulékok | B13: 34907000 | C13: 35277806 | D13: 35366994 | E13: 35462520 | F13: 31964606 | G13: =F13/E13 -> 0.90136307 | H13: =SUM(F13+F12)/(E13+E12) -> 0.95671442 | I13: =SUM(F13+F12)-176133857 -> 11750456
A14: Dologi és egyéb folyó kiadások | B14: 30529817 | C14: 30529817 | D14: 32999817 | E14: 36938787 | F14: 24560274 | G14: =F14/E14 -> 0.66489119
A15: Ellátottak pénzbeli juttatásai | B15: 420000 | C15: 420000 | D15: 420000 | E15: 420000 | F15: 363300
A16: Elvonások és befizetések | B16: 0 | C16: 0 | D16: 0 | E16: 0 | F16: 0
A17: Felhalmozási kiadások | B17: 2250000 | C17: 2250000 | D17: 2250000 | E17: =10277000+5969551 -> 16246551 | F17: 8154460
A18: Pénzforgalmi kiadások | B18: =SUM(B12:B17) -> 237178817 | C18: =SUM(C12:C17) -> 239400523 | D18: =SUM(D12:D17) -> 242417111 | E18: =SUM(E12:E17) -> 249990288 | F18: =SUM(F12:F17) -> 220962347
A19: Kiadások összesen: | B19: =B18 -> 237178817 | C19: =C18 -> 239400523 | D19: =D18 -> 242417111 | E19: =E18 -> 249990288 | F19: =F18 -> 220962347
A21: Intézményi működési bevételek | B21: 2300000 | C21: 2300000 | D21: 2300000 | E21: 2300000 | F21: 2763794
A22: Felhalmozási és tőke jellegű bevételek | B22: 0 | C22: 0 | D22: 0 | E22: 0 | F22: 0
A23: ebből: sajátos felhalm. és tőkef. | B23: 0 | C23: 0 | D23: 0 | E23: 0 | F23: 0
A24: Támogatások, kiegészítések és átvett pénzeszközök | B24: 35700000 | C24: 15287168 | D24: =11847582+320000 -> 12167582 | E24: =4634210+320000 -> 4954210 | F24: =5048795+320000 -> 5368795
A25: ebből: önkorm. költségvetési tám. | B25: 0 | C25: 0 | D25: 0 | E25: 0 | F25: 0
A26: Felügyeleti szervtől átvett támogatás | B26: 196572700 | C26: 219219519 | D26: 225355693 | E26: 240142242 | F26: 213305406
A27: Hitelek, kölcsönök bevételei | B27: 0 | C27: 0 | D27: 0 | E27: 0 | F27: 0
A28: Pénzforgalmi bevételek összesen | B28: =SUM(B27,B26,B24,B21) -> 234572700 | C28: =SUM(C27,C26,C24,C21) -> 236806687 | D28: =SUM(D27,D26,D24,D21) -> 239823275 | E28: =SUM(E27,E26,E24,E21) -> 247396452 | F28: =SUM(F27,F26,F24,F21) -> 221437995
A29: Maradvány felhasználás | B29: 2606117 | C29: 2593836 | D29: 2593836 | E29: 2593836 | F29: 2593836
A30: Bevételek összesen: | B30: =SUM(B28+B29) -> 237178817 | C30: =SUM(C28+C29) -> 239400523 | D30: =SUM(D28+D29) -> 242417111 | E30: =SUM(E28+E29) -> 249990288 | F30: =SUM(F28+F29) -> 224031831
A32: Irányító szervi támogatás részletezése 2018. év | B32: adatok Ft-ban
B33: 2018. eredeti | C33: 43312 | D33: 43373 | E33: 43465 | F33: Teljesítés
A34: Szociális és gyermekjóléti alapszolg., állami támogatás | B34: 88680000 | C34: 88680000 | D34: =C34 -> 88680000 | E34: =D34 -> 88680000
A35: Gyermekek átmeneti int. Ellátása, állami támogatás | F35: =E34 -> 88680000
A36: GYÁÓ bértámogatás és intézményüzemeltetési támogatás | B36: =8544000+9787042 -> 18331042 | C36: 18331042 | D36: 18331042 | E36: =D36 -> 18331042 | F36: =E36 -> 18331042
A37: Óvodai-, iskolai nevelő munkát segítők támogatása | E37: 9396842 | F37: =E37-D37 -> 9396842
A38: Intézményi hiány gesztor önkormányzat támogatásával való kifinanszírozása | B38: 59309748 | C38: 59309748 | D38: 59309748 | E38: =D38-9396842 -> 49912906 | F38: =E38-26836836 -> 23076070 | I38: =E38+'KESZI mérleg'!F47 -> 96369998
A39: Térségi Társulástól érkező támogatás hozzájárulások* | B39: =22495010+7756900 -> 30251910 | C39: 30251910 | D39: =C39 -> 30251910 | E39: 30251910 | F39: =E39 -> 30251910
A40: Összevont ágazati pótlék** | B40: 0 | C40: 20412832 | D40: =C40+5589586 -> 26002418 | E40: =D40+8213372 -> 34215790 | F40: =E40 -> 34215790
A41: Bérkompenzáció | B41: 0 | C41: 2221706 | D41: =C41+546588 -> 2768294 | E41: =D41+603626 -> 3371920 | F41: =E41 -> 3371920
A42: Maradvány miatti korrekció | B42: 0 | C42: 12281 | D42: =C42 -> 12281 | E42: 12281 | F42: =E42 -> 12281
A43: TOP-s pályázathoz kapcsolódó társulási önerő átadása | E43: =5713236+256315 -> 5969551 | F43: =E43-D43 -> 5969551
A44: Összesen | B44: =SUM(B34:B40) -> 196572700 | C44: =SUM(C34:C42) -> 219219519 | D44: =SUM(D34:D42) -> 225355693 | E44: =SUM(E34:E43) -> 240142242 | F44: =SUM(F35:F43) -> 213305406
A49: Mosonmagyaróvár, 2019. április

Sheet Társulás mérleg
B1: 2./D SZÁMÚ MELLÉKLET
A3: MOSONMAGYARÓVÁR TÉRSÉGI TÁRSULÁS
A4: 2018. ÉVI KÖLTSÉGVETÉSI HATÁROZATÁHOZ
A5: PÉNZFORGALMI MÉRLEG
A6: adatok Ft-ban
D8: önként vállalt feladat
A9: Mosonmagyaróvár Térségi Társulás
A10: Megnevezés | B10: eredeti | C10: módosított | D10: módosított | E10: módosított | F10: teljesítés
B11: előirányzat 2018. | C11: előirányzat 2018.07.31 | D11: előirányzat 2018.09.30 | E11: előirányzat 2018.12.31. | F11: 43465
A12: Személyi juttatások | B12: 4028078 | C12: 4028078 | D12: 4028078 | E12: 4028078 | F12: 3077805
A13: Munkaadót terhelő járulékok | B13: 911601 | C13: 911601 | D13: 911601 | E13: 911601 | F13: 609757 | H13: =SUM(F13+F12)/(E13+E12) -> 0.74651855 | I13: =SUM(F13+F12)-1153596 -> 2533966
A14: Dologi és egyéb folyó kiadások | B14: 7022050 | C14: 7022050 | D14: 8154653 | E14: 29378424 | F14: 27008856 | G14: =E14-D14 -> 21223771 | H14: =F14/E14 -> 0.91934326
A15: Pénzeszköz átadás, támogatás | B15: 6340000 | C15: 6340000 | D15: 6340000 | E15: =3600000+4924000 -> 8524000 | F15: 8341449 | G15: =D15-C15 -> 0
A16: Felhalmozási célú pénzeszköz átadás | B16: 0 | C16: 0 | D16: 0 | E16: 0 | F16: 0 | G16: =D16-C16 -> 0
A17: Felügyelet alá tartozó költségvetési szerv. Támogat. | B17: 568407420 | C17: 637711985 | D17: 654638875 | E17: 706105415 | F17: 679268579 | G17: =D17-C17 -> 16926890
A18: Felhalmozási kiadások | B18: 215524436 | C18: 280821994 | D18: 280148894 | E18: =5317327+247826016 -> 253143343 | F18: 86884665 | G18: =D18-C18 -> -673100
A19: Hitelek és kölcsönök kiadásai | B19: 0 | C19: 0 | D19: 0 | E19: 0 | F19: 0 | G19: =D19-C19 -> 0
A20: Pénzforgalmi kiadások | B20: =SUM(B12:B19) -> 802233585 | C20: =SUM(C12:C19) -> 936835708 | D20: =SUM(D12:D19) -> 954222101 | E20: =SUM(E12:E19) -> 1002090861 | F20: =SUM(F12:F19) -> 805191111
A21: Államháztartási tartalék | B21: 129872089 | C21: 101891745 | D21: 97955610 | E21: 79635325 | F21: 0 | G21: =D21-C21 -> -3936135
A22: Kiadások összesen: | B22: =SUM(B20+B21) -> 932105674 | C22: =SUM(C20+C21) -> 1038727453 | D22: =SUM(D20+D21) -> 1052177711 | E22: =SUM(E20+E21) -> 1081726186 | F22: =SUM(F20+F21) -> 805191111 | G22: =D22-C22 -> 13450258 | H22: =C22-C17 -> 401015468 | I22: =D22-D17 -> 397538836 | J22: =I22-H22 -> -3476632
A24: Intézményi működési bevételek | B24: 0 | C24: 0 | D24: 459503 | E24: 3300344 | F24: 3300344
A25: Költségvetési visszatérülések | B25: 0 | C25: 0 | D25: 0 | E25: 0 | F25: 0
A26: Felhalmozási és tőke jellegű bevételek | B26: 86000000 | C26: 136000000 | D26: 136000000 | E26: 136000000 | F26: 106713819
A27: ebből: sajátos felhalm. és tőkef. | B27: 0 | C27: 0 | D27: 0 | E27: 0 | F27: 0
A28: Támogatások, kiegészítések és átvett pénzeszközök | B28: 599435020 | C28: 638259955 | D28: 651250710 | E28: 677958344 | F28: 678050283
A29: ebből: önkorm. költségvetési tám. | B29: 386150860 | C29: 367556928 | D29: 383261588 | E29: =SUM('KESZI mérleg'!F39:F46,'KESZI mérleg'!F48,'KESZI mérleg'!F49,'KESZI mérleg'!F50,'KESZI mérleg'!F51,'KESZI mérleg'!F57,'CSGYK mérleg'!E36,'CSGYK mérleg'!E40,'CSGYK mérleg'!E41)+88680000+9396842 -> 516410758 | F29: ='KESZI mérleg'!G39+'KESZI mérleg'!G40+'KESZI mérleg'!G41+'KESZI mérleg'!G42+'KESZI mérleg'!G43+'KESZI mérleg'!G44+'KESZI mérleg'!G45+'KESZI mérleg'!G46+'KESZI mérleg'!G48+'KESZI mérleg'!G49+'KESZI mérleg'!G50+'KESZI mérleg'!G51+'KESZI mérleg'!G57+'CSGYK mérleg'!F35+'CSGYK mérleg'!F36+'CSGYK mérleg'!F37+'CSGYK mérleg'!F40+'CSGYK mérleg'!F41 -> 516410758
A30: Felügyeleti szervtől átvett támogatás | B30: 0 | C30: 0 | D30: 0 | E30: 0 | F30: 0
A31: Hitelek, kölcsönök bevételei | B31: 0 | C31: 0 | D31: 0 | E31: 0 | F31: 0
A32: Pénzforgalmi bevételek összesen | B32: =SUM(B24+B25+B26+B28+B30+B31) -> 685435020 | C32: =SUM(C24+C25+C26+C28+C30+C31) -> 774259955 | D32: =SUM(D24+D25+D26+D28+D30+D31) -> 787710213 | E32: =SUM(E24+E25+E26+E28+E30+E31) -> 817258688 | F32: =SUM(F24+F25+F26+F28+F30+F31) -> 788064446
A33: Maradvány felhasználás | B33: 246670654 | C33: 264467498 | D33: 264467498 | E33: 264467498 | F33: 264467498
A34: Bevételek összesen: | B34: =B32+B33 -> 932105674 | C34: =C32+C33 -> 1038727453 | D34: =D32+D33 -> 1052177711 | E34: =E32+E33 -> 1081726186 | F34: =F32+F33 -> 1052531944 | H34: =F34-F17 -> 373263365
A36: Mosonmagyaróvár, 2019. április

Sheet egyensúly
G1: 3. SZÁMÚ MELLÉKLET
A2: MOSONMAGYARÓVÁR TÉRSÉGI TÁRSULÁS
A3: 2018. ÉVI KÖLTSÉGVETÉSI HATÁROZAT VÉGREHAJTÁSA
A5: Kiadások és Bevételek működési egyensúlya teljesítés alapján
A6: 2018. év
A7: adatok Ft-ban
A10: Működési kiadások Ft teljesítés
A11: Intézmény megnevezése | B11: Személyi juttatások | C11: Járulékok | D11: Dologi kiadások | E11: Ellátottak juttatása | F11: Tartalékképzés | G11: Átadott pénzeszközök működési | H11: Összesen
A12: Kistérségi Egyesített Szociális Intézmény | B12: ='KESZI mérleg'!G12 -> 416321825 | C12: ='KESZI mérleg'!G13 -> 85001699 | D12: ='KESZI mérleg'!G14 -> 222349137 | E12: ='KESZI mérleg'!G15 -> 586480 | F12: 0 | G12: ='KESZI mérleg'!G19 -> 1751396 | H12: =SUM(B12:G12) -> 726010537
A13: Család és Gyermekjóléti Központ | B13: ='CSGYK mérleg'!F12 -> 155919707 | C13: ='CSGYK mérleg'!F13 -> 31964606 | D13: ='CSGYK mérleg'!F14 -> 24560274 | E13: ='CSGYK mérleg'!F15 -> 363300 | F13: 0 | G13: 0 | H13: =SUM(B13:G13) -> 212807887
A14: Mosonmagyaróvár Térségi Társulás | B14: ='Társulás mérleg'!F12 -> 3077805 | C14: ='Társulás mérleg'!F13 -> 609757 | D14: ='Társulás mérleg'!F14 -> 27008856 | E14: 0 | F14: ='Társulás mérleg'!F21 -> 0 | G14: ='Társulás mérleg'!F15 -> 8341449 | H14: =SUM(B14:G14) -> 39037867
A15: Mindösszesen: | B15: =SUM(B12:B14) -> 575319337 | C15: =SUM(C12:C14) -> 117576062 | D15: =SUM(D12:D14) -> 273918267 | E15: =SUM(E12:E14) -> 949780 | F15: =SUM(F12:F14) -> 0 | G15: =SUM(G12:G14) -> 10092845 | H15: =SUM(H12:H14) -> 977856291
A18: Működési bevételek Ft teljesítés
A19: Intézmény megnevezése | B19: Intézmény saját bevételei | C19: Állami támogatás | D19: MÖK támogatás (hiányfinanszírozás) | E19: Egyéb támogatás értékű műk. Bevétel (jubileumi jut. és felmentési bér átadott forrás, illetve tagtelepülési támogatások) | F19: Feladatfinanszírozás | G19: Maradvány felhasználás | H19: Összesen
A20: Kistérségi Egyesített Szociális Intézmény | B20: ='KESZI mérleg'!G24 -> 281780802 | C20: ='KESZI mérleg'!G39+'KESZI mérleg'!G40+'KESZI mérleg'!G41+'KESZI mérleg'!G42+'KESZI mérleg'!G43+'KESZI mérleg'!G44+'KESZI mérleg'!G45+'KESZI mérleg'!G46+'KESZI mérleg'!G49+'KESZI mérleg'!G50+'KESZI mérleg'!G51+'KESZI mérleg'!G57 -> 338672364 | D20: ='KESZI mérleg'!G58+'KESZI mérleg'!G54+'KESZI mérleg'!G47 -> 63322924 | E20: =40225085-679759+5313261 -> 44858587 | F20: ='KESZI mérleg'!G48 -> 23742800 | G20: ='KESZI mérleg'!G32-egyensúly!E27+679759 -> 55329344 | H20: =SUM(B20:G20) -> 807706821
A21: Család és Gyermekjóléti Központ | B21: ='CSGYK mérleg'!F21 -> 2763794 | C21: ='CSGYK mérleg'!F35+'CSGYK mérleg'!F36+'CSGYK mérleg'!F37+'CSGYK mérleg'!F40+'CSGYK mérleg'!F41 -> 153995594 | D21: ='CSGYK mérleg'!F38+'CSGYK mérleg'!F42 -> 23088351 | E21: ='CSGYK mérleg'!E39+'CSGYK mérleg'!F24 -> 35620705 | F21: 0 | G21: ='CSGYK mérleg'!F29-2184909 -> 408927 | H21: =SUM(B21:G21) -> 215877371
A22: Mosonmagyaróvár Térségi Társulás | B22: ='Társulás mérleg'!F24 -> 3300344 | C22: 0 | D22: 0 | E22: 0 | F22: 0 | G22: ='Társulás mérleg'!F33-1218296 -> 263249202 | H22: =SUM(B22:G22) -> 266549546
A23: Mindösszesen: | B23: =SUM(B20:B22) -> 287844940 | C23: =SUM(C20:C22) -> 492667958 | D23: =SUM(D20:D22) -> 86411275 | E23: =SUM(E20:E22) -> 80479292 | F23: =SUM(F20:F22) -> 23742800 | G23: =SUM(G20:G22) -> 318987473 | H23: =SUM(H20:H22) -> 1290133738
A25: Felhalmozási kiadások Ft | E25: Felhalmozási bevételek Ft
A26: Intézmény megnevezése | B26: Teljesítés | D26: Intézmény megnevezése | E26: Teljesítés
A27: Kistérségi Egyesített Szociális Intézmény | B27: ='KESZI mérleg'!G17 -> 16914180 | D27: Kistérségi Egyesített Szociális Intézmény, Felújítási Alapból és maradvány terhére | E27: 16914180 | F27: =E27+H20 -> 824621001
A28: Család és Gyermekjóléti Központ | B28: ='CSGYK mérleg'!F17 -> 8154460 | D28: Család és Gyermekjóléti Központ felújítási alapból, és MÖK támogatás terhére | E28: ='CSGYK mérleg'!F43+2184909 -> 8154460 | F28: =E28+H21 -> 224031831
A29: Mosonmagyaróvár Térségi Társulás | B29: ='Társulás mérleg'!F18 -> 86884665 | D29: Mosonmagyaróvár Térségi Társulás (maradványfelhasználás, EFOP támogatás, MÖK támogatás) | E29: ='Társulás mérleg'!F26 -> 106713819 | F29: =E29+H22 -> 373263365
A30: Mindösszesen: | B30: =SUM(B27:B29) -> 111953305 | D30: Mindösszesen: | E30: =SUM(E27:E29) -> 131782459
A35: Mosonmagyaróvár, 2019. április

Sheet Létszámok
C1: 4. számú melléklet
A3: Mosonmagyaróvár Térségi Társulás
A4: és felügyelete alá tartozó költségvetési szerv
A5: 2018. évi költségvetéséről szóló határozat módosításához
A7: Költségvetési engedélyzett létszámhely
B9: adatok: fő-ben
A10: Megnevezés | B10: 2018. január 1. | C10: 2018. július 31. | D10: 2018. szeptember 30. | E10: 2018. december 31 | F10: Teljesítés 2018. december 31.
A11: (intézmény, szakfeladat, stb.) | B11: engedélyezett | C11: engedélyezett | D11: engedélyezett | E11: engedélyezett
B12: létszámhely | C12: létszámhely | D12: létszámhely | E12: létszámhely
A13: Család és Gyermekjóléti Központ | B13: =SUM(B14:B17) -> 57 | C13: =SUM(C14:C17) -> 57 | D13: =SUM(D14:D17) -> 57 | E13: =SUM(E14:E17) -> 57 | F13: =SUM(F14:F17) -> 43
A14: GyÁÓ | B14: 8 | C14: 8 | D14: 8 | E14: 8 | F14: 8
A15: Család- és Gyermekjóléti Szolgálat | B15: 21 | C15: 21 | D15: 21 | E15: 22 | F15: 20
A16: Család- és Gyermekjóléti Központ Hatósági és Speciális Munkacsoporot | B16: 17 | C16: 17 | D16: 17 | E16: 16 | F16: 14
A17: Óvodai és iskolai szociális segítő tevékenység (2018. szeptember 1-jétől) | B17: 11 | C17: 11 | D17: 11 | E17: 11 | F17: 1
A18: Kistérségi Egyesített Szociális Intézet | B18: =SUM(B19:B28) -> 146 | C18: =SUM(C19:C28) -> 146 | D18: =SUM(D19:D28) -> 147.5 | E18: =SUM(E19:E28) -> 147.5 | F18: =SUM(F19:F28) -> 122
A19: Aranykor, kp.-i irányítás | B19: 47 | C19: 47 | D19: 47 | E19: 47 | F19: 45
A20: Gondozóház, főzőkonyha | B20: 29 | C20: 29 | D20: 29 | E20: 30 | F20: 24
A21: Hajléktalanok Átmeneti Szállása | B21: 7 | C21: 7 | D21: 8.5 | E21: 8.5 | F21: 6
A22: Idősek klubja | B22: 15 | C22: 15 | D22: 15 | E22: 14 | F22: =9+4 -> 13
A23: FÉNI | B23: 6 | C23: 6 | D23: 6 | E23: 6 | F23: 5
A24: Nappali melegedő | B24: 2 | C24: 2 | D24: 2 | E24: 2 | F24: 1
A25: Szociális étkezés | B25: 1 | C25: 1 | D25: 1 | E25: 1 | F25: 1
A26: Házi segítségnyújtás | B26: 34 | C26: 34 | D26: 34 | E26: 34 | F26: 24
A27: Jelzőrendszer | B27: 1 | C27: 1 | D27: 1 | E27: 1 | F27: 1
A28: Szoc. foglalkoztatás | B28: 4 | C28: 4 | D28: 4 | E28: 4 | F28: 2
A29: Mosonmagyaróvár Térségi Társulás (projektekhez kapcsolódó megbízási díj került betervezésre, állandó létszámhely nincs | B29: 0 | C29: 0 | D29: 0 | E29: 0 | F29: 0
A30: Összesen: | B30: =SUM(B13+B18+B29) -> 203 | C30: =SUM(C13+C18+C29) -> 203 | D30: =SUM(D13+D18+D29) -> 204.5 | E30: =SUM(E13+E18+E29) -> 204.5 | F30: =SUM(F13+F18+F29) -> 165
A32: Mosonmagyaróvár, 2019. április

Sheet állami
F1: 5. számú melléklet
A3: MOSONMAGYARÓVÁR TÉRSÉGI TÁRSULÁS
A4: ÁLLAMI TÁMOGATÁS
A5: 2018. ÉVI KÖLTSÉGVETÉSI VÉGREHAJTÁSÁRÓL SZÓLÓ HATÁROZAT MELLÉKLETE
A6: adatok Ft-ban
A8: Jogcím | B8: Megnevezés | C8: Fajlagos mutató módosított | D8: Fajlagos mutató elszámolás szerint | E8: Eredeti előirányzat | F8: Módosított előirányzat | G8: Teljesítés | H8: Járó támogatás | I8: Elszámolás szerinti különbözet
A9: III.3.a. | B9: Család és Gyermekjóléti Szolgálat | C9: 3400000 | D9: =C9 -> 3400000 | E9: =53040000+35640000 -> 88680000 | F9: 88680000 | G9: 88680000 | H9: 88680000 | I9: =H9-G9 -> 0
A10: III.3.c. | B10: Szociális Étkeztetés | C10: 425 fő | D10: 421 fő | E10: 25271840 | F10: 25880800 | G10: 25880800 | H10: 25637216 | I10: =H10-G10 -> -243584
A11: III.3.d. | B11: Házi segítségnyújtás | C11: 148 fő | D11: 145 fő | E11: 71214000 | F11: 63492000 | G11: 63492000 | H11: 62205000 | I11: =H11-G11 -> -1287000
A12: III.3.f (2) | B12: Időskorúak nappali intézményi ellátása | C12: 55 fő | D12: 55 fő | E12: 8011500 | F12: 8992500 | G12: 8992500 | H12: 8992500 | I12: =H12-G12 -> 0
A13: III.3.g (2) (3) (6) | B13: Fogyatékos személyek nappali intézményi ellátása, foglalkoztatásban részesülő fogyatékos személyek, demens személyek nappali ellátása | C13: 17 fő, 10fő, 18fő | D13: 17 fő, 10fő, 18fő | E13: 20900000 | F13: 21450000 | G13: 21450000 | H13: 21450000 | I13: =H13-G13 -> 0
A14: III.3. i. (2) | B14: hajléktalanok napplai intézményi ellátása | C14: 36 fő | D14: 36 fő | E14: 8903520 | F14: 8903520 | G14: 8903520 | H14: 8903520 | I14: =H14-G14 -> 0
A15: III.3.k | B15: hajléktalanok átmeneti szállása | C15: 36 fő | D15: 36 fő | E15: 20482000 | F15: 19404000 | G15: 19404000 | H15: =G15+I15 -> 19404000 | I15: 0
A16: III.3.n. | B16: óvodai- iskolai nevelő munkát segítők támogatása | E16: 0 | F16: 9396842 | G16: 9396842 | H16: 9396842 | I16: 0
A17: III.4. | B17: szakmai dolgozók bértámogatása | C17: 35 fő | D17: 34 fő | E17: 99680000 | F17: 99680000 | G17: 99680000 | H17: 96832000 | I17: =H17-G17 -> -2848000
A18: III.4. b | B18: intézményi- üzemeltetési támgoatás | E18: 43008000 | F18: 48996000 | G18: 48996000 | H18: 45494763 | I18: =H18-G18 -> -3501237
B19: Összesen | E19: =SUM(E9:E18) -> 386150860 | F19: =SUM(F9:F18) -> 394875662 | G19: =SUM(G9:G18) -> 394875662 | H19: =SUM(H9:H18) -> 386995841 | I19: =SUM(I9:I18) -> -7879821
B20: - ebből CSGYK-t érintő elszámolási kötelezettség | I20: -186742
B21: - ebből KESZI-t érintő elszámolási kötelezettség | I21: =I19-I20 -> -7693079
B23: Bérkompenzáció | F23: Módosított előirányzat | G23: Teljesítés | H23: Járó támogatás
B24: KESZI | F24: ='KESZI mérleg'!G50 -> 4140204 | G24: =F24 -> 4140204 | H24: =G24 -> 4140204 | I24: =SUM(H24+H25) -> 7512124
B25: CSGYK | F25: ='CSGYK mérleg'!E41 -> 3371920 | G25: =F25 -> 3371920 | H25: =G25 -> 3371920 | I25: =SUM(G25+G24) -> 7512124
B26: Összevont ágazgati pótlék
B27: KESZI | F27: ='KESZI mérleg'!G49 -> 53854365 | G27: =F27 -> 53854365 | H27: =G27 -> 53854365 | I27: =SUM(H27+H28+H30) -> 88500172
B28: CSGYK | F28: ='CSGYK mérleg'!F40 -> 34215790 | G28: =F28 -> 34215790 | H28: =G28 -> 34215790 | I28: =SUM(G27:G28) -> 88070155
B30: Egészségügyi kiegészítő pótlék KESZI | F30: ='KESZI mérleg'!G51 -> 430017 | G30: =F30 -> 430017 | H30: =G30 -> 430017
B32: Hajléktalan ellátás rendkívüli minisztériumi támogatás átadása KESZI | F32: 1780000 | G32: 1780000 | H32: 1780000
B34: Fejlesztő foglalkoztatás támogatás KESZI | F34: 23742800 | G34: =F34 -> 23742800 | H34: =G34 -> 23742800
B35: Mindösszesen | F35: =F30+F28+F27+F25+F24+F19+F34+F32 -> 516410758 | G35: =G30+G28+G27+G25+G24+G19+G34+G32 -> 516410758 | H35: =H19+H24+H25+H27+H28+H30+H32+H34 -> 508530937
B38: Mosonmagyaróvár, 2019. április

Sheet vagyonmérleg
C1: 6. számú melléklet | G1: 6. számú melléklet
A2: Mosonmagyaróvár Térségi Társulás vagyonmérlege 2018. december 31. | E2: Család és Gyermekjóléti Központ vagyonmérleg 2018. december 31.
A3: Megnevezés | B3: Előző időszak | C3: Tárgyi időszak | E3: Megnevezés | F3: Előző időszak | G3: Tárgyi időszak
A4: A/II/2 Gépek, berendezések, felszerelések, járművek | B4: 410264 | C4: 197376 | E4: A/II/1 Ingatlanok és a kapcsolódó vagyoni értékű jogok | F4: 29395421 | G4: 29174698
A5: A/II/4 Beruházások, felújítások | B5: 11129199 | C5: 123914941 | E5: A/II/2 Gépek, berendezések, felszerelések, járművek | F5: 553982 | G5: 4000293
A6: A/II Tárgyi eszközök (=A/II/1+...+A/II/5) | B6: 11539463 | C6: 124112317 | E6: A/II Tárgyi eszközök (=A/II/1+...+A/II/5) | F6: 29949403 | G6: 33174991
A7: A) NEMZETI VAGYONBA TARTOZÓ BEFEKTETETT ESZKÖZÖK (=A/I+A/II+A/III+A/IV) | B7: 11539463 | C7: 124112317 | E7: A) NEMZETI VAGYONBA TARTOZÓ BEFEKTETETT ESZKÖZÖK (=A/I+A/II+A/III+A/IV) | F7: 29949403 | G7: 33174991
A8: C/III/1 Kincstáron kívüli forintszámlák | B8: 282732744 | C8: 97277679 | E8: C/III/1 Kincstáron kívüli forintszámlák | F8: 2403693 | G8: 2803037
A9: C/III/2 Kincstárban vezetett forintszámlák | B9: 0 | C9: 168328400 | E9: C/III Forintszámlák (=C/III/1+C/III/2) | F9: 2403693 | G9: 2803037
A10: C/III Forintszámlák (=C/III/1+C/III/2) | B10: 282732744 | C10: 265606079 | E10: C) PÉNZESZKÖZÖK (=C/I+…+C/IV) | F10: 2403693 | G10: 2803037
A11: C) PÉNZESZKÖZÖK (=C/I+…+C/IV) | B11: 282732744 | C11: 265606079 | E11: D/I/4 Költségvetési évben esedékes követelések működési bevételre (=D/I/4a+…+D/I/4i) | F11: 171705 | G11: 57230
A12: D/I/1 Költségvetési évben esedékes követelések működési célú támogatások bevételeire államháztartáson belülről (>=D/I/1a) | B12: 0 | C12: 1103130 | E12: D/I/4c - ebből: költségvetési évben esedékes követelések ellátási díjakra | F12: 171705 | G12: 57230
A13: D/I/4 Költségvetési évben esedékes követelések működési bevételre (=D/I/4a+…+D/I/4i) | B13: 34824 | C13: 0 | E13: D/I Költségvetési évben esedékes követelések (=D/I/1+…+D/I/8) | F13: 171705 | G13: 57230
A14: D/I/4a - ebből: költségvetési évben esedékes követelések készletértékesítés ellenértékére, szolgáltatások ellenértékére, közvetített szolgáltatások ellenértékére | B14: 29512 | C14: 0 | E14: D/III/1 Adott előlegek (=D/III/1a+…+D/III/1f) | F14: 189562 | G14: 265866
A15: D/I/4d - ebből: költségvetési évben esedékes követelések kiszámlázott általános forgalmi adóra | B15: 5312 | C15: 0 | E15: D/III/1e - ebből: foglalkoztatottaknak adott előlegek | F15: 189562 | G15: 265866
... A23: F/1 Eredményszemléletű bevételek aktív időbeli elhatárolása | B23: 0 | C23: 63056 | E23: G/IV Felhalmozott eredmény | F23: -19798651 | G23: -23674339
A24: F/2 Költségek, ráfordítások aktív időbeli elhatárolása | B24: 0 | C24: 3128 | E24: G/VI Mérleg szerinti eredmény | F24: -3875688 | G24: 1959095 | H24: =G24-F24 -> 5834783
A25: F) AKTÍV IDŐBELI ELHATÁROLÁSOK (=F/1+F/2+F/3) | B25: 0 | C25: 66184 | E25: G/ SAJÁT TŐKE (= G/I+…+G/VI) | F25: 20006379 | G25: 21965474
A26: ESZKÖZÖK ÖSSZESEN (=A+B+C+D+E+F) | B26: 294305031 | C26: 384509710 | E26: J/2 Költségek, ráfordítások passzív időbeli elhatárolása | F26: 12716184 | G26: 14344795
A27: G/I Nemzeti vagyon induláskori értéke | B27: 26710585 | C27: 26710585 | E27: J) PASSZÍV IDŐBELI ELHATÁROLÁSOK (=J/1+J/2+J/3) | F27: 12716184 | G27: 14344795
A28: G/II Nemzeti vagyon változásai | B28: -14898600 | C28: -527162 | E28: FORRÁSOK ÖSSZESEN (=G+H+I+J) | F28: 32722563 | G28: 36310269
A29: G/III Egyéb eszközök induláskori értéke és változásai | B29: 23290613 | C29: 23290613
A30: G/IV Felhalmozott eredmény | B30: -12468234 | C30: 14886982 | E30: Kistérségi Szociális Intézmény vagyonmérlege 2018. december 31.
A31: G/VI Mérleg szerinti eredmény | B31: 27355216 | C31: -18752439 | D31: =C31-B31 -> -46107655 | E31: Megnevezés | F31: Előző időszak | G31: Tárgyi időszak
A32: G/ SAJÁT TŐKE (= G/I+…+G/VI) | B32: 49989580 | C32: 45608579 | E32: 2 | F32: 3 | G32: 5
A33: H/I/3 Költségvetési évben esedékes kötelezettségek dologi kiadásokra | B33: 0 | C33: 25176 | E33: A/II/2 Gépek, berendezések, felszerelések, járművek | F33: 12147567 | G33: 8580645
A34: H/I/6 Költségvetési évben esedékes kötelezettségek beruházásokra | B34: 0 | C34: 5317327 | E34: A/II Tárgyi eszközök (=A/II/1+...+A/II/5) | F34: 399057842 | G34: 398050081
A35: H/I Költségvetési évben esedékes kötelezettségek (=H/I/1+…+H/I/9) | B35: 0 | C35: 5342503 | E35: A) NEMZETI VAGYONBA TARTOZÓ BEFEKTETETT ESZKÖZÖK (=A/I+A/II+A/III+A/IV) | F35: 399057842 | G35: 398050081
A36: H/II/3 Költségvetési évet követően esedékes kötelezettségek dologi kiadásokra | B36: 28293 | C36: 0 | E36: B/I/1 Vásárolt készletek | F36: 3957724 | G36: 4483837
A37: H/II/7 Költségvetési évet követően esedékes kötelezettségek felújításokra | B37: 0 | C37: 23621755 | E37: B/I Készletek (=B/I/1+…+B/I/5) | F37: 3957724 | G37: 4483837
A38: H/II Költségvetési évet követően esedékes kötelezettségek (=H/II/1+…+H/II/9) | B38: 28293 | C38: 23621755 | E38: B) NEMZETI VAGYONBA TARTOZÓ FORGÓESZKÖZÖK (= B/I+B/II) | F38: 3957724 | G38: 4483837
A39: H/III/5 Nemzeti vagyonba tartozó befektetett eszközökkel kapcsolatos egyes kötelezettség jellegű sajátos elszámolások | B39: 14898600 | C39: 527162 | E39: C/II/1 Forintpénztár | F39: 2803641 | G39: 2342025
A40: H/III Kötelezettség jellegű sajátos elszámolások (=H/III/1+…+H/III/10) | B40: 14898600 | C40: 527162 | E40: C/II/3 Betétkönyvek, csekkek, elektronikus pénzeszközök | F40: 0 | G40: 119971
A41: H) KÖTELEZETTSÉGEK (=H/I+H/II+H/III) | B41: 14926893 | C41: 29491420 | E41: C/II Pénztárak, csekkek, betétkönyvek (=C/II/1+C/II/2+C/II/3) | F41: 2803641 | G41: 2461996
A42: J/2 Költségek, ráfordítások passzív időbeli elhatárolása | B42: 247546 | C42: 347937 | E42: C/III/1 Kincstáron kívüli forintszámlák | F42: 72356093 | G42: 82672586
A43: J/3 Halasztott eredményszemléletű bevételek | B43: 229141012 | C43: 309061774 | E43: C/III Forintszámlák (=C/III/1+C/III/2) | F43: 72356093 | G43: 82672586
A44: J) PASSZÍV IDŐBELI ELHATÁROLÁSOK (=J/1+J/2+J/3) | B44: 229388558 | C44: 309409711 | E44: C) PÉNZESZKÖZÖK (=C/I+…+C/IV) | F44: 75159734 | G44: 85134582
A45: FORRÁSOK ÖSSZESEN (=G+H+I+J) | B45: 294305031 | C45: 384509710 | E45: D/I/4 Költségvetési évben esedékes követelések működési bevételre (=D/I/4a+…+D/I/4i) | F45: 8287375 | G45: 11107311
E46: D/I/4c - ebből: költségvetési évben esedékes követelések ellátási díjakra | F46: 7977716 | G46: 10782652
A47: Mosonmagyaróvár Térségi Társulás és intézményei összevont vagyonmérlege 2018. december 31. | E47: D/I/4e - ebből: költségvetési évben esedékes követelések általános forgalmi adó visszatérítésére | F47: 0 | G47: 15000
A48: Megnevezés | B48: Előző időszak | C48: Tárgyi időszak | E48: D/I/4i - ebből: költségvetési évben esedékes követelések egyéb működési bevételekre | F48: 309659 | G48: 309659
A49: A/II/1 Ingatlanok és a kapcsolódó vagyoni értékű jogok | B49: 416305696 | C49: 418644134 | D49: =C49-B49 -> 2338438 | E49: D/I Költségvetési évben esedékes követelések (=D/I/1+…+D/I/8) | F49: 8287375 | G49: 11107311
A50: A/II/2 Gépek, berendezések, felszerelések, járművek | B50: 13111813 | C50: 12778314 | D50: =C50-B50 -> -333499 | E50: D/III/1 Adott előlegek (=D/III/1a+…+D/III/1f) | F50: 805538 | G50: 621564
A51: A/II/4 Beruházások, felújítások | B51: 11129199 | C51: 123914941 | D51: =C51-B51 -> 112785742 | E51: D/III/1e - ebből: foglalkoztatottaknak adott előlegek | F51: 805538 | G51: 621564
A52: A/II Tárgyi eszközök (=A/II/1+...+A/II/5) | B52: 440546708 | C52: 555337389 | E52: D/III Követelés jellegű sajátos elszámolások (=D/III/1+…+D/III/9) | F52: 805538 | G52: 621564
A53: A) NEMZETI VAGYONBA TARTOZÓ BEFEKTETETT ESZKÖZÖK (=A/I+A/II+A/III+A/IV) | B53: 440546708 | C53: 555337389 | E53: D) KÖVETELÉSEK (=D/I+D/II+D/III) | F53: 9092913 | G53: 11728875
A54: B/I/1 Vásárolt készletek | B54: 3957724 | C54: 4483837 | D54: =C54-B54 -> 526113 | E54: E/I/2 Más előzetesen felszámított levonható általános forgalmi adó | F54: 995318 | G54: 1153005
A55: B/I Készletek (=B/I/1+…+B/I/5) | B55: 3957724 | C55: 4483837 | E55: E/I Előzetesen felszámított általános forgalmi adó elszámolása (=E/I/1+…+E/I/4) | F55: 995318 | G55: 1153005
A56: B) NEMZETI VAGYONBA TARTOZÓ FORGÓESZKÖZÖK (= B/I+B/II) | B56: 3957724 | C56: 4483837 | E56: E/II/2 Más fizetendő általános forgalmi adó | F56: -556559 | G56: -1120768
A57: C/II/1 Forintpénztár | B57: 2803641 | C57: 2342025 | D57: =C57-B57 -> -461616 | E57: E/II Fizetendő általános forgalmi adó elszámolása (=E/II/1+E/II/2) | F57: -556559 | G57: -1120768
A58: C/II/3 Betétkönyvek, csekkek, elektronikus pénzeszközök | B58: 0 | C58: 119971 | D58: =C58-B58 -> 119971 | E58: E) EGYÉB SAJÁTOS ELSZÁMOLÁSOK (=E/I+E/II+E/III) | F58: 438759 | G58: 32237
A59: C/II Pénztárak, csekkek, betétkönyvek (=C/II/1+C/II/2+C/II/3) | B59: 2803641 | C59: 2461996 | D59: =C59-B59 -> -341645 | E59: F/2 Költségek, ráfordítások aktív időbeli elhatárolása | F59: 577927 | G59: 605368
A60: C/III/1 Kincstáron kívüli forintszámlák | B60: 357492530 | C60: 182753302 | D60: =C60-B60 -> -174739228 | E60: F) AKTÍV IDŐBELI ELHATÁROLÁSOK (=F/1+F/2+F/3) | F60: 577927 | G60: 605368
A61: C/III/2 Kincstárban vezetett forintszámlák | B61: 0 | C61: 168328400 | D61: =C61-B61 -> 168328400 | E61: ESZKÖZÖK ÖSSZESEN (=A+B+C+D+E+F) | F61: 488284899 | G61: 500034980
A62: C/III Forintszámlák (=C/III/1+C/III/2) | B62: 357492530 | C62: 351081702 | D62: =C62-B62 -> -6410828 | E62: G/I Nemzeti vagyon induláskori értéke | F62: 545920165 | G62: 545920165
A63: C) PÉNZESZKÖZÖK (=C/I+…+C/IV) | B63: 360296171 | C63: 353543698 | D63: =C63-B63 -> -6752473 | E63: G/III Egyéb eszközök induláskori értéke és változásai | F63: 1000000 | G63: 1000000
A64: D/I/1 Költségvetési évben esedékes követelések működési célú támogatások bevételeire államháztartáson belülről (>=D/I/1a) | B64: 0 | C64: 1103130 | D64: =C64-B64 -> 1103130 | E64: G/IV Felhalmozott eredmény | F64: -115388412 | G64: -99779614
A65: D/I/4 Költségvetési évben esedékes követelések működési bevételre (=D/I/4a+…+D/I/4i) | B65: 8493904 | C65: 11164541 | D65: =C65-B65 -> 2670637 | E65: G/VI Mérleg szerinti eredmény | F65: 15608798 | G65: 8476171 | H65: =G65-F65 -> -7132627
A66: D/I/4a - ebből: költségvetési évben esedékes követelések készletértékesítés ellenértékére, szolgáltatások ellenértékére, közvetített szolgáltatások ellenértékére | B66: 29512 | C66: 0 | D66: =C66-B66 -> -29512 | E66: G/ SAJÁT TŐKE (= G/I+…+G/VI) | F66: 447140551 | G66: 455616722
A67: D/I/4c - ebből: költségvetési évben esedékes követelések ellátási díjakra | B67: 8149421 | C67: 10839882 | D67: =C67-B67 -> 2690461 | E67: H/III/8 Letétre, megőrzésre, fedezetkezelésre átvett pénzeszközök, biztosítékok | F67: 2803641 | G67: 2461996
A68: D/I/4d - ebből: költségvetési évben esedékes követelések kiszámlázott általános forgalmi adóra | B68: 5312 | C68: 0 | D68: =C68-B68 -> -5312 | E68: H/III Kötelezettség jellegű sajátos elszámolások (=H/III/1+…+H/III/10) | F68: 2803641 | G68: 2461996
A69: D/I/4e - ebből: költségvetési évben esedékes követelések általános forgalmi adó visszatérítésére | B69: 0 | C69: 15000 | D69: =C69-B69 -> 15000 | E69: H) KÖTELEZETTSÉGEK (=H/I+H/II+H/III) | F69: 2803641 | G69: 2461996
A70: D/I/4i - ebből: költségvetési évben esedékes követelések egyéb működési bevételekre | B70: 309659 | C70: 309659 | D70: =C70-B70 -> 0 | E70: J/2 Költségek, ráfordítások passzív időbeli elhatárolása | F70: 38340707 | G70: 41956262
A71: D/I Költségvetési évben esedékes követelések (=D/I/1+…+D/I/8) | B71: 8493904 | C71: 12267671 | D71: =C71-B71 -> 3773767 | E71: J) PASSZÍV IDŐBELI ELHATÁROLÁSOK (=J/1+J/2+J/3) | F71: 38340707 | G71: 41956262
A72: D/III/1 Adott előlegek (=D/III/1a+…+D/III/1f) | B72: 995100 | C72: 887430 | D72: =C72-B72 -> -107670 | E72: FORRÁSOK ÖSSZESEN (=G+H+I+J) | F72: 488284899 | G72: 500034980
A73: D/III/1e - ebből: foglalkoztatottaknak adott előlegek | B73: 995100 | C73: 887430 | D73: =C73-B73 -> -107670
A74: D/III Követelés jellegű sajátos elszámolások (=D/III/1+…+D/III/9) | B74: 995100 | C74: 887430 | D74: =C74-B74 -> -107670
A75: D) KÖVETELÉSEK (=D/I+D/II+D/III) | B75: 9489004 | C75: 13155101 | D75: =C75-B75 -> 3666097
A76: E/I/2 Más előzetesen felszámított levonható általános forgalmi adó | B76: 995318 | C76: 1165005 | D76: =C76-B76 -> 169687
A77: E/I Előzetesen felszámított általános forgalmi adó elszámolása (=E/I/1+…+E/I/4) | B77: 995318 | C77: 1165005 | D77: =C77-B77 -> 169687
A78: E/II/2 Más fizetendő általános forgalmi adó | B78: -558559 | C78: -7510768 | D78: =C78-B78 -> -6952209
A79: E/II Fizetendő általános forgalmi adó elszámolása (=E/II/1+E/II/2) | B79: -558559 | C79: -7510768 | D79: =C79-B79 -> -6952209
A80: E) EGYÉB SAJÁTOS ELSZÁMOLÁSOK (=E/I+E/II+E/III) | B80: 436759 | C80: -6345763 | D80: =C80-B80 -> -6782522
A81: F/1 Eredményszemléletű bevételek aktív időbeli elhatárolása | B81: 0 | C81: 63056 | D81: =C81-B81 -> 63056
A82: F/2 Költségek, ráfordítások aktív időbeli elhatárolása | B82: 586127 | C82: 617641 | D82: =C82-B82 -> 31514
A83: F) AKTÍV IDŐBELI ELHATÁROLÁSOK (=F/1+F/2+F/3) | B83: 586127 | C83: 680697 | D83: =C83-B83 -> 94570
A84: ESZKÖZÖK ÖSSZESEN (=A+B+C+D+E+F) | B84: 815312493 | C84: 920854959 | D84: =C84-B84 -> 105542466
... A104: FORRÁSOK ÖSSZESEN (=G+H+I+J) | B104: 815312493 | C104: 920854959 | D104: =C104-B104 -> 105542466

Sheet eredménykimutatás
C1: 7. számú melléklet | G1: 7. számú melléklet
A2: Mosonmagyaróvár Térségi Társulás eredménykimutatás 2018. december 31. | E2: Család és Gyermekjóléti Központ eredménykimutatás 2018. december 31.
A3: Megnevezés | B3: Előző időszak | C3: Tárgyi időszak | E3: Megnevezés | F3: Előző időszak | G3: Tárgyi időszak
A4: 02 Eszközök és szolgáltatások értékesítése nettó eredményszemléletű bevételei | B4: 15677133 | C4: 3142351 | E4: 02 Eszközök és szolgáltatások értékesítése nettó eredményszemléletű bevételei | F4: 1987365 | G4: 1290475
A5: I Tevékenység nettó eredményszemléletű bevétele (=01+02+03) | B5: 15677133 | C5: 3142351 | E5: I Tevékenység nettó eredményszemléletű bevétele (=01+02+03) | F5: 1987365 | G5: 1290475
A6: 07 Egyéb működési célú támogatások eredményszemléletű bevételei | B6: 650468520 | C6: 679153413 | E6: 06 Központi működési célú támogatások eredményszemléletű bevételei | F6: 193257767 | G6: 213305406
A7: 08 Felhalmozási célú támogatások eredményszemléletű bevételei | B7: 619767 | C7: 26793057 | E7: 07 Egyéb működési célú támogatások eredményszemléletű bevételei | F7: 3717151 | G7: 5496905
A8: 09 Különféle egyéb eredményszemléletű bevételek | B8: 90805 | C8: 80107 | E8: 09 Különféle egyéb eredményszemléletű bevételek | F8: 1136598 | G8: 1358844
A9: III Egyéb eredményszemléletű bevételek (=06+07+08+09) | B9: 651179092 | C9: 706026577 | E9: III Egyéb eredményszemléletű bevételek (=06+07+08+09) | F9: 198111516 | G9: 220161155
A10: 11 Igénybe vett szolgáltatások értéke | B10: 1715707 | C10: 4643328 | E10: 10 Anyagköltség | F10: 3066558 | G10: 3707923
A11: 13 Eladott (közvetített) szolgáltatások értéke | B11: 15614144 | C11: 671763 | E11: 11 Igénybe vett szolgáltatások értéke | F11: 16062594 | G11: 17439285
A12: IV Anyagjellegű ráfordítások (=10+11+12+13) | B12: 17329851 | C12: 5315091 | E12: IV Anyagjellegű ráfordítások (=10+11+12+13) | F12: 19129152 | G12: 21147208
A13: 15 Személyi jellegű egyéb kifizetések | B13: 1080832 | C13: 3118048 | E13: 14 Bérköltség | F13: 129889672 | G13: 141786423
A14: 16 Bérjárulékok | B14: 313688 | C14: 617448 | E14: 15 Személyi jellegű egyéb kifizetések | F14: 16436974 | G14: 15609477
A15: V Személyi jellegű ráfordítások (=14+15+16) | B15: 1394520 | C15: 3735496 | E15: 16 Bérjárulékok | F15: 33247800 | G15: 31973449
... A20: VIII Pénzügyi műveletek eredményszemléletű bevételei (=17+18+19+20+21) | B20: 443 | C20: 154 | E20: C) MÉRLEG SZERINTI EREDMÉNY (=±A±B) | F20: -3875688 | G20: 1959095
A21: 26 Pénzügyi műveletek egyéb ráfordításai (>=26a+26b) | B21: 130 | C21: 0
A22: IX Pénzügyi műveletek ráfordításai (=22+23+24+25+26) | B22: 130 | C22: 0 | E22: Kistérségi Szociális Intézmény eredménykimutatás 2018. december 31.
A23: B) PÉNZÜGYI MŰVELETEK EREDMÉNYE (=VIII-IX) | B23: 313 | C23: 154 | E23: Megnevezés | F23: Előző időszak | G23: Tárgyi időszak
A24: C) MÉRLEG SZERINTI EREDMÉNY (=±A±B) | B24: 27355216 | C24: -18752439 | E24: 02 Eszközök és szolgáltatások értékesítése nettó eredményszemléletű bevételei | F24: 258764042 | G24: 272238496
E25: I Tevékenység nettó eredményszemléletű bevétele (=01+02+03) | F25: 258764042 | G25: 272238496
A26: Mosonmagyaróvár Térségi Társulás és intézményei összevont eredménykimutatás 2018. december 31. | E26: 06 Központi működési célú támogatások eredményszemléletű bevételei | F26: 419519617 | G26: 465963173
A27: Megnevezés | B27: Előző időszak | C27: Tárgyi időszak | E27: 07 Egyéb működési célú támogatások eredményszemléletű bevételei | F27: 3946685 | G27: 5313261
A28: 02 Eszközök és szolgáltatások értékesítése nettó eredményszemléletű bevételei | B28: 276428540 | C28: 276671322 | E28: 09 Különféle egyéb eredményszemléletű bevételek | F28: 18589521 | G28: 1532562
A29: I Tevékenység nettó eredményszemléletű bevétele (=01+02+03) | B29: 276428540 | C29: 276671322 | E29: III Egyéb eredményszemléletű bevételek (=06+07+08+09) | F29: 442055823 | G29: 472808996
A30: 06 Központi működési célú támogatások eredményszemléletű bevételei | B30: 612777384 | C30: 679268579 | E30: 10 Anyagköltség | F30: 59202815 | G30: 62467418
A31: 07 Egyéb működési célú támogatások eredményszemléletű bevételei | B31: 658132356 | C31: 689963579 | E31: 11 Igénybe vett szolgáltatások értéke | F31: 105078994 | G31: 119763494
A32: 08 Felhalmozási célú támogatások eredményszemléletű bevételei | B32: 619767 | C32: 26793057 | E32: 13 Eladott (közvetített) szolgáltatások értéke | F32: 1421202 | G32: 1486326
A33: 09 Különféle egyéb eredményszemléletű bevételek | B33: 19816924 | C33: 2971513 | E33: IV Anyagjellegű ráfordítások (=10+11+12+13) | F33: 165703011 | G33: 183717238
A34: III Egyéb eredményszemléletű bevételek (=06+07+08+09) | B34: 1291346431 | C34: 1398996728 | E34: 14 Bérköltség | F34: 344992476 | G34: 376049944
A35: 10 Anyagköltség | B35: 62269373 | C35: 66175341 | E35: 15 Személyi jellegű egyéb kifizetések | F35: 37453641 | G35: 41780180
A36: 11 Igénybe vett szolgáltatások értéke | B36: 122857295 | C36: 141846107 | E36: 16 Bérjárulékok | F36: 86074475 | G36: 85280597
A37: 13 Eladott (közvetített) szolgáltatások értéke | B37: 17035346 | C37: 2158089 | E37: V Személyi jellegű ráfordítások (=14+15+16) | F37: 468520592 | G37: 503110721
A38: IV Anyagjellegű ráfordítások (=10+11+12+13) | B38: 202162014 | C38: 210179537 | E38: VI Értékcsökkenési leírás | F38: 19628886 | G38: 14508844
A39: 14 Bérköltség | B39: 474882148 | C39: 517836367 | E39: VII Egyéb ráfordítások | F39: 31358578 | G39: 35234518
... A41: 16 Bérjárulékok | B41: 119635963 | C41: 117871494 | E41: C) MÉRLEG SZERINTI EREDMÉNY (=±A±B) | F41: 15608798 | G41: 8476171
A42: V Személyi jellegű ráfordítások (=14+15+16) | B42: 649489558 | C42: 696215566
A43: VI Értékcsökkenési leírás | B43: 21339633 | C43: 18163713
A44: VII Egyéb ráfordítások | B44: 655695753 | C44: 759426561
A45: A) TEVÉKENYSÉGEK EREDMÉNYE (=I±II+III-IV-V-VI-VII) | B45: 39088013 | C45: -8317327
A46: 20 Egyéb kapott (járó) kamatok és kamatjellegű eredményszemléletű bevételek | B46: 443 | C46: 154
A47: VIII Pénzügyi műveletek eredményszemléletű bevételei (=17+18+19+20+21) | B47: 443 | C47: 154
A48: 26 Pénzügyi műveletek egyéb ráfordításai (>=26a+26b) | B48: 130 | C48: 0
A49: IX Pénzügyi műveletek ráfordításai (=22+23+24+25+26) | B49: 130 | C49: 0
A50: B) PÉNZÜGYI MŰVELETEK EREDMÉNYE (=VIII-IX) | B50: 313 | C50: 154
A51: C) MÉRLEG SZERINTI EREDMÉNY (=±A±B) | B51: 39088326 | C51: -8317173

Sheet maradvány kimutatás
B1: 8. számú melléklet | E1: 8. számú melléklet
A2: Mosonmagyaróvár Térségi Társulás maradványkimutatás 2018. december 31. | D2: Család és Gyermekjóléti Központ maradványkimutatás 2018. december 31.
A3: Megnevezés | B3: Összeg | D3: Megnevezés | E3: Összeg
A4: 01 Alaptevékenység költségvetési bevételei | B4: 788064446 | D4: 01 Alaptevékenység költségvetési bevételei | E4: 8132589
A5: 02 Alaptevékenység költségvetési kiadásai | B5: 125922532 | D5: 02 Alaptevékenység költségvetési kiadásai | E5: 220962347
A6: I Alaptevékenység költségvetési egyenlege (=01-02) | B6: 662141914 | D6: I Alaptevékenység költségvetési egyenlege (=01-02) | E6: -212829758
A7: 03 Alaptevékenység finanszírozási bevételei | B7: 264467498 | D7: 03 Alaptevékenység finanszírozási bevételei | E7: 215899242
A8: 04 Alaptevékenység finanszírozási kiadásai | B8: 679268579 | D8: II Alaptevékenység finanszírozási egyenlege (=03-04) | E8: 215899242
A9: II Alaptevékenység finanszírozási egyenlege (=03-04) | B9: -414801081 | D9: A) Alaptevékenység maradványa (=±I±II) | E9: 3069484
A10: A) Alaptevékenység maradványa (=±I±II) | B10: 247340833 | D10: C) Összes maradvány (=A+B) | E10: 3069484
A11: C) Összes maradvány (=A+B) | B11: 247340833 | D11: E) Alaptevékenység szabad maradványa (=A-D) | E11: 3069484
A12: E) Alaptevékenység szabad maradványa (=A-D) | B12: 247340833
A13: Mosonmagyaróvár Térségi Társulás és intézményei összevont maradványkimutatás 2018. december 31. | D13: Kistérségi Szociális Intézmény maradványkimutatás 2018. december 31.
A14: Megnevezés | B14: Összeg | D14: Megnevezés | E14: Összeg
A15: 01 Alaptevékenység költségvetési bevételei | B15: 1083291098 | D15: 01 Alaptevékenység költségvetési bevételei | E15: 287094063
A16: 02 Alaptevékenység költségvetési kiadásai | B16: 1089809596 | D16: 02 Alaptevékenység költségvetési kiadásai | E16: 742924717
A17: I Alaptevékenység költségvetési egyenlege (=01-02) | B17: -6518498 | D17: I Alaptevékenység költségvetési egyenlege (=01-02) | E17: -455830654
A18: 03 Alaptevékenység finanszírozási bevételei | B18: 1017893678 | D18: 03 Alaptevékenység finanszírozási bevételei | E18: 537526938
A19: 04 Alaptevékenység finanszírozási kiadásai | B19: 679268579 | D19: II Alaptevékenység finanszírozási egyenlege (=03-04) | E19: 537526938
A20: II Alaptevékenység finanszírozási egyenlege (=03-04) | B20: 338625099 | D20: A) Alaptevékenység maradványa (=±I±II) | E20: 81696284
A21: A) Alaptevékenység maradványa (=±I±II) | B21: 332106601 | D21: C) Összes maradvány (=A+B) | E21: 81696284
A22: C) Összes maradvány (=A+B) | B22: 332106601 | D22: E) Alaptevékenység szabad maradványa (=A-D) | E22: 81696284
A23: E) Alaptevékenység szabad maradványa (=A-D) | B23: 332106601

Sheet kiadások
G1: 9. számú melléklet
A2: Mosonmagyaróvár Térségi Társulás teljesített kiadásai 2018. december 31-ig
A3: Megnevezés | B3: Összesen | C3: 011130 Önkormányzatok és önkormányzati hivatalok jogalkotó és általános igazgatási tevékenysége | D3: 018030 Támogatási célú finanszírozási műveletek | E3: 062020 Településfejlesztési projektek és támogatásuk | F3: 084032 Civil szervezetek programtámogatása | G3: 107013 Hajléktalanok átmeneti ellátása
A4: Külső személyi juttatások (=16+17+18) (K12) | B4: 3077805 | C4: 303347 | D4: 0 | E4: 1734458 | F4: 0 | G4: 1040000
A5: Személyi juttatások (=15+19) (K1) | B5: 3077805 | C5: 303347 | D5: 0 | E5: 1734458 | F5: 0 | G5: 1040000
A6: Munkaadókat terhelő járulékok és szociális hozzájárulási adó (=22+…+27) (K2) | B6: 609757 | C6: 100258 | D6: 0 | E6: 311379 | F6: 0 | G6: 198120
A7: Informatikai szolgáltatások igénybevétele (K321) | B7: 199500 | C7: 199500 | D7: 0 | E7: 0 | F7: 0 | G7: 0
A8: Egyéb kommunikációs szolgáltatások (K322) | B8: 48000 | C8: 48000 | D8: 0 | E8: 0 | F8: 0 | G8: 0
A9: Kommunikációs szolgáltatások (=32+33) (K32) | B9: 247500 | C9: 247500 | D9: 0 | E9: 0 | F9: 0 | G9: 0
A10: Közvetített szolgáltatások (>=41) (K335) | B10: 619306 | C10: 619306 | D10: 0 | E10: 0 | F10: 0 | G10: 0
A11: Szakmai tevékenységet segítő szolgáltatások (K336) | B11: 530000 | C11: 0 | D11: 0 | E11: 0 | F11: 0 | G11: 530000
A12: Egyéb szolgáltatások (>=44) (K337) | B12: 3868956 | C12: 2121526 | D12: 0 | E12: 1429558 | F12: 0 | G12: 317872
A13: Szolgáltatási kiadások (=35+36+37+39+40+42+43) (K33) | B13: 5018262 | C13: 2740832 | D13: 0 | E13: 1429558 | F13: 0 | G13: 847872
A14: Működési célú előzetesen felszámított általános forgalmi adó (K351) | B14: 595503 | C14: 159017 | D14: 0 | E14: 293386 | F14: 0 | G14: 143100
A15: Fizetendő általános forgalmi adó (K352) | B15: 21038000 | C15: 2000 | D15: 0 | E15: 21036000 | F15: 0 | G15: 0
... A31: Kiadások összesen (=265+305) (K1-K9) | B31: 805191111 | C31: 3662545 | D31: 682868579 | E31: 109466946 | F31: 4741449 | G31: 4451592
A34: Család és Gyermekjóléti Központ teljesített kiadások 2018. december 31-ig
A35: Megnevezés | B35: Összesen | C35: 104012 Gyermekek átmeneti ellátása | D35: 104030 Gyermekek napközbeni ellátása | E35: 104042 Család és gyermekjóléti szolgáltatások | F35: 104043 Család és gyermekjóléti központ
A36: Törvény szerinti illetmények, munkabérek (K1101) | B36: 126386527 | C36: 22679145 | D36: 0 | E36: 58010776 | F36: 45696606
A37: Céljuttatás, projektprémium (K1103) | B37: 11599658 | C37: 1726605 | D37: 0 | E37: 5464877 | F37: 4408176
A38: Készenléti, ügyeleti, helyettesítési díj, túlóra, túlszolgálat (K1104) | B38: 2266757 | C38: 592885 | D38: 0 | E38: 947250 | F38: 726622
A39: Béren kívüli juttatások (K1107) | B39: 4374303 | C39: 783320 | D39: 0 | E39: 2107649 | F39: 1483334
A40: Közlekedési költségtérítés (K1109) | B40: 5210771 | C40: 229475 | D40: 0 | E40: 4025442 | F40: 955854
A41: Egyéb költségtérítések (K1110) | B41: 668000 | C41: 103000 | D41: 0 | E41: 341000 | F41: 224000
A42: Foglalkoztatottak egyéb személyi juttatásai (>=14) (K1113) | B42: 4962883 | C42: 1280938 | D42: 0 | E42: 1995163 | F42: 1686782
A43: Külső személyi juttatások (=16+17+18) (K12) | B43: 450808 | C43: 0 | D43: 0 | E43: 198400 | F43: 252408
A44: Személyi juttatások (=15+19) (K1) | B44: 155919707 | C44: 27395368 | D44: 0 | E44: 73090557 | F44: 55433782
A45: Munkaadókat terhelő járulékok és szociális hozzájárulási adó (=22+…+27) (K2) | B45: 31964606 | C45: 5549959 | D45: 0 | E45: 14748879 | F45: 11665768
A46: Szakmai anyagok beszerzése (K311) | B46: 299509 | C46: 18507 | D46: 0 | E46: 240521 | F46: 40481
A47: Üzemeltetési anyagok beszerzése (K312) | B47: 3414986 | C47: 488521 | D47: 0 | E47: 1481887 | F47: 1444578
... A78: Kiadások összesen (=265+305) (K1-K9) | B78: 220962347 | C78: 41301686 | D78: 5263 | E78: 97128173 | F78: 82527225
A81: Kistérségi Szociális Intézmény teljesített kiadások 2018. december 31-ig
A82: Megnevezés | B82: Összesen | C82: 018030 Támogatási célú finanszírozási műveletek | D82: 101221 Fogyatékossággal élők nappali ellátása | E82: 102023 Időskorúak tartós bentlakásos ellátása | F82: 102024 Demens betegek tartós bentlakásos ellátása | G82: 102025 Időskorúak átmeneti ellátása | H82: 102026 Demens betegek átmeneti ellátása | I82: 102031 Idősek nappali ellátása | J82: 102032 Demens betegek nappali ellátása | K82: 107013 Hajléktalanok átmeneti ellátása | L82: 107015 Hajléktalanok nappali ellátása | M82: 107030 Szociális foglalkoztatás, fejlesztő foglalkoztatás | N82: 107051 Szociális étkeztetés | O82: 107052 Házi segítségnyújtás | P82: 107053 Jelzőrendszeres házi segítségnyújtás
A83: Törvény szerinti illetmények, munkabérek (K1101) | B83: 331032356 | C83: 0 | D83: 15570424 | E83: 71045964 | F83: 61871186 | G83: 35862788 | H83: 15856850 | I83: 23397346 | J83: 11580529 | K83: 19417894 | L83: 6094350 | M83: 5642678 | N83: 5063138 | O83: 56823043 | P83: 2806166
A84: Céljuttatás, projektprémium (K1103) | B84: 33090636 | C84: 0 | D84: 1688589 | E84: 7193486 | F84: 6340331 | G84: 3443457 | H84: 1563685 | I84: 2088745 | J84: 1056132 | K84: 1572063 | L84: 633784 | M84: 601133 | N84: 611314 | O84: 5964393 | P84: 333524
A85: Készenléti, ügyeleti, helyettesítési díj, túlóra, túlszolgálat (K1104) | B85: 10426119 | C85: 0 | D85: 12317 | E85: 2276023 | F85: 2059926 | G85: 1342890 | H85: 460171 | I85: 9340 | J85: 17026 | K85: 507881 | L85: 155941 | M85: 0 | N85: 31304 | O85: 0 | P85: 3553300
A86: Jubileumi jutalom (K1106) | B86: 2536566 | C86: 0 | D86: 11481 | E86: 267300 | F86: 263348 | G86: 449416 | H86: 151036 | I86: 361000 | J86: 8114 | K86: 0 | L86: 361000 | M86: 0 | N86: 27805 | O86: 636066 | P86: 0
A87: Béren kívüli juttatások (K1107) | B87: 11931250 | C87: 0 | D87: 565621 | E87: 2522564 | F87: 2181474 | G87: 1280961 | H87: 552943 | I87: 850460 | J87: 424192 | K87: 576708 | L87: 200000 | M87: 200000 | N87: 202952 | O87: 2273375 | P87: 100000
A88: Közlekedési költségtérítés (K1109) | B88: 5224898 | C88: 0 | D88: 432814 | E88: 1261499 | F88: 1252525 | G88: 657544 | H88: 257027 | I88: 221033 | J88: 169412 | K88: 334307 | L88: 54450 | M88: 190740 | N88: 68166 | O88: 325381 | P88: 0
A89: Egyéb költségtérítések (K1110) | B89: 2031200 | C89: 0 | D89: 78420 | E89: 462132 | F89: 419930 | G89: 227563 | H89: 122982 | I89: 115420 | J89: 58461 | K89: 77860 | L89: 26000 | M89: 24000 | N89: 32012 | O89: 374420 | P89: 12000
A90: Foglalkoztatottak egyéb személyi juttatásai (>=14) (K1113) | B90: 9118042 | C90: 0 | D90: 592737 | E90: 1604003 | F90: 1565128 | G90: 1092715 | H90: 474575 | I90: 669141 | J90: 532864 | K90: 497642 | L90: 362475 | M90: 302919 | N90: 96814 | O90: 1191429 | P90: 135600
A91: Külső személyi juttatások (=16+17+18) (K12) | B91: 10930758 | C91: 0 | D91: 14028 | E91: 1483633 | F91: 546769 | G91: 105210 | H91: 105210 | I91: 14028 | J91: 0 | K91: 14028 | L91: 0 | M91: 6607328 | N91: 14028 | O91: 651228 | P91: 1375268
A92: Személyi juttatások (=15+19) (K1) | B92: 416321825 | C92: 0 | D92: 18966431 | E92: 88116604 | F92: 76500617 | G92: 44462544 | H92: 19544479 | I92: 27726513 | J92: 13846730 | K92: 22998383 | L92: 7888000 | M92: 13568798 | N92: 6147533 | O92: 68239335 | P92: 8315858
A93: Munkaadókat terhelő járulékok és szociális hozzájárulási adó (=22+…+27) (K2) | B93: 85001699 | C93: 0 | D93: 3783027 | E93: 18268085 | F93: 16151456 | G93: 9616427 | H93: 4431811 | I93: 5606860 | J93: 2936631 | K93: 4591929 | L93: 1605302 | M93: 1352674 | N93: 1285692 | O93: 13684589 | P93: 1687216
A94: Szakmai anyagok beszerzése (K311) | B94: 3416893 | C94: 0 | D94: 61354 | E94: 1134338 | F94: 1076827 | G94: 609566 | H94: 214552 | I94: 158635 | J94: 56134 | K94: 72552 | L94: 21524 | M94: 0 | N94: 1429 | O94: 863 | P94: 9119
... A132: Kiadások összesen (=265+305) (K1-K9) | B132: 742924717 | C132: 1751396 | D132: 31860797 | E132: 160098955 | F132: 126485841 | G132: 77200540 | H132: 34439170 | I132: 39068436 | J132: 21531750 | K132: 35936859 | L132: 11754466 | M132: 17239791 | N132: 74483458 | O132: 87293024 | P132: 23780234
A134: 2019. április

Sheet bevételek
A1: Mosonmagyaróvár Térségi Társulás teljesített bevétel 2018. december 31-ig | H1: 10. számú melléklet
A2: Megnevezés | B2: Összesen | C2: 011130 Önkormányzatok és önkormányzati hivatalok jogalkotó és általános igazgatási tevékenysége | D2: 018030 Támogatási célú finanszírozási műveletek | E2: 062020 Településfejlesztési projektek és támogatásuk | F2: 102023 Időskorúak tartós bentlakásos ellátása | G2: 107013 Hajléktalanok átmeneti ellátása
A3: Egyéb működési célú támogatások bevételei államháztartáson belülről (=33+…+42) (B16) | B3: 678050283 | C3: 0 | D3: 678050283 | E3: 0 | F3: 0 | G3: 0
A4: ebből: egyéb fejezeti kezelésű előirányzatok (B16) | B4: 9995600 | C4: 0 | D4: 9995600 | E4: 0 | F4: 0 | G4: 0
A5: ebből: helyi önkormányzatok és költségvetési szerveik (B16) | B5: 668054683 | C5: 0 | D5: 668054683 | E5: 0 | F5: 0 | G5: 0
A6: Működési célú támogatások államháztartáson belülről (=07+...+10+21+32) (B1) | B6: 678050283 | C6: 0 | D6: 678050283 | E6: 0 | F6: 0 | G6: 0
A7: Egyéb felhalmozási célú támogatások bevételei államháztartáson belülről (=69+…+78) (B25) | B7: 106713819 | C7: 0 | D7: 50000000 | E7: 0 | F7: 0 | G7: 56713819
A8: ebből: fejezeti kezelésű előirányzatok EU-s programokra és azok hazai társfinanszírozása (B25) | B8: 56713819 | C8: 0 | D8: 0 | E8: 0 | F8: 0 | G8: 56713819
A9: ebből: helyi önkormányzatok és költségvetési szerveik (B25) | B9: 50000000 | C9: 0 | D9: 50000000 | E9: 0 | F9: 0 | G9: 0
A10: Felhalmozási célú támogatások államháztartáson belülről (=44+45+46+57+68) (B2) | B10: 106713819 | C10: 0 | D10: 50000000 | E10: 0 | F10: 0 | G10: 56713819
A11: Közvetített szolgáltatások ellenértéke (>=192) (B403) | B11: 708807 | C11: 708807 | D11: 0 | E11: 0 | F11: 0 | G11: 0
A12: ebből: államháztartáson belül (B403) | B12: 708807 | C12: 708807 | D12: 0 | E12: 0 | F12: 0 | G12: 0
A13: Ellátási díjak (B405) | B13: 2400000 | C13: 0 | D13: 0 | E13: 0 | F13: 2400000 | G13: 0
A14: Kiszámlázott általános forgalmi adó (B406) | B14: 111276 | C14: 111276 | D14: 0 | E14: 0 | F14: 0 | G14: 0
... A25: Bevételek összesen (284+316) (B1-B8) | B25: 1052531944 | C25: 900243 | D25: 992517781 | E25: 69 | F25: 2400000 | G25: 56713851
A27: Család és Gyermekjóléti Központ teljesített bevételek 2018. december 31-ig
A28: Megnevezés | B28: Összesen | C28: 018030 Támogatási célú finanszírozási műveletek | D28: 104012 Gyermekek átmeneti ellátása | E28: 104030 Gyermekek napközbeni ellátása | F28: 104042 Család és gyermekjóléti szolgáltatások | G28: 104043 Család és gyermekjóléti központ
A29: Egyéb működési célú támogatások bevételei államháztartáson belülről (=33+…+42) (B16) | B29: 5048795 | C29: 5048795 | D29: 0 | E29: 0 | F29: 0 | G29: 0
A30: ebből: helyi önkormányzatok és költségvetési szerveik (B16) | B30: 5048795 | C30: 5048795 | D30: 0 | E30: 0 | F30: 0 | G30: 0
A31: Működési célú támogatások államháztartáson belülről (=07+...+10+21+32) (B1) | B31: 5048795 | C31: 5048795 | D31: 0 | E31: 0 | F31: 0 | G31: 0
A32: Ellátási díjak (B405) | B32: 1404950 | C32: 0 | D32: 1086750 | E32: 318200 | F32: 0 | G32: 0
A33: Egyéb működési bevételek (>=220+221) (B411) | B33: 1358844 | C33: 0 | D33: 10130 | E33: 0 | F33: 1330800 | G33: 17914
A34: Működési bevételek (=187+188+191+193+200+…+202+209+217+218+219) (B4) | B34: 2763794 | C34: 0 | D34: 1096880 | E34: 318200 | F34: 1330800 | G34: 17914
A35: Egyéb működési célú átvett pénzeszközök (=246+…+256) (B65) | B35: 320000 | C35: 0 | D35: 100000 | E35: 0 | F35: 0 | G35: 220000
A36: ebből: egyéb civil szervezetek (B65) | B36: 320000 | C36: 0 | D36: 100000 | E36: 0 | F36: 0 | G36: 220000
A37: Működési célú átvett pénzeszközök (=232+...+235+245) (B6) | B37: 320000 | C37: 0 | D37: 100000 | E37: 0 | F37: 0 | G37: 220000
A38: Költségvetési bevételek (=43+79+186+222+231+257+283) (B1-B7) | B38: 8132589 | C38: 5048795 | D38: 1196880 | E38: 318200 | F38: 1330800 | G38: 237914
A39: Előző év költségvetési maradványának igénybevétele (B8131) | B39: 2593836 | C39: 2593836 | D39: 0 | E39: 0 | F39: 0 | G39: 0
A40: Maradvány igénybevétele (=296+297) (B813) | B40: 2593836 | C40: 2593836 | D40: 0 | E40: 0 | F40: 0 | G40: 0
... A44: Bevételek összesen (284+316) (B1-B8) | B44: 224031831 | C44: 220948037 | D44: 1196880 | E44: 318200 | F44: 1330800 | G44: 237914
A46: Kistérségi Szociális Intézmény teljesített bevételek 2018. december 31-ig
A47: Megnevezés | B47: Összesen | C47: 018030 Támogatási célú finanszírozási műveletek | D47: 101221 Fogyatékossággal élők nappali ellátása | E47: 102023 Időskorúak tartós bentlakásos ellátása | F47: 102024 Demens betegek tartós bentlakásos ellátása | G47: 102025 Időskorúak átmeneti ellátása | H47: 102026 Demens betegek átmeneti ellátása | I47: 102031 Idősek nappali ellátása | J47: 102032 Demens betegek nappali ellátása | K47: 107013 Hajléktalanok átmeneti ellátása | L47: 107015 Hajléktalanok nappali ellátása | M47: 107030 Szociális foglalkoztatás, fejlesztő foglalkoztatás | N47: 107051 Szociális étkeztetés | O47: 107052 Házi segítségnyújtás | P47: 107053 Jelzőrendszeres házi segítségnyújtás
A48: Egyéb működési célú támogatások bevételei államháztartáson belülről (=33+…+42) (B16) | B48: 3579846 | C48: 3579846 | D48: 0 | E48: 0 | F48: 0 | G48: 0 | H48: 0 | I48: 0 | J48: 0 | K48: 0 | L48: 0 | M48: 0 | N48: 0 | O48: 0 | P48: 0
A49: ebből: egyéb fejezeti kezelésű előirányzatok (B16) | B49: 383100 | C49: 383100 | D49: 0 | E49: 0 | F49: 0 | G49: 0 | H49: 0 | I49: 0 | J49: 0 | K49: 0 | L49: 0 | M49: 0 | N49: 0 | O49: 0 | P49: 0
A50: ebből: elkülönített állami pénzalapok (B16) | B50: 76003 | C50: 76003 | D50: 0 | E50: 0 | F50: 0 | G50: 0 | H50: 0 | I50: 0 | J50: 0 | K50: 0 | L50: 0 | M50: 0 | N50: 0 | O50: 0 | P50: 0
A51: ebből: helyi önkormányzatok és költségvetési szerveik (B16) | B51: 3120743 | C51: 3120743 | D51: 0 | E51: 0 | F51: 0 | G51: 0 | H51: 0 | I51: 0 | J51: 0 | K51: 0 | L51: 0 | M51: 0 | N51: 0 | O51: 0 | P51: 0
A52: Működési célú támogatások államháztartáson belülről (=07+...+10+21+32) (B1) | B52: 3579846 | C52: 3579846 | D52: 0 | E52: 0 | F52: 0 | G52: 0 | H52: 0 | I52: 0 | J52: 0 | K52: 0 | L52: 0 | M52: 0 | N52: 0 | O52: 0 | P52: 0
A53: Készletértékesítés ellenértéke (B401) | B53: 460220 | C53: 0 | D53: 0 | E53: 0 | F53: 0 | G53: 0 | H53: 0 | I53: 0 | J53: 0 | K53: 0 | L53: 0 | M53: 460220 | N53: 0 | O53: 0 | P53: 0
A54: Szolgáltatások ellenértéke (>=189+190) (B402) | B54: 42340577 | C54: 0 | D54: 0 | E54: 22595888 | F54: 0 | G54: 3581262 | H54: 0 | I54: 16030356 | J54: 0 | K54: 0 | L54: 0 | M54: 133071 | N54: 0 | O54: 0 | P54: 0
A55: Közvetített szolgáltatások ellenértéke (>=192) (B403) | B55: 1516326 | C55: 0 | D55: 0 | E55: 1516326 | F55: 0 | G55: 0 | H55: 0 | I55: 0 | J55: 0 | K55: 0 | L55: 0 | M55: 0 | N55: 0 | O55: 0 | P55: 0
A56: ebből: államháztartáson belül (B403) | B56: 1516326 | C56: 0 | D56: 0 | E56: 1516326 | F56: 0 | G56: 0 | H56: 0 | I56: 0 | J56: 0 | K56: 0 | L56: 0 | M56: 0 | N56: 0 | O56: 0 | P56: 0
A57: Ellátási díjak (B405) | B57: 224987365 | C57: 0 | D57: 3062831 | E57: 64089413 | F57: 45722739 | G57: 36988909 | H57: 11074247 | I57: 3364899 | J57: 3642388 | K57: 2979310 | L57: 0 | M57: 0 | N57: 31885070 | O57: 16880479 | P57: 5297080
A58: Kiszámlázott általános forgalmi adó (B406) | B58: 10943752 | C58: 0 | D58: 31319 | E58: 1893103 | F58: 0 | G58: 5660 | H58: 0 | I58: 295434 | J58: 129359 | K58: 0 | L58: 477 | M58: 160189 | N58: 8420844 | O58: 5207 | P58: 2160
A59: Egyéb működési bevételek (>=220+221) (B411) | B59: 1532562 | C59: 0 | D59: 26669 | E59: 250964 | F59: 0 | G59: 28281 | H59: 0 | I59: 19663 | J59: 13450 | K59: 1172159 | L59: 1767 | M59: 0 | N59: 0 | O59: 19609 | P59: 0
... A71: Bevételek összesen (284+316) (B1-B8) | B71: 824621001 | C71: 541106784 | D71: 3360819 | E71: 91367109 | F71: 45722739 | G71: 40604112 | H71: 11074247 | I71: 19710352 | J71: 3785197 | K71: 4623469 | L71: 2244 | M71: 753480 | N71: 40305914 | O71: 16905295 | P71: 5299240
F73: 2019. április

Sheet pénzeszköz átadások
A1: 11. számú melléklet
A2: MOSONMAGYARÓVÁR TÉRSÉGI TÁRSULÁS
A3: 2018. ÉVI KÖLTSÉGVETÉSI VÉGREHAJTÁSÁRÓL SZÓLÓ HATÁROZAT MELLÉKLETE
B5: Jogcím | C5: Teljesítés Ft-ban
B6: Áht. Belüli pénzeszköz átadás
B7: -megállapodás alapján Hivatal részére átadott támogatás | C7: 3600000
B9: KESZI által Mosonmagyaróvár Város Önkormányzatának visszafizetett állami támogatás a 2017. évi beszámoló alapján | C9: 1751396
B10: Áht. Kívüli pénzeszköz átadás
B11: - Szekeres Mária írónő támogatása 4/2018. (II.20.) TT határozat szerint | C11: 50000
B12: - Mosonmagyaróvár és Környéke Nyugdíjas Klub támogatása 4/2018. (II.20.) TT határozat szerint | C12: =700000-132551 -> 567449
B13: - Mosonmagyaróvári Kulturális Egyesület támogatása 4/2018. (II.20.) TT határozat szerint | C13: 100000
B14: - Czinka Panna Roma Kulturális Egyesület támogatása újrónafői tanoda program | C14: 2184000
B15: -Karolina Kórház - Rendelőintézet eszközbeszerzéséhez kapcsolódó alapítványi támogatás | C15: 1840000
B16: Összes pénzeszköz átadás intézményfinanszírozáson kívül | C16: =SUM(C7:C15) -> 10092845
B19: Mosonmagyaróvár, 2018. április

Sheet befizetések
A2: 12. számú melléklet
A3: MOSONMAGYARÓVÁR TÉRSÉGI TÁRSULÁS
A4: 2018. ÉVI KÖLTSÉGVETÉSI VÉGREHAJTÁSÁRÓL SZÓLÓ HATÁROZAT MELLÉKLETE
B6: Mosonmagyaróvár Térségi Társulás tagönkormányzati által teljesített befizetések
B7: 2018. évben
D8: Előirányzat Ft | E8: Teljesített befizetés Ft | F8: Tartozás Ft | G8: Megjegyzés Ft
A9: 27 település befizetései | B9: Társulási tagdíj | D9: 20943630 | E9: =D9-194670 -> 20748960 | F9: =D9-E9 -> 194670 | G9: Térségi Társulás illetve KESZI finanszírozásra használva
B10: Gyermekjólét támogatása | D10: 7556900 | E10: =D10 -> 7556900 | F10: =D10-E10 -> 0 | G10: felhasználás a CSGYK szervezet működéséhez
B11: Karolina Kórház - Rendelőintézet eszközbeszerzés támogatása | D11: 1551380 | E11: =D11 -> 1551380 | F11: =D11-E11 -> 0 | G11: a Tásulás kiegészítette a támogatást 288.620 Ft-tal, és a kórházi alapítványnak átadásra került az 1.840e Ft
B12: Szolidaritási alap | D12: 775690 | E12: =D12 -> 775690 | F12: =D12-E12 -> 0 | G12: Nem került felhasználásra, elkülönített számlán rendelkezésre áll. 2017.12.31-én záró egyenleg 3.141.313 Ft.
B13: Felújítási alap | D13: 3878450 | E13: =D13-72100 -> 3806350 | F13: =D13-E13 -> 72100 | G13: 2018. évi nyitó egyenleg a számlán 8.803.734 Ft volt, záró egyenleg 4.773.291 Ft. CSGYK részére átadásra került 38.100 Ft az épület állapot felméréséhez, KESZI 5 beszállóhelyes lifi kialakításához 6.280.150 Ft, KESZI Lengyári út épület lapostető felújítására 2.321.513 Ft, KESZI viziközmű fejlesztésére 2.358.390 Ft, régészeti feltárás TOP-s pályázathoz kapcsolódóan 127.000 Ft, hajléktalan szállóhoz ideiglenes energia ellátásra átadott forrás 462.081 Ft, hajléktalanszálló felújításához kapcsolódó hulladékszállítás költségének viselése 90.678 Ft.
B14: Kiegészítő hozzájárulás | D14: 44990020 | E14: =D14-836360 -> 44153660 | F14: =D14-E14 -> 836360 | G14: Felhasználásra került a CSGYK-n belül a család és gyermekjóléti szolgálat feladat ellátáshoz, a házi segítségnyújtáshoz és a szociális étkeztetés feladat ellátáshoz.
B15: Mosonmagyaróvár Város Önkormányzat által finanszírozott hiány a társulás intézményei illetve a TOP-s pályázatokhoz kapcsolódóan | D15: 127773066 | E15: =D15 -> 127773066 | F15: =D15-E15 -> 0 | G15: ebből 50 millió Ft a TOP-s pályázatokhoz kapcsolódó önerő biztosítás, 77.773.066 Ft az intézmények hiányfinanszírozása.
B16: Összesen | D16: =SUM(D9:D15) -> 207469136 | E16: =SUM(E9:E15) -> 206366006 | F16: =SUM(F9:F15) -> 1103130
B17: Összes befizetésból Mosonmagyaróvár Város Önk. Jutó | E17: 145824996 | F17: =E17/E16 -> 0.70663284 | G17: lakosságszám arány: 41,9%
B18: Összes befizetésből a többi tagtelepülésre jutó | E18: =E16-E17 -> 60541010 | F18: =E18/E16 -> 0.29336716 | G18: lakosságszám arány: 58,1%
B20: A tartozást az illetékes település önkormányzat 2019. január hónapban megfizette.
B23: Az 580 Ft/lakos külön hozzájárulás elszámolása
B25: Összes bevétel: | D25: =E14 -> 44153660
B27: Feladatok | D27: Család és gyermekjóléti szolgálat | E27: Szociális étkeztetés | F27: Házi segítségnyújtás | G27: Összesen
B28: 2018. december 31-ig teljesült kiadás | D28: =kiadások!E78 -> 97128173 | E28: =kiadások!N132 -> 74483458 | F28: =kiadások!O132 -> 87293024 | G28: =SUM(D28:F28) -> 258904655
B29: 2018. december 31-ig teljesült bevétel | D29: =bevételek!F44 -> 1330800 | E29: =bevételek!N71 -> 40305914 | F29: =bevételek!O71 -> 16905295 | G29: =SUM(D29:F29) -> 58542009
B30: Állami támogatás | D30: 53040000 | E30: =állami!H10 -> 25637216 | F30: =állami!H11 -> 62205000 | G30: =SUM(D30:F30) -> 140882216
B31: Intézményi bevétellel és állami támogatással nem fedezett kiadás | D31: =D28-D29-D30 -> 42757373 | E31: =E28-E29-E30 -> 8540328 | F31: =F28-F29-F30 -> 8182729 | G31: =D31+E31+F31 -> 59480430
B33: Kiegészítő hozzájárulással finanszírozott hiány | G33: =D25 -> 44153660
B35: Kiegészítő hozzájárulással nem fedezett hiány | G35: =G31-G33 -> 15326770
B38: Mosonmagyaróvár 2018. április
