Workbook

Sheet 1_
B1: 1. SZÁMÚ MELLÉKLET
A5: MOSONMAGYARÓVÁR TÉRSÉGI TÁRSULÁS
A6: 2019. ÉVI KÖLTSÉGVETÉSI HATOZATÁHOZ
A11: A Mosonmagyaróvár Térségi Társulás és irányítása alá tartozó költségvetési szervek
A12: 2019. évi költségvetéséről szóló …../2019. (II….) TT. határozatához
A14: CÍMRENDJÉT
A15: az alábbiak szerint állapítja meg:
A20: Címszám | B20: Megnevezés
A21: 1. | B21: Mosonmagyaróvár Térségi Társulás
A22: 2. | B22: Kistérségi Egyesített Szociális Intézmény
A23: 3. | B23: Család és Gyermekjóléti Központ

Sheet 2A
B1: 2./A SZÁMÚ MELLÉKLET
A3: MOSONMAGYARÓVÁR TÉRSÉGI TÁRSULÁS
A4: 2019 ÉVI KÖLTSÉGVETÉSI HATOZATÁHOZ
A5: PÉNZFORGALMI MÉRLEG
A6: adatok Ft-ban
A8: MOSONMAGYARÓVÁRI TÖBBCÉLÚ KISTÉRSÉGI TÁRSULÁS ÉS KÖLTSÉGVETÉSI SZERVEI | D8: kötelező | E8: önként
A9: Megnevezés | B9: eredeti | C9: eredeti | D9: eredeti | E9: eredeti | F9: Rovatrend
B10: előirányzat 2018. | C10: előirányzat 2019 | D10: előirányzat 2019. | E10: előirányzat 2019. | F10: 2015. év
A11: Személyi juttatások | B11: ='2B'!B12+'2C'!B12+'2D'!B12 -> 626341278 | C11: ='2B'!C12+'2C'!C12+'2D'!C12 -> 700982110 | D11: =SUM(C11-E11) -> 699500222 | E11: ='2D'!C12 -> 1481888 | F11: K1 | H11: =C11/B11 -> 1.1191696
A12: Munkaadót terhelő járulékok | B12: ='2B'!B13+'2C'!B13+'2D'!B13 -> 1.337816e+08 | C12: ='2B'!C13+'2C'!C13+'2D'!C13 -> 1.5117619e+08 | D12: =SUM(C12-E12) -> 150736000 | E12: ='2D'!C13 -> 440189.84 | F12: K2 | H12: =C12/B12 -> 1.1300223
A13: Dologi és egyéb folyó kiadások | B13: ='2B'!B14+'2C'!B14+'2D'!B14 -> 245613866 | C13: ='2B'!C14+'2C'!C14+'2D'!C14 -> 2.6643713e+08 | D13: =SUM(C13-E13) -> 261857755 | E13: ='2D'!C14 -> 4579378 | F13: K3 | H13: =C13/B13 -> 1.0847805
A14: Pénzeszköz átadás, támogatás | B14: ='2B'!B15+'2C'!B15+'2D'!B15 -> 7610000 | C14: ='2B'!C15+'2C'!C15+'2D'!C15 -> 7390000 | D14: =SUM(C14-E14) -> 1050000 | E14: ='2D'!C15 -> 6340000 | F14: K4 | H14: =C14/B14 -> 0.97109067
A15: Felhalmozási kiadások | B15: ='2B'!B16+'2C'!B16+'2D'!B17 -> 220414437 | C15: ='2B'!C16+'2C'!C16+'2D'!C17 -> 280992577 | D15: =SUM(C15-E15) -> 18787858 | E15: ='2D'!C17 -> 262204719 | F15: K61-67, K71-74 | H15: =C15/B15 -> 1.2748374
A16: Hitelek és kölcsönök kiadásai | B16: 0 | C16: 0 | D16: =SUM(C16-E16) -> 0 | E16: 0 | F16: K9111 | H16: =C16/B16 -> #DIV/0!
A17: Pénzforgalmi kiadások | B17: =SUM(B11:B16) -> 1.2337612e+09 | C17: =SUM(C11:C16) -> 1.406978e+09 | D17: =SUM(C17-E17) -> 1131931835 | E17: =SUM(E11:E16) -> 2.7504617e+08 | H17: =C17/B17 -> 1.1403974
A18: Államháztartási tartalék | B18: ='2D'!B20 -> 1.2987209e+08 | C18: ='2D'!C20 -> 28322857 | D18: =SUM(C18-E18) -> 23683115 | E18: ='2D'!C20-6883280-16799835 -> 4639742 | F18: K512 | H18: =C18/B18 -> 0.21808271
A19: Kiegyenlítő, átfutó, függő kiadás | B19: nem releváns | C19: nem releváns | H19: =C19/B19 -> #VALUE!
A20: Kiadások összesen: | B20: =B17+B18 -> 1.3636333e+09 | C20: =C17+C18 -> 1.4353009e+09 | D20: =SUM(C20-E20) -> 1155614950 | E20: =SUM(E17+E18) -> 2.7968592e+08 | H20: =C20/B20 -> 1.0525564
A22: Intézményi működési bevételek | B22: ='2B'!B22+'2C'!B22+'2D'!B24 -> 268100000 | C22: ='2B'!C22+'2C'!C22+'2D'!C24 -> 293900000 | D22: =C22-E22 -> 293900000 | E22: ='2D'!C24 -> 0 | F22: B4
A23: Költségvetési visszatérülések | B23: 0 | C23: 0 | D23: =C23-E23 -> 0 | E23: 0
A24: Felhalmozási és tőke jellegű bevételek | B24: ='2B'!B23+'2C'!B23+'2D'!B26 -> 86000000 | C24: ='2B'!C23+'2C'!C23+'2D'!C26 -> 30795820 | D24: =C24-E24 -> 0 | E24: ='2D'!C26 -> 30795820 | F24: B21, B25, B52, B72, B73
A25: ebből: sajátos felhalm. és tőkef. | B25: 0 | C25: 0 | D25: =C25-E25 -> 0 | E25: 0
A26: Támogatások, kiegészítések és átvett pénzeszközök | B26: ='2B'!B25+'2C'!B25+'2D'!B28 -> 691256500 | C26: ='2B'!C25+'2C'!C25+'2D'!C28 -> 796617717 | D26: =C26-E26 -> 756979877 | E26: =[1]Társulás!$H$75+[1]Társulás!$H$76+[1]Társulás!$H$78 -> 39637840 | F26: B816
A27: ebből: önkorm. költségvetési tám. | B27: ='2D'!B29+'2C'!B26+'2B'!B26 -> 477272340 | C27: ='2D'!C29 -> 413936235 | D27: =C27-E27 -> 413936235 | E27: 0
A28: Hitelek, kölcsönök bevételei | B28: 0 | C28: 0 | D28: =C28-E28 -> 0 | E28: 0 | F28: B8111
A29: Pénzforgalmi bevételek összesen | B29: =B26+B22+B24 -> 1045356500 | C29: =C26+C22+C24 -> 1121313537 | D29: =C29-E29 -> 1050879877 | E29: =E26+E22+E24 -> 70433660
A30: Maradvány felhasználás | B30: ='2B'!B30+'2C'!B30+'2D'!B33 -> 318276771 | C30: ='2B'!C30+'2C'!C30+'2D'!C33 -> 313987330 | D30: =C30-E30 -> 104735073 | E30: =[1]Társulás!$H$83+[1]Társulás!$H$84+[1]Társulás!$H$85-13475408+588193-5713235 -> 209252257
A31: Kiegyenlítő, átfutó, függő bevételek | B31: nem releváns | C31: nem releváns
A32: Bevételek összesen: | B32: =B29+B30 -> 1363633271 | C32: =C29+C30 -> 1435300867 | D32: =C32-E32 -> 1155614950 | E32: =E29+E30 -> 279685917
A35: Mosonmagyaróvár, 2019. január 31.
B36: 56/2016. (XII.12.) TT. határozat alapján
B37: valamint 48/2017. (XI.07.) TT határozat alapján
B38: 270 Ft/lakos | C38: térségi társulás támogatása | E38: évi kétszeri befizetés
B39: 100 Ft/lakos | C39: Gyermekjóléti szolgálat működéséhez kapcsolódó hozzájárulás
B40: 20 Ft/lakos | C40: Kórház támogatására
B41: 10 Ft/lakos | C41: Szolidaritási alap
B42: 100 Ft/lakos | C42: Felújítási alap | E42: évi kétszeri befizetés
B43: 1223 Ft/lakos | C43: kiegészítő hozzájárulás (580 Ft+643 Ft)

Sheet 2B
B1: 2./B SZÁMÚ MELLÉKLET
A3: MOSONMAGYARÓVÁR TÉRSÉGI TÁRSULÁS
A4: 2019. ÉVI KÖLTSÉGVETÉSI HATOZATÁHOZ
A5: PÉNZFORGALMI MÉRLEG
A6: tárgyévi adatok Ft-ban
C8: kötelező feladat
A9: KISTÉRSÉGI EGYESÍTETT SZOCIÁLIS INTÉZET
A10: Megnevezés | B10: eredeti | C10: eredeti | D10: változás | E10: Rovatrend
B11: előirányzat 2018. adatok Ft-ban | C11: előirányzat 2019 adatok Ft-ban | D11: előző évhez képest %-ban | E11: 2019. év
A12: Személyi juttatások | B12: 453241200 | C12: ='[2]KESZI 20190104'!$H$24 -> 487151222 | D12: =C12/B12 -> 1.0748167 | E12: K1
A13: Munkaadót terhelő járulékok | B13: 97963000 | C13: ='[2]KESZI 20190104'!$H$25 -> 106059000 | D13: =C13/B13 -> 1.0826434 | E13: K2
A14: Dologi és egyéb folyó kiadások | B14: 208061999 | C14: ='[2]KESZI 20190104'!$H$64 -> 225887162 | D14: =C14/B14 -> 1.0856724 | E14: K3
A15: Pénzeszköz átadás, támogatás | B15: ='[3]KESZI 2016.12.12.'!$G$65 -> 850000 | C15: ='[2]KESZI 20190104'!$H$65 -> 600000 | D15: =C15/B15 -> 0.70588235 | E15: K4
A16: Felhalmozási kiadások (Konyha fejlesztés miatt pinceében lévő tárolók megszűntetése helyett szekrények kialakítása 2018.11.20-án tanácsülésen engedélyezett előirányzat módosítás terhére.Konyha felújításból kimaradt 2018.09.18-i tanácsülésen engedélyezett előirányzat módosítás terhére megrendelt. Partner Service Kft-től tűzjelző rendszer kiépítése, ÓvárVill Kft.-től Energiahálózat bővítése. Csendes szoba kialakítása: Lions 300.000.-Ft ; Rotary 542.415.-Ft , 279.000.-Ft magánszemélytől ) | B16: 2640001 | C16: ='[2]KESZI 20190104'!$H$74+'[2]KESZI 20190104'!$H$79 -> 12008712 | D16: =C16/B16 -> 4.5487528 | E16: K61-67, K71-74
A17: Hitelek és kölcsönök kiadásai | B17: 0 | C17: 0 | D17: 0 | E17: K9111
A18: Pénzforgalmi kiadások | B18: =SUM(B12:B17) -> 762756200 | C18: =SUM(C12:C17) -> 831706096 | D18: =C18/B18 -> 1.0903957
A19: Kiegyenlítő, átfutó, függő kiadás | B19: nem releváns | C19: nem releváns
A20: Kiadások összesen: | B20: =SUM(B18) -> 762756200 | C20: =SUM(C18) -> 831706096 | D20: =C20/B20 -> 1.0903957
A22: Intézményi működési bevételek | B22: =317000000-51200000 -> 265800000 | C22: ='[2]KESZI 20190104'!$H$92+'[2]KESZI 20190104'!$H$93+'[2]KESZI 20190104'!$H$97+'[2]KESZI 20190104'!$H$98+'[2]KESZI 20190104'!$H$99+'[2]KESZI 20190104'!$H$100+'[2]KESZI 20190104'!$H$101 -> 291600000 | D22: =C22/B22 -> 1.0970655 | E22: B4
A23: Felhalmozási és tőke jellegű bevételek | B23: 0 | C23: 0 | D23: =C23-B23 -> 0 | E23: B21, B25, B52, B72, B73
A24: ebből: sajátos felhalm. és tőkef. | B24: 0 | C24: 0 | D24: =C24-B24 -> 0
A25: Támogatások, kiegészítések és átvett pénzeszközök | B25: =52000000+4121480 -> 56121480 | C25: ='[2]KESZI 20190104'!$H$87 -> 63799180 | D25: =C25/B25 -> 1.136805 | E25: B16, B63
A26: ebből: önkorm. költségvetési tám. | B26: =B25 -> 56121480 | C26: =C25 -> 63799180 | D26: 0
A27: Irányító szervtől kapott támogatás | B27: 371834720 | C27: ='[2]KESZI 20190104'!$H$107 -> 4.1228883e+08 | D27: =C27/B27 -> 1.108796 | E27: B816
A28: Hitelek, kölcsönök bevételei | B28: 0 | C28: 0 | D28: =C28-B28 -> 0 | E28: B8111
A29: Pénzforgalmi bevételek összesen | B29: =SUM(B28+B27+B25+B23+B22) -> 693756200 | C29: =SUM(C28+C27+C25+C23+C22) -> 7.6768801e+08 | D29: =C29/B29 -> 1.1065674
A30: Maradvány felhasználás | B30: 69000000 | C30: ='[2]KESZI 20190104'!$H$105+'[2]KESZI 20190104'!$H$106 -> 64018083 | D30: =C30/B30 -> 0.9277983
A31: Kiegyenlítő, átfutó, függő bevételek | B31: nem releváns | C31: nem releváns
A32: Bevételek összesen: | B32: =B29+B30 -> 762756200 | C32: =C29+C30 -> 8.317061e+08 | D32: =C32/B32 -> 1.0903957
A35: Irányító szervi támogatás részletezése 2018.-2019. év eredeti Ft-ban | B35: adatok Ft-ban
B36: 2018. évi | C36: 2019. évi | D36: Változás 2018-hoz képest
A37: Szociális étkeztetés | B37: 25271840 | C37: 25880800 | D37: =C37-B37 -> 608960 | H37: =C37/B37 -> 1.0240964
A38: Házi segítségnyújtás | B38: 71214000 | C38: 63921000 | D38: =C38-B38 -> -7293000 | H38: =C38/B38 -> 0.89759036
A39: Időskorúak nappali int. Ellátása | B39: 8011500 | C39: 8992500 | D39: =C39-B39 -> 981000 | H39: =C39/B39 -> 1.122449
A40: Fogyatékos és demens személyek ell. | B40: 20900000 | C40: =9350000+2200000+9900000 -> 21450000 | D40: =C40-B40 -> 550000 | H40: =C40/B40 -> 1.0263158
A41: Hajléktalanok nappali ellátása | B41: 8903520 | C41: 8903520 | D41: =C41-B41 -> 0 | H41: =C41/B41 -> 1
A42: Hajléktalanok átmeneti ellátása | B42: 20482000 | C42: 19404000 | D42: =C42-B42 -> -1078000 | H42: =C42/B42 -> 0.94736842
A43: Bértámogatás szociális szféra | B43: 91136000 | C43: 92616063 | D43: =C43-B43 -> 1480063 | H43: =C43/B43 -> 1.0162402
A44: intézmény üzemeltetési támogatás | B44: 33220958 | C44: 33574252 | D44: =C44-B44 -> 353294 | H44: =C44/B44 -> 1.0106347
A45: Intézményi hiány gesztor önkormányzat támogatásával való kifinanszírozása | B45: 46457092 | C45: 43579173 | D45: =C45-B45 -> -2877919 | H45: =C45/B45 -> 0.93805211
...

Sheet 2C
B1: 2./C SZÁMÚ MELLÉKLET
A3: MOSONMAGYARÓVÁR TÉRSÉGI TÁRSULÁS
A4: 2019. ÉVI KÖLTSÉGVETÉSI HATOZATÁHOZ
A5: PÉNZFORGALMI MÉRLEG
A6: tárgyévi adatok Ft-ban
C8: kötelező feladat
A9: Család és Gyermekjóléti Központ
A10: Megnevezés | B10: eredeti | C10: eredeti | D10: változás | E10: Rovatrend
B11: előirányzat 2018. adatok Ft-ban | C11: előirányzat 2019 adatok Ft-ban | D11: előző évhez képest %-ban | E11: 2019. év
A12: Személyi juttatások | B12: 169072000 | C12: ='[2]CSGYK 20190104'!$G$20 -> 212349000 | D12: =C12/B12 -> 1.2559679 | E12: K1
A13: Munkaadót terhelő járulékok | B13: 34907000 | C13: ='[2]CSGYK 20190104'!$G$26 -> 44677000 | D13: =C13/B13 -> 1.2798866 | E13: K2
A14: Dologi és egyéb folyó kiadások | B14: 30529817 | C14: ='[2]CSGYK 20190104'!$G$65 -> 35970593 | D14: =C14/B14 -> 1.1782119 | E14: K3
A15: Pénzeszköz átadás, támogatás | B15: ='[3]CSGYK 2016.11.23'!$G$65 -> 420000 | C15: ='[2]CSGYK 20190104'!$G$66 -> 450000 | D15: =C15/B15 -> 1.0714286 | E15: K4
A16: Felhalmozási kiadások (Fedett kerékpár tároló kerékpártámasszal beszerzése 2018.-ban szerződést kötünk vele, maradvány terhére. Pályázatban el nem számolható tétel.) | B16: 2250000 | C16: ='[2]CSGYK 20190104'!$G$75+'[2]CSGYK 20190104'!$G$80 -> 6779146 | D16: =C16/B16 -> 3.0129538 | E16: K61-67, K71-74
A17: Hitelek és kölcsönök kiadásai | B17: 0 | C17: 0 | E17: K9111
A18: Pénzforgalmi kiadások | B18: =SUM(B12:B17) -> 237178817 | C18: =SUM(C12:C17) -> 300225739 | D18: =C18/B18 -> 1.2658202
A19: Kiegyenlítő, átfutó, függő kiadás | B19: nem releváns | C19: nem releváns
A20: Kiadások összesen: | B20: =B18 -> 237178817 | C20: =C18 -> 300225739 | D20: =C20/B20 -> 1.2658202
A22: Intézményi működési bevételek | B22: 2300000 | C22: ='[2]CSGYK 20190104'!$G$94+'[2]CSGYK 20190104'!$G$97 -> 2300000 | D22: =C22/B22 -> 1 | E22: B4
A23: Felhalmozási és tőke jellegű bevételek | B23: 0 | C23: 0 | E23: B21, B25, B52, B72, B73
A24: ebből: sajátos felhalm. és tőkef. | B24: 0 | C24: 0
A25: Támogatások, kiegészítések és átvett pénzeszközök | B25: =700000+35000000 -> 35700000 | C25: ='[2]CSGYK 20190104'!$G$85+'[2]CSGYK 20190104'!$G$87 -> 54078874 | D25: =C25/B25 -> 1.5148144 | E25: B16, B63
A26: ebből: önkorm. költségvetési tám. | B26: 35000000 | C26: =C25-1500000 -> 52578874 | D26: =C26/B26 -> 1.5022535
A27: Felügyeleti szervtől átvett támogatás | B27: 196572700 | C27: ='[2]CSGYK 20190104'!$G$100 -> 2.4094687e+08 | D27: =C27/B27 -> 1.2257392 | E27: B816
A28: Hitelek, kölcsönök bevételei | B28: 0 | C28: 0 | E28: B8111
A29: Pénzforgalmi bevételek összesen | B29: =SUM(B28,B27,B25,B22) -> 234572700 | C29: =SUM(C28,C27,C25,C22) -> 2.9732574e+08 | D29: =C29/B29 -> 1.2675206
A30: Maradvány felhasználást | B30: 2606117 | C30: ='[2]CSGYK 20190104'!$G$99 -> 2900000 | D30: =C30/B30 -> 1.1127666
A31: Kiegyenlítő, átfutó, függő bevételek | B31: nem releváns | C31: nem releváns
A32: Bevételek összesen: | B32: =SUM(B29+B30) -> 237178817 | C32: =SUM(C29+C30) -> 3.0022574e+08 | D32: =C32/B32 -> 1.2658202
A34: Irányító szervi támogatás részletezése 2018.-2019. év eredeti | B34: adatok Ft-ban
B35: 2018. év | C35: 2019. év | D35: Változás 2018-hoz képest
A36: Szociális és gyermekjóléti alapszolg., állami támogatás | B36: 88680000 | C36: =53040000+38940000 -> 91980000 | D36: =C36-B36 -> 3300000
A37: Gyermekek átmeneti int. Ellátása, állami támogatás
A38: GYÁÓ bértámogatás és intézményüzemeltetési támogatás | B38: =8544000+9787042 -> 18331042 | C38: =7063937+2560748 -> 9624685 | D38: =C38-B38 -> -8706357
A39: Intézményi hiány gesztor önkormányzat támogatásával való kifinanszírozása | B39: 59309748 | C39: ='[2]CSGYK 20190104'!$G$114 -> 62183926 | D39: =C39-B39 -> 2874178
A40: Térségi Társulástól érkező támogatás hozzájárulások* | B40: =22495010+7756900 -> 30251910 | C40: ='[2]CSGYK 20190104'!$G$115 -> 39568839 | D40: =C40-B40 -> 9316929.3
A41: Óvodai és iskolai szociális segítő tevékenység | B41: 0 | C41: ='[2]CSGYK 20190104'!$G$105 -> 37589415 | D41: =C41-B41 -> 37589415
A42: Összesen | B42: =SUM(B36:B41) -> 196572700 | C42: =SUM(C36:C41) -> 2.4094687e+08 | D42: =C42-B42 -> 44374165
A43: *Az intézmény finanszírozásába mint bevétel beszámítási kerül a gyermekjóléti szolgálatra fizetendő hozzájárulás üzemeltetési támogatás szerinti létszámarányos része.
A47: Mosonmagyaróvár, 2019. január 31.

Sheet 2D
B1: 2./D SZÁMÚ MELLÉKLET
A3: MOSONMAGYARÓVÁR TÉRSÉGI TÁRSULÁS
A4: 2019. ÉVI KÖLTSÉGVETÉSI HATOZATÁHOZ
A5: PÉNZFORGALMI MÉRLEG
A6: tárgyévi adatok Ft-ban
A9: Mosonmagyaróvár Térségi Társulás
A10: Megnevezés | B10: eredeti | C10: eredeti | D10: változás | E10: Rovatrend
B11: előirányzat 2018. adatok Ft-ban | C11: előirányzat 2019 adatok Ft-ban | D11: előző évhez képest %-ban | E11: 2019. év
A12: Személyi juttatások | B12: =[1]Társulás!$H$16 -> 4028078 | C12: =[2]Társulás!$F$19 -> 1481888 | D12: =C12/B12 -> 0.3678896 | E12: K1 | F12: *
A13: Munkaadót terhelő járulékok | B13: =[1]Társulás!$H$21 -> 911601.06 | C13: =[2]Társulás!$F$24 -> 440189.84 | D13: =C13/B13 -> 0.48287553 | E13: K2 | F13: *
A14: Dologi és egyéb folyó kiadások | B14: =[1]Társulás!$H$30 -> 7022050 | C14: =[2]Társulás!$F$37 -> 4579378 | D14: =C14/B14 -> 0.65214261 | E14: K3 | F14: *
A15: Pénzeszköz átadás, támogatás | B15: =[1]Társulás!$H$35 -> 6340000 | C15: =[2]Társulás!$F$43 -> 6340000 | D15: =C15/B15 -> 1 | E15: K5
A16: Felügyelet alá tartozó költségvetési szerv. Támogat. | B16: =[1]Társulás!$H$51 -> 568407420 | C16: =[2]Társulás!$F$66 -> 653235698 | D16: =C16/B16 -> 1.1492385 | E16: K915
A17: Felhalmozási kiadások | B17: =[1]Társulás!$H$48+[1]Társulás!$H$49+[1]Társulás!$H$50 -> 215524436 | C17: =[2]Társulás!$F$60+[2]Társulás!$F$65 -> 262204719 | D17: =C17/B17 -> 1.2165893 | E17: K61-67, K71-74
A18: Hitelek és kölcsönök kiadásai | B18: 0 | C18: 0 | E18: K9111
A19: Pénzforgalmi kiadások | B19: =SUM(B12:B18) -> 8.0223359e+08 | C19: =SUM(C12:C18) -> 9.2828187e+08 | D19: =C19/B19 -> 1.1571217
A20: Államháztartási tartalék | B20: =[1]Társulás!$H$36 -> 1.2987209e+08 | C20: =[2]Társulás!$F$44 -> 28322857 | D20: =C20/B20 -> 0.21808271 | E20: K513
A21: Kiegyenlítő, átfutó, függő kiadás | B21: nem releváns | C21: nem releváns
A22: Kiadások összesen: | B22: =SUM(B19+B20) -> 9.3210567e+08 | C22: =SUM(C19+C20) -> 9.5660473e+08 | D22: =C22/B22 -> 1.0262836
A24: Intézményi működési bevételek | B24: =[1]Társulás!$H$81 -> 0 | C24: =[1]Társulás!$H$81 -> 0 | D24: =C24/B24 -> #DIV/0! | E24: B4
A25: Költségvetési visszatérülések | B25: 0 | C25: 0
A26: Felhalmozási és tőke jellegű bevételek, felhalmozási célú pénzeszköz átvételek | B26: =[1]Társulás!$H$90 -> 86000000 | C26: =[2]Társulás!$F$108 -> 30795820 | D26: =C26/B26 -> 0.35809093 | E26: B21, B25, B52, B72, B73
A27: ebből: sajátos felhalm. és tőkef. | B27: 0 | C27: 0
A28: Támogatások, kiegészítések és átvett pénzeszközök | B28: =[1]Társulás!$H$62+[1]Társulás!$H$63+[1]Társulás!$H$66+[1]Társulás!$H$74 -> 599435020 | C28: =[2]Társulás!$F$77+[2]Társulás!$F$78+[2]Társulás!$F$82+[2]Társulás!$F$83+[2]Társulás!$F$84+[2]Társulás!$F$85+[2]Társulás!$F$86+[2]Társulás!$F$87+[2]Társulás!$F$88+[2]Társulás!$F$90+[2]Társulás!$F$91+[2]Társulás!$F$92+[2]Társulás!$F$93+[2]Társulás!$F$94 -> 678739663 | D28: =C28/B28 -> 1.132299 | E28: B16, 816
A29: ebből: önkorm. költségvetési tám. | B29: =[1]Társulás!$H$62 -> 386150860 | C29: =[2]Társulás!$F$77 -> 413936235 | D29: =C29/B29 -> 1.0719547
A30: Felügyeleti szervtől átvett támogatás | B30: 0 | C30: 0
A31: Hitelek, kölcsönök bevételei | B31: 0 | C31: 0 | E31: B8111
A32: Pénzforgalmi bevételek összesen | B32: =SUM(B24+B25+B26+B28+B30+B31) -> 685435020 | C32: =SUM(C24+C25+C26+C28+C30+C31) -> 709535483
A33: Maradvány felhasználást | B33: =[1]Társulás!$H$83+[1]Társulás!$H$84+[1]Társulás!$H$85+[1]Társulás!$H$86+[1]Társulás!$H$87 -> 246670654 | C33: =[2]Társulás!$F$97 -> 247069247 | D33: =C33/B33 -> 1.0016159
A34: Kiegyenlítő, átfutó, függő bevételek | B34: nem releváns | C34: nem releváns
A35: Bevételek összesen: | B35: =B32+B33 -> 932105674 | C35: =C32+C33 -> 956604730 | D35: =C35/B35 -> 1.0262836
A38: Felhalmozási kiadások alatt tervezett tételek | B38: Bruttó
A39: Konyha felújítás és eszközbeszerzés KESZI TOP pályázat+ önerő | B39: 135699238
A40: CSGYK felújítása és eszközbeszerzés TOP és önerő | B40: 44604742
A41: EFOP pályázat hajléktalanszálló fejlesztése önerővel együtt | B41: 81900694
A42: Összesen | B42: =SUM(B39:B41) -> 262204674
A44: Mosonmagyaróvár, 2019. január 31.

Sheet 3
H1: 3. SZÁMÚ MELLÉKLET
A3: MOSONMAGYARÓVÁR TÉRSÉGI TÁRSULÁS
A4: 2018. ÉVI KÖLTSÉGVETÉSI HATOZATÁHOZ
A6: Kiadások összefoglalása
A7: 2019. év terv
A8: adatok Ft-ban
A10: Tervezett kiadások összesítése Ft
A12: Intézmény megnevezése | B12: Személyi juttatások | C12: Járulékok | D12: Dologi kiadások | E12: Ellátottak juttatása | F12: Tartalékképzés | G12: Átadott pénzeszközök működési | H12: Felhalmozási kiadások | I12: Összesen
A13: Kistérségi Egyesített Szociális Intézmény | B13: ='2B'!C12 -> 487151222 | C13: ='2B'!C13 -> 106059000 | D13: ='2B'!C14 -> 225887162 | E13: ='2B'!C15 -> 600000 | F13: 0 | G13: 0 | H13: ='2B'!C16 -> 12008712 | I13: =SUM(B13:H13) -> 831706096
A14: Család és Gyermekjóléti Központ | B14: ='2C'!C12 -> 212349000 | C14: ='2C'!C13 -> 44677000 | D14: ='2C'!C14 -> 35970593 | E14: ='2C'!C15 -> 450000 | F14: 0 | G14: 0 | H14: ='2C'!C16 -> 6779146 | I14: =SUM(B14:H14) -> 300225739
A15: Mosonmagyaróvár Térségi Társulás | B15: ='2D'!C12 -> 1481888 | C15: ='2D'!C13 -> 440189.84 | D15: ='2D'!C14 -> 4579378 | E15: 0 | F15: ='2D'!C20 -> 28322857 | G15: ='2D'!C15 -> 6340000 | H15: ='2D'!C17 -> 262204719 | I15: =SUM(B15:H15) -> 3.0336903e+08
A16: Mindösszesen: | B16: =SUM(B13:B15) -> 700982110 | C16: =SUM(C13:C15) -> 1.5117619e+08 | D16: =SUM(D13:D15) -> 2.6643713e+08 | E16: =SUM(E13:E15) -> 1050000 | F16: =SUM(F13:F15) -> 28322857 | G16: =SUM(G13:G15) -> 6340000 | H16: =SUM(H13:H15) -> 280992577 | I16: =SUM(I13:I15) -> 1.4353009e+09
A20: Mosonmagyaróvár, 2019. január 31.

Sheet 4
I1: 4. SZÁMÚ MELLÉKLET
A3: MOSONMAGYARÓVÁR TÉRSÉGI TÁRSULÁS
A4: 2019. ÉVI KÖLTSÉGVETÉSI HATOZATÁHOZ
A6: Bevételek összefoglalása
A7: 2019. év terv
A8: adatokFt-ban
A10: Tervezett bevételek összesítéseFt
A12: Intézmény megnevezése | B12: Intézmény saját bevételei | C12: Állami támogatás | D12: MÖK támogatás | E12: Egyéb támogatás értékű műk. bevétel | F12: TOP-s pályázatok bevételi forrása | G12: Feladatfinanszírozás | H12: Társulás tagjai által fizetett tagdíj | I12: Maradvány felhasználás | J12: Összesen
A13: Kistérségi Egyesített Szociális Intézmény | B13: ='2B'!C22 -> 291600000 | C13: ='2B'!C37+'2B'!C38+'2B'!C39+'2B'!C40+'2B'!C41+'2B'!C42+'2B'!C43+'2B'!C44 -> 274742135 | D13: ='2B'!C45 -> 43579173 | E13: ='2B'!C25 -> 63799180 | F13: 0 | G13: ='2B'!C46 -> 24572240 | H13: ='2B'!C47 -> 69395285 | I13: ='2B'!C30 -> 64018083 | J13: =SUM(B13:I13) -> 831706096
A14: Család és Gyermekjóléti Központ | B14: ='2C'!C22 -> 2300000 | C14: ='2C'!C38+'2C'!C41+91980000 -> 139194100 | D14: ='2C'!C39 -> 62183926 | E14: ='2C'!C25 -> 54078874 | F14: 0 | G14: 0 | H14: ='2C'!C40 -> 39568839 | I14: ='2C'!C30 -> 2900000 | J14: =SUM(B14:I14) -> 3.0022574e+08
A15: Mosonmagyaróvár Térségi Társulás* | B15: ='2D'!C24 -> 0 | C15: 0 | D15: 0 | E15: 0 | F15: ='2D'!C26 -> 30795820 | G15: 0 | H15: =31217200-5713235 -> 25503965 | I15: ='2D'!C33 -> 247069247 | J15: =SUM(B15:I15) -> 303369032 | K15: =J15-'3'!I15 -> 0.16100001
A16: Mindösszesen: | B16: =SUM(B13:B15) -> 293900000 | C16: =SUM(C13:C15) -> 413936235 | D16: =SUM(D13:D15) -> 105763099 | E16: =SUM(E13:E15) -> 117878054 | F16: =SUM(F13:F15) -> 30795820 | G16: =SUM(G13:G15) -> 24572240 | H16: =SUM(H13:H15) -> 1.3446809e+08 | I16: =SUM(I13:I15) -> 313987330 | J16: =SUM(J13:J15) -> 1.4353009e+09
A18: * A Térségi Társulásnál maradó tagok által fizetett tagdíj és hozzájárulások a következő tételekből állnak:
A19: - Társulás működésére (270 Ft/lakos) | C19: 21071610
A20: - kórházi eszközök beszerzésére (20 Ft/lakos) | C20: 1560860
A21: - szolidartiási alap (10 Ft/lakos) | C21: 780430
A22: - felújítási alap (100 Ft/lakos) | C22: 7804300
C23: =SUM(C19:C22) -> 31217200
A24: Mosonmagyaróvár, 2019. január 31.

Sheet 5
G1: 5. SZÁMÚ MELLÉKLET
A2: MOSONMAGYARÓVÁR TÉRSÉGI TÁRSULÁS
A3: 2019. ÉVI KÖLTSÉGVETÉSI HATOZATÁHOZ
A5: Kiadások és Bevételek működési egyensúlya
A6: 2019. év terv
A7: adatok Ft-ban
A8: Működési kiadások Ft
A10: Intézmény megnevezése | B10: Személyi juttatások | C10: Járulékok | D10: Dologi kiadások | E10: Ellátottak juttatása | F10: Tartalékképzés | G10: Átadott pénzeszközök működési | H10: Összesen
A11: Kistérségi Egyesített Szociális Intézmény | B11: ='2B'!C12 -> 487151222 | C11: ='2B'!C13 -> 106059000 | D11: ='2B'!C14 -> 225887162 | E11: ='2B'!C15 -> 600000 | F11: 0 | G11: 0 | H11: =SUM(B11:G11) -> 819697384
A12: Család és Gyermekjóléti Központ | B12: ='2C'!C12 -> 212349000 | C12: ='2C'!C13 -> 44677000 | D12: ='2C'!C14 -> 35970593 | E12: ='2C'!C15 -> 450000 | F12: 0 | G12: 0 | H12: =SUM(B12:G12) -> 293446593
A13: Mosonmagyaróvár Térségi Társulás | B13: ='2D'!C12 -> 1481888 | C13: ='2D'!C13 -> 440189.84 | D13: ='2D'!C14 -> 4579378 | E13: 0 | F13: ='2D'!C20 -> 28322857 | G13: ='2D'!C15 -> 6340000 | H13: =SUM(B13:G13) -> 41164313
A14: Mindösszesen: | B14: =SUM(B11:B13) -> 700982110 | C14: =SUM(C11:C13) -> 1.5117619e+08 | D14: =SUM(D11:D13) -> 2.6643713e+08 | E14: =SUM(E11:E13) -> 1050000 | F14: =SUM(F11:F13) -> 28322857 | G14: =SUM(G11:G13) -> 6340000 | H14: =SUM(H11:H13) -> 1.1543083e+09
A16: Működési bevételek Ft
A18: Intézmény megnevezése | B18: Intézmény saját bevételei | C18: Állami támogatás | D18: MÖK támogatás | E18: Egyéb támogatás értékű műk. bevétel | F18: Feladatfinanszírozás | G18: Maradvány felhasználás | H18: Összesen
A19: Kistérségi Egyesített Szociális Intézmény | B19: ='2B'!C22 -> 291600000 | C19: ='2B'!C37+'2B'!C38+'2B'!C39+'2B'!C40+'2B'!C41+'2B'!C42+'2B'!C43+'2B'!C44 -> 274742135 | D19: ='4'!D13 -> 43579173 | E19: ='4'!E13+'4'!H13 -> 133194465 | F19: ='4'!G13 -> 24572240 | G19: 52009371 | H19: =SUM(B19:G19) -> 819697384 | I19: =H11-H19 -> 0
A20: Család és Gyermekjóléti Központ | B20: ='2C'!C22 -> 2300000 | C20: ='4'!C14 -> 139194100 | D20: ='4'!D14 -> 62183926 | E20: ='4'!E14+'4'!H14-5713235 -> 87934478 | F20: 0 | G20: 1834089 | H20: =SUM(B20:G20) -> 2.9344659e+08
A21: Mosonmagyaróvár Térségi Társulás | B21: ='2D'!C24 -> 0 | C21: 0 | D21: ='4'!D15 -> 0 | E21: ='4'!H15 -> 25503965 | F21: 0 | G21: 15660348 | H21: =SUM(B21:G21) -> 41164313
A22: Mindösszesen: | B22: =SUM(B19:B21) -> 293900000 | C22: =SUM(C19:C21) -> 413936235 | D22: =SUM(D19:D21) -> 105763099 | E22: =SUM(E19:E21) -> 2.4663291e+08 | F22: =SUM(F19:F21) -> 24572240 | G22: =SUM(G19:G21) -> 69503808 | H22: =SUM(H19:H21) -> 1.1543083e+09
A24: Felhalmozási kiadások Ft | E24: Felhalmozási bevételek Ft
A25: Intézmény megnevezése | B25: Felhalmozási kiadások | D25: Intézmény megnevezése | E25: Maradvány felhasználás/Társulási forrásból
A26: Kistérségi Egyesített Szociális Intézmény | B26: ='2B'!C16 -> 12008712 | D26: Kistérségi Egyesített Szociális Intézmény | E26: ='2B'!C30-'5'!G19 -> 12008712
A27: Család és Gyermekjóléti Központ | B27: ='2C'!C16 -> 6779146 | D27: Család és Gyermekjóléti Központ | E27: ='2C'!C30-'5'!G20+5713235 -> 6779146
A28: Mosonmagyaróvár Térségi Társulás | B28: ='2D'!C17 -> 262204719 | D28: Mosonmagyaróvár Térségi Társulás (maradványfelhasználás, pályázati tartalék támogatások) | E28: ='2D'!C33-'5'!G21+'4'!F15 -> 262204719
A29: Mindösszesen: | B29: =SUM(B26:B28) -> 280992577 | D29: Mindösszesen: | E29: =SUM(E26:E28) -> 280992577
A34: Mosonmagyaróvár, 2019. január 31.

Sheet 6
B1: 6. SZÁMÚ MELLÉKLET
A5: MOSONMAGYARÓVÁR TÉRSÉGI TÁRSULÁS
A6: 2019. ÉVI KÖLTSÉGVETÉSI HATÁROZATÁHOZ
A9: A Mosonmagyaróvár Térségi Társulás által tervezett átvett
A10: támogatások
A12: Átadó megnevezése | B12: Átadás célja | C12: Összege Ft-ban
A13: Magyar Államkincstár | B13: Állami támogatással finanszírozott feladatok ellátásra | C13: ='4'!C16 -> 413936235
A14: Nemzeti Rehabilitációs és Szociális Hivatal | B14: Fejlesztő foglalkoztatás támogatása (gesztor önkormányzaton keresztül) | C14: 14576640
A15: Nemzeti Rehabilitációs és Szociális Hivatal | B15: Jelzőrendszer támogatása (gesztor önkormányzaton keresztül) | C15: 9955600
A16: Mosonmagyaróvár Város Önkormányzata | B16: Kistérségi Egyesített Szociális Intézmény működésének támogatása működési hiány finanszírozása | C16: ='4'!D13 -> 43579173 | D16: =C19+C17+C16+C18 -> 161827796 | E16: összes gesztor Önk. Támogatás
A17: Mosonmagyaróvár Város Önkormányzata | B17: Család és Gyermekjóléti Központ működési hiány finanszírozása | C17: ='4'!D14 -> 62183926
A18: Mosonmagyaróvár Város Önkormányzata | B18: Család és Gyermekjóléti Központ valamint a Kistérségi Egyesített Szociális Intézmény működésének finanszírozása | C18: 39795197
A19: Mosonmagyaróvár Város Önkormányzata | B19: Térségi társulás működéséhez és egyéb alapokhoz és intézmények működéséhez való hozzájárulás | C19: 16269500
A20: Gesztor önkormányzati hozzájáruláson kívüli tagtelepülések hozzájárulása | B20: Család és Gyermekjóléti Központ működésének finanszírozásához | C20: ='tagdíjak (2)'!D37-'tagdíjak (2)'!D28 -> 55651392 | D20: =C20+C22 -> 78403392 | E20: gesztor Önk. Kívüli tagtelepülési támogatások
A21: Gesztor önkormányzati hozzájáruláson kívüli tagtelepülések hozzájárulása | B21: Kistérségi Egyesített Szociális Intézmény működésének finanszírozásához
A22: Gesztor önkormányzati hozzájáruláson kívüli tagtelepülések támogatása | B22: Térségi tagdíj, felújítási alap, szolidaritási alap, orvosi gép- műszer beszerzés támogatása | C22: ='tagdíjak (2)'!E37-'tagdíjak (2)'!E28+'tagdíjak (2)'!F37-'tagdíjak (2)'!F28+'tagdíjak (2)'!G37-'tagdíjak (2)'!G28+'tagdíjak (2)'!D70-'tagdíjak (2)'!D61+'tagdíjak (2)'!E70-'tagdíjak (2)'!E61 -> 22752000
A23: Magyar Államkincstár (közvetelenül intézménynél tervezve) | B23: Család és Gyermekjóléti központ összevont ágazati pótlék becsült összege | C23: ='[2]CSGYK 20190104'!$G$88 -> 48978874
A24: Magyar Államkincstár (közvetelenül intézménynél tervezve) | B24: Család és Gyermekjóléti központ bérkompenzáció becsült összege | C24: ='[2]CSGYK 20190104'!$G$90 -> 3600000
A25: Magyar Államkincstár (közvetelenül intézménynél tervezve) | B25: Kistérségi Egyesített Szociális Intézmény összevont ágazati pótlék becsült összege | C25: ='[2]KESZI 20190104'!$H$88 -> 54550000
A26: Magyar Államkincstár (közvetelenül intézménynél tervezve) | B26: Kistérségi Egyesített Szociális Intézmény éjjeli menedékhely becsült támogatása | C26: ='[2]KESZI 20190104'!$H$90 -> 4294680
A27: Magyar Államkincstár (közvetelenül intézménynél tervezve) | B27: Kistérségi Egyesített Szociális Intézmény bérkompenzáció becsült összege | C27: ='[2]KESZI 20190104'!$H$91 -> 4549000
A28: Magyar Államkincstár (közvetelenül intézménynél tervezve) | B28: Kistérségi Egyesített Szociális Intézmény egészségügyi pótlék becsült összege | C28: ='[2]KESZI 20190104'!$H$89 -> 405500
A29: Humánerőforrás Fejlesztési Operatív Program | B29: Kistérségi Egyesített Szociláis Intézmény -hajléktalan szálló fejlesztése | C29: =[2]Társulás!$F$109 -> 28033099
A30: Területi operatív program | B30: Kistérségi Egyesített Szociális Intézmény Konyha felújítás | C30: =[2]Társulás!$F$110 -> 1768001
A31: Területi operatív program | B31: Család és Gyermekjóléti Közpnt épület felújítás | C31: =[2]Társulás!$F$111 -> 994720
A32: Összesen: | C32: =SUM(C22:C31,C13:C19)+26392320 -> 796614465
B33: 1. oldal
A35: A Mosonmagyaróvár Térségi Társulás által tervezett átadandó
A36: támogatások
A38: Átvevő megnevezése | B38: Támogatás célja | C38: Összege Ft-ban
A39: Mosonmagyaróvári Polgármesteri Hivatal | B39: Társulási feladatok ellátására hozzájárulás | C39: =[3]Társulás!$E$23 -> 3600000
A40: Civil szervezet számára Tanács döntése alapján | B40: Társulás által átadandó pénzeszköz | C40: =[3]Társulás!$E$24 -> 900000
A41: Karolina Kórház - Rendelőintézet | B41: Orvosi gép-, műszer beszerzés támogatása | C41: =[3]Társulás!$E$25 -> 1840000
A42: Család és Gyermekjóléti Központ | B42: Működési támogatás, mely tartalmazza normatív állami támogatást, feladatalapú támogatást, MÖK hozzájárulást, tagtelepülések társulási hozzájárulást | C42: ='2C'!C27 -> 2.4094687e+08
A43: Kistérségi Egyesített Szociális Intézet | B43: Működési támogatás, mely tartalmazza normatív állami támogatást, feladatalapú támogatást, MÖK hozzájárulást, tagtelepülések társulási hozzájárulását, jelzőrendszer- és fejlesztő foglalkoztatás támogatás átadását | C43: ='2B'!C27 -> 4.1228883e+08
A44: Család és Gyermekjóléti Központ | B44: Jubileumi jutalomra, felmentési bérre átadandó | C44: =[2]Társulás!$F$48 -> 3528529.1
A45: Kistérségi Egyesített Szociális Intézet | B45: Jubileumi jutalomra, felmentési bérre átadandó | C45: =[2]Társulás!$F$49 -> 8501443.9
A46: Összesen: | C46: =SUM(C38:C45) -> 6.7160567e+08
B47: 2. oldal
A49: Mosonmagyaróvár, 2019. január 31.

Sheet 7
M1: 7. SZÁMÚ MELLÉKLET
A5: MOSONMAGYARÓVÁR TÉRSÉGI TÁRSULÁS
A6: 2019. ÉVI KÖLTSÉGVETÉSI HATOZATÁHOZ
A8: Mosonmagyaróvári Többcélú Kistérségi Társulás Tanácsa
A9: likviditási ütemterve 2019. év Ft-ban
A11: Havi bontás | B11: január | C11: február | D11: március | E11: április | F11: május | G11: június | H11: július | I11: augusztus | J11: szeptember | K11: október | L11: november | M11: december | N11: összesen
A12: Kiadásnem
A13: Személyi juttatás | B13: =23186*4+38200+40000*3 -> 250944 | C13: =23186*4+38200+40000*3+250000 -> 500944 | D13: =40000*3 -> 120000 | E13: =40000*3 -> 120000 | F13: =40000*3 -> 120000 | G13: =40000*3 -> 120000 | H13: 0 | I13: 0 | J13: 0 | K13: 0 | L13: 0 | M13: 250000 | N13: ='2D'!C12 -> 1481888 | O13: =SUM(B13:M13) -> 1481888 | P13: =O13-N13 -> 0
A14: Járulékok | B14: =B13*0.9*0.195 -> 44040.672 | C14: =57331+101775 -> 159106 | D14: =D13*0.9*0.195 -> 21060 | E14: =E13*0.9*0.195 -> 21060 | F14: =F13*0.9*0.195 -> 21060 | G14: =G13*0.9*0.195 -> 21060 | H14: 51028 | I14: 0 | J14: 0 | K14: 0 | L14: 0 | M14: =SUM(M13*1.18*0.195+M13*1.18*0.15) -> 101775 | N14: ='2D'!C13 -> 440189.84 | O14: =SUM(B14:M14) -> 440189.67 | P14: =O14-N14 -> -0.172
A15: Dologi kiadások | B15: 143296 | C15: =143296+79032 -> 222328 | D15: 143296 | E15: 143296 | F15: 143296 | G15: 665000 | H15: 143296 | I15: 143296 | J15: 665000 | K15: 143296 | L15: 143296 | M15: 1880682 | N15: ='2D'!C14 -> 4579378 | O15: =SUM(B15:M15) -> 4579378 | P15: =N15-O15 -> 0.0099999998
A16: Támogatások | B16: 0 | C16: 0 | D16: 0 | E16: 1800000 | F16: =900000+2184000-2184000 -> 900000 | G16: 1840000 | H16: 0 | I16: 0 | J16: 0 | K16: 1800000 | L16: 0 | M16: 0 | N16: ='2D'!C15 -> 6340000 | O16: =SUM(B16:M16) -> 6340000 | P16: =N16-O16 -> 0
A17: Beruházási kiadás | B17: =6378000+23621755+5317327+2033949+6883462 -> 44234493 | C17: =1498600+3478068+43000000 -> 47976668 | D17: 43697000 | E17: 43697000 | F17: 25000000 | G17: =25000000-15000000 -> 10000000 | H17: =13000000-4292365 -> 8707635 | I17: 0 | J17: =11000+15000000+2000000+17588558+4292365 -> 38891923 | K17: 0 | L17: 0 | M17: 0 | N17: ='2D'!C17 -> 262204719 | O17: =SUM(B17:M17) -> 262204719 | P17: =N17-O17 -> 0
A18: Tartalékképzés | B18: =31852092-4292365-4292365 -> 23267362 | C18: 0 | D18: 0 | E18: =4292365-1420871 -> 2871494 | F18: 2184000 | G18: 0 | H18: 0 | I18: 0 | J18: 0 | K18: 0 | L18: 0 | M18: 0 | N18: ='2D'!C20 -> 28322857 | O18: =SUM(B18:M18) -> 28322856 | P18: =N18-O18 -> 0.985
A19: Kiadások összesen | B19: =SUM(B13:B18) -> 67940136 | C19: =SUM(C13:C18) -> 48859046 | D19: =SUM(D13:D18) -> 43981356 | E19: =SUM(E13:E18) -> 48652850 | F19: =SUM(F13:F18) -> 28368356 | G19: =SUM(G13:G18) -> 12646060 | H19: =SUM(H13:H18) -> 8901959 | I19: =SUM(I13:I18) -> 143296 | ... N19: =SUM(N13:N18) -> 3.0336903e+08
A21: Havi bontás | B21: január | C21: február | D21: március | E21: április | F21: május | G21: június | H21: július | I21: augusztus | J21: szeptember | K21: október | L21: november | M21: december | N21: összesen
A22: Bevétel
A23: Intézményi működési bevétel | B23: 0 | C23: 0 | D23: 0 | E23: 0 | F23: 0 | G23: 0 | H23: 0 | I23: 0 | J23: 0 | K23: 0 | L23: 0 | M23: 0 | N23: ='2D'!C24 -> 0
A24: Állami támogatás | B24: 0 | C24: 0 | D24: 0 | E24: 0 | F24: 0 | G24: 0 | H24: 0 | I24: 0 | J24: 0 | K24: 0 | L24: 0 | M24: 0 | N24: 0
A25: Egyéb támogatás | B25: 0 | C25: 0 | D25: =15608600-5713235 -> 9895365 | E25: 0 | F25: 0 | G25: 0 | H25: 0 | I25: 0 | J25: 15608600 | K25: 0 | L25: 0 | M25: 0 | N25: =31217200-5713235 -> 25503965 | O25: =SUM(B25:M25) -> 25503965 | P25: =O25-N25 -> 0
A26: Felhalmozási projekt bevétel | B26: 0 | C26: 994720 | E26: 1768001 | F26: 0 | G26: 0 | H26: 0 | I26: 0 | J26: 28033099 | K26: 0 | L26: 0 | M26: 0 | N26: ='2D'!C26 -> 30795820 | O26: =SUM(B26:M26) -> 30795820 | P26: =O26-N26 -> 0
A27: Maradvány felhasználás | B27: 67940136 | C27: 47864326 | D27: =28372756+5713235 -> 34085991 | E27: =48305720-1420871 -> 46884849 | F27: =28368355+1 -> 28368356 | G27: 12646061 | H27: =13194324-4292365 -> 8901959 | I27: 143296 | J27: 0 | K27: 0 | L27: 0 | M27: 234273 | N27: ='2D'!C33 -> 247069247 | O27: =SUM(B27:M27) -> 247069247 | P27: =O27-N27 -> 0
A28: Bevételek összesen | B28: =SUM(B23:B27) -> 67940136 | C28: =SUM(C23:C27) -> 48859046 | D28: =SUM(D23:D27) -> 43981356 | E28: =SUM(E23:E27) -> 48652850 | F28: =SUM(F23:F27) -> 28368356 | G28: =SUM(G23:G27) -> 12646061 | H28: =SUM(H23:H27) -> 8901959 | I28: =SUM(I23:I27) -> 143296 | ... N28: =SUM(N23:N27) -> 303369032
A29: halmozott egyenleg | B29: =B28-B19 -> 0.32800001 | C29: =B29+C28-C19 -> 0.32800001 | D29: =C29+D28-D19 -> 0.32800001 | E29: =D29+E28-E19 -> 0.32800001 | F29: =E29+F28-F19 -> 0.32800001 | G29: =F29+G28-G19 -> 1.328 | H29: =G29+H28-H19 -> 1.328 | I29: =H29+I28-I19 -> 1.328 | J29: =I29+J28-J19 -> 4084777.3 | ... L29: =K29+L28-L19 -> 1998185.3 | M29: =L29+M28-M19-1 -> 0.32800001
A30: 1. oldal
A32: MOSONMAGYARÓVÁR TÉRSÉGI TÁRSULÁS
A33: 2019. ÉVI KÖLTSÉGVETÉSI HATOZATÁHOZ
A35: Család és Gyermekjóléti Központ
A36: likviditási ütemterve 2019. év Ft-ban
A38: Havi bontás | B38: január | C38: február | D38: március | E38: április | F38: május | G38: június | H38: július | I38: augusztus | J38: szeptember | K38: október | L38: november | M38: december | N38: összesen
A39: Kiadásnem
A40: Személyi juttatás | B40: 16344538 | C40: 16344538 | D40: 16344538 | E40: 16344538 | F40: 16344538 | G40: =16344538+8107272 -> 24451810 | H40: 16344538 | I40: 16344538 | J40: 16344538 | K40: 16344538 | L40: =16344538+8107272 -> 24451810 | M40: 16344538 | N40: ='2C'!C12 -> 212349000 | O40: =SUM(B40:M40) -> 212349000 | P40: =N40-O40 -> 0 | Q40: =P40/2 -> 0
A41: Járulékok | B41: 3436600 | C41: 3436600 | D41: 3436600 | E41: 3436600 | F41: 3436600 | G41: =3436600+1718900 -> 5155500 | H41: 3436600 | I41: 3436600 | J41: 3436600 | K41: 3436600 | L41: =3436600+1718900 -> 5155500 | M41: 3436600 | N41: ='2C'!C13 -> 44677000 | O41: =SUM(B41:M41) -> 44677000 | P41: =N41-O41 -> 0
A42: Dologi kiadások | B42: 2220000 | C42: 3250000 | D42: 3000000 | E42: 3000000 | F42: 3000000 | G42: 3000000 | H42: 3000000 | I42: 3000000 | J42: 3000000 | K42: 3000000 | L42: 3000000 | M42: 3500593 | N42: ='2C'!C14 -> 35970593 | O42: =SUM(B42:M42) -> 35970593 | P42: =N42-O42 -> 0
A43: Támogatások | B43: 37500 | C43: 37500 | D43: 37500 | E43: 37500 | F43: 37500 | G43: 37500 | H43: 37500 | I43: 37500 | J43: 37500 | K43: 37500 | L43: 37500 | M43: 37500 | N43: ='2C'!C15 -> 450000 | O43: =SUM(B43:M43) -> 450000 | P43: =N43-O43 -> 0
A44: Beruházási kiadás | B44: 0 | C44: 5713235 | D44: 500000 | E44: 565911 | F44: 0 | G44: 0 | H44: 0 | I44: 0 | J44: 0 | K44: 0 | L44: 0 | M44: 0 | N44: ='2C'!C16 -> 6779146 | O44: =SUM(B44:M44) -> 6779146 | P44: =N44-O44 -> 0
A45: Kiadások összesen | B45: =SUM(B40:B44) -> 22038638 | C45: =SUM(C40:C44) -> 28781873 | D45: =SUM(D40:D44) -> 23318638 | E45: =SUM(E40:E44) -> 23384549 | F45: =SUM(F40:F44) -> 22818638 | G45: =SUM(G40:G44) -> 32644810 | H45: =SUM(H40:H44) -> 22818638 | I45: =SUM(I40:I44) -> 22818638 | ... N45: =SUM(N40:N44) -> 300225739
A47: Havi bontás | B47: január | C47: február | D47: március | E47: április | F47: május | G47: június | H47: július | I47: augusztus | J47: szeptember | K47: október | L47: november | M47: december | N47: összesen
A48: Bevétel
A49: Intézményi működési bevétel | B49: 100000 | C49: 100000 | D49: 100000 | E49: 100000 | F49: 100000 | G49: 350000 | H49: 600000 | I49: 350000 | J49: 100000 | K49: 150000 | L49: 150000 | M49: 100000 | N49: ='2C'!C22 -> 2300000 | O49: =SUM(B49:M49) -> 2300000 | P49: =N49-O49 -> 0
A50: Állami támogatás | B50: 11599000 | C50: 11599000 | D50: 11599000 | E50: 11599000 | F50: 11599000 | G50: 11599000 | H50: 11599000 | I50: 11599000 | J50: 11599000 | K50: 11599000 | L50: 11599000 | M50: =11599000+6100 -> 11605100 | N50: ='4'!C14 -> 139194100 | O50: =SUM(B50:M50) -> 139194100 | P50: =N50-O50 -> 0
...

Sheet 8
C1: 8. számú melléklet
A3: Mosonmagyaróvár Térségi Társulás
A4: és felügyelete alá tartozó költségvetési szerv
A5: 2019. évi költségvetéséről szóló határozatához
A7: Költségvetési engedélyzett létszámhely
B9: adatok: fő-ben
A10: Megnevezés | B10: 2018. január 1. | C10: 2019. január 1. | D10: Közfoglalkoztatottak átlagos létszáma
A11: (intézmény, szakfeladat, stb.) | B11: engedélyezett | C11: engedélyezett
B12: létszámhely | C12: létszámhely
A13: Család és Gyermekjóléti Központ | B13: =SUM(B14:B17) -> 57 | C13: =SUM(C14:C17) -> 58 | D13: 0
A14: GyÁÓ | B14: 8 | C14: 8 | D14: 0
A15: Család- és Gyermekjóléti Szolgálat | B15: 16 | C15: 17 | D15: 0
A16: Család- és Gyermekjóléti Központ Hatósági és Speciális Munkacsoporot | B16: 22 | C16: 22 | D16: 0
A17: Óvodai és iskolai szociális segítő tevékenység (2018. szeptember 1-jétől) | B17: 11 | C17: 11
A18: Kistérségi Egyesített Szociális Intézet | B18: =SUM(B19:B29) -> 146 | C18: =SUM(C19:C29) -> 154 | D18: =SUM(D19:D29) -> 0
A19: Aranykor, kp.-i irányítás | B19: 47 | C19: 47 | D19: 0
A20: Gondozóház, főzőkonyha | B20: 29 | C20: 35 | D20: 0
A21: Hajléktalanok Átmeneti Szállása | B21: 7 | C21: 9 | D21: 0
A22: Idősek klubja | B22: 15 | C22: 15 | D22: 0
A23: FÉNI | B23: 6 | C23: 6 | D23: 0
A24: Nappali melegedő | B24: 2 | C24: 3 | D24: 0
A25: Éjjeli menedékhely | B25: 0 | C25: 2
A26: Szociális étkezés | B26: 1 | C26: 1 | D26: 0
A27: Házi segítségnyújtás | B27: 34 | C27: 34 | D27: 0
A28: Jelzőrendszer | B28: 1 | C28: 1 | D28: 0
A29: Szoc. foglalkoztatás | B29: 4 | C29: 1 | D29: 0
A30: Mosonmagyaróvár Térségi Társulás (projektekhez kapcsolódó megbízási díj került betervezésre, állandó létszámhely nincs | B30: 0 | C30: 0 | D30: 0
A31: Összesen: | B31: =B30+B18+B13 -> 203 | C31: =SUM(C13+C18+C30) -> 212 | D31: =SUM(D13+D18+D30) -> 0
A33: Mosonmagyaróvár,2019. január 31.

Sheet 9
B1: 9. számú melléklet
A2: Mosonmagyaróvár Térségi Társulás
A4: Állami támogatások 2019. év
A6: Kistérségi Egyesített Szociális Intézmény
A7: Rovat: B113
A8: Jogcím | B8: Feladat | C8: Fajlagos támogatás 2018. évi L. tv. Alapján | D8: mutató | E8: Eredeti előirányzat
A9: 3.c. | B9: Szociális étkeztetés | C9: 60896 | D9: 425 | E9: 25880800
A10: 3.d. | B10: Házi segítségnyújtás | C10: 429000 | D10: 149 | E10: 63921000
A11: 3.f. | B11: Időskorúak nappali int. ellátása | C11: 163500 | D11: 55 | E11: 8992500
A12: 3.g. | B12: Fogyatékos személyek napp. int. ellátása | C12: 550000 | D12: 17 | E12: =SUM(D12*C12) -> 9350000
A13: 3.g. | B13: Foglalkoztatási támogatásban rész. fogy. | C13: 220000 | D13: 10 | E13: =SUM(D13*C13) -> 2200000
A14: 3.g. | B14: Demens szem. napp. int. ellátása | C14: 550000 | D14: 18 | E14: =SUM(D14*C14) -> 9900000
A15: 3.i. | B15: Hajléktalanik napp. int. ellátása | C15: 247320 | D15: 36 | E15: =SUM(D15*C15) -> 8903520
A16: 3.k. | B16: Hajléktalanok Átmeneti Szállása | C16: 539000 | D16: 36 | E16: =SUM(D16*C16) -> 19404000
A17: 4.a. | B17: Bértámogatás | C17: 2848000 | D17: =E17/C17 -> 32.519685 | E17: 92616063
A18: 4.b. | B18: Intézmény-üzemeltetési támogatás | E18: 33574252
B19: Összesen | E19: =SUM(E9:E18) -> 274742135
A21: Család és Gyermekjóléti Központ
A22: Jogcím | B22: Feladat | C22: Fajlagos támogatás 2018. évi L. tv. Alapján | D22: mutató | E22: Eredeti előirányzat
A23: 3.a. | B23: Család és gyermekjóléti szolgálat | C23: 3400000 Ft/mutató | D23: =E23/3400000 -> 15.6 | E23: 53040000
A24: 3.b | B24: Család és gyermekjóléti központ | C24: 3300000 Ft/mutató | D24: =E24/3300000 -> 11.8 | E24: 38940000
A25: 4.a | B25: CSGYK bértámogatás | C25: 2848000 | D25: =E25/C25 -> 2.480315 | E25: ='[2]CSGYK 20190104'!$G$110 -> 7063937
A26: 4.b. | B26: Intézmény-üzemeltetési támogatás | E26: ='[2]CSGYK 20190104'!$G$111 -> 2560748
A27: 3.n. | B27: Óvodai és iskolai szociáis segítő tevékenység támgoatása | E27: 37589415
B28: Összesen: | E28: =SUM(E23:E27) -> 1.391941e+08
B30: Mindösszesen | E30: =E19+E28 -> 4.1393624e+08
A32: Mosonmagyaróvár, 2019. január 31.

Sheet tagdíjak (2)
G1: 10. számú melléklet
B2: Mosonmagyaróvár Térségi Társulás tagjai által fizetendő hozzájárulások, tagdjíak 2019. év
D6: intézményekre felosztva | E6: társulási működésre | F6: CSGYK megjelenítve | G6: Társulás kifizetés
C7: Lakosságszám | E7: Meglévő tagdíj 270 Ft/lakos | F7: Gyemekjóléti szolgálat támogatása 100 Ft/lakos | G7: Kórházi eszközök beszerzése 20 Ft/lakos
B8: Település | C8: 43101 | D8: 580 Ft + 643 Ft/lakos=1 223 Ft/lakos
A9: 1 | B9: Ásványráró | C9: 2013 | D9: =SUM(C9*1223) -> 2461899 | E9: =C9*270 -> 543510 | F9: =C9*100 -> 201300 | G9: =C9*20 -> 40260
A10: =A9+1 -> 2 | B10: Bezenye | C10: 1426 | D10: =SUM(C10*1223) -> 1743998 | E10: =C10*270 -> 385020 | F10: =C10*100 -> 142600 | G10: =C10*20 -> 28520
A11: =A10+1 -> 3 | B11: Darnózseli | C11: 1563 | D11: =SUM(C11*1223) -> 1911549 | E11: =C11*270 -> 422010 | F11: =C11*100 -> 156300 | G11: =C11*20 -> 31260
A12: =A11+1 -> 4 | B12: Dunakiliti | C12: 1955 | D12: =SUM(C12*1223) -> 2390965 | E12: =C12*270 -> 527850 | F12: =C12*100 -> 195500 | G12: =C12*20 -> 39100
A13: =A12+1 -> 5 | B13: Dunaremete | C13: 244 | D13: =SUM(C13*1223) -> 298412 | E13: =C13*270 -> 65880 | F13: =C13*100 -> 24400 | G13: =C13*20 -> 4880
A14: =A13+1 -> 6 | B14: Dunasziget | C14: 1637 | D14: =SUM(C14*1223) -> 2002051 | E14: =C14*270 -> 441990 | F14: =C14*100 -> 163700 | G14: =C14*20 -> 32740
A15: =A14+1 -> 7 | B15: Feketeerdő | C15: 617 | D15: =SUM(C15*1223) -> 754591 | E15: =C15*270 -> 166590 | F15: =C15*100 -> 61700 | G15: =C15*20 -> 12340
A16: =A15+1 -> 8 | B16: Halászi | C16: 3159 | D16: =SUM(C16*1223) -> 3863457 | E16: =C16*270 -> 852930 | F16: =C16*100 -> 315900 | G16: =C16*20 -> 63180
A17: =A16+1 -> 9 | B17: Hegyeshalom | C17: 3622 | D17: =SUM(C17*1223) -> 4429706 | E17: =C17*270 -> 977940 | F17: =C17*100 -> 362200 | G17: =C17*20 -> 72440
A18: =A17+1 -> 10 | B18: Hédervár | C18: 1240 | D18: =SUM(C18*1223) -> 1516520 | E18: =C18*270 -> 334800 | F18: =C18*100 -> 124000 | G18: =C18*20 -> 24800
A19: =A18+1 -> 11 | B19: Jánossomorja | C19: 6171 | D19: =SUM(C19*1223) -> 7547133 | E19: =C19*270 -> 1666170 | F19: =C19*100 -> 617100 | G19: =C19*20 -> 123420
A20: =A19+1 -> 12 | B20: Károlyháza | C20: 566 | D20: =SUM(C20*1223) -> 692218 | E20: =C20*270 -> 152820 | F20: =C20*100 -> 56600 | G20: =C20*20 -> 11320
A21: =A20+1 -> 13 | B21: Kimle | C21: 2283 | D21: =SUM(C21*1223) -> 2792109 | E21: =C21*270 -> 616410 | F21: =C21*100 -> 228300 | G21: =C21*20 -> 45660
... A35: =A34+1 -> 27 | B35: Várbalog | C35: 404 | D35: =SUM(C35*1223) -> 494092 | E35: =C35*270 -> 109080 | F35: =C35*100 -> 40400 | G35: =C35*20 -> 8080
B37: Összesen | C37: =SUM(C9:C35) -> 78043 | D37: =SUM(D9:D36) -> 95446589 | E37: =SUM(E9:E36) -> 21071610 | F37: =SUM(F9:F36) -> 7804300 | G37: =SUM(G9:G36) -> 1560860
D39: tartalék | E39: tartalék
C40: Lakosságszám | D40: Szolidaritási alap 10 Ft/lakos | E40: Felújítási alap 100 Ft/lakos | F40: Fizetési kötelezettség összesen
B41: Település | C41: 43101
B42: Ásványráró | C42: 2013 | D42: =C9*10 -> 20130 | E42: =C9*100 -> 201300 | F42: =SUM(D9:G9,D42:E42) -> 3468399
B43: Bezenye | C43: 1426 | D43: =C10*10 -> 14260 | E43: =C10*100 -> 142600 | F43: =SUM(D10:G10,D43:E43) -> 2456998
B44: Darnózseli | C44: 1563 | D44: =C11*10 -> 15630 | E44: =C11*100 -> 156300 | F44: =SUM(D11:G11,D44:E44) -> 2693049
B45: Dunakiliti | C45: 1955 | D45: =C12*10 -> 19550 | E45: =C12*100 -> 195500 | F45: =SUM(D12:G12,D45:E45) -> 3368465
B46: Dunaremete | C46: 244 | D46: =C13*10 -> 2440 | E46: =C13*100 -> 24400 | F46: =SUM(D13:G13,D46:E46) -> 420412
B47: Dunasziget | C47: 1637 | D47: =C14*10 -> 16370 | E47: =C14*100 -> 163700 | F47: =SUM(D14:G14,D47:E47) -> 2820551
B48: Feketeerdő | C48: 617 | D48: =C15*10 -> 6170 | E48: =C15*100 -> 61700 | F48: =SUM(D15:G15,D48:E48) -> 1063091
B49: Halászi | C49: 3159 | D49: =C16*10 -> 31590 | E49: =C16*100 -> 315900 | F49: =SUM(D16:G16,D49:E49) -> 5442957
B50: Hegyeshalom | C50: 3622 | D50: =C17*10 -> 36220 | E50: =C17*100 -> 362200 | F50: =SUM(D17:G17,D50:E50) -> 6240706
B51: Hédervár | C51: 1240 | D51: =C18*10 -> 12400 | E51: =C18*100 -> 124000 | F51: =SUM(D18:G18,D51:E51) -> 2136520
B52: Jánossomorja | C52: 6171 | D52: =C19*10 -> 61710 | E52: =C19*100 -> 617100 | F52: =SUM(D19:G19,D52:E52) -> 10632633
B53: Károlyháza | C53: 566 | D53: =C20*10 -> 5660 | E53: =C20*100 -> 56600 | F53: =SUM(D20:G20,D53:E53) -> 975218
... B68: Várbalog | C68: 404 | D68: =C35*10 -> 4040 | E68: =C35*100 -> 40400 | F68: =SUM(D35:G35,D68:E68) -> 696092
C70: =SUM(C42:C68) -> 78043 | D70: =SUM(D42:D69) -> 780430 | E70: =SUM(E42:E69) -> 7804300 | F70: =SUM(F42:F68) -> 134468089

Sheet Munka1
