Workbook

Sheet Tart
A1: TARTALOMJEGYZÉK
A3: Mosonmagyaróvár Térségi Társulás
A4: 2014. évi költségvetéséről szóló …./2015. (……….) MTT határozat
A5: végrehajtása
A7: 1. | B7: Társulás és irányítása alá tartozó intézményeinek egyszerűsített
B8: vagyon mérlege
A9: 2. | B9: Társulás és irányítása alá tartozó intézményeinek egyszerűsített
B10: költségvetési jelentése
A11: 3. | B11: Társulás és irányítása alá tartozó intézményeinek egyszerűsített
B12: eredmény kimutatás költségvetési számvitel szerint
A13: 4. | B13: Társulás és irányítása alá tartozó intézményeinek egyszerűsített
B14: maradvány kimutatás költségvetési számvitel szerint
A15: 5. | B15: Kiadások teljesítése kormányzati funkcióként
A16: 6. | B16: Bevételek teljesítése kormányzati funkcióként
A17: 7. | B17: Állami támogatások elszámolása
A18: 8. | B18: Péneszköz átadások bemutatása
A19: 9. | B19: Uniós támogatás
A20: 10. | B20: Felhalmozási kiadások kiadásnemenként
A21: 11. | B21: Tényleges és munkajogi létszám alakulása intézményenként
A22: 12. | B22: Mosonmagyaróvár Térségi Társulás tagönkormányzatai által teljesített befizetések

Sheet Egyszerűsített mérleg
A1: Mérlegkimutatás az új államháztartási számvitelről szóló 4/2013. (I.11.) Korm. Rendelet alapján | F1: 1.számú melléklet
A3: Mosonmagyaróvár Térségi Társulás és irányítása alá tartozó költségvetési | E3: Kistérségi Egyesített Szociális Intézmény egyeszerűsített mérelge (adatok ezer Ft-ban)
A4: szervek egyszerűsített mérleg (adatok ezer Ft-ban)
A6: Megnevezés | B6: Rendező mérleg szerinti nyitó érték | C6: Tárgyévi záró állomány | E6: Megnevezés | F6: Rendező mérleg szerinti nyitó érték | G6: Tárgyévi záró állomány
B7: 41640 | C7: 42004 | F7: 41640 | G7: 42004
A8: ESZKÖZÖK | E8: ESZKÖZÖK
A9: I. Immateriális javak összesen | B9: =F9+B53+F53 -> 1254 | C9: =G9+C53+G53 -> 866 | E9: I. Immateriális javak összesen | F9: 0 | G9: 0
A10: II. Tárgyi eszközök összesen | B10: =F10+B54+F54 -> 441214 | C10: =G10+C54+G54 -> 429872 | E10: II. Tárgyi eszközök összesen | F10: 402076 | G10: 393229
A11: III. Befektetett pénzügyi eszközök összesen | B11: =F11+B55+F55 -> 0 | C11: =G11+C55+G55 -> 0 | E11: III. Befektetett pénzügyi eszközök összesen | F11: 0 | G11: 0
A12: IV. Koncesszióba, vagyonkezelésbe adott, illetve vagyonkezelésbe | B12: =F12+B56+F56 -> 0 | C12: =G12+C56+G56 -> 0 | E12: IV. Koncesszióba, vagyonkezelésbe adott, illetve vagyonkezelésbe | F12: 0 | G12: 0
A13: A) NEMZETI VAGYONBA TARTOZÓ BEFEKTETETT ESZKÖZÖK ÖSSZESEN | B13: =SUM(B9:B12) -> 442468 | C13: =SUM(C9:C12) -> 430738 | E13: A) NEMZETI VAGYONBA TARTOZÓ BEFEKTETETT ESZKÖZÖK ÖSSZESEN | F13: =SUM(F9:F12) -> 402076 | G13: =SUM(G9:G12) -> 393229
A14: I. Készletek összesen | B14: =F14+B58+F58 -> 3776 | C14: =G14+C58+G58 -> 3300 | E14: I. Készletek összesen | F14: 3776 | G14: 3300
A15: II. Értékpapírok összesen | B15: =F15+B59+F59 -> 0 | C15: =G15+C59+G59 -> 0 | E15: II. Értékpapírok összesen | F15: 0 | G15: 0
A16: B) NEMZETI VAGYONBA TARTOZÓ FORGÓESZKÖZÖK ÖSSZESEN | B16: =SUM(B14:B15) -> 3776 | C16: =SUM(C14:C15) -> 3300 | E16: B) NEMZETI VAGYONBA TARTOZÓ FORGÓESZKÖZÖK ÖSSZESEN | F16: =SUM(F14:F15) -> 3776 | G16: =SUM(G14:G15) -> 3300
A17: C) PÉNZESZKÖZÖK | B17: =F17+B61+F61 -> 30051 | C17: =G17+C61+G61 -> 9296 | E17: C) PÉNZESZKÖZÖK | F17: 4655 | G17: 5623
A18: D/I. Éven belüli követelések | B18: =F18+B62+F62 -> 11000 | C18: =G18+C62+G62 -> 10822 | E18: D/I. Éven belüli követelések | F18: 10766 | G18: 10766
A19: D/I. Éven túli követelések | B19: =F19+B63+F63 -> 0 | C19: =G19+C63+G63 -> 1785 | E19: D/I. Éven túli követelések | F19: 0 | G19: 877
A20: D) KÖVETELÉSEK | B20: =SUM(B18:B19) -> 11000 | C20: =SUM(C18:C19) -> 12607 | E20: D) KÖVETELÉSEK | F20: =SUM(F18:F19) -> 10766 | G20: =SUM(G18:G19) -> 11643
A21: E) EGYÉB SAJÁTOS ESZKÖZOLDALI ELSZÁMOLÁS | B21: =F21+B65+F65 -> 1619 | C21: =G21+C65+G65 -> 18264 | E21: E) EGYÉB SAJÁTOS ESZKÖZOLDALI ELSZÁMOLÁS | F21: 598 | G21: 0
A22: F/I. Eredményszemléletű bevételek aktív időbeli elhatárolása | B22: =F22+B66+F66 -> 0 | C22: =G22+C66+G66 -> 20 | E22: F/I. Eredményszemléletű bevételek aktív időbeli elhatárolása | F22: 0 | G22: 0
A23: F/II. Költségek és ráfordítások aktív időbeli elhatárolása | B23: =F23+B67+F67 -> 0 | C23: =G23+C67+G67 -> 572 | E23: F/II. Költségek és ráfordítások aktív időbeli elhatárolása | F23: 0 | G23: 465
A24: F/III. Halasztott ráfordítások | B24: =F24+B68+F68 -> 0 | C24: =G24+C68+G68 -> 0 | E24: F/III. Halasztott ráfordítások | F24: 0 | G24: 0
A25: F) AKTÍV IDŐBELI ELHATÁROLÁSOK | B25: =SUM(B22:B24) -> 0 | C25: =SUM(C22:C24) -> 592 | E25: F) AKTÍV IDŐBELI ELHATÁROLÁSOK | F25: =SUM(F22:F24) -> 0 | G25: =SUM(G22:G24) -> 465
A26: ESZKÖZÖK ÖSSZESEN | B26: =SUM(B13+B16+B17+B20+B21+B25) -> 488914 | C26: =SUM(C13+C16+C17+C20+C21+C25) -> 474797 | E26: ESZKÖZÖK ÖSSZESEN | F26: =SUM(F13+F16+F17+F20+F21+F25) -> 421871 | G26: =SUM(G13+G16+G17+G20+G21+G25) -> 414260
A27: FORRÁSOK | E27: FORRÁSOK
A28: G/I. Nemzeti vagyon induláskori értéke | B28: =F28+B72+F72 -> 614205 | C28: =G28+C72+G72 -> 614205 | E28: G/I. Nemzeti vagyon induláskori értéke | F28: 545920 | G28: 545920
A29: G/II. Nemzeti vagyon változásai | B29: =F29+B73+F73 -> 0 | C29: =G29+C73+G73 -> 0 | E29: G/II. Nemzeti vagyon változásai | F29: 0 | G29: 0
A30: G/III. Egyéb eszköz induláskori értéke | B30: =F30+B74+F74 -> 26396 | C30: =G30+C74+G74 -> 26396 | E30: G/III. Egyéb eszköz induláskori értéke | F30: 1000 | G30: 1000
A31: G/IV. Felhalmozott eredmény | B31: =F31+B75+F75 -> -158850 | C31: =G31+C75+G75 -> -158850 | E31: G/IV. Felhalmozott eredmény | F31: -132011 | G31: -132011
A32: G/V. Eszközök értékhelyesbítésének forrása | B32: =F32+B76+F76 -> 0 | C32: =G32+C76+G76 -> 0 | E32: G/V. Eszközök értékhelyesbítésének forrása | F32: 0 | G32: 0
A33: G/VI. Mérleg szerinti eredmény | B33: =F33+B77+F77 -> 0 | C33: =G33+C77+G77 -> -50638 | E33: G/VI. Mérleg szerinti eredmény | F33: 0 | G33: -34649
A34: D) SAJÁT TŐKE ÖSSZESEN | B34: =SUM(B28:B33) -> 481751 | C34: =SUM(C28:C33) -> 431113 | E34: D) SAJÁT TŐKE ÖSSZESEN | F34: =SUM(F28:F33) -> 414909 | G34: =SUM(G28:G33) -> 380260
A35: H/I. Költségvetési évben esedékes kötelezettségek | B35: =F35+B79+F79 -> 3508 | C35: =G35+C79+G79 -> 0 | E35: H/I. Költségvetési évben esedékes kötelezettségek | F35: 3307 | G35: 0
A36: H/II. Költségvetési éven túl esedékes kötelezettségek | B36: =F36+B80+F80 -> 0 | C36: =G36+C80+G80 -> 0 | E36: H/II. Költségvetési éven túl esedékes kötelezettségek | F36: 0 | G36: 0
A37: H) KÖTELEZETTSÉGEK ÖSSZESEN | B37: =SUM(B35:B36) -> 3508 | C37: =SUM(C35:C36) -> 0 | E37: H) KÖTELEZETTSÉGEK ÖSSZESEN | F37: =SUM(F35:F36) -> 3307 | G37: =SUM(G35:G36) -> 0
A38: I) EGYÉB FORRÁSOLDALI ELSZÁMOLÁSOK | B38: =F38+B82+F82 -> 3655 | C38: =G38+C82+G82 -> 3188 | E38: I) EGYÉB FORRÁSOLDALI ELSZÁMOLÁSOK | F38: 3655 | G38: 3188
A39: J) KINCSTÁRI SZÁMLAVEZETÉSSEL KAPCSOLATOS ELSZÁMOLÁSOK | B39: 0 | C39: 0 | E39: J) KINCSTÁRI SZÁMLAVEZETÉSSEL KAPCSOLATOS ELSZÁMOLÁSOK | F39: 0 | G39: 0
A40: K/I. Eredményszemléletű bevételek passzív időbeli elhatárolása | B40: =F40+B84+F84 -> 0 | C40: =G40+C84+G84 -> 0 | E40: K/I. Eredményszemléletű bevételek passzív időbeli elhatárolása | F40: 0 | G40: 0
A41: K/II. Költségek és ráfordítások passzív időbeli elhatárolása | B41: =F41+B85+F85 -> 0 | C41: =G41+C85+G85 -> 40496 | E41: K/II. Költségek és ráfordítások passzív időbeli elhatárolása | F41: 0 | G41: 30812
A42: K/III. Halasztott bevételek | B42: =F42+B86+F86 -> 0 | C42: =G42+C86+G86 -> 0 | E42: K/III. Halasztott bevételek | F42: 0 | G42: 0
...

Sheet Egyszerűsített ktgv.jelentés
A1: Mosonmagyaróvár Térségi Társulás
A2: Egyszerűsített költségvetési jelentés 2014. december 31. (4/2013. (I.11.) Korm. Rendelet alapján)
A3: adatok ezer Ft-ban
D4: 2. számú melléklet
A7: Mosonmagyaróvár Térségi Társulás
A8: Megnevezés | B8: eredeti | C8: módosított | D8: teljesítés | E8: teljesítés aránya
B9: előirányzat | C9: előirányzat | E9: mód. Előirányzathoz
A10: Személyi juttatások | B10: 1601 | C10: 2276 | D10: 2138 | E10: =SUM((D10/C10)*100) -> 93.936731
A11: Munkaadót terhelő járulékok | B11: 433 | C11: 742 | D11: 720 | E11: =SUM((D11/C11)*100) -> 97.03504
A12: Dologi és egyéb folyó kiadások | B12: 24656 | C12: 45256 | D12: 45253 | E12: =SUM((D12/C12)*100) -> 99.993371
A13: Ellátottak pénzbeli juttatása | B13: 0 | C13: 0 | D13: 0
A14: Működési célú pénzeszköz átadás ÁHT.-n belül | B14: 3600 | C14: 8230 | D14: 7930 | E14: =SUM((D14/C14)*100) -> 96.3548
A15: Működési célú pénzeszköz átadás ÁHT.-n kívülre | B15: 400 | C15: 400 | D15: 200 | E15: =SUM((D15/C15)*100) -> 50
A16: Tartalékok | B16: 1047 | C16: 8226 | D16: 0 | E16: =SUM((D16/C16)*100) -> 0
A17: Felhalmozási kiadások | B17: 0 | C17: 1822 | D17: 1822 | E17: =SUM((D17/C17)*100) -> 100
A18: Hitelek és kölcsönök kiadásai | B18: =SUM([1]Pénzf.Tanács!N15) -> 0 | C18: =SUM([1]Pénzf.Tanács!O15) -> 0 | D18: =SUM([1]Pénzf.Tanács!P15) -> 0
A19: Költségvetési kiadások | B19: =SUM(B10:B18) -> 31737 | C19: =SUM(C10:C18) -> 66952 | D19: =SUM(D10:D18) -> 58063 | E19: =SUM((D19/C19)*100) -> 86.723324
A20: Intézményfinanszírozás | B20: 419689 | C20: 451017 | D20: 451017 | E20: =SUM((D20/C20)*100) -> 100
A21: Egyéb finanszírozási művelet | B21: =SUM([1]Pénzf.Tanács!N18) -> 0 | C21: =SUM([1]Pénzf.Tanács!O18) -> 0 | D21: 0
A22: Kiadások összesen (költségvetési számvitel sz.): | B22: =SUM(B19:B21) -> 451426 | C22: =SUM(C19:C21) -> 517969 | D22: =SUM(D19:D21) -> 509080 | E22: =SUM((D22/C22)*100) -> 98.283874
A24: Működési célú támogatási bevételek ÁHT belülről | B24: 451426 | C24: 493949 | D24: 499969 | E24: =SUM((D24/C24)*100) -> 101.21875
A25: .- ebből állami támogatással finanszírozott rész | B25: 312702 | C25: 348703 | D25: 348703 | E25: =SUM((D25/C25)*100) -> 100
A26: .- ebből gesztor önkormányzat által átadott (az állami támogatáson túl) | B26: 102615 | C26: 109854 | D26: 109854 | E26: =SUM((D26/C26)*100) -> 100
A27: .- ebből egyéb társult önkormányzat által átadott | B27: =B24-B25-B26-B28-B29 -> 10459 | C27: =C24-C25-C26-C28-C29 -> 14007 | D27: =D24-D25-D26-D28-D29 -> 14007 | E27: =SUM((D27/C27)*100) -> 100
A28: .- ebből központi költségvetési szerv által adott támogatás | B28: 0 | C28: 10090 | D28: 10090 | E28: =SUM((D28/C28)*100) -> 100
A29: .- ebből EU-s projektre kapott támogatás | B29: 25650 | C29: =17315-6020 -> 11295 | D29: 17315 | E29: =SUM((D29/C29)*100) -> 153.29792
A30: Intézményi működési bevételek | B30: 0 | C30: 699 | D30: 7190 | E30: =SUM((D30/C30)*100) -> 1028.6123
A31: Felhalmozási és tőke jellegű bevételek | B31: 0 | C31: 0 | D31: 0
A32: Működési célú pénzeszköz átvétel ÁHT kívülről | B32: 0 | C32: 0 | D32: 0
A33: Felhalmozási célú pénzeszköz átvétel | B33: 0 | C33: 0 | D33: 0
A34: Költségvetési bevételek összesen: | B34: =SUM(B30:B33,B24) -> 451426 | C34: =SUM(C30:C33,C24) -> 494648 | D34: =SUM(D30:D33,D24) -> 507159 | E34: =SUM((D34/C34)*100) -> 102.52927
A35: Maradvány igénybevétele | B35: 0 | C35: 23321 | D35: 23321 | E35: =SUM((D35/C35)*100) -> 100
A36: Egyéb finanszírozási bevétel | B36: 0 | C36: 0 | D36: 0
A37: Bevételek összesen: | B37: =SUM(B34:B36) -> 451426 | C37: =SUM(C34:C36) -> 517969 | D37: =SUM(D34:D36) -> 530480 | E37: =SUM((D37/C37)*100) -> 102.4154
A40: KISTÉRSÉGI EGYESÍTETT SZOCIÁLIS INTÉZET
A42: Megnevezés | B42: eredeti | C42: módosított | D42: teljesítés | E42: teljesítés aránya
B43: előirányzat | C43: előirányzat | E43: mód. Előirányzathoz
A44: Személyi juttatások | B44: 264817 | C44: 285311 | D44: 280730 | E44: =SUM((D44/C44)*100) -> 98.394384
A45: Munkaadót terhelő járulékok | B45: 69967 | C45: 74579 | D45: 69729 | E45: =SUM((D45/C45)*100) -> 93.496829
A46: Dologi és egyéb folyó kiadások | B46: 200046 | C46: 206850 | D46: 187029 | E46: =SUM((D46/C46)*100) -> 90.417694
...

Sheet Egyszerűsített eredmény
A1: Mosonmagyaróvár Térségi Társulás | G1: Mosonmagyaróvár Térségi Társulás
A2: Egyszerűsített eredmény kimutatás 2014. december 31. (4/2013. (I.11.) Korm. Rendelet alapján) | G2: Egyszerűsített eredmény kimutatás 2014. december 31. (4/2013. (I.11.) Korm. Rendelet alapján)
A3: adatok ezer Ft-ban | G3: adatok ezer Ft-ban
E4: 3. számú melléklet | K4: 3. számú melléklet
A5: Mosonmagyaróvár Térségi Társulás 2014. évi egyszerűsített eredmény kimutatása pénzügyi számvitel alapján | D5: Kistérségi Egyesített Szociális Intézmény 2014. évi egyszerűsített eredmény kimutatása pénzügyi számvitel alapján | G5: Kistérségi Gyermekjóléti és Családsegítő Szolgáltató Központ 2014. évi egyszerűsített eredmény kimutatása pénzügyi számvitel alapján | J5: Mosonmagyaróvár Térségi Társulás és irányítása alá tartozó költségvetési szervek összevont 2014. évi egyszerűsített eredmény kimutatása pénzügyi számvitel alapján
A7: Megnevezés | B7: Tárgyi időszak | D7: Megnevezés | E7: Tárgyi időszak | G7: Megnevezés | H7: Tárgyi időszak | J7: Megnevezés | K7: Tárgyi időszak
A8: 01 Közhatalmi eredményszemléletű bevételek | B8: 0 | D8: 01 Közhatalmi eredményszemléletű bevételek | E8: 0 | G8: 01 Közhatalmi eredményszemléletű bevételek | H8: 0 | J8: 01 Közhatalmi eredményszemléletű bevételek | K8: =B8+E8+H8 -> 0
A9: 02 Eszközök és szolgáltatások értékesítése nettó eredményszemléletű bevételei | B9: 5664 | D9: 02 Eszközök és szolgáltatások értékesítése nettó eredményszemléletű bevételei | E9: 173964 | G9: 02 Eszközök és szolgáltatások értékesítése nettó eredményszemléletű bevételei | H9: 657 | J9: 02 Eszközök és szolgáltatások értékesítése nettó eredményszemléletű bevételei | K9: =B9+E9+H9 -> 180285
A10: 03 Tevékenység egyéb nettó eredményszemléletű bevételei | B10: 0 | D10: 03 Tevékenység egyéb nettó eredményszemléletű bevételei | E10: 0 | G10: 03 Tevékenység egyéb nettó eredményszemléletű bevételei | H10: 0 | J10: 03 Tevékenység egyéb nettó eredményszemléletű bevételei | K10: =B10+E10+H10 -> 0
A11: I Tevékenység nettó eredményszemléletű bevétele (=01+02+03) (04=01+02+03) | B11: 5664 | D11: I Tevékenység nettó eredményszemléletű bevétele (=01+02+03) (04=01+02+03) | E11: 173964 | G11: I Tevékenység nettó eredményszemléletű bevétele (=01+02+03) (04=01+02+03) | H11: 657 | J11: I Tevékenység nettó eredményszemléletű bevétele (=01+02+03) (04=01+02+03) | K11: =B11+E11+H11 -> 180285
A12: 04 Saját termelésű készletek állományváltozása | B12: 0 | D12: 04 Saját termelésű készletek állományváltozása | E12: 0 | G12: 04 Saját termelésű készletek állományváltozása | H12: 0 | J12: 04 Saját termelésű készletek állományváltozása | K12: =B12+E12+H12 -> 0
A13: 05 Saját előállítású eszközök aktivált értéke | B13: 0 | D13: 05 Saját előállítású eszközök aktivált értéke | E13: 0 | G13: 05 Saját előállítású eszközök aktivált értéke | H13: 0 | J13: 05 Saját előállítású eszközök aktivált értéke | K13: =B13+E13+H13 -> 0
A14: II Aktivált saját teljesítmények értéke (=±04+05) (07=±05+06) | B14: 0 | D14: II Aktivált saját teljesítmények értéke (=±04+05) (07=±05+06) | E14: 0 | G14: II Aktivált saját teljesítmények értéke (=±04+05) (07=±05+06) | H14: 0 | J14: II Aktivált saját teljesítmények értéke (=±04+05) (07=±05+06) | K14: =B14+E14+H14 -> 0
A15: 06 Központi működési célú támogatások eredményszemléletű bevételei | B15: 0 | D15: 06 Központi működési célú támogatások eredményszemléletű bevételei | E15: 317290 | G15: 06 Központi működési célú támogatások eredményszemléletű bevételei | H15: 133727 | J15: 06 Központi működési célú támogatások eredményszemléletű bevételei | K15: =B15+E15+H15 -> 451017
A16: 07 Egyéb működési célú támogatások eredményszemléletű bevételei | B16: 499969 | D16: 07 Egyéb működési célú támogatások eredményszemléletű bevételei | E16: 30952 | G16: 07 Egyéb működési célú támogatások eredményszemléletű bevételei | H16: 953 | J16: 07 Egyéb működési célú támogatások eredményszemléletű bevételei | K16: =B16+E16+H16 -> 531874
A17: 08 Különféle egyéb eredményszemléletű bevételek | B17: 0 | D17: 08 Különféle egyéb eredményszemléletű bevételek | E17: 10770 | G17: 08 Különféle egyéb eredményszemléletű bevételek | H17: 3041 | J17: 08 Különféle egyéb eredményszemléletű bevételek | K17: =B17+E17+H17 -> 13811
A18: III Egyéb eredményszemléletű bevételek (=06+07+08) (11=08+09+10) | B18: 499969 | D18: III Egyéb eredményszemléletű bevételek (=06+07+08) (11=08+09+10) | E18: 359012 | G18: III Egyéb eredményszemléletű bevételek (=06+07+08) (11=08+09+10) | H18: 137721 | J18: III Egyéb eredményszemléletű bevételek (=06+07+08) (11=08+09+10) | K18: =B18+E18+H18 -> 996702
A19: 09 Anyagköltség | B19: 457 | D19: 09 Anyagköltség | E19: 50737 | G19: 09 Anyagköltség | H19: 2228 | J19: 09 Anyagköltség | K19: =B19+E19+H19 -> 53422
... A48: E) MÉRLEG SZERINTI EREDMÉNY (=±C±D) (41=±35±40) | B48: -2871 | D48: E) MÉRLEG SZERINTI EREDMÉNY (=±C±D) (41=±35±40) | E48: -34649 | G48: E) MÉRLEG SZERINTI EREDMÉNY (=±C±D) (41=±35±40) | H48: -13118 | J48: E) MÉRLEG SZERINTI EREDMÉNY (=±C±D) (41=±35±40) | K48: =B48+E48+H48 -> -50638
A52: Mosonmagyaróvár, 2015. április 13.

Sheet Egyszerűsített maradvány
A1: Mosonmagyaróvár Térségi Társulás | G1: Mosonmagyaróvár Térségi Társulás
A2: Egyszerűsített maradvány kimutatás 2014. december 31. (4/2013. (I.11.) Korm. Rendelet alapján) | G2: Egyszerűsített maradvány kimutatás 2014. december 31. (4/2013. (I.11.) Korm. Rendelet alapján)
A3: adatok ezer Ft-ban | G3: adatok ezer Ft-ban
D4: 4. számú melléklet | J4: 4. számú melléklet
A5: Mosonmagyaróvár Térségi Társulás 2014. évi egyszerűsített eredmény kimutatása költségvetési számvitel alapján | D5: Kistérségi Egyesített Szociális Intézmény 2014. évi egyszerűsített eredmény kimutatása költségvetési számvitel alapján | G5: Kistérségi Gyermekjóléti és Családsegítő Szolgáltató Központ 2014. évi egyszerűsített eredmény kimutatása költségvetési számvitel alapján | J5: Mosonmagyaróvár Térségi Társulás és irányítása alá tartozó költségvetési szervek összevont 2014. évi egyszerűsített eredmény kimutatása költségvetési számvitel alapján
A6: Megnevezés | B6: Összeg | D6: Megnevezés | E6: Összeg | G6: Megnevezés | H6: Összeg | J6: Megnevezés | K6: Összeg
A7: 01 Alaptevékenység költségvetési bevételei | B7: 507159 | D7: 01 Alaptevékenység költségvetési bevételei | E7: 226389 | G7: 01 Alaptevékenység költségvetési bevételei | H7: 4651 | J7: 01 Alaptevékenység költségvetési bevételei | K7: =B7+E7+H7 -> 738199
A8: 02 Alaptevékenység költségvetési kiadásai | B8: 58063 | D8: 02 Alaptevékenység költségvetési kiadásai | E8: 542842 | G8: 02 Alaptevékenység költségvetési kiadásai | H8: 141059 | J8: 02 Alaptevékenység költségvetési kiadásai | K8: =B8+E8+H8 -> 741964
A9: I Alaptevékenység költségvetési egyenlege (=01-02) | B9: 449096 | D9: I Alaptevékenység költségvetési egyenlege (=01-02) | E9: -316453 | G9: I Alaptevékenység költségvetési egyenlege (=01-02) | H9: -136408 | J9: I Alaptevékenység költségvetési egyenlege (=01-02) | K9: =B9+E9+H9 -> -3765
A10: 03 Alaptevékenység finanszírozási bevételei | B10: 23321 | D10: 03 Alaptevékenység finanszírozási bevételei | E10: 317290 | G10: 03 Alaptevékenység finanszírozási bevételei | H10: 133727 | J10: 03 Alaptevékenység finanszírozási bevételei | K10: =B10+E10+H10 -> 474338
A11: 04 Alaptevékenység finanszírozási kiadásai | B11: 451017 | D11: 04 Alaptevékenység finanszírozási kiadásai | E11: 0 | G11: 04 Alaptevékenység finanszírozási kiadásai | H11: 0 | J11: 04 Alaptevékenység finanszírozási kiadásai | K11: =B11+E11+H11 -> 451017
A12: II Alaptevékenység finanszírozási egyenlege (=03-04) | B12: -427696 | D12: II Alaptevékenység finanszírozási egyenlege (=03-04) | E12: 317290 | G12: II Alaptevékenység finanszírozási egyenlege (=03-04) | H12: 133727 | J12: II Alaptevékenység finanszírozási egyenlege (=03-04) | K12: =B12+E12+H12 -> 23321
A13: A) Alaptevékenység maradványa (=±I±II) | B13: 21400 | D13: A) Alaptevékenység maradványa (=±I±II) | E13: 837 | G13: A) Alaptevékenység maradványa (=±I±II) | H13: -2681 | J13: A) Alaptevékenység maradványa (=±I±II) | K13: =B13+E13+H13 -> 19556
A14: 05 Vállalkozási tevékenység költségvetési bevételei | B14: 0 | D14: 05 Vállalkozási tevékenység költségvetési bevételei | E14: 0 | G14: 05 Vállalkozási tevékenység költségvetési bevételei | H14: 0 | J14: 05 Vállalkozási tevékenység költségvetési bevételei | K14: =B14+E14+H14 -> 0
A15: 06 Vállalkozási tevékenység költségvetési kiadásai | B15: 0 | D15: 06 Vállalkozási tevékenység költségvetési kiadásai | E15: 0 | G15: 06 Vállalkozási tevékenység költségvetési kiadásai | H15: 0 | J15: 06 Vállalkozási tevékenység költségvetési kiadásai | K15: =B15+E15+H15 -> 0
A16: III Vállalkozási tevékenység költségvetési egyenlege (=05-06) | B16: 0 | D16: III Vállalkozási tevékenység költségvetési egyenlege (=05-06) | E16: 0 | G16: III Vállalkozási tevékenység költségvetési egyenlege (=05-06) | H16: 0 | J16: III Vállalkozási tevékenység költségvetési egyenlege (=05-06) | K16: =B16+E16+H16 -> 0
A17: 07 Vállalkozási tevékenység finanszírozási bevételei | B17: 0 | D17: 07 Vállalkozási tevékenység finanszírozási bevételei | E17: 0 | G17: 07 Vállalkozási tevékenység finanszírozási bevételei | H17: 0 | J17: 07 Vállalkozási tevékenység finanszírozási bevételei | K17: =B17+E17+H17 -> 0
A18: 08 Vállalkozási tevékenység finanszírozási kiadásai | B18: 0 | D18: 08 Vállalkozási tevékenység finanszírozási kiadásai | E18: 0 | G18: 08 Vállalkozási tevékenység finanszírozási kiadásai | H18: 0 | J18: 08 Vállalkozási tevékenység finanszírozási kiadásai | K18: =B18+E18+H18 -> 0
... A25: G) Vállalkozási tevékenység felhasználható maradványa (=B-F) | B25: 0 | D25: G) Vállalkozási tevékenység felhasználható maradványa (=B-F) | E25: 0 | G25: G) Vállalkozási tevékenység felhasználható maradványa (=B-F) | H25: 0 | J25: G) Vállalkozási tevékenység felhasználható maradványa (=B-F) | K25: =B25+E25+H25 -> 0
D28: Mosonmagyaróvár, 2015. április 13.

Sheet Kiadások korm. funkcióként
A1: Mosonmagyaróvár Térségi Társulás 2014. évi kiadások teljesítése költségvetési számvitel szerint kormányzati funkcióként (adatik ezer Ft-ban) | H1: Egyesített Szociális Intézmény 2014. évi kiadások teljesítése költségvetési számvitel szerint kormányzati funkcióként
F2: 5. számú melléklet | S2: 5. számú melléklet
A3: Megnevezés | B3: Összesen | C3: 011130 Önkormányzatok és önkormányzati hivatalok jogalkotó és általános igazgatási tevékenysége | D3: 013330 Pályázat- és támogatáskezelés, ellenőrzés | E3: 018030 Támogatási célú finanszírozási műveletek | F3: 900080 Szabad kapacitás terhére végzett, nem haszonszerzési célú tevékenységek kiadásai és bevételei | H3: Megnevezés | I3: Összesen | J3: 101221 Fogyatékossággal élők nappali ellátása | K3: 102021 Időskorúak, demens betegek tartós bentlakásos ellátása | L3: 102022 Időskorúak, demens betegek átmeneti ellátása | M3: 102030 Idősek, demens betegek nappali ellátása | N3: 107013 Hajléktalanok átmeneti ellátása | O3: 107015 Hajléktalanok nappali ellátása | P3: 107030 Szociális foglalkoztatás | Q3: 107051 Szociális étkeztetés | R3: 107052 Házi segítségnyújtás | S3: 107053 Jelzőrendszeres házi segítségnyújtás
A4: Személyi juttatások összesen (=15+19) (K1) | B4: 2138 | C4: 190 | D4: 1948 | E4: 0 | F4: 0 | H4: Személyi juttatások összesen (=15+19) (K1) | I4: 280730 | J4: 15429 | K4: 105547 | L4: 44064 | M4: 32077 | N4: 17806 | O4: 5522 | P4: 10253 | Q4: 6135 | R4: 41424 | S4: 2473
A5: Munkaadókat terhelő járulékok és szociális hozzájárulási adó (=22+…+28) (K2) | B5: 720 | C5: 97 | D5: 623 | E5: 0 | F5: 0 | H5: Munkaadókat terhelő járulékok és szociális hozzájárulási adó (=22+…+28) (K2) | I5: 69729 | J5: 3774 | K5: 26710 | L5: 11030 | M5: 8275 | N5: 4171 | O5: 1395 | P5: 1286 | Q5: 1535 | R5: 10879 | S5: 674
A6: Készletbeszerzés (=29+30+31) (K31) | B6: 457 | C6: 66 | D6: 391 | E6: 0 | F6: 0 | H6: Készletbeszerzés (=29+30+31) (K31) | I6: 53596 | J6: 2365 | K6: 27493 | L6: 13513 | M6: 3391 | N6: 2187 | O6: 638 | P6: 939 | Q6: 1834 | R6: 1173 | S6: 63
A7: Kommunikációs szolgáltatások (=33+34) (K32) | B7: 313 | C7: 313 | D7: 0 | E7: 0 | F7: 0 | H7: Kommunikációs szolgáltatások (=33+34) (K32) | I7: 3930 | J7: 434 | K7: 1091 | L7: 492 | M7: 629 | N7: 173 | O7: 147 | P7: 1 | Q7: 219 | R7: 657 | S7: 87
A8: Szolgáltatási kiadások (=36+37+38+40+41+43+44) (K33) | B8: 39996 | C8: 20237 | D8: 19759 | E8: 0 | F8: 0 | H8: Szolgáltatási kiadások (=36+37+38+40+41+43+44) (K33) | I8: 91077 | J8: 3524 | K8: 18139 | L8: 6728 | M8: 3808 | N8: 4078 | O8: 1791 | P8: 110 | Q8: 47463 | R8: 1067 | S8: 4369
A9: Kiküldetések, reklám- és propagandakiadások (=46+47) (K34) | B9: 0 | C9: 0 | D9: 0 | E9: 0 | F9: 0 | H9: Kiküldetések, reklám- és propagandakiadások (=46+47) (K34) | I9: 681 | J9: 23 | K9: 222 | L9: 82 | M9: 136 | N9: 38 | O9: 12 | P9: 0 | Q9: 16 | R9: 152 | S9: 0
A10: Különféle befizetések és egyéb dologi kiadások (=49+50+51+54+58) (K35) | B10: 4487 | C10: 2715 | D10: 1772 | E10: 0 | F10: 0 | H10: Különféle befizetések és egyéb dologi kiadások (=49+50+51+54+58) (K35) | I10: 37745 | J10: 1549 | K10: 11030 | L10: 4816 | M10: 2066 | N10: 1345 | O10: 583 | P10: 584 | Q10: 13532 | R10: 1019 | S10: 1221
A11: Dologi kiadások (=32+35+45+48+59) (K3) | B11: 45253 | C11: 23331 | D11: 21922 | E11: 0 | F11: 0 | H11: Dologi kiadások (=32+35+45+48+59) (K3) | I11: 187029 | J11: 7895 | K11: 57975 | L11: 25631 | M11: 10030 | N11: 7821 | O11: 3171 | P11: 1634 | Q11: 63064 | R11: 4068 | S11: 5740
A12: Ellátottak pénzbeli juttatásai (=61+62+74+75+83+93+100+103) (K4) | B12: 0 | C12: 0 | D12: 0 | E12: 0 | F12: 0 | H12: Ellátottak pénzbeli juttatásai (=61+62+74+75+83+93+100+103) (K4) | I12: 674 | J12: 92 | K12: 137 | L12: 81 | M12: 0 | N12: 364 | O12: 0 | P12: 0 | Q12: 0 | R12: 0 | S12: 0
A13: Egyéb működési célú támogatások államháztartáson belülre (=155+…+164) (K506) | B13: 7930 | C13: 0 | D13: 0 | E13: 0 | F13: 7930 | H13: Egyéb működési célú támogatások államháztartáson belülre (=155+…+164) (K506) | I13: 0 | J13: 0 | K13: 0 | L13: 0 | M13: 0 | N13: 0 | O13: 0 | P13: 0 | Q13: 0 | R13: 0 | S13: 0
A14: Egyéb működési célú támogatások államháztartáson kívülre (=182+…+192) (K511) | B14: 200 | C14: 0 | D14: 0 | E14: 0 | F14: 200 | H14: Egyéb működési célú támogatások államháztartáson kívülre (=182+…+192) (K511) | I14: 0 | J14: 0 | K14: 0 | L14: 0 | M14: 0 | N14: 0 | O14: 0 | P14: 0 | Q14: 0 | R14: 0 | S14: 0
A15: Tartalékok (K512) | B15: 0 | C15: 0 | D15: 0 | E15: 0 | F15: 0 | H15: Tartalékok (K512) | I15: 0 | J15: 0 | K15: 0 | L15: 0 | M15: 0 | N15: 0 | O15: 0 | P15: 0 | Q15: 0 | R15: 0 | S15: 0
... A25: Kiadások összesen (=271+309) (K1-K9) | B25: 509080 | C25: 25440 | D25: 24493 | E25: 451017 | F25: 8130 | H25: Kiadások összesen (=271+309) (K1-K9) | I25: 542842 | J25: 27936 | K25: 192455 | L25: 80806 | M25: 50382 | N25: 31110 | O25: 10088 | P25: 13173 | Q25: 70734 | R25: 57271 | S25: 8887
A27: Kistérségi Gyermekjóléti és Családsegítő Szolgáltató Központ 2014. évi kiadások teljesítése költségvetési számvitel szerint kormányzati funkcióként
F28: 5. számú melléklet
A29: Megnevezés | B29: Összesen | C29: 104012 Gyermekek átmeneti ellátása | D29: 104042 Gyermekjóléti szolgáltatások | E29: 107054 Családsegítés
A30: Személyi juttatások összesen (=15+19) (K1) | B30: 101507 | C30: 18325 | D30: 31328 | E30: 51854
A31: Munkaadókat terhelő járulékok és szociális hozzájárulási adó (=22+…+28) (K2) | B31: 23928 | C31: 4689 | D31: 7620 | E31: 11619
A32: Készletbeszerzés (=29+30+31) (K31) | B32: 2228 | C32: 188 | D32: 306 | E32: 1734
A33: Kommunikációs szolgáltatások (=33+34) (K32) | B33: 3634 | C33: 204 | D33: 691 | E33: 2739
A34: Szolgáltatási kiadások (=36+37+38+40+41+43+44) (K33) | B34: 6391 | C34: 2897 | D34: 496 | E34: 2998
A35: Kiküldetések, reklám- és propagandakiadások (=46+47) (K34) | B35: 195 | C35: 13 | D35: 35 | E35: 147
A36: Különféle befizetések és egyéb dologi kiadások (=49+50+51+54+58) (K35) | B36: 2902 | C36: 771 | D36: 337 | E36: 1794
A37: Dologi kiadások (=32+35+45+48+59) (K3) | B37: 15350 | C37: 4073 | D37: 1865 | E37: 9412
A38: Ellátottak pénzbeli juttatásai (=61+62+74+75+83+93+100+103) (K4) | B38: 274 | C38: 274 | D38: 0 | E38: 0
A39: Egyéb működési célú támogatások államháztartáson belülre (=155+…+164) (K506) | B39: 0 | C39: 0 | D39: 0 | E39: 0
A40: Egyéb működési célú támogatások államháztartáson kívülre (=182+…+192) (K511) | B40: 0 | C40: 0 | D40: 0 | E40: 0
A41: Tartalékok (K512) | B41: 0 | C41: 0 | D41: 0 | E41: 0
... A51: Kiadások összesen (=271+309) (K1-K9) | B51: 141059 | C51: 27361 | D51: 40813 | E51: 72885
A54: Mosonmagyaróvár, 2015. április 13.

Sheet Bevételek korm. funkcióként
A1: Mosonmagyaróvár Térségi Társulás 2014. évi bevételek teljesítése költségvetési számvitel szerint kormányzati funkcióként (adatok ezer Ft-ban) | H1: Kistérségi Egyesített Szociális Intézmény 2014. évi bevételek teljesítése költségvetési számvitel szerint kormányzati funkcióként (adatok ezer Ft-ban)
E2: 6. számú melléklet | S2: 6. számú melléklet
A3: Megnevezés | B3: Összesen | C3: 011130 Önkormányzatok és önkormányzati hivatalok jogalkotó és általános igazgatási tevékenysége | D3: 013330 Pályázat- és támogatáskezelés, ellenőrzés | E3: 018030 Támogatási célú finanszírozási műveletek | F3: 900080 Szabad kapacitás terhére végzett, nem haszonszerzési célú tevékenységek kiadásai és bevételei | H3: Megnevezés | I3: Összesen | J3: 018030 Támogatási célú finanszírozási műveletek | K3: 101221 Fogyatékossággal élők nappali ellátása | L3: 102021 Időskorúak, demens betegek tartós bentlakásos ellátása | M3: 102022 Időskorúak, demens betegek átmeneti ellátása | N3: 102030 Idősek, demens betegek nappali ellátása | O3: 107013 Hajléktalanok átmeneti ellátása | P3: 107015 Hajléktalanok nappali ellátása | Q3: 107030 Szociális foglalkoztatás | R3: 107051 Szociális étkeztetés | S3: 107052 Házi segítségnyújtás | T3: 107053 Jelzőrendszeres házi segítségnyújtás
A4: Önkormányzatok működési támogatásai (=01+…+06) (B11) | B4: 0 | C4: 0 | D4: 0 | E4: 0 | F4: 0 | H4: Önkormányzatok működési támogatásai (=01+…+06) (B11) | I4: 0 | J4: 0 | K4: 0 | L4: 0 | M4: 0 | N4: 0 | O4: 0 | P4: 0 | Q4: 0 | R4: 0 | S4: 0 | T4: 0
A5: Egyéb működési célú támogatások bevételei államháztartáson belülről (=33+…+42) (B16) | B5: 499969 | C5: 0 | D5: 17315 | E5: 0 | F5: 482654 | H5: Egyéb működési célú támogatások bevételei államháztartáson belülről (=33+…+42) (B16) | I5: 30752 | J5: 0 | K5: 50 | L5: 4688 | M5: 1812 | N5: 12670 | O5: 1442 | P5: 0 | Q5: 0 | R5: 0 | S5: 0 | T5: 10090
A6: Működési célú támogatások államháztartáson belülről (=07+...+10+21+32) (B1) | B6: 499969 | C6: 0 | D6: 17315 | E6: 0 | F6: 482654 | H6: Működési célú támogatások államháztartáson belülről (=07+...+10+21+32) (B1) | I6: 30752 | J6: 0 | K6: 50 | L6: 4688 | M6: 1812 | N6: 12670 | O6: 1442 | P6: 0 | Q6: 0 | R6: 0 | S6: 0 | T6: 10090
A7: Felhalmozási célú támogatások államháztartáson belülről (=44+45+46+57+68) (B2) | B7: 0 | C7: 0 | D7: 0 | E7: 0 | F7: 0 | H7: Felhalmozási célú támogatások államháztartáson belülről (=44+45+46+57+68) (B2) | I7: 0 | J7: 0 | K7: 0 | L7: 0 | M7: 0 | N7: 0 | O7: 0 | P7: 0 | Q7: 0 | R7: 0 | S7: 0 | T7: 0
A8: Közhatalmi bevételek (=93+94+104+109+165+166) (B3) | B8: 0 | C8: 0 | D8: 0 | E8: 0 | F8: 0 | H8: Közhatalmi bevételek (=93+94+104+109+165+166) (B3) | I8: 0 | J8: 0 | K8: 0 | L8: 0 | M8: 0 | N8: 0 | O8: 0 | P8: 0 | Q8: 0 | R8: 0 | S8: 0 | T8: 0
A9: Működési bevételek ((=180+181+184+186+193+…+196+200+205) (B4) | B9: 7190 | C9: 7190 | D9: 0 | E9: 0 | F9: 0 | H9: Működési bevételek ((=180+181+184+186+193+…+196+200+205) (B4) | I9: 195437 | J9: 0 | K9: 3621 | L9: 96207 | M9: 30122 | N9: 4675 | O9: 4482 | P9: 2 | Q9: 504 | R9: 41907 | S9: 11074 | T9: 2843
A10: Felhalmozási bevételek (=210+212+214+215+217) (B5) | B10: 0 | C10: 0 | D10: 0 | E10: 0 | F10: 0 | H10: Felhalmozási bevételek (=210+212+214+215+217) (B5) | I10: 0 | J10: 0 | K10: 0 | L10: 0 | M10: 0 | N10: 0 | O10: 0 | P10: 0 | Q10: 0 | R10: 0 | S10: 0 | T10: 0
A11: Működési célú átvett pénzeszközök (=219+220+232) (B6) | B11: 0 | C11: 0 | D11: 0 | E11: 0 | F11: 0 | H11: Működési célú átvett pénzeszközök (=219+220+232) (B6) | I11: 200 | J11: 0 | K11: 0 | L11: 200 | M11: 0 | N11: 0 | O11: 0 | P11: 0 | Q11: 0 | R11: 0 | S11: 0 | T11: 0
A12: Felhalmozási célú átvett pénzeszközök (=245+246+258) (B7) | B12: 0 | C12: 0 | D12: 0 | E12: 0 | F12: 0 | H12: Felhalmozási célú átvett pénzeszközök (=245+246+258) (B7) | I12: 0 | J12: 0 | K12: 0 | L12: 0 | M12: 0 | N12: 0 | O12: 0 | P12: 0 | Q12: 0 | R12: 0 | S12: 0 | T12: 0
A13: Költségvetési bevételek (43+79+179+209+218+244+270) (B1-B7) | B13: 507159 | C13: 7190 | D13: 17315 | E13: 0 | F13: 482654 | H13: Költségvetési bevételek (43+79+179+209+218+244+270) (B1-B7) | I13: 226389 | J13: 0 | K13: 3671 | L13: 101095 | M13: 31934 | N13: 17345 | O13: 5924 | P13: 2 | Q13: 504 | R13: 41907 | S13: 11074 | T13: 12933
A14: Hitel-, kölcsönfelvétel államháztartáson kívülről (=272+274+275) (B811) | B14: 0 | C14: 0 | D14: 0 | E14: 0 | F14: 0 | H14: Hitel-, kölcsönfelvétel államháztartáson kívülről (=272+274+275) (B811) | I14: 0 | J14: 0 | K14: 0 | L14: 0 | M14: 0 | N14: 0 | O14: 0 | P14: 0 | Q14: 0 | R14: 0 | S14: 0 | T14: 0
A15: Belföldi értékpapírok bevételei (=278+281+282+283) (B812) | B15: 0 | C15: 0 | D15: 0 | E15: 0 | F15: 0 | H15: Belföldi értékpapírok bevételei (=278+281+282+283) (B812) | I15: 0 | J15: 0 | K15: 0 | L15: 0 | M15: 0 | N15: 0 | O15: 0 | P15: 0 | Q15: 0 | R15: 0 | S15: 0 | T15: 0
... A20: Bevételek összesen (271+304) (B1-B8) | B20: 530480 | C20: 7190 | D20: 17315 | E20: 23321 | F20: 482654 | H20: Bevételek összesen (271+304) (B1-B8) | I20: 543679 | J20: 317290 | K20: 3671 | L20: 101095 | M20: 31934 | N20: 17345 | O20: 5924 | P20: 2 | Q20: 504 | R20: 41907 | S20: 11074 | T20: 0
T21: 0
A22: Kistérségi Gyermekjóléti és Családsegítő Szolgáltató Központ 2014. évi bevételek teljesítése költségvetési számvitel szerint kormányzati funkcióként (adatok ezer Ft-ban) | T22: 0
E23: 6. számú melléklet | T23: 12933
A24: Megnevezés | B24: Összesen | C24: 018030 Támogatási célú finanszírozási műveletek | D24: 104012 Gyermekek átmeneti ellátása | E24: 104042 Gyermekjóléti szolgáltatások | F24: 107054 Családsegítés
A25: Önkormányzatok működési támogatásai (=01+…+06) (B11) | B25: 0 | C25: 0 | D25: 0 | E25: 0 | F25: 0
A26: Egyéb működési célú támogatások bevételei államháztartáson belülről (=33+…+42) (B16) | B26: 793 | C26: 0 | D26: 0 | E26: 50 | F26: 743
A27: Működési célú támogatások államháztartáson belülről (=07+...+10+21+32) (B1) | B27: 793 | C27: 0 | D27: 0 | E27: 50 | F27: 743
A28: Felhalmozási célú támogatások államháztartáson belülről (=44+45+46+57+68) (B2) | B28: 0 | C28: 0 | D28: 0 | E28: 0 | F28: 0
A29: Közhatalmi bevételek (=93+94+104+109+165+166) (B3) | B29: 0 | C29: 0 | D29: 0 | E29: 0 | F29: 0
A30: Működési bevételek ((=180+181+184+186+193+…+196+200+205) (B4) | B30: 3698 | C30: 0 | D30: 885 | E30: 1471 | F30: 1342
A31: Felhalmozási bevételek (=210+212+214+215+217) (B5) | B31: 0 | C31: 0 | D31: 0 | E31: 0 | F31: 0
A32: Működési célú átvett pénzeszközök (=219+220+232) (B6) | B32: 160 | C32: 0 | D32: 0 | E32: 0 | F32: 160
A33: Felhalmozási célú átvett pénzeszközök (=245+246+258) (B7) | B33: 0 | C33: 0 | D33: 0 | E33: 0 | F33: 0
A34: Költségvetési bevételek (43+79+179+209+218+244+270) (B1-B7) | B34: 4651 | C34: 0 | D34: 885 | E34: 1521 | F34: 2245
A35: Hitel-, kölcsönfelvétel államháztartáson kívülről (=272+274+275) (B811) | B35: 0 | C35: 0 | D35: 0 | E35: 0 | F35: 0
A36: Belföldi értékpapírok bevételei (=278+281+282+283) (B812) | B36: 0 | C36: 0 | D36: 0 | E36: 0 | F36: 0
... A41: Bevételek összesen (271+304) (B1-B8) | B41: 138378 | C41: 133727 | D41: 885 | E41: 1521 | F41: 2245
A44: Mosonmagyaróvár, 2015. április 13.

Sheet Állami támogatások
A1: Mosonmagyaróvár Város Önkormányzat
A2: nettó finanszírozásában megjelenő állami támogatások, annak elszámolása (adatok Ft-ban)
A4: 2014. év | K4: 7. számú melléklet
A5: Rovat | B5: Jogcím | C5: Eredeti előirányzat Ft-ban | D5: Módosított előirányzat IV. negyedév Ft-ban | E5: félév | F5: változás | J5: Teljesítés | K5: Év végi elszámolás szerint járó | L5: Elszámolás alapján visszafizetendő (-) / járó (+) támogatás Ft-ban
A6: B113 | B6: Szociális és gyermekjóléti alapszolg.,egyéb gyermekjóléti támogatások | C6: =SUM(21758400+20463173+20463173+15322800) -> 78007546 | D6: =71766942+6240604-13533293+13533293 -> 78007546 | E6: 78147546 | F6: =SUM(D6-E6) -> -140000 | J6: =71766942+6240604-13533293+13533293 -> 78007546 | K6: =71766942+6240604-13533293+13533293 -> 78007546 | L6: 0
A7: B113 | B7: Szociális étkeztetés | C7: 27403200 | D7: 25941696 | E7: 27403200 | F7: =SUM(D7-E7) -> -1461504 | J7: 25941696 | K7: =J7+L7 -> 26124384 | L7: 182688
A8: B113 | B8: Házi segítségnyújtás | C8: 34872500 | D8: =35626500+565500 -> 36192000 | E8: 34872500 | F8: =SUM(D8-E8) -> 1319500 | J8: =35626500+565500 -> 36192000 | K8: =J8+L8 -> 36380500 | L8: 188500
A9: B113 | B9: Időskorúak nappali int. Ellátása | C9: 7357500 | D9: =6376500-163500 -> 6213000 | E9: 7357500 | F9: =SUM(D9-E9) -> -1144500 | J9: =6376500-163500 -> 6213000 | K9: =J9+L9 -> 6213000 | L9: 0
A10: B113 | B10: Fogyatékos és demens személyek ell. | C10: =SUM(6050000+4180000+12100000) -> 22330000 | D10: =25080000-660000+550000 -> 24970000 | E10: 22330000 | F10: =SUM(D10-E10) -> 2640000 | J10: =25080000-660000+550000 -> 24970000 | K10: =J10+L10 -> 24970000 | L10: 0
A11: B113 | B11: Hajléktalanok nappali ellátása | C11: 11129400 | D11: =9892800+1236600 -> 11129400 | E11: 11129400 | F11: =SUM(D11-E11) -> 0 | J11: =9892800+1236600 -> 11129400 | K11: =J11+L11 -> 10579400 | L11: -550000
A12: B113 | B12: Hajléktalanok átmeneti ellátása | C12: 20607400 | D12: =23183325-3091110 -> 20092215 | E12: 20607400 | F12: =SUM(D12-E12) -> -515185 | J12: =23183325-3091110 -> 20092215 | K12: =J12+L12 -> 19577030 | L12: -515185
A13: B113 | B13: Gyermekek átmeneti int. Ellátása | C13: 7627800 | D13: =6865020-1525560 -> 5339460 | E13: 7627800 | F13: =SUM(D13-E13) -> -2288340 | H13: =SUM(F6:F13) -> -1590029 | J13: =6865020-1525560 -> 5339460 | K13: =J13+L13 -> 4576680 | L13: -762780
A14: B113 | B14: Bértámogatás szociális szféra | C14: 83393280 | D14: =83393280 -> 83393280 | E14: 83393280 | F14: =SUM(D14-E14) -> 0 | J14: =83393280 -> 83393280 | K14: =J14+L14 -> 83393280 | L14: 0
A15: B113 | B15: intézmény üzemeltetési támogatás | C15: 19973000 | D15: =19973000+3750000 -> 23723000 | E15: 19973000 | F15: =SUM(D15-E15) -> 3750000 | J15: =19973000+3750000 -> 23723000 | K15: =J15+L15 -> 23723000 | L15: 0
B16: B113 jogcím összesen | C16: =SUM(C6:C15) -> 312701626 | D16: =SUM(D6:D15) -> 315001597 | E16: =SUM(E6:E15) -> 312841626 | G16: =SUM(D16-E16) -> 2159971 | J16: =SUM(J6:J15) -> 315001597 | K16: =J16+L16 -> 313544820 | L16: =SUM(L6:L15) -> -1456777 | M16: **
B17: - egyéb jogcím szerinti állami támogatás (bérkompenzáció, ágazati pótlék) | C17: 0 | D17: =D18-D16 -> 33701603 | E17: =E18-E16 -> #REF! | F17: =F18-F16 -> 0 | G17: =G18-G16 -> #REF! | H17: =H18-H16 -> 0 | I17: =I18-I16 -> 0 | J17: =J18-J16 -> 33701603 | K17: =J17+L17 -> 33701603 | L17: 0
B18: B116 jogcím összesen | C18: =SUM(C16:C17) -> 312701626 | D18: 348703200 | E18: =SUM(#REF!) -> #REF! | G18: =SUM(D18-E18) -> #REF! | J18: 348703200 | K18: =K17+K16 -> 347246423 | L18: =SUM(L17+L16) -> -1456777
A20: ** Mivel az állami támogatást Mosonmagyaróvár Város Önkormányzata a nettó finanszírozás alapján
A21: átadta a Társulásnak, ezért a fel nem használt támogatás összevont részét a gesztor önkormányzatnak
A22: át kell adni.
B25: Mosonmagyaróvár, 2015. április 13.

Sheet pénzeszköz átadások
A1: Mosonmagyaróvári Többcélú Kistérségi Társulás
A2: államháztartáson belülre illetve kívülre megvalósított
A3: pénzeszköz átadások
A4: 2014. december 31-ig
A5: adatok ezer Ft-ban
E6: 8. számú melléklet
A7: Jogcím | B7: Teljesítés ezer Ft-ban
A8: Áht. Belüli pénzeszköz átadás
A9: .= megállapodás alapján Hivatal részére átadott támogatás | B9: 3300
A10: .= Mecsér Község Önkormányzat részére "Szolidaritási alapból átadott támogatás" | B10: 4630
A11: Áht. Kívüli pénzeszköz átadás
A12: .= Térségi Nyugdíjas Klub támogatása | B12: 200
A13: Felhalmozási célú pénzeszköz átadás Áht. Kívülre
A14: .= Karolina Kórház - Rendelőintézet eszközbeszerzéséhez kapcsolódó alapítványi támogatás | B14: 1822
A15: Összes pénzeszköz átadás intézményfinanszírozáson kívül | B15: =B9+B10+B12+B14 -> 9952
A19: Mosonmagyaróvár, 2015. április 13.

Sheet uniós támogatás
A3: Mosonmagyaróvári Többcélú Kistérségi Társulás
A4: Európai Unió költségvetéséből származó
A5: pályázati források alakulása
A6: 2014. december 31-ig
A7: adatok ezer Ft-ban
C8: 9. számú melléklet
A10: EREDETI ELŐIRÁNYZAT | B10: 25650 | C10: ezer Ft
A11: MEGNEVEZÉS | B11: MÓDOSÍTOTT ELŐIRÁNYZAT | C11: TELJESÍTÉS | D11: % MÓDOSÍTOTT ELŐIR. KÉPEST
A13: TÁMOP- 5.4.9-11/1-2012-0014 számú, „Komplex alapszolgáltatás-központú rendszer létrehozása a szervezet-, és a közösségfejlesztés eszközeivel az otthonközeli szolgáltatásért” c. projekt | B13: 17315 | C13: 17315 | D13: =SUM(C13/B13)*100 -> 100
A16: Mosonmagyaróvár, 2015. április 13.

Sheet Felhalmozási
M1: 10.sz. melléklet
A2: Mosonmagyaróvár Térségi Társulás és irányítása alá
A3: tartozó költségvetési szervek beruházási kiadásai 2014.év
E4: Tárgy évi beruházási kifizetés | J4: Felújítás | L4: Előzetesen | M4: Pénzforg. Össz. (adatok ezer Ft-ban)
A5: Sorszám | B5: Megnevezés | C5: Kivonatszám | D5: Szakfeladat | E5: Immat.javak | F5: Föld, telek | G5: 1233 Épület | H5: 1234 Építmény | I5: Gép, berend. | J5: 1243 Épület | K5: 1244 Építmény | L5: felsz. áfa
A7: 1 | B7: Orvosi gép, műszer beszerzésre Kórháznak átadott pénzeszköz | C7: 150/2012 | J7: 1615000 | M7: 1822
A8: =SUM(A7+1) -> 2 | B8: KESZI, tároló épület Zichy M. utca, faház Bartáság utca, | I8: 492215 | L8: 132900 | M8: 1848
A9: 3 | B9: KESZI telefonközpont | M9: 586
A10: 4 | B10: KESZI tolókapu, ajtócsere mint felújítás | M10: 2246
B11: Éves összesen | E11: =SUM(E7:E8) -> 0 | F11: =SUM(F7:F8) -> 0 | G11: =SUM(G7:G8) -> 0 | H11: =SUM(H7:H8) -> 0 | I11: =SUM(I7:I8) -> 492215 | J11: =SUM(J7:J8) -> 1615000 | K11: =SUM(K7:K8) -> 0 | L11: =SUM(L7:L8) -> 132900 | M11: =SUM(M7:M10) -> 6502
B14: Mosonmagyaróvár, 2015. április 13.

Sheet létszámok
A3: Mosonmagyaróvár Térségi Társulás
A4: és felügyelete alá tartozó költségvetési szerv
A5: 2014. évi költségvetéséről szóló határozatához
A7: Költségvetési engedélyzett létszámhely
B9: adatok: fő-ben | E9: 11. számú melléklet
A10: Megnevezés | B10: 2014. január 1. | C10: Közfoglalkoztatottak átlagos létszáma | D10: 2014. december 31-én | E10: Munkajogi létszám | F10: Ebből
A11: (intézmény, szakfeladat, stb.) | B11: engedélyezett | D11: engedélyezett | E11: 2014. december 31-én | F11: közfoglalkoztatott
B12: létszámhely | D12: létszámhely
A13: Kistérségi Gyermekjóléti és Családsegítő Szolgáltató Központ | B13: =SUM(B14:B16) -> 43 | C13: 0 | D13: 43 | E13: 44 | F13: 0
A14: GyÁÓ | B14: 8 | C14: 0 | D14: 8 | E14: 9 | F14: 0
A15: Gyermekjóléti szolgálat | B15: 13 | C15: 0 | D15: 13 | E15: 13 | F15: 0
A16: Családsegítő | B16: 22 | C16: 0 | D16: 22 | E16: 22 | F16: 0
A17: Szenvedély beteg
A18: Kistérségi Egyesített Szociális Intézet | B18: 131 | C18: =SUM(C19:C29) -> 2 | D18: =SUM(D19:D29) -> 134 | E18: =SUM(E19:E29) -> 135 | F18: =SUM(F19:F29) -> 1
A19: Aranykor, kp.-i irányítás | B19: 42 | C19: 1 | D19: 42 | E19: 43 | F19: 1
A20: Gondozóház | B20: 28 | C20: 1 | D20: 28 | E20: 29
A21: ESZO
A22: Hajléktalan | B22: 5 | D22: 6 | E22: 8
A23: Idősek klubja | B23: 16 | D23: 16 | E23: 15
A24: FÉNI | B24: 7 | D24: 7 | E24: 6
A25: Nappali melegedő | B25: 2 | D25: 2 | E25: 2
A26: Szociális étkezés | B26: 4 | D26: 4 | E26: 2
A27: Házi segítségnyújtás | B27: 22 | D27: 24 | E27: 25
A28: Jelzőrendszer | B28: 1 | D28: 1 | E28: 1
A29: Szoc. foglalkoztatás | B29: 4 | D29: 4 | E29: 4
A30: Mosonmagyaróvár Térségi Társulás | B30: 1 | C30: 0 | D30: 1 | E30: 1 | F30: 0
A31: TÁMOP 5.4.9-11/1-2012-0014 | B31: 1 | C31: 0 | D31: 1 | E31: 1 | F31: 0
A32: Összesen: | B32: =SUM(B13+B18+B30) -> 175 | C32: =SUM(C13+C18+C30) -> 2 | D32: =D13+D18+D30 -> 178 | E32: =E13+E18+E30 -> 180 | F32: =F13+F18+F30 -> 1
A34: Mosonmagyaróvár, 2015. április 13.

Sheet befizetések
F1: 12. számú melléklet
A2: Mosonmagyaróvár Térségi Társulás tagönkormányzati által teljesített befizetések
A3: 2014. évben
C4: Előirányzat Ft | D4: Teljesített befizetés Ft | E4: Tartozás Ft | F4: Megjegyzés Ft
A5: Társulási tagdíj | C5: 6087440 | D5: 6027360 | E5: =C5-D5 -> 60080 | F5: Ásványráró 400 Ft, Dunasziget 59.680 Ft díjjal kevesebbet fizetett
A6: Gyermekjólét támogatása | C6: 4014600 | D6: 3940000 | E6: =C6-D6 -> 74600 | F6: Dunasziget 74.600 Ft-tal kevesebbet fizetett
A7: Karolina Kórház - Rendelőintézet eszközbeszerzés támogatása | C7: 1521860 | D7: 1521590 | E7: =C7-D7 -> 270 | F7: önkéntes alapon fizetett
A8: Szolidaritási alap | C8: 760930 | D8: 4699810 | F8: többlet teljesítés gesztor Önkormányzat által
A9: Gyermekjóléti támogatás novemberi határozat alapján | C9: 7104120 | D9: 7168001 | F9: többlet teljesítés több önkormányzat kisebb összegű túlutalása miatt
A12: Mosonmagyaróvár, 2015. április 13.
