Workbook

Sheet Címrend
B1: 1. SZÁMÚ MELLÉKLET
A5: MOSONMAGYARÓVÁR TÉRSÉGI TÁRSULÁS
A6: 2017. ÉVI KÖLTSÉGVETÉSI HATÁROZAT MÓDOSÍTÁSÁHOZ
A11: A Mosonmagyaróvár Térségi Társulás és irányítása alá tartozó költségvetési szervek
A12: 2017. évi költségvetéséről szóló 2/2017. (II.21.) TT. határozatot
A13: végrehajtásáról szóló …/2018. (IV…...) TT. határozat
A15: CÍMRENDJÉT
A16: az alábbiak szerint állapítja meg:
A21: Címszám | B21: Megnevezés
A22: 1. | B22: Mosonmagyaróvár Térségi Társulás
A23: 2. | B23: Kistérségi Egyesített Szociális Intézmény
A24: 3. | B24: Család- és Gyermekjóléti Központ

Sheet összevont mérleg
A1: 2./A SZÁMÚ MELLÉKLET
A3: MOSONMAGYARÓVÁR TÉRSÉGI TÁRSULÁS
A4: 2017. ÉVI KÖLTSÉGVETÉS VÉRGEHAJTÁSÁRÓL SZÓLÓ HATÁROZAT
A5: PÉNZFORGALMI MÉRLEG
A6: adatok Ft-ban
A8: Mosonmagyaróvár Térségi Társulás | D8: kötelező | E8: önként | G8: kötelező | H8: önként | J8: kötelező | K8: önként
A9: Megnevezés | B9: eredeti | C9: eredeti | D9: eredeti | E9: eredeti | F9: módosított | G9: módosított | H9: módosított | I9: teljesítés | J9: teljesítés | K9: teljesítés
B10: előirányzat 2014. | C10: előirányzat 2017. | D10: előirányzat 2017. | E10: előirányzat 2017. | F10: előirányzat 2017.12.31 | G10: előirányzat 2017.12.31 | H10: előirányzat 2017.12.31 | I10: 2017.12.31 | J10: 2017.12.31 | K10: 2017.12.31
A11: Személyi juttatások | B11: ='[1]2B'!B12+'[1]2C'!B12+'[1]2D'!B12 -> 142146325 | C11: ='[1]2B'!C12+'[1]2C'!B12+'[1]2D'!B12 -> 548586508 | D11: =SUM(C11-E11) -> 548086508 | E11: ='[1]2D'!B12 -> 500000 | F11: ='[1]2B'!F12+'[1]2C'!E12+'[1]2D'!E12 -> 557005383 | G11: =F11-H11 -> 555984737 | H11: ='[1]2D'!E12 -> 1020646 | I11: ='KESZI mérleg'!E12+'CSGYK mérleg'!D12+'Társulás mérleg'!D12 -> 520103148 | J11: =I11-K11 -> 519156390 | K11: ='Társulás mérleg'!D12 -> 946758
A12: Munkaadót terhelő járulékok | B12: ='[1]2B'!B13+'[1]2C'!B13+'[1]2D'!B13 -> 32546024 | C12: ='[1]2B'!C13+'[1]2C'!B13+'[1]2D'!B13 -> 130476457 | D12: =SUM(C12-E12) -> 130227457 | E12: ='[1]2D'!B13 -> 249000 | F12: ='[1]2B'!F13+'[1]2C'!E13+'[1]2D'!E13 -> 132879325 | G12: =F12-H12 -> 132531204 | H12: ='[1]2D'!E13 -> 348121 | I12: ='KESZI mérleg'!E13+'CSGYK mérleg'!D13+'Társulás mérleg'!D13 -> 118558839 | J12: =I12-K12 -> 118352001 | K12: ='Társulás mérleg'!D13 -> 206838
A13: Dologi és egyéb folyó kiadások | B13: ='[1]2B'!B14+'[1]2C'!B14+'[1]2D'!B14 -> 38652414 | C13: ='[1]2B'!C14+'[1]2C'!B14+'[1]2D'!B14 -> 231722368 | D13: =SUM(C13-E13) -> 219920091 | E13: ='[1]2D'!B14-10091 -> 11802277 | F13: ='[1]2B'!F14+'[1]2C'!E14+'[1]2D'!E14 -> 263004903 | G13: =F13-H13 -> 245311346 | H13: ='[1]2D'!E14 -> 17693557 | I13: ='KESZI mérleg'!E14+'CSGYK mérleg'!D14+'Társulás mérleg'!D14 -> 244566271 | J13: =I13-K13 -> 226916544 | K13: ='Társulás mérleg'!D14 -> 17649727 | M13: =I13/F13 -> 0.92989244 | N13: =I13/C13 -> 1.055428
A14: Ellátottak pénzbeli juttatásai | C14: ='[1]2B'!C15+'[1]2C'!B15 -> 1270000 | D14: ='[1]2B'!D15+'[1]2C'!C15 -> 1270000 | E14: 0 | F14: ='[1]2B'!F15+'[1]2C'!E15 -> 1270000 | G14: =F14-H14 -> 1270000 | H14: 0 | I14: ='KESZI mérleg'!E15+'CSGYK mérleg'!D15 -> 1066755 | J14: =I14-K14 -> 1066755 | K14: 0 | M14: =I14/F14 -> 0.83996457 | N14: =I14/C14 -> 0.83996457
A15: Pénzeszköz átadás, támogatás | B15: ='[1]2B'!B15+'[1]2C'!B15+'[1]2D'!B15 -> 6760570 | C15: ='[1]2D'!B15 -> 6340000 | D15: =SUM(C15-E15) -> 0 | E15: ='[1]2D'!B15 -> 6340000 | F15: ='[1]2D'!E15 -> 6340000 | G15: =F15-H15 -> 0 | H15: ='[1]2D'!E15 -> 6340000 | I15: ='Társulás mérleg'!D15 -> 6290000 | J15: =I15-K15 -> 0 | K15: ='Társulás mérleg'!D15 -> 6290000
A16: Elvonások és befizetések | C16: 0 | F16: 0 | G16: =F16-H16 -> 0 | H16: 0 | I16: 0 | J16: =I16-K16 -> 0 | K16: 0
A17: Felhalmozási kiadások | B17: 0 | C17: ='[1]2B'!C17+'[1]2C'!B17+'[1]2D'!B18 -> 235000000 | D17: =SUM(C17-E17) -> 0 | E17: ='[1]2D'!C18 -> 235000000 | F17: ='[1]2B'!F17+'[1]2C'!E17+'[1]2D'!E18 -> 251320581 | G17: =F17-H17 -> 16940348 | H17: ='[1]2D'!E18 -> 234380233 | I17: ='KESZI mérleg'!E17+'CSGYK mérleg'!D17+'Társulás mérleg'!D18 -> 17058594 | J17: =I17-K17 -> 17058594
A18: Hitelek és kölcsönök kiadásai | B18: 0 | C18: 0 | D18: =SUM(C18-E18) -> 0 | E18: 0 | F18: 0 | G18: =F18-H18 -> 0 | H18: 0 | I18: 0 | J18: =I18-K18 -> 0 | K18: 0
A19: Pénzforgalmi kiadások | B19: =SUM(B11:B18) -> 220105333 | C19: =SUM(C11:C18) -> 1153395333 | D19: =SUM(D11:D18) -> 899504056 | E19: =SUM(E11:E18) -> 253891277 | F19: =SUM(F11:F18) -> 1211820192 | G19: =SUM(G11:G18) -> 952037635 | H19: =SUM(H11:H18) -> 259782557 | I19: =SUM(I11:I18) -> 907643607 | ... K19: =SUM(K11:K18) -> 25093323 | M19: =I19/C19 -> 0.78693192 | N19: =I19/F19 -> 0.74899198 | O19: =SUM(I19-I17)/(F19-F17) -> 0.92721018
A20: Államháztartási tartalék | B20: ='[1]2D'!B21 -> 21770799 | C20: ='[1]2D'!B21 -> 21770799 | D20: ='[1]2D'!B21 -> 21770799 | E20: 0 | F20: ='[1]2D'!E21 -> 40475279 | G20: =F20-H20 -> 0 | H20: =F20 -> 40475279 | I20: 0 | J20: =I20-K20 -> 0 | K20: =I20 -> 0
A21: Kiadások összesen: | B21: =B19+B20 -> 241876132 | C21: =C19+C20 -> 1175166132 | D21: =SUM(C21-E21) -> 921274855 | E21: =SUM(E19+E20) -> 253891277 | F21: =SUM(F19:F20) -> 1252295471 | G21: =SUM(G19:G20) -> 952037635 | H21: =SUM(H19:H20) -> 300257836 | I21: =SUM(I19:I20) -> 907643607 | J21: =SUM(J19:J20) -> 882550284 | K21: =SUM(K19:K20) -> 25093323 | M21: =I21/C21 -> 0.77235344 | N21: =I21/F21 -> 0.72478391
A23: Intézményi működési bevételek | B23: ='[1]2B'!B23+'[1]2C'!B21+'[1]2D'!B24 -> 12591469 | C23: ='[1]2B'!C23+'[1]2C'!B21+'[1]2D'!B24 -> 286220736 | D23: 286831415 | E23: 89321 | F23: ='[1]2B'!F23+'[1]2C'!E21+'[1]2D'!E24 -> 307020766 | G23: =F23-H23 -> 291158312 | H23: ='[1]2D'!E24 -> 15862454 | I23: ='KESZI mérleg'!E23+'CSGYK mérleg'!D21+'Társulás mérleg'!D24 -> 307020766 | J23: =I23-K23 -> 291158312 | K23: ='Társulás mérleg'!D24 -> 15862454
A24: Költségvetési visszatérülések | B24: 0 | C24: ='[1]2B'!C24+'[1]2C'!B22+'[1]2D'!B25 -> 0 | D24: =C24-E24 -> 0 | E24: 0 | F24: 0 | G24: 0 | H24: 0 | I24: 0 | J24: 0 | K24: 0
A25: Felhalmozási és tőke jellegű bevételek | B25: 0 | C25: ='[1]2D'!B26 -> 235000000 | D25: =C25-E25 -> 0 | E25: ='[1]2D'!C26 -> 235000000 | F25: ='[1]2B'!F24+'[1]2C'!E22+'[1]2D'!E26 -> 235000000 | G25: =F25-H25 -> 0 | H25: ='[1]2D'!E26 -> 235000000 | I25: ='KESZI mérleg'!E24+'CSGYK mérleg'!D22+'Társulás mérleg'!D26 -> 229760779 | J25: =I25-K25 -> 0 | K25: ='Társulás mérleg'!D26 -> 229760779
A26: ebből: sajátos felhalm. és tőkef. | B26: 0 | C26: 0 | D26: =C26-E26 -> 0 | E26: 0 | F26: 0 | H26: 0 | I26: 0 | J26: 0 | K26: 0
A27: Támogatások, kiegészítések és átvett pénzeszközök | B27: ='[1]2B'!B26+'[1]2C'!B24+'[1]2D'!B28 -> 604983544 | C27: ='[1]2C'!B24+'[1]2D'!B28 -> 604945396 | D27: 595443440 | E27: 8801956 | F27: ='[1]2B'!F26+'[1]2C'!E24+'[1]2D'!E28 -> 658919900 | G27: ='[1]2D'!E28+'[1]2B'!F26+'[1]2C'!E24-38478680 -> 620441220 | H27: =F27-G27 -> 38478680 | I27: ='KESZI mérleg'!E26+'CSGYK mérleg'!D24+'Társulás mérleg'!D28 -> 658132356 | J27: =I27-K27 -> 658132356 | K27: 0
A28: ebből: önkorm. költségvetési tám. | B28: ='[1]2D'!B29 -> 325301770 | C28: 325301770 | D28: 325301770 | E28: 0 | F28: ='[1]2D'!E29 -> 435817165 | G28: ='[1]2D'!E29 -> 435817165 | H28: =F28-G28 -> 0 | I28: ='Társulás mérleg'!D29 -> 473664247 | J28: 473664247 | K28: 0
A29: Hitelek, kölcsönök bevételei | B29: 0 | C29: ='[1]2B'!C29+'[1]2C'!B27+'[1]2D'!B30 -> 0 | D29: =C29-E29 -> 0 | E29: 0 | F29: 0 | G29: 0 | H29: 0 | I29: 0 | J29: 0 | K29: 0
A30: Pénzforgalmi bevételek összesen | B30: =B27+B23 -> 617575013 | C30: =C27+C23+C25 -> 1126166132 | D30: =SUM(D23:D27) -> 882274855 | E30: =SUM(E23:E29) -> 243891277 | F30: =F27+F23+F25 -> 1200940666 | G30: =G27+G23+G25 -> 911599532 | H30: =H27+H23+H25 -> 289341134 | I30: =I27+I23+I25 -> 1194913901 | J30: =J27+J23+J25 -> 949290668 | K30: =K27+K23+K25 -> 245623233 | M30: =I30/C30 -> 1.0610459 | N30: =I30/F30 -> 0.99498163
A31: Maradvány felhasználás | B31: 0 | C31: ='[1]2B'!C31+'[1]2C'!B29+'[1]2D'!B33 -> 49000000 | D31: ='[1]2B'!C31+'[1]2C'!B29 -> 39000000 | E31: ='[1]2D'!B33 -> 10000000 | F31: ='[1]2B'!F31+'[1]2C'!E29+'[1]2D'!E33 -> 51354805 | G31: =F31-H31 -> 40438103 | H31: ='[1]2D'!E33 -> 10916702 | I31: ='KESZI mérleg'!E31+'CSGYK mérleg'!D29+'Társulás mérleg'!D33 -> 51354805 | J31: =I31-K31 -> 42123936 | K31: 9230869
A32: Bevételek összesen: | B32: =B30+B31 -> 617575013 | C32: =C30+C31 -> 1175166132 | D32: =SUM(D30:D31) -> 921274855 | E32: =SUM(E30:E31) -> 253891277 | F32: =SUM(F30:F31) -> 1252295471 | G32: =SUM(G30:G31) -> 952037635 | H32: =SUM(H30:H31) -> 300257836 | I32: =SUM(I30:I31) -> 1246268706 | J32: =SUM(J30:J31) -> 991414604 | K32: =SUM(K30:K31) -> 254854102 | M32: =I32/C32 -> 1.0605043 | N32: =I32/F32 -> 0.99518743
M33: =I32/I21 -> 1.3730816
A35: Mosonmagyaróvár, 2018. április | I35: =I32/I19 -> 1.3730816
B36: …./2014. (XII.09.) Kt. Határozat alapján
B38: 200 Ft/lakos
B39: 100 Ft/lakos
B40: 20 Ft/lakos
B41: 10 Ft/lakos
B42: 100 Ft/lakos

Sheet KESZI mérleg
B1: 2./B SZÁMÚ MELLÉKLET
A3: MOSONMAGYARÓVÁR TÉRSÉGI TÁRSULÁS
A4: 2017. ÉVI KÖLTSÉGVETÉS VÉGREHAJTÁSÁRÓL SZÓLÓ HATÁROZAT
A5: PÉNZFORGALMI MÉRLEG
A6: adatok Ft-ban
C8: kötelező feladat | D8: kötelező feladat | E8: kötelező feladat
A9: KISTÉRSÉGI EGYESÍTETT SZOCIÁLIS INTÉZET
A10: Megnevezés | B10: eredeti | C10: eredeti | D10: módosított | E10: teljesítés
B11: előirányzat 2014. | C11: előirányzat 2017. | D11: előirányzat 2017.12.31 | E11: 2017.12.31
A12: Személyi juttatások | B12: 264817 | C12: 406705000 | D12: 412428633 | E12: 375813732 | F12: =E12/C12 -> 0.92404503 | G12: =E12/D12 -> 0.91122124
A13: Munkaadót terhelő járulékok | B13: 69967 | C13: 98000400 | D13: 99242953 | E13: 85560802 | F13: =E13/C13 -> 0.87306584 | G13: =E13/D13 -> 0.86213479
A14: Dologi és egyéb folyó kiadások | B14: =SUM(200046) -> 200046 | C14: 193270000 | D14: 221670572 | E14: 204368107 | F14: =E14/C14 -> 1.0574228 | G14: =E14/D14 -> 0.92194514
A15: Ellátottak pénzbeli juttatásai | B15: 570 | C15: 850000 | D15: 850000 | E15: 670600 | F15: =E15/C15 -> 0.78894118 | G15: =E15/D15 -> 0.78894118
A16: Elvonások és befizetések | C16: 0 | D16: 0 | E16: 0 | F16: =E16/C16 -> #DIV/0! | G16: =E16/D16 -> #DIV/0!
A17: Felhalmozási kiadások | B17: 0 | C17: 0 | D17: =11654185+2240005 -> 13894190 | E17: 10109342 | F17: =E17/C17 -> #DIV/0! | G17: =E17/D17 -> 0.72759492
A18: Hitelek és kölcsönök kiadásai | B18: 0 | C18: 0 | F18: =E18/C18 -> #DIV/0! | G18: =E18/D18 -> #DIV/0!
A19: Pénzforgalmi kiadások | B19: =SUM(B12:B18) -> 535400 | C19: =SUM(C12:C18) -> 698825400 | D19: =SUM(D12:D18) -> 748086348 | E19: =SUM(E12:E18) -> 676522583 | F19: =E19/C19 -> 0.96808528 | G19: =E19/D19 -> 0.90433756
A20: Kiegyenlítő, átfutó, függő kiadás | B20: nem releváns | C20: nem releváns | F20: =E20/C20 -> #VALUE! | G20: =E20/D20 -> #DIV/0!
A21: Kiadások összesen: | B21: =SUM(B19) -> 535400 | C21: =SUM(C19) -> 698825400 | D21: =SUM(D19) -> 748086348 | E21: =SUM(E19) -> 676522583 | F21: =E21/C21 -> 0.96808528 | G21: =E21/D21 -> 0.90433756
F22: =E22/C22 -> #DIV/0! | G22: =E22/D22 -> #DIV/0!
A23: Intézményi működési bevételek | B23: 201101 | C23: 273830368 | D23: 288090849 | E23: 288090849 | F23: =E23/C23 -> 1.0520778 | G23: =E23/D23 -> 1
A24: Felhalmozási és tőke jellegű bevételek | B24: 0 | C24: 0 | F24: =E24/C24 -> #DIV/0! | G24: =E24/D24 -> #DIV/0!
A25: ebből: sajátos felhalm. és tőkef. | B25: 0 | C25: 0 | F25: =E25/C25 -> #DIV/0! | G25: =E25/D25 -> #DIV/0!
A26: Támogatások, kiegészítések és átvett pénzeszközök | B26: =SUM(50763-12615) -> 38148 | C26: 0 | D26: =2425685+1521000 -> 3946685 | E26: =2425685+1521000 -> 3946685 | F26: =E26/C26 -> #DIV/0! | G26: =E26/D26 -> 1
A27: ebből: önkorm. költségvetési tám. | B27: 0 | C27: 0 | F27: =E27/C27 -> #DIV/0! | G27: =E27/D27 -> #DIV/0!
A28: Irányító szervtől kapott támogatás | B28: =SUM(283536+12615) -> 296151 | C28: 388995032 | D28: 419519617 | E28: 419519617 | F28: =E28/C28 -> 1.0784704 | G28: =E28/D28 -> 1
A29: Hitelek, kölcsönök bevételei | B29: 0 | C29: 0 | F29: =E29/C29 -> #DIV/0! | G29: =E29/D29 -> #DIV/0!
A30: Pénzforgalmi bevételek összesen | B30: =SUM(B29+B28+B26+B24+B23) -> 535400 | C30: =SUM(C29+C28+C26+C24+C23) -> 662825400 | D30: =SUM(D29+D28+D26+D24+D23) -> 711557151 | E30: =SUM(E29+E28+E26+E24+E23) -> 711557151 | F30: =E30/C30 -> 1.0735212 | G30: =E30/D30 -> 1
A31: Maradvány felhasználás | B31: 0 | C31: 36000000 | D31: 36529197 | E31: 36529197 | F31: =E31/C31 -> 1.0146999 | G31: =E31/D31 -> 1
A32: Kiegyenlítő, átfutó, függő bevételek | B32: nem releváns | C32: nem releváns | F32: =E32/C32 -> #VALUE! | G32: =E32/D32 -> #DIV/0!
A33: Bevételek összesen: | B33: =B30+B31 -> 535400 | C33: =C30+C31 -> 698825400 | D33: =D30+D31 -> 748086348 | E33: =E30+E31 -> 748086348 | F33: =E33/C33 -> 1.0704911 | G33: =E33/D33 -> 1
A36: Irányító szervi támogatás részletezése 2017. év eredeti és módosítások Ft-ban | B36: adatok Ft-ban
B37: 2016. évi | C37: 2017. évi eredeti | D37: 2017.12.31. módosított | E37: Teljesítés 2017.12.31
A38: Szociális étkeztetés | B38: =[2]KESZI!$D$82 -> 25576320 | C38: ='[3]KESZI 2016.12.12.'!$G$101 -> 24967360 | D38: =[4]állami!$G$35 -> 25271840 | E38: =[4]állami!$G$35 -> 25271840
A39: Házi segítségnyújtás | B39: =[2]KESZI!$D$83 -> 35815000 | C39: ='[3]KESZI 2016.12.12.'!$G$102 -> 41769000 | D39: =[4]állami!$G$36 -> 45864000 | E39: =[4]állami!$G$36 -> 45864000
A40: Időskorúak nappali int. Ellátása | B40: =[2]KESZI!$D$84 -> 6376500 | C40: ='[3]KESZI 2016.12.12.'!$G$105 -> 7357500 | D40: =[4]állami!$G$37 -> 7848000 | E40: =[4]állami!$G$37 -> 7848000
A41: Fogyatékos és demens személyek ell. | B41: =[2]KESZI!$D$85+[2]KESZI!$D$86+[2]KESZI!$D$87 -> 24090000 | C41: ='[3]KESZI 2016.12.12.'!$G$106+'[3]KESZI 2016.12.12.'!$G$107+'[3]KESZI 2016.12.12.'!$G$108 -> 21340000 | D41: =[4]állami!$G$38 -> 20020000 | E41: =[4]állami!$G$38 -> 20020000
A42: Hajléktalanok nappali ellátása | B42: =[2]KESZI!$D$88 -> 8903520 | C42: ='[3]KESZI 2016.12.12.'!$G$109 -> 8903520 | D42: =[4]állami!$G$39 -> 8903520 | E42: =[4]állami!$G$39 -> 8903520
A43: Hajléktalanok átmeneti ellátása | B43: =[2]KESZI!$D$89 -> 20607400 | C43: ='[3]KESZI 2016.12.12.'!$G$110 -> 19577030 | D43: =[4]állami!$G$40 -> 19577030 | E43: =[4]állami!$G$40 -> 19577030
A44: Bértámogatás szociális szféra | B44: =[2]KESZI!$D$90 -> 82898132 | C44: ='[3]KESZI 2016.12.12.'!$G$111 -> 82888885 | D44: 83393280 | E44: 83393280
...

Sheet CSGYK mérleg
B1: 2./C SZÁMÚ MELLÉKLET
A3: MOSONMAGYARÓVÁR TÉRSÉGI TÁRSULÁS
A4: 2017. ÉVI KÖLTSÉGVETÉS VÉGREHAJTÁSÁRÓL SZÓLÓ HATÁROZAT
A5: PÉNZFORGALMI MÉRLEG
A6: adatok Ft-ban
B8: kötelező feladat
A9: Család- és Gyermekjóléti Központ
A10: Megnevezés | B10: eredeti | C10: módosított | D10: teljesítés
B11: előirányzat 2017. | C11: előirányzat 2017.12.31. | D11: 43100
A12: Személyi juttatások | B12: 141381508 | C12: =143556104 -> 143556104 | D12: 143342658 | E12: =D12/B12 -> 1.0138713 | F12: =D12/C12 -> 0.99851315 | H12: =SUM(D12+D13)/D19 -> 0.87473225
A13: Munkaadót terhelő járulékok | B13: 32227057 | C13: 33288251 | D13: 32791199 | E13: =D13/B13 -> 1.0175052 | F13: =D13/C13 -> 0.98506825
A14: Dologi és egyéb folyó kiadások | B14: 26640000 | C14: 23640774 | D14: 22548437 | E14: =D14/B14 -> 0.8464128 | F14: =D14/C14 -> 0.95379436
A15: Ellátottak pénzbeli juttatásai | B15: 420000 | C15: 420000 | D15: 396155 | E15: =D15/B15 -> 0.94322619 | F15: =D15/C15 -> 0.94322619
A16: Elvonások és befizetések | B16: 0 | E16: =D16/B16 -> #DIV/0! | F16: =D16/C16 -> #DIV/0!
A17: Felhalmozási kiadások | B17: 0 | C17: =1630312+1415846 -> 3046158 | D17: 2279002 | E17: =D17/B17 -> #DIV/0! | F17: =D17/C17 -> 0.7481562
A18: Pénzforgalmi kiadások | B18: =SUM(B12:B17) -> 200668565 | C18: =SUM(C12:C17) -> 203951287 | D18: =SUM(D12:D17) -> 201357451 | E18: =D18/B18 -> 1.003433 | F18: =D18/C18 -> 0.98728208
A19: Kiadások összesen: | B19: =B18 -> 200668565 | C19: =C18 -> 203951287 | D19: =D18 -> 201357451 | E19: =D19/B19 -> 1.003433 | F19: =D19/C19 -> 0.98728208
E20: =D20/B20 -> #DIV/0! | F20: =D20/C20 -> #DIV/0!
A21: Intézményi működési bevételek | B21: 2300000 | C21: =3067463 -> 3067463 | D21: =3067463 -> 3067463 | E21: =D21/B21 -> 1.3336796 | F21: =D21/C21 -> 1
A22: Felhalmozási és tőke jellegű bevételek | B22: 0 | C22: 0 | D22: 0 | E22: =D22/B22 -> #DIV/0! | F22: =D22/C22 -> #DIV/0!
A23: ebből: sajátos felhalm. és tőkef. | B23: 0 | C23: 0 | D23: 0 | E23: =D23/B23 -> #DIV/0! | F23: =D23/C23 -> #DIV/0!
A24: Támogatások, kiegészítések és átvett pénzeszközök | B24: 700000 | C24: =3172877+544274 -> 3717151 | D24: =3172877+544274 -> 3717151 | E24: =D24/B24 -> 5.3102157 | F24: =D24/C24 -> 1
A25: ebből: önkorm. költségvetési tám. | B25: 0 | C25: 0 | D25: 0 | E25: =D25/B25 -> #DIV/0! | F25: =D25/C25 -> #DIV/0!
A26: Felügyeleti szervtől átvett támogatás | B26: 194668565 | C26: 193257767 | D26: 193257767 | E26: =D26/B26 -> 0.99275282 | F26: =D26/C26 -> 1
A27: Hitelek, kölcsönök bevételei | B27: 0 | C27: 0 | D27: 0 | E27: =D27/B27 -> #DIV/0! | F27: =D27/C27 -> #DIV/0!
A28: Pénzforgalmi bevételek összesen | B28: =SUM(B27,B26,B24,B21) -> 197668565 | C28: =SUM(C27,C26,C24,C21) -> 200042381 | D28: =SUM(D27,D26,D24,D21) -> 200042381 | E28: =D28/B28 -> 1.0120091 | F28: =D28/C28 -> 1
A29: Maradvány felhasználás | B29: 3000000 | C29: 3908906 | D29: 3908906 | E29: =D29/B29 -> 1.3029687 | F29: =D29/C29 -> 1
A30: Bevételek összesen: | B30: =SUM(B28+B29) -> 200668565 | C30: =SUM(C28+C29) -> 203951287 | D30: =SUM(D28+D29) -> 203951287 | E30: =D30/B30 -> 1.0163589 | F30: =D30/C30 -> 1
A32: Irányító szervi támogatás részletezése 2017. év eredeti és a módosítások | B32: adatok Ft-ban
B33: 2017. év eredeti | C33: 2017.12.31 módosított | D33: Változás
A34: Szociális és gyermekjóléti alapszolg., állami támogatás | B34: 79200000 | C34: =[4]állami!$G$34 -> 79200000 | D34: =[4]állami!$G$34 -> 79200000
A35: Gyermekek átmeneti int. Ellátása, állami támogatás
A36: GYÁÓ bértámogatás és intézményüzemeltetési támogatás | B36: ='[3]CSGYK 2016.11.23'!$F$86 -> 5716475 | C36: =7818120+10076000 -> 17894120 | D36: =7818120+10076000 -> 17894120
A37: Gesztor önkormányzat támogatása | B37: ='[3]CSGYK 2016.11.23'!$F$106 -> 78217295 | C37: =40539316-9946 -> 40529370 | D37: =46500019-5960703-9946 -> 40529370
A38: Minimálbér és garantált bérminimum növekmény támogatása | C38: 6184434 | D38: 6184434 | E38: ÁLLAMI | F38: =79200000+D36+D38+D40+D41 -> 142631268 | H38: =D38+'KESZI mérleg'!E47 -> 22384275
A39: Térségi Társulástól érkező támogatás (tagdíj) | B39: ='[3]CSGYK 2016.11.23'!$F$105 -> 7732500 | C39: 7732500 | D39: 7732500
A40: Összevont ágazati pótlék | B40: ='[3]CSGYK 2016.11.23'!$F$104 -> 23802295 | C40: =[4]pótelőirányzat!$O$26 -> 35345624 | D40: =[4]pótelőirányzat!$O$26 -> 35345624 | F40: =D36+'KESZI mérleg'!E44+'KESZI mérleg'!E45 -> 132001400
A41: Bérkompenzáció | C41: 4007090 | D41: 4007090
A42: Jubileumi jutalom | C42: 392840 | D42: 392840
A43: Felmentési bér | C43: 705091 | D43: 705091
...

Sheet Társulás mérleg
B1: 2./D SZÁMÚ MELLÉKLET
A3: MOSONMAGYARÓVÁR TÉRSÉGI TÁRSULÁS
A4: 2017. ÉVI KÖLTSÉGVETÉS VÉGREHAJTÁSÁRÓL SZÓLÓ HATÁROZATÁHOZ
A5: PÉNZFORGALMI MÉRLEG
A6: adatok Ft-ban
B8: önként vállalt feladat | C8: önként vállalt feladat | D8: önként vállalt feladat
A9: Mosonmagyaróvár Térségi Társulás
A10: Megnevezés | B10: eredeti | C10: módosított | D10: teljesítés
B11: előirányzat 2017. | C11: előirányzat 2017.12.31 | D11: 2017.12.31
A12: Személyi juttatások | B12: 500000 | C12: 1020646 | D12: 946758 | E12: =D12/B12 -> 1.893516 | F12: =D12/C12 -> 0.92760663 | H12: =SUM(D12:D13)/D22 -> 0.0017953657
A13: Munkaadót terhelő járulékok | B13: 249000 | C13: 348121 | D13: 206838 | E13: =D13/B13 -> 0.8306747 | F13: =D13/C13 -> 0.59415548
A14: Dologi és egyéb folyó kiadások | B14: 11812368 | C14: 17693557 | D14: 17649727 | E14: =D14/B14 -> 1.4941735 | F14: =D14/C14 -> 0.99752283
A15: Pénzeszköz átadás, támogatás | B15: 6340000 | C15: =3600000+2740000 -> 6340000 | D15: =3600000+2690000 -> 6290000 | E15: =D15/B15 -> 0.99211356 | F15: =D15/C15 -> 0.99211356
A16: Felhalmozási célú pénzeszköz átadás | B16: 0 | C16: 0 | D16: 0 | E16: =D16/B16 -> #DIV/0! | F16: =D16/C16 -> #DIV/0!
A17: Felügyelet alá tartozó költségvetési szerv. Támogat. | B17: 583663597 | C17: 612777384 | D17: 612777384 | E17: =D17/B17 -> 1.0498811 | F17: =D17/C17 -> 1
A18: Felhalmozási kiadások | B18: 235000000 | C18: =149816944+84563289 -> 234380233 | D18: 4670250 | E18: =D18/B18 -> 0.019873404 | F18: =D18/C18 -> 0.019925955
A19: Hitelek és kölcsönök kiadásai | B19: 0 | E19: =D19/B19 -> #DIV/0! | F19: =D19/C19 -> #DIV/0!
A20: Pénzforgalmi kiadások | B20: =SUM(B12:B19) -> 837564965 | C20: =SUM(C12:C19) -> 872559941 | D20: =SUM(D12:D19) -> 642540957 | E20: =D20/B20 -> 0.76715357 | F20: =D20/C20 -> 0.73638604
A21: Államháztartási tartalék | B21: 21770799 | C21: 40475279 | D21: 0 | E21: =D21/B21 -> 0 | F21: =D21/C21 -> 0
A22: Kiadások összesen: | B22: =SUM(B20+B21) -> 859335764 | C22: =SUM(C20+C21) -> 913035220 | D22: =SUM(D20+D21) -> 642540957 | E22: =D22/B22 -> 0.74771816 | F22: =D22/C22 -> 0.7037417
E23: =D23/B23 -> #DIV/0! | F23: =D23/C23 -> #DIV/0!
A24: Intézményi működési bevételek | B24: 10090368 | C24: 15862454 | D24: 15862454 | E24: =D24/B24 -> 1.5720392 | F24: =D24/C24 -> 1
A25: Költségvetési visszatérülések | B25: 0 | C25: 0 | D25: 0 | E25: =D25/B25 -> #DIV/0! | F25: =D25/C25 -> #DIV/0!
A26: Felhalmozási és tőke jellegű bevételek | B26: 235000000 | C26: 235000000 | D26: 229760779 | E26: =D26/B26 -> 0.97770544 | F26: =D26/C26 -> 0.97770544
A27: ebből: sajátos felhalm. és tőkef. | B27: 0 | C27: 0 | D27: 0 | E27: =D27/B27 -> #DIV/0! | F27: =D27/C27 -> #DIV/0!
A28: Támogatások, kiegészítések és átvett pénzeszközök | B28: 604245396 | C28: =651256064 -> 651256064 | D28: 650468520 | E28: =D28/B28 -> 1.0764973 | F28: =D28/C28 -> 0.99879073
A29: ebből: önkorm. költségvetési tám. | B29: ='[1]2B'!C38+'[1]2B'!C39+'[1]2B'!C40+'[1]2B'!C41+'[1]2B'!C42+'[1]2B'!C43+'[1]2B'!C44+'[1]2B'!C45+'[1]2C'!B34+'[1]2C'!B36 -> 325301770 | C29: ='KESZI mérleg'!H50+'CSGYK mérleg'!F38 -> 473664247 | D29: =C29 -> 473664247 | E29: =D29/B29 -> 1.4560765 | F29: =D29/C29 -> 1
A30: Felügyeleti szervtől átvett támogatás | B30: 0 | C30: 0 | D30: 0 | E30: =D30/B30 -> #DIV/0! | F30: =D30/C30 -> #DIV/0!
A31: Hitelek, kölcsönök bevételei | B31: 0 | C31: 0 | D31: 0 | E31: =D31/B31 -> #DIV/0! | F31: =D31/C31 -> #DIV/0!
A32: Pénzforgalmi bevételek összesen | B32: =SUM(B24+B25+B26+B28+B30+B31) -> 849335764 | C32: =SUM(C24+C25+C26+C28+C30+C31) -> 902118518 | D32: =SUM(D24+D25+D26+D28+D30+D31) -> 896091753 | E32: =D32/B32 -> 1.0550501 | F32: =D32/C32 -> 0.99331932
A33: Maradvány felhasználás | B33: 10000000 | C33: 10916702 | D33: 10916702 | E33: =D33/B33 -> 1.0916702 | F33: =D33/C33 -> 1
A34: Bevételek összesen: | B34: =B32+B33 -> 859335764 | C34: =C32+C33 -> 913035220 | D34: =D32+D33 -> 907008455 | E34: =D34/B34 -> 1.0554762 | F34: =D34/C34 -> 0.9933992
D35: =D34-D17 -> 294231071
A36: Mosonmagyaróvár, 2018. április | D36: =D34-D17 -> 294231071 | F36: =D34/D22 -> 1.4115963
C38: =C34-C17 -> 300257836

Sheet működési és felh. egyensúly
G1: 3. SZÁMÚ MELLÉKLET
A2: MOSONMAGYARÓVÁR TÉRSÉGI TÁRSULÁS
A3: 2017. ÉVI KÖLTSÉGVETÉSI VÉGREHAJTÁSÁRÓL SZÓLÓ HATÁROZAT MELLÉKLETE
A5: Kiadások és Bevételek működési egyensúlya
A6: 2017. évi teljesítés
A7: adatok Ft-ban
A8: Működési kiadások Ft teljesítés
A10: Intézmény megnevezése | B10: Személyi juttatások | C10: Járulékok | D10: Dologi kiadások | E10: Ellátottak juttatása | F10: Tartalékképzés | G10: Átadott pénzeszközök működési | H10: Összesen
A11: Kistérségi Egyesített Szociális Intézmény | B11: ='KESZI mérleg'!E12 -> 375813732 | C11: ='KESZI mérleg'!E13 -> 85560802 | D11: ='KESZI mérleg'!E14 -> 204368107 | E11: ='KESZI mérleg'!E15 -> 670600 | F11: 0 | G11: 0 | H11: =SUM(B11:G11) -> 666413241
A12: Család és Gyermekjóléti Központ | B12: ='CSGYK mérleg'!D12 -> 143342658 | C12: ='CSGYK mérleg'!D13 -> 32791199 | D12: ='CSGYK mérleg'!D14 -> 22548437 | E12: ='CSGYK mérleg'!D15 -> 396155 | F12: 0 | G12: 0 | H12: =SUM(B12:G12) -> 199078449
A13: Mosonmagyaróvár Térségi Társulás | B13: ='Társulás mérleg'!D12 -> 946758 | C13: ='Társulás mérleg'!D13 -> 206838 | D13: ='Társulás mérleg'!D14 -> 17649727 | E13: 0 | F13: 0 | G13: ='Társulás mérleg'!D15 -> 6290000 | H13: =SUM(B13:G13) -> 25093323
A14: Mindösszesen: | B14: =SUM(B11:B13) -> 520103148 | C14: =SUM(C11:C13) -> 118558839 | D14: =SUM(D11:D13) -> 244566271 | E14: =SUM(E11:E13) -> 1066755 | F14: =SUM(F11:F13) -> 0 | G14: =SUM(G11:G13) -> 6290000 | H14: =SUM(H11:H13) -> 890585013
A17: Működési bevételek Ft teljesítés
A19: Intézmény megnevezése | B19: Intézmény saját bevételei | C19: Állami támogatás (normatív) | D19: MÖK támogatás | E19: Egyéb támogatás értékű műk. bevétel | F19: Feladatfinanszírozás (Állami) | G19: Maradvány felhasználás | H19: Összesen
A20: Kistérségi Egyesített Szociális Intézmény | B20: ='KESZI mérleg'!E23 -> 288090849 | C20: ='KESZI mérleg'!H50-15986564 -> 315046415 | D20: ='KESZI mérleg'!E46 -> 73361786 | E20: ='KESZI mérleg'!E50+'KESZI mérleg'!E52+'KESZI mérleg'!E53+3946685 -> 18831532 | F20: ='KESZI mérleg'!E48 -> 15986564 | G20: ='KESZI mérleg'!E31-9869337 -> 26659860 | H20: =SUM(B20:G20) -> 737977006
A21: Család és Gyermekjóléti Központ | B21: ='CSGYK mérleg'!D21 -> 3067463 | C21: ='CSGYK mérleg'!F38 -> 142631268 | D21: ='CSGYK mérleg'!D37 -> 40529370 | E21: ='CSGYK mérleg'!D39+'CSGYK mérleg'!D42+'CSGYK mérleg'!D43+3717150 -> 12547581 | F21: 0 | G21: ='CSGYK mérleg'!D29-1012304 -> 2896602 | H21: =SUM(B21:G21) -> 201672284
A22: Mosonmagyaróvár Térségi Társulás | B22: ='Társulás mérleg'!D24 -> 15862454 | C22: 0 | D22: 20434937 | E22: =12849299+24841837-20434937 -> 17256199 | F22: 0 | G22: ='Társulás mérleg'!D33 -> 10916702 | H22: =SUM(B22:G22) -> 64470292 | I22: =H22+E34 -> 294231071
A23: Mindösszesen: | B23: =SUM(B20:B22) -> 307020766 | C23: =SUM(C20:C22) -> 457677683 | D23: =SUM(D20:D22) -> 134326093 | E23: =SUM(E20:E22) -> 48635312 | F23: =SUM(F20:F22) -> 15986564 | G23: =SUM(G20:G22) -> 40473164 | H23: =SUM(H20:H22) -> 1004119582
A26: Felhalmozási kiadások Ft | E26: Felhalmozási bevételek Ft
A27: Intézmény megnevezése | B27: Felhalmozási kiadások teljesítés | D27: Intézmény megnevezése | E27: Felhalmozási bevétel teljesítés
A28: Kistérségi Egyesített Szociális Intézmény | B28: ='KESZI mérleg'!E17 -> 10109342 | D28: Kistérségi Egyesített Szociális Intézmény felújítási alapból | E28: ='KESZI mérleg'!E54 -> 240005
A29: Család és Gyermekjóléti Központ | B29: ='CSGYK mérleg'!D17 -> 2279002 | D29: KESZI maradványból | E29: =B28-240005 -> 9869337
A30: Mosonmagyaróvár Térségi Társulás | B30: ='Társulás mérleg'!D18 -> 4670250 | D30: KESZI saját bevételből | E30: 0
A31: Mindösszesen: | B31: =SUM(B28:B30) -> 17058594 | D31: Család és Gyermekjóléti Központ felújítási alapból | E31: ='CSGYK mérleg'!D44 -> 1266698
D32: CSGYK maradványból | E32: =B29-1266698 -> 1012304
D33: CSGYK saját bevétel | E33: 0
D34: Mosonmagyaróvár Térségi Társulás | E34: ='Társulás mérleg'!D26 -> 229760779
D35: Mindösszesen: | E35: =SUM(E28:E34) -> 242149123
A37: Mosonmagyaróvár, 2018. április

Sheet létszám
B1: 4. számú melléklet
A3: Mosonmagyaróvár Térségi Társulás
A4: és felügyelete alá tartozó költségvetési szerv
A5: 2017. évi költségvetés végrehajtásáról szóló határozat
A7: Költségvetési engedélyzett létszámhely és teljesítés
B9: adatok: fő-ben
A10: Megnevezés | B10: 2017. január 1. | C10: 2017. december 31. | D10: 2017. december 31.
A11: (intézmény, szakfeladat, stb.) | B11: engedélyezett | C11: engedélyezett | D11: átlagos
B12: létszámhely | C12: létszámhely | D12: statisztikai létszám
A13: Család és Gyermekjóléti Központ | B13: =SUM(B14:B16) -> 46 | C13: =SUM(C14:C16) -> 46 | D13: =SUM(D14:D16) -> 43
A14: GyÁÓ | B14: 8 | C14: 8 | D14: 8
A15: Család- és Gyermekjóléti Szolgálat | B15: 21 | C15: 21 | D15: 19
A16: Család- és Gyermekjóléti Központ Hatósági és Speciális Munkacsoporot | B16: 17 | C16: 17 | D16: 16
A17: Kistérségi Egyesített Szociális Intézet | B17: =SUM(B19:B28) -> 146 | C17: =SUM(C19:C28) -> 146 | D17: =SUM(D19:D28) -> 123
A18: - ebből közfoglalkoztatott | B18: 1 | C18: 1 | D18: 1
A19: Aranykor, kp.-i irányítás | B19: 47 | C19: 47 | D19: =19+19+7 -> 45
A20: Gondozóház, főzőkonyha | B20: 29 | C20: 29 | D20: 25
A21: Hajléktalanok Átmeneti Szállása | B21: 7 | C21: 7 | D21: 6
A22: Idősek klubja | B22: 15 | C22: 15 | D22: =9+3 -> 12
A23: FÉNI | B23: 6 | C23: 6 | D23: 6
A24: Nappali melegedő | B24: 2 | C24: 2 | D24: 0
A25: Szociális étkezés | B25: 1 | C25: 1 | D25: 1
A26: Házi segítségnyújtás | B26: 34 | C26: 34 | D26: 25
A27: Jelzőrendszer | B27: 1 | C27: 1 | D27: 1
A28: Szoc. foglalkoztatás | B28: 4 | C28: 4 | D28: 2
A29: Mosonmagyaróvár Térségi Társulás | B29: 0 | C29: 0 | D29: 0
A30: Összesen: | B30: =SUM(B13+B17+B29) -> 192 | C30: =SUM(C13+C17+C29) -> 192 | D30: =SUM(D13+D17+D29) -> 166
A33: Mosonmagyaróvár, 2018. április

Sheet állami
F1: 5. számú melléklet
A3: MOSONMAGYARÓVÁR TÉRSÉGI TÁRSULÁS
A4: ÁLLAMI TÁMOGATÁS
A5: 2017. ÉVI KÖLTSÉGVETÉSI VÉGREHAJTÁSÁRÓL SZÓLÓ HATÁROZAT MELLÉKLETE
A6: adatok Ft-ban
A8: Jogcím | B8: Megnevezés | C8: Fajlagos mutató eredeti | D8: Fajlagos mutató elszámolás szerint | E8: Eredeti előirányzat | F8: Módosított előirányzat | G8: Teljesítés | H8: Járó támogatás | I8: Elszámolás szerinti különbözet
A9: III.3.a. | B9: Család és Gyermekjóléti Szolgálat | C9: 3000000 | D9: =C9 -> 3000000 | E9: 79200000 | F9: 79200000 | G9: 79200000 | H9: 79200000 | I9: =H9-G9 -> 0
A10: III.3.c. | B10: Szociális Étkeztetés | C10: 410 fő | D10: 414 fő | E10: 24967360 | F10: 25271840 | G10: 25271840 | H10: =G10+I10 -> 25210944 | I10: -60896
A11: III.3.d. | B11: Házi segítségnyújtás | C11: 153 fő | D11: 160 fő | E11: 41769000 | F11: 45864000 | G11: 45864000 | H11: =G11+I11 -> 43680000 | I11: -2184000
A12: III.3.f (2) | B12: Időskorúak nappali intézményi ellátása | C12: 45 fő | D12: 49 fő | E12: 7357500 | F12: 7848000 | G12: 7848000 | H12: =G12+I12 -> 8011500 | I12: 163500
A13: III.3.g (2) (3) (6) | B13: Fogyatékos személyek nappali intézményi ellátása, foglalkoztatásban részesülő fogyatékos személyek, demens személyek nappali ellátása | C13: 10 fő, 17fő, 21 fő | D13: 12 fő, 15 fő, 19 fő | E13: 21340000 | F13: 2020000 | G13: 20020000 | H13: =G13+I13 -> 20350000 | I13: =-220000+550000 -> 330000
A14: III.3. i. (2) | B14: hajléktalanok napplai intézményi ellátása | C14: 36 fő | D14: 36 fő | E14: 8903520 | F14: 8903520 | G14: 8903520 | H14: 8903520 | I14: =H14-G14 -> 0
A15: III.3.k | B15: hajléktalanok átmeneti szállása | C15: 38 fő | D15: 38 fő | E15: 19577030 | F15: 19577030 | G15: 19577030 | H15: =G15+I15 -> 19577030 | I15: 0
A16: III.4. | B16: szakmai dolgozók bértámogatása | C16: 35 fő | E16: 88605360 | F16: 91211400 | G16: 91211400 | H16: =G16+I16 -> 91211400 | I16: 0
A17: III.4. b | B17: intézményi- üzemeltetési támgoatás | E17: 33582000 | F17: 40790000 | G17: 40790000 | H17: =G17+I17 -> 40790000 | I17: 0
B18: Összesen | E18: =SUM(E9:E17) -> 325301770 | F18: =SUM(F9:F17) -> 320685790 | G18: =SUM(G9:G17) -> 338685790 | H18: =SUM(H9:H17) -> 336934394 | I18: =SUM(I9:I17) -> -1751396
B19: - ebből CSGYK-t érintő elszámolási kötelezettség | I19: =I9 -> 0
B20: - ebből KESZI-t érintő elszámolási kötelezettség | I20: =I18 -> -1751396
B22: Bérkompenzáció
B23: KESZI | F23: 5064586 | G23: 5064586
B24: CSGYK | F24: 4007090 | G24: 4007090 | I24: =SUM(G24+G23) -> 9071676
B25: Összevont ágazgati pótlék
B26: KESZI | F26: 52190318 | G26: 52190318
B27: CSGYK | F27: 35345624 | G27: 35345624 | I27: =SUM(G26:G27) -> 87535942
B29: Minimálbér, garantált illetményalap változás miatti támogatás | F29: ='CSGYK mérleg'!D38+'KESZI mérleg'!E47 -> 22384275 | G29: =F29 -> 22384275
B31: Fejlesztő foglalkoztatás támogatás KESZI | F31: ='KESZI mérleg'!E48 -> 15986564 | G31: =F31 -> 15986564
B32: Mindösszesen | F32: =F29+F27+F26+F24+F23+F18+F31 -> 455664247 | G32: =G29+G27+G26+G24+G23+G18+G31 -> 473664247
B35: Mosonmagyaróvár, 2018. április

Sheet vagyonmérleg
D1: 6/1. számú melléklet
A2: Térségi Társulás vagyon mérleg | B2: Előző időszak | C2: Tárgyi időszak | D2: Változás előző
B3: 2016. év | C3: 2017. év | D3: évhez képest
A4: A/I Immateriális javak (=A/I/1+A/I/2+A/I/3) | B4: 2710 | C4: 0 | D4: =C4-B4 -> -2710
A5: A/II/2 Gépek, berendezések, felszerelések, járművek | B5: 953958 | C5: 410264 | D5: =C5-B5 -> -543694
A6: A/II/4 Beruházások, felújítások | B6: 7451199 | C6: 11129199 | D6: =C6-B6 -> 3678000
A7: A/II Tárgyi eszközök (=A/II/1+...+A/II/5) | B7: 8405157 | C7: 11539463 | D7: =C7-B7 -> 3134306
A8: A) NEMZETI VAGYONBA TARTOZÓ BEFEKTETETT ESZKÖZÖK (=A/I+A/II+A/III+A/IV) | B8: 8407867 | C8: 11539463 | D8: =C8-B8 -> 3131596
A9: C/III/1 Kincstáron kívüli forintszámlák | B9: 29042128 | C9: 282732744 | D9: =C9-B9 -> 253690616
A10: C/III Forintszámlák (=C/III/1+C/III/2) | B10: 29042128 | C10: 282732744 | D10: =C10-B10 -> 253690616
A11: C) PÉNZESZKÖZÖK (=C/I+…+C/IV) | B11: 29042128 | C11: 282732744 | D11: =C11-B11 -> 253690616
A12: D/I/4 Költségvetési évben esedékes követelések működési bevételre (=D/I/4a+…+D/I/4i) | B12: 0 | C12: 34824 | D12: =C12-B12 -> 34824
A13: D/I/4a - ebből: költségvetési évben esedékes követelések készletértékesítés ellenértékére, szolgáltatások ellenértékére, közvetített szolgáltatások ellenértékére | B13: 0 | C13: 29512 | D13: =C13-B13 -> 29512
A14: D/I/4d - ebből: költségvetési évben esedékes követelések kiszámlázott általános forgalmi adóra | B14: 0 | C14: 5312 | D14: =C14-B14 -> 5312
A15: D/I Költségvetési évben esedékes követelések (=D/I/1+…+D/I/8) | B15: 0 | C15: 34824 | D15: =C15-B15 -> 34824
... A43: FORRÁSOK ÖSSZESEN (=G+H+I+J) | B43: 37589815 | C43: 294305031 | D43: =C43-B43 -> 256715216
D45: 6/2. számú melléklet
A46: Vagyonmérleg | B46: Előző időszak | C46: Tárgyi időszak | D46: Eltérés előző évhez
A47: Kistérségi Egyesített Szociális Intézmény | B47: 2016. év | C47: 2017. év | D47: képest
A48: A/II/1 Ingatlanok és a kapcsolódó vagyoni értékű jogok | B48: 394658710 | C48: 386910275 | D48: =C48-B48 -> -7748435
A49: A/II/2 Gépek, berendezések, felszerelések, járművek | B49: 15737173 | C49: 12147567 | D49: =C49-B49 -> -3589606
A50: A/II Tárgyi eszközök (=A/II/1+...+A/II/5) | B50: 410395883 | C50: 399057842 | D50: =C50-B50 -> -11338041
A51: A) NEMZETI VAGYONBA TARTOZÓ BEFEKTETETT ESZKÖZÖK (=A/I+A/II+A/III+A/IV) | B51: 410395883 | C51: 399057842 | D51: =C51-B51 -> -11338041
A52: B/I/1 Vásárolt készletek | B52: 3574075 | C52: 3957724 | D52: =C52-B52 -> 383649
A53: B/I Készletek (=B/I/1+…+B/I/5) | B53: 3574075 | C53: 3957724 | D53: =C53-B53 -> 383649
A54: B) NEMZETI VAGYONBA TARTOZÓ FORGÓESZKÖZÖK (= B/I+B/II) | B54: 3574075 | C54: 3957724 | D54: =C54-B54 -> 383649
A55: C/II/1 Forintpénztár | B55: 2529791 | C55: 2803641 | D55: =C55-B55 -> 273850
A56: C/II Pénztárak, csekkek, betétkönyvek (=C/II/1+C/II/2+C/II/3) | B56: 2529791 | C56: 2803641 | D56: =C56-B56 -> 273850
A57: C/III/1 Kincstáron kívüli forintszámlák | B57: 38378095 | C57: 72356093 | D57: =C57-B57 -> 33977998
A58: C/III Forintszámlák (=C/III/1+C/III/2) | B58: 38378095 | C58: 72356093 | D58: =C58-B58 -> 33977998
A59: C) PÉNZESZKÖZÖK (=C/I+…+C/IV) | B59: 40907886 | C59: 75159734 | D59: =C59-B59 -> 34251848
... A89: FORRÁSOK ÖSSZESEN (=G+H+I+J) | B89: 465694623 | C89: 488284899 | D89: =C89-B89 -> 22590276
D91: 6/3. számú melléklet
A92: Vagyonmérleg | B92: Előző időszak | C92: Tárgyi időszak | D92: Eltérés előző évhez
A93: Család és Gyermekjóléti Központ | B93: 2016. év | C93: 2017. év | D93: képest
A94: A/II/1 Ingatlanok és a kapcsolódó vagyoni értékű jogok | B94: 28813640 | C94: 29395421 | D94: =C94-B94 -> 581781
A95: A/II/2 Gépek, berendezések, felszerelések, járművek | B95: 482605 | C95: 553982 | D95: =C95-B95 -> 71377
A96: A/II Tárgyi eszközök (=A/II/1+...+A/II/5) | B96: 29296245 | C96: 29949403 | D96: =C96-B96 -> 653158
A97: A) NEMZETI VAGYONBA TARTOZÓ BEFEKTETETT ESZKÖZÖK (=A/I+A/II+A/III+A/IV) | B97: 29296245 | C97: 29949403 | D97: =C97-B97 -> 653158
A98: C/III/1 Kincstáron kívüli forintszámlák | B98: 3163292 | C98: 2403693 | D98: =C98-B98 -> -759599
...

Sheet eredménykimutatás
D1: 7/1. számú melléklet
A2: Eredménykimutatás | B2: Előző időszak | C2: Tárgyi időszak | D2: Változás az előző
A3: Térségi Társulás | B3: 2016. év | C3: 2017. év | D3: évhez képest
A4: 02 Eszközök és szolgáltatások értékesítése nettó eredményszemléletű bevételei | B4: 5828234 | C4: 15677133 | D4: =C4-B4 -> 9848899
A5: I Tevékenység nettó eredményszemléletű bevétele (=01+02+03) | B5: 5828234 | C5: 15677133 | D5: =C5-B5 -> 9848899
A6: 07 Egyéb működési célú támogatások eredményszemléletű bevételei | B6: 543917464 | C6: 650468520 | D6: =C6-B6 -> 106551056
A7: 08 Felhalmozási célú támogatások eredményszemléletű bevételei | B7: 0 | C7: 619767 | D7: =C7-B7 -> 619767
A8: 09 Különféle egyéb eredményszemléletű bevételek | B8: 195324 | C8: 90805 | D8: =C8-B8 -> -104519
A9: III Egyéb eredményszemléletű bevételek (=06+07+08+09) | B9: 544112788 | C9: 651179092 | D9: =C9-B9 -> 107066304
A10: 10 Anyagköltség | B10: 4000 | C10: 0 | D10: =C10-B10 -> -4000
A11: 11 Igénybe vett szolgáltatások értéke | B11: 1982388 | C11: 1715707 | D11: =C11-B11 -> -266681
A12: 13 Eladott (közvetített) szolgáltatások értéke | B12: 5341832 | C12: 15614144 | D12: =C12-B12 -> 10272312
A13: IV Anyagjellegű ráfordítások (=10+11+12+13) | B13: 7328220 | C13: 17329851 | D13: =C13-B13 -> 10001631
A14: 15 Személyi jellegű egyéb kifizetések | B14: 279929 | C14: 1080832 | D14: =C14-B14 -> 800903
A15: 16 Bérjárulékok | B15: 130181 | C15: 313688 | D15: =C15-B15 -> 183507
... A25: C) MÉRLEG SZERINTI EREDMÉNY (=±A±B) | B25: -28198993 | C25: 27355216 | D25: =C25-B25 -> 55554209
D27: 7/2. számú melléklet
A28: Eredménykimutatás | B28: Előző időszak | C28: Tárgyi időszak | D28: Változás az
A29: Kistérségi Egyesített Szociális Intézmény | B29: 2016 | C29: 2017 | D29: előző évhez képest
A30: 02 Eszközök és szolgáltatások értékesítése nettó eredményszemléletű bevételei | B30: 211561957 | C30: 258764042 | D30: =C30-B30 -> 47202085
A31: I Tevékenység nettó eredményszemléletű bevétele (=01+02+03) | B31: 211561957 | C31: 258764042 | D31: =C31-B31 -> 47202085
A32: 06 Központi működési célú támogatások eredményszemléletű bevételei | B32: 392178309 | C32: 419519617 | D32: =C32-B32 -> 27341308
A33: 07 Egyéb működési célú támogatások eredményszemléletű bevételei | B33: 23726922 | C33: 3946685 | D33: =C33-B33 -> -19780237
A34: 09 Különféle egyéb eredményszemléletű bevételek | B34: 32936168 | C34: 18589521 | D34: =C34-B34 -> -14346647
A35: III Egyéb eredményszemléletű bevételek (=06+07+08+09) | B35: 448841399 | C35: 442055823 | D35: =C35-B35 -> -6785576
A36: 10 Anyagköltség | B36: 55297476 | C36: 59202815 | D36: =C36-B36 -> 3905339
A37: 11 Igénybe vett szolgáltatások értéke | B37: 96343093 | C37: 105078994 | D37: =C37-B37 -> 8735901
A38: 13 Eladott (közvetített) szolgáltatások értéke | B38: 1481483 | C38: 1421202 | D38: =C38-B38 -> -60281
A39: IV Anyagjellegű ráfordítások (=10+11+12+13) | B39: 153122052 | C39: 165703011 | D39: =C39-B39 -> 12580959
A40: 14 Bérköltség | B40: 282971965 | C40: 344992476 | D40: =C40-B40 -> 62020511
A41: 15 Személyi jellegű egyéb kifizetések | B41: 36339922 | C41: 37453641 | D41: =C41-B41 -> 1113719
... A47: C) MÉRLEG SZERINTI EREDMÉNY (=±A±B) | B47: 53146973 | C47: 15608798 | D47: =C47-B47 -> -37538175
D50: 7/3. számú melléklet
A51: Eredménykimutatás | B51: Előző időszak | C51: Tárgyi időszak | D51: Eltérés
A52: Család és Gyermekjóléti Központ | B52: 2016. év | C52: 2017. év | D52: előző évhez képest
A53: 02 Eszközök és szolgáltatások értékesítése nettó eredményszemléletű bevételei | B53: 2054755 | C53: 1987365 | D53: =C53-B53 -> -67390
A54: I Tevékenység nettó eredményszemléletű bevétele (=01+02+03) | B54: 2054755 | C54: 1987365 | D54: =C54-B54 -> -67390
A55: 06 Központi működési célú támogatások eredményszemléletű bevételei | B55: 169977932 | C55: 193257767 | D55: =C55-B55 -> 23279835
A56: 07 Egyéb működési célú támogatások eredményszemléletű bevételei | B56: 2244000 | C56: 3717151 | D56: =C56-B56 -> 1473151
A57: 09 Különféle egyéb eredményszemléletű bevételek | B57: 1419759 | C57: 1136598 | D57: =C57-B57 -> -283161
...

Sheet maradványkimutatás
A1: 8/1. számú melléklet
A2: Maradvány kimutatás | B2: Összeg
A3: Térségi Társulás
A4: 01 Alaptevékenység költségvetési bevételei | B4: 896091753
A5: 02 Alaptevékenység költségvetési kiadásai | B5: 29763573
A6: I Alaptevékenység költségvetési egyenlege (=01-02) | B6: 866328180
A7: 03 Alaptevékenység finanszírozási bevételei | B7: 10916702
A8: 04 Alaptevékenység finanszírozási kiadásai | B8: 612777384
A9: II Alaptevékenység finanszírozási egyenlege (=03-04) | B9: -601860682
A10: A) Alaptevékenység maradványa (=±I±II) | B10: 264467498
A11: C) Összes maradvány (=A+B) | B11: 264467498
A12: E) Alaptevékenység szabad maradványa (=A-D) | B12: 264467498
B14: 8/2. számú melléklet
A15: Maradványkimutatás | B15: Összeg
A16: Kistérségi Egyesített Szociális Intézmény
A17: 01 Alaptevékenység költségvetési bevételei | B17: 292037534
A18: 02 Alaptevékenység költségvetési kiadásai | B18: 676522583
A19: I Alaptevékenység költségvetési egyenlege (=01-02) | B19: -384485049
A20: 03 Alaptevékenység finanszírozási bevételei | B20: 456048814
A21: II Alaptevékenység finanszírozási egyenlege (=03-04) | B21: 456048814
A22: A) Alaptevékenység maradványa (=±I±II) | B22: 71563765
A23: C) Összes maradvány (=A+B) | B23: 71563765
A24: E) Alaptevékenység szabad maradványa (=A-D) | B24: 71563765
B26: 8/3. számú melléklet
A27: Maradványkimutatás | B27: Összeg
A28: Család és Gyermekjóléti Központ
A29: 01 Alaptevékenység költségvetési bevételei | B29: 6784614
A30: 02 Alaptevékenység költségvetési kiadásai | B30: 201357451
A31: I Alaptevékenység költségvetési egyenlege (=01-02) | B31: -194572837
A32: 03 Alaptevékenység finanszírozási bevételei | B32: 197166673
A33: II Alaptevékenység finanszírozási egyenlege (=03-04) | B33: 197166673
A34: A) Alaptevékenység maradványa (=±I±II) | B34: 2593836
A35: C) Összes maradvány (=A+B) | B35: 2593836
A36: E) Alaptevékenység szabad maradványa (=A-D) | B36: 2593836
B38: 8/4. számú melléklet
A39: Maradványkimutatás | B39: Összeg
A40: összevont
A41: 01 Alaptevékenység költségvetési bevételei | B41: 1194913901
A42: 02 Alaptevékenység költségvetési kiadásai | B42: 907643607
A43: I Alaptevékenység költségvetési egyenlege (=01-02) | B43: 287270294
...

Sheet kiadások
A1: Mosonmagyaróvár Térségi Társulás és irányítása alatt álló költségvetési szeveinek pénzforgalmi kiadásai kormányzati funkciónként 9. számú melléklet
A2: Megnevezés | B2: 011130 Önkormányzatok és önkormányzati hivatalok jogalkotó és általános igazgatási tevékenysége | C2: 018030 Támogatási célú finanszírozási műveletek | D2: 062020 Településfejlesztési projektek és támogatásuk | E2: 084032 Civil szervezetek programtámogatása | F2: 101221 Fogyatékossággal élők nappali ellátása | G2: 102023 Időskorúak tartós bentlakásos ellátása | H2: 102024 Demens betegek tartós bentlakásos ellátása | I2: 102025 Időskorúak átmeneti ellátása | J2: 102026 Demens betegek átmeneti ellátása | K2: 102031 Idősek nappali ellátása | L2: 102032 Demens betegek nappali ellátása | M2: 104012 Gyermekek átmeneti ellátása | N2: 104030 Gyermekek napközbeni ellátása | O2: 104042 Család és gyermekjóléti szolgáltatások | P2: 104043 Család és gyermekjóléti központ | Q2: 107013 Hajléktalanok átmeneti ellátása | R2: 107015 Hajléktalanok nappali ellátása | S2: 107030 Szociális foglalkoztatás, fejlesztő foglalkoztatás | T2: 107051 Szociális étkeztetés | U2: 107052 Házi segítségnyújtás | V2: 107053 Jelzőrendszeres házi segítségnyújtás | W2: Összesen
A3: Törvény szerinti illetmények, munkabérek (K1101) | B3: 0 | C3: 0 | D3: 0 | E3: 0 | F3: 13389504 | G3: 64095852 | H3: 51246822 | I3: 29652744 | J3: 14465174 | K3: 24661746 | L3: 12892653 | M3: 21930418 | N3: 0 | O3: 52716424 | P3: 40257927 | Q3: 15314123 | R3: 4221156 | S3: 8449103 | T3: 5423233 | U3: 53620539 | V3: 2636826 | W3: =SUM(B3:V3) -> 414974244
A4: Céljuttatás, projektprémium (K1103) | B4: 0 | C4: 0 | D4: 0 | E4: 0 | F4: 1483135 | G4: 6202288 | H4: 5168337 | I4: 3023582 | J4: 1369697 | K4: 2256293 | L4: 941863 | M4: 1672881 | N4: 0 | O4: 4134174 | P4: 4025710 | Q4: 1393481 | R4: 322801 | S4: 586837 | T4: 572598 | U4: 6060427 | V4: 319938 | W4: =SUM(B4:V4) -> 39534042
A5: Készenléti, ügyeleti, helyettesítési díj, túlóra, túlszolgálat (K1104) | B5: 0 | C5: 0 | D5: 0 | E5: 0 | F5: 58306 | G5: 2205929 | H5: 1748973 | I5: 1011300 | J5: 494153 | K5: 112397 | L5: 75486 | M5: 541424 | N5: 0 | O5: 1334400 | P5: 633900 | Q5: 272206 | R5: 105126 | S5: 4123 | T5: 331772 | U5: 1645573 | V5: 1187855 | W5: =SUM(B5:V5) -> 11762923
A6: Jubileumi jutalom (K1106) | B6: 0 | C6: 0 | D6: 0 | E6: 0 | F6: 0 | G6: 322000 | H6: 322000 | I6: 322000 | J6: 0 | K6: 1932000 | L6: 0 | M6: 0 | N6: 0 | O6: 0 | P6: 322000 | Q6: 0 | R6: 0 | S6: 0 | T6: 0 | U6: 595500 | V6: 0 | W6: =SUM(B6:V6) -> 3815500
A7: Béren kívüli juttatások (K1107) | B7: 0 | C7: 0 | D7: 0 | E7: 0 | F7: 561417 | G7: 2473811 | H7: 2022830 | I7: 1178257 | J7: 549338 | K7: 1003886 | L7: 498463 | M7: 855665 | N7: 0 | O7: 2140162 | P7: 1615331 | Q7: 521695 | R7: 141667 | S7: 207095 | T7: 208625 | U7: 2433432 | V7: 103236 | W7: =SUM(B7:V7) -> 16514910
A8: Közlekedési költségtérítés (K1109) | B8: 0 | C8: 0 | D8: 0 | E8: 0 | F8: 564966 | G8: 1382176 | H8: 1110282 | I8: 644012 | J8: 308491 | K8: 159958 | L8: 239563 | M8: 254090 | N8: 0 | O8: 3789125 | P8: 1245904 | Q8: 284747 | R8: 0 | S8: 197398 | T8: 62185 | U8: 300376 | V8: 1870 | W8: =SUM(B8:V8) -> 10545143
A9: Egyéb költségtérítések (K1110) | B9: 0 | C9: 0 | D9: 0 | E9: 0 | F9: 68455 | G9: 354845 | H9: 295642 | I9: 172949 | J9: 78367 | K9: 133837 | L9: 60417 | M9: 108000 | N9: 0 | O9: 298000 | P9: 358800 | Q9: 64463 | R9: 19000 | S9: 25238 | T9: 27170 | U9: 348170 | V9: 12447 | W9: =SUM(B9:V9) -> 2425800
A10: Foglalkoztatottak egyéb személyi juttatásai (>=14) (K1113) | B10: 0 | C10: 0 | D10: 0 | E10: 0 | F10: 607030 | G10: 1300203 | H10: 1043996 | I10: 605503 | J10: 290230 | K10: 1326818 | L10: 340678 | M10: 879696 | N10: 0 | O10: 2492565 | P10: 1651926 | Q10: 284270 | R10: 127474 | S10: 232158 | T10: 115730 | U10: 1625246 | V10: 152560 | W10: =SUM(B10:V10) -> 13076083
A11: Foglalkoztatottak személyi juttatásai (=01+…+13) (K11) | B11: 0 | C11: 0 | D11: 0 | E11: 0 | F11: 16732813 | G11: 78337104 | H11: 62958882 | I11: 36610347 | J11: 17555450 | K11: 31586935 | L11: 15049123 | M11: 26242174 | N11: 0 | O11: 66904850 | P11: 50111498 | Q11: 18134985 | R11: 4937224 | S11: 9701952 | T11: 6741313 | U11: 66629263 | V11: 4414732 | W11: =SUM(B11:V11) -> 512648645
A12: Munkavégzésre irányuló egyéb jogviszonyban nem saját foglalkoztatottnak fizetett juttatások (K122) | B12: 0 | C12: 0 | D12: 0 | E12: 0 | F12: 0 | G12: 379750 | H12: 379750 | I12: 90046 | J12: 0 | K12: 0 | L12: 0 | M12: 0 | N12: 0 | O12: 0 | P12: 84136 | Q12: 323550 | R12: 0 | S12: 0 | T12: 0 | U12: 0 | V12: 881800 | W12: =SUM(B12:V12) -> 2139032
A13: Egyéb külső személyi juttatások (K123) | B13: 426112 | C13: 0 | D13: 520646 | E13: 0 | F13: 0 | G13: 690463 | H13: 0 | I13: 0 | J13: 0 | K13: 0 | L13: 0 | M13: 0 | N13: 0 | O13: 0 | P13: 0 | Q13: 0 | R13: 0 | S13: 2972650 | T13: 0 | U13: 705600 | V13: 0 | W13: =SUM(B13:V13) -> 5315471
A14: Külső személyi juttatások (=16+17+18) (K12) | B14: 426112 | C14: 0 | D14: 520646 | E14: 0 | F14: 0 | G14: 1070213 | H14: 379750 | I14: 90046 | J14: 0 | K14: 0 | L14: 0 | M14: 0 | N14: 0 | O14: 0 | P14: 84136 | Q14: 323550 | R14: 0 | S14: 2972650 | T14: 0 | U14: 705600 | V14: 881800 | W14: =SUM(B14:V14) -> 7454503
... A65: Kiadások összesen (=268+308) (K1-K9) | B65: 18183556 | C65: 616377384 | D65: 4420067 | E65: 2690000 | F65: 24600659 | G65: 148612102 | H65: 114895630 | I65: 67151404 | J65: 31900364 | K65: 45346301 | L65: 20128208 | M65: 43860092 | N65: 101311 | O65: 88624851 | P65: 68771197 | Q65: 33534133 | R65: 7535651 | S65: 16630907 | T65: 68278014 | U65: 86889581 | V65: 11889579 | W65: =SUM(B65:V65) -> 1520420991

Sheet bevételek
A1: Mosonmagyaróvár Térségi Társulás és irányítása alatt álló költségvetési szeveinek pénzforgalmi bevételei kormányzati funkciónként 10. számú melléklet
A2: Megnevezés | B2: 011130 Önkormányzatok és önkormányzati hivatalok jogalkotó és általános igazgatási tevékenysége | C2: 018030 Támogatási célú finanszírozási műveletek | D2: 062020 Településfejlesztési projektek és támogatásuk | E2: 101221 Fogyatékossággal élők nappali ellátása | F2: 102023 Időskorúak tartós bentlakásos ellátása | G2: 102024 Demens betegek tartós bentlakásos ellátása | H2: 102025 Időskorúak átmeneti ellátása | I2: 102026 Demens betegek átmeneti ellátása | J2: 102031 Idősek nappali ellátása | K2: 102032 Demens betegek nappali ellátása | L2: 104012 Gyermekek átmeneti ellátása | M2: 104030 Gyermekek napközbeni ellátása | N2: 104042 Család és gyermekjóléti szolgáltatások | O2: 104043 Család és gyermekjóléti központ | P2: 107013 Hajléktalanok átmeneti ellátása | Q2: 107030 Szociális foglalkoztatás, fejlesztő foglalkoztatás | R2: 107051 Szociális étkeztetés | S2: 107052 Házi segítségnyújtás | T2: 107053 Jelzőrendszeres házi segítségnyújtás | U2: Összesen
A3: Egyéb működési célú támogatások bevételei államháztartáson belülről (=33+…+42) (B16) | B3: 650468520 | C3: 0 | D3: 0 | E3: 0 | F3: 2375751 | G3: 0 | H3: 0 | I3: 0 | J3: 49934 | K3: 0 | L3: 0 | M3: 0 | N3: 2172877 | O3: 1000000 | P3: 0 | Q3: 0 | R3: 0 | S3: 0 | T3: 0 | U3: =SUM(B3:T3) -> 656067082
A4: ebből: egyéb fejezeti kezelésű előirányzatok (B16) | B4: 0 | C4: 0 | D4: 0 | E4: 0 | F4: 210463 | G4: 0 | H4: 0 | I4: 0 | J4: 0 | K4: 0 | L4: 0 | M4: 0 | N4: 0 | O4: 0 | P4: 0 | Q4: 0 | R4: 0 | S4: 0 | T4: 0 | U4: =SUM(B4:T4) -> 210463
A5: ebből: elkülönített állami pénzalapok (B16) | B5: 0 | C5: 0 | D5: 0 | E5: 0 | F5: 1230288 | G5: 0 | H5: 0 | I5: 0 | J5: 0 | K5: 0 | L5: 0 | M5: 0 | N5: 0 | O5: 0 | P5: 0 | Q5: 0 | R5: 0 | S5: 0 | T5: 0 | U5: =SUM(B5:T5) -> 1230288
A6: ebből: helyi önkormányzatok és költségvetési szerveik (B16) | B6: 650468520 | C6: 0 | D6: 0 | E6: 0 | F6: 935000 | G6: 0 | H6: 0 | I6: 0 | J6: 49934 | K6: 0 | L6: 0 | M6: 0 | N6: 2172877 | O6: 1000000 | P6: 0 | Q6: 0 | R6: 0 | S6: 0 | T6: 0 | U6: =SUM(B6:T6) -> 654626331
A7: Működési célú támogatások államháztartáson belülről (=07+...+10+21+32) (B1) | B7: 650468520 | C7: 0 | D7: 0 | E7: 0 | F7: 2375751 | G7: 0 | H7: 0 | I7: 0 | J7: 49934 | K7: 0 | L7: 0 | M7: 0 | N7: 2172877 | O7: 1000000 | P7: 0 | Q7: 0 | R7: 0 | S7: 0 | T7: 0 | U7: =SUM(B7:T7) -> 656067082
A8: Egyéb felhalmozási célú támogatások bevételei államháztartáson belülről (=69+…+78) (B25) | B8: 0 | C8: 0 | D8: 229760779 | E8: 0 | F8: 0 | G8: 0 | H8: 0 | I8: 0 | J8: 0 | K8: 0 | L8: 0 | M8: 0 | N8: 0 | O8: 0 | P8: 0 | Q8: 0 | R8: 0 | S8: 0 | T8: 0 | U8: =SUM(B8:T8) -> 229760779
A9: ebből: fejezeti kezelésű előirányzatok EU-s programokra és azok hazai társfinanszírozása (B25) | B9: 0 | C9: 0 | D9: 229760779 | E9: 0 | F9: 0 | G9: 0 | H9: 0 | I9: 0 | J9: 0 | K9: 0 | L9: 0 | M9: 0 | N9: 0 | O9: 0 | P9: 0 | Q9: 0 | R9: 0 | S9: 0 | T9: 0 | U9: =SUM(B9:T9) -> 229760779
A10: Felhalmozási célú támogatások államháztartáson belülről (=44+45+46+57+68) (B2) | B10: 0 | C10: 0 | D10: 229760779 | E10: 0 | F10: 0 | G10: 0 | H10: 0 | I10: 0 | J10: 0 | K10: 0 | L10: 0 | M10: 0 | N10: 0 | O10: 0 | P10: 0 | Q10: 0 | R10: 0 | S10: 0 | T10: 0 | U10: =SUM(B10:T10) -> 229760779
A11: Készletértékesítés ellenértéke (B401) | B11: 0 | C11: 0 | D11: 0 | E11: 0 | F11: 0 | G11: 0 | H11: 0 | I11: 0 | J11: 0 | K11: 0 | L11: 0 | M11: 0 | N11: 0 | O11: 0 | P11: 0 | Q11: 280158 | R11: 0 | S11: 0 | T11: 0 | U11: =SUM(B11:T11) -> 280158
A12: Szolgáltatások ellenértéke (>=188+189) (B402) | B12: 0 | C12: 0 | D12: 0 | E12: 0 | F12: 21802911 | G12: 0 | H12: 7917700 | I12: 0 | J12: 13585642 | K12: 0 | L12: 0 | M12: 0 | N12: 0 | O12: 0 | P12: 0 | Q12: 235551 | R12: 208236 | S12: 0 | T12: 0 | U12: =SUM(B12:T12) -> 43750040
A13: Közvetített szolgáltatások ellenértéke (>=191) (B403) | B13: 15647621 | C13: 0 | D13: 0 | E13: 0 | F13: 1421202 | G13: 0 | H13: 0 | I13: 0 | J13: 0 | K13: 0 | L13: 0 | M13: 0 | N13: 0 | O13: 0 | P13: 0 | Q13: 0 | R13: 0 | S13: 0 | T13: 0 | U13: =SUM(B13:T13) -> 17068823
A14: ebből: államháztartáson belül (B403) | B14: 15647621 | C14: 0 | D14: 0 | E14: 0 | F14: 0 | G14: 0 | H14: 0 | I14: 0 | J14: 0 | K14: 0 | L14: 0 | M14: 0 | N14: 0 | O14: 0 | P14: 0 | Q14: 0 | R14: 0 | S14: 0 | T14: 0 | U14: =SUM(B14:T14) -> 15647621
... A32: Bevételek összesen (283+315) (B1-B8) | B32: 666330969 | C32: 664132189 | D32: 229760784 | E32: 3862170 | F32: 93049831 | G32: 43749541 | H32: 38132206 | I32: 11395623 | J32: 16788247 | K32: 3998848 | L32: 1587730 | M32: 496270 | N32: 3632799 | O32: 1067815 | P32: 6671744 | Q32: 677081 | R32: 38212729 | S32: 16924795 | T32: 18574719 | U32: =SUM(B32:T32) -> 1859046090

Sheet pénzeszköz átadások
A1: 11. számú melléklet
A2: MOSONMAGYARÓVÁR TÉRSÉGI TÁRSULÁS
A3: 2017. ÉVI KÖLTSÉGVETÉSI VÉGREHAJTÁSÁRÓL SZÓLÓ HATÁROZAT MELLÉKLETE
B5: Jogcím | C5: Teljesítés Ft-ban
B6: Áht. Belüli pénzeszköz átadás
B7: .= megállapodás alapján Hivatal részére átadott támogatás | C7: 3600000
B8: Áht. Kívüli pénzeszköz átadás
B9: .= Mosonmagyaróvár és Környéke Nyugdíjas Egyesület támogatása | C9: 300000
B10: .= | C10: 300000
B11: .=Szent Kristóf mentőalapítvány | C11: 150000
B12: .= Aranypor kiadvány támogatása | C12: 100000
B13: .= Karolina Kórház - Rendelőintézet eszközbeszerzéséhez kapcsolódó alapítványi támogatás | C13: 1840000
B14: Összes pénzeszköz átadás intézményfinanszírozáson kívül | C14: =SUM(C7:C13) -> 6290000
B17: Mosonmagyaróvár, 2018. április

Sheet befizetések
A2: 12. számú melléklet
A3: MOSONMAGYARÓVÁR TÉRSÉGI TÁRSULÁS
A4: 2017. ÉVI KÖLTSÉGVETÉSI VÉGREHAJTÁSÁRÓL SZÓLÓ HATÁROZAT MELLÉKLETE
B6: Mosonmagyaróvár Térségi Társulás tagönkormányzati által teljesített befizetések
B7: 2017. évben
D8: Előirányzat Ft | E8: Teljesített befizetés Ft | F8: Tartozás Ft | G8: Megjegyzés Ft
B9: Társulási tagdíj | D9: 20877750 | E9: =D9 -> 20877750 | F9: =D9-E9 -> 0 | G9: Térségi Társulás illetve KESZI finanszírozásra használva
B10: Gyermekjólét támogatása | D10: 7732500 | E10: =D10 -> 7732500 | F10: =D10-E10 -> 0 | G10: felhasználás a KGYCSSZK működéséhez
B11: Karolina Kórház - Rendelőintézet eszközbeszerzés támogatása | D11: 1546500 | E11: =D11 -> 1546500 | F11: =D11-E11 -> 0 | G11: a Tásulás kiegészítette a támogatást 293.500 Ft-tal, és a kórházi alapítványnak átadásra került az 1.840e Ft
B12: Szolidaritási alap | D12: 773250 | E12: =D12 -> 773250 | F12: =D12-E12 -> 0 | G12: Nem került felhasználásra, elkülönített számlán rendelkezésre áll. 2017.12.31-én záró egyenleg 2.365.620 Ft.
B13: Felújítási alap | D13: 7732500 | E13: =D13 -> 7732500 | F13: =D13-E13 -> 0 | G13: KESZI részére átadott forrás 240.005 Ft, CSGYK részére átadott forrás 1.266.698 Ft. 2017. december 31-én rendelkezésre álló egyenleg 8.803.734 Ft. A felújítási alapra 2017-ben vállalt kötelezettség, de 2018-ban történt kifizetés volt a KESZI lift felújítása, mely bruttó 6.280.150 Ft volt.
B14: Összesen | D14: =SUM(D9:D13) -> 38662500 | E14: =SUM(E9:E13) -> 38662500 | F14: =SUM(F9:F13) -> 0
C16: Mosonmagyaróvár, 2018. április
