Workbook

Sheet 1_
B1: 1. SZÁMÚ MELLÉKLET
A5: MOSONMAGYARÓVÁR TÉRSÉGI TÁRSULÁS
A6: 2017. ÉVI KÖLTSÉGVETÉSI HATÁROZAT MÓDOSÍTÁSÁHOZ
A11: A Mosonmagyaróvár Térségi Társulás és irányítása alá tartozó költségvetési szervek
A12: 2017. évi költségvetéséről szóló 2/2017. (II.21.) TT. határozatot
A13: módosító …/2017. (XII.12.) TT. határozat
A15: CÍMRENDJÉT
A16: az alábbiak szerint állapítja meg:
A21: Címszám | B21: Megnevezés
A22: 1. | B22: Mosonmagyaróvár Térségi Társulás
A23: 2. | B23: Kistérségi Egyesített Szociális Intézmény
A24: 3. | B24: Kistérségi Gyermekjóléti és Családsegítő Szolgáltató Központ

Sheet 2A
B1: 2./A SZÁMÚ MELLÉKLET
A3: MOSONMAGYARÓVÁR TÉRSÉGI TÁRSULÁS
A4: 2017. ÉVI KÖLTSÉGVETÉSI HATÁROZAT MÓDOSÍTÁSÁHOZ
A5: PÉNZFORGALMI MÉRLEG
A6: adatok ezer Ft-ban
A8: Mosonmagyaróvár Térségi Társulás | D8: kötelező | E8: önként | G8: kötelező | H8: önként | J8: kötelező | K8: önként
A9: Megnevezés | B9: eredeti | C9: eredeti | D9: eredeti | E9: eredeti | F9: módosított | G9: módosított | H9: módosított | I9: módosított | J9: módosított | K9: módosított
B10: előirányzat 2014. | C10: előirányzat 2017. | D10: előirányzat 2017. | E10: előirányzat 2017. | F10: előirányzat 2017.07.31 | G10: előirányzat 2017.07.31 | H10: előirányzat 2017.07.31 | I10: előirányzat 2017.10.31 | J10: előirányzat 2017.10.31 | K10: előirányzat 2017.07.31
A11: Személyi juttatások | B11: ='2B'!B12+'2C'!B12+'2D'!B12 -> 142146325 | C11: ='2B'!C12+'2C'!B12+'2D'!B12 -> 548586508 | D11: =SUM(C11-E11) -> 548086508 | E11: ='2D'!B12 -> 500000 | F11: ='2B'!D12+'2C'!C12+'2D'!C12 -> 565514174 | G11: =F11-H11 -> 565014174 | H11: ='2D'!C12 -> 500000 | I11: 562952144 | J11: =I11-K11 -> 562452144 | K11: 500000
A12: Munkaadót terhelő járulékok | B12: ='2B'!B13+'2C'!B13+'2D'!B13 -> 32546024 | C12: ='2B'!C13+'2C'!B13+'2D'!B13 -> 130476457 | D12: =SUM(C12-E12) -> 130227457 | E12: ='2D'!B13 -> 249000 | F12: ='2B'!D13+'2C'!C13+'2D'!C13 -> 134239382 | G12: =F12-H12 -> 133990382 | H12: ='2D'!C13 -> 249000 | I12: 133243453 | J12: =I12-K12 -> 132890741 | K12: 352712
A13: Dologi és egyéb folyó kiadások | B13: ='2B'!B14+'2C'!B14+'2D'!B14 -> 38652414 | C13: ='2B'!C14+'2C'!B14+'2D'!B14 -> 231722368 | D13: =SUM(C13-E13) -> 219920091 | E13: ='2D'!B14-10091 -> 11802277 | F13: ='2B'!D14+'2C'!C14+'2D'!C14 -> 229372368 | G13: =F13-H13 -> 217570091 | H13: ='2D'!C14-10091 -> 11802277 | I13: 257951033 | J13: =I13-K13 -> 240797122 | K13: ='2D'!D14-10091 -> 17153911
A14: Ellátottak pénzbeli juttatásai | C14: ='2B'!C15+'2C'!B15 -> 1270000 | D14: ='2B'!D15+'2C'!C15 -> 1270000 | E14: 0 | F14: ='2B'!D15+'2C'!C15 -> 1270000 | G14: =F14-H14 -> 1270000 | H14: 0 | I14: 1270000 | J14: =I14-K14 -> 1270000 | K14: 0
A15: Pénzeszköz átadás, támogatás | B15: ='2B'!B15+'2C'!B15+'2D'!B15 -> 6760570 | C15: ='2D'!B15 -> 6340000 | D15: =SUM(C15-E15) -> 0 | E15: ='2D'!B15 -> 6340000 | F15: ='2D'!C15 -> 6340000 | G15: =F15-H15 -> 0 | H15: ='2D'!C15 -> 6340000 | I15: 6340000 | J15: =I15-K15 -> 0 | K15: 6340000
A16: Elvonások és befizetések | C16: 0 | F16: ='2B'!D16+'2C'!C16 -> 0 | G16: =F16-H16 -> 0 | H16: 0 | I16: ='2B'!G16+'2C'!F16 -> 0 | J16: =I16-K16 -> 0 | K16: 0
A17: Felhalmozási célú pénzeszköz átadás | C17: 0 | D17: 0 | E17: 0 | F17: 0 | G17: 0 | H17: 0 | I17: 0 | J17: 0 | K17: 0
A18: Felhalmozási kiadások | B18: 0 | C18: ='2B'!C17+'2C'!B17+'2D'!B18 -> 235000000 | D18: =SUM(C18-E18) -> 0 | E18: ='2D'!C18 -> 235000000 | F18: ='2B'!D17+'2C'!C17+'2D'!C18 -> 238616698 | G18: =F18-H18 -> 3616698 | H18: ='2D'!C18 -> 235000000 | I18: 252447483 | J18: =I18-K18 -> 17447483 | K18: 235000000
A19: Hitelek és kölcsönök kiadásai | B19: 0 | C19: 0 | D19: =SUM(C19-E19) -> 0 | E19: 0 | F19: 0 | G19: =F19-H19 -> 0 | H19: 0 | I19: 0 | J19: =I19-K19 -> 0 | K19: 0
A20: Pénzforgalmi kiadások | B20: =SUM(B11:B19) -> 220105333 | C20: =SUM(C11:C19) -> 1153395333 | D20: =SUM(D11:D19) -> 899504056 | E20: =SUM(E11:E19) -> 253891277 | F20: =SUM(F11:F19) -> 1175352622 | G20: =SUM(G11:G19) -> 921461345 | H20: =SUM(H11:H19) -> 253891277 | I20: =SUM(I11:I19) -> 1214204113 | ... K20: =SUM(K11:K19) -> 259346623
A21: Államháztartási tartalék | B21: ='2D'!B21 -> 21770799 | C21: ='2D'!B21 -> 21770799 | D21: ='2D'!B21 -> 21770799 | E21: 0 | F21: ='2D'!C21 -> 20306848 | G21: =F21-H21 -> 0 | H21: ='2D'!C21 -> 20306848 | I21: 17879068 | J21: 0 | K21: 17879068
A22: Kiadások összesen: | B22: =B20+B21 -> 241876132 | C22: =C20+C21 -> 1175166132 | D22: =SUM(C22-E22) -> 921274855 | E22: =SUM(E20+E21) -> 253891277 | F22: =SUM(F20:F21) -> 1195659470 | G22: =SUM(G20:G21) -> 921461345 | H22: =SUM(H20:H21) -> 274198125 | I22: =SUM(I20:I21) -> 1232083181 | J22: =SUM(J20:J21) -> 954857490 | K22: =SUM(K20:K21) -> 277225691
A24: Intézményi működési bevételek | B24: ='2B'!B23+'2C'!B21+'2D'!B24 -> 12591469 | C24: ='2B'!C23+'2C'!B21+'2D'!B24 -> 286220736 | D24: 286831415 | E24: 89321 | F24: ='2C'!C21+'2D'!C24+'2B'!D23 -> 286220736 | G24: =F24-H24+9990956 -> 296122371 | H24: ='2D'!C24-10091-9990956 -> 89321 | I24: 297427427 | J24: 297338106 | K24: 89321
A25: Költségvetési visszatérülések | B25: 0 | C25: ='2B'!C24+'2C'!B22+'2D'!B25 -> 0 | D25: =C25-E25 -> 0 | E25: 0 | F25: ='2D'!C25 -> 0 | G25: =F25-H25 -> 0 | H25: ='2C'!C22 -> 0 | I25: ='2D'!F25 -> 0 | J25: =I25-K25 -> 0 | K25: ='2C'!F22 -> 0
A26: Felhalmozási és tőke jellegű bevételek | B26: 0 | C26: ='2D'!B26 -> 235000000 | D26: =C26-E26 -> 0 | E26: ='2D'!C26 -> 235000000 | F26: ='2B'!D24+'2C'!C22+'2D'!C26 -> 235000000 | G26: 0 | H26: 235000000 | I26: 235000000 | J26: 0 | K26: 235000000
A27: ebből: sajátos felhalm. és tőkef. | B27: 0 | C27: 0 | D27: =C27-E27 -> 0 | E27: 0 | F27: 0 | G27: =F27-H27 -> 0 | H27: 0 | I27: 0 | J27: =I27-K27 -> 0 | K27: 0
A28: Támogatások, kiegészítések és átvett pénzeszközök | B28: ='2B'!B26+'2C'!B24+'2D'!B28 -> 604983544 | C28: ='2C'!B24+'2D'!B28 -> 604945396 | D28: 595443440 | E28: 8801956 | F28: ='2B'!D26+'2C'!C24+'2D'!C28 -> 623083929 | G28: =F28-H28 -> 593975125 | H28: 29108804 | I28: 648300949 | J28: =I28-K28 -> 619192145 | K28: 29108804
A29: ebből: önkorm. költségvetési tám. | B29: ='2D'!B29 -> 325301770 | C29: 325301770 | D29: 325301770 | E29: 0 | F29: 325301770 | G29: =F29-H29 -> 325301770 | H29: 0 | I29: 325301770 | J29: =I29-K29 -> 325301770 | K29: 0
A30: Hitelek, kölcsönök bevételei | B30: 0 | C30: ='2B'!C29+'2C'!B27+'2D'!B30 -> 0 | D30: =C30-E30 -> 0 | E30: 0 | F30: 0 | G30: =F30-H30 -> 0 | H30: ='2C'!C27 -> 0 | I30: 0 | J30: =I30-K30 -> 0 | K30: ='2C'!F27 -> 0
A31: Pénzforgalmi bevételek összesen | B31: =B28+B24 -> 617575013 | C31: =C28+C24+C26 -> 1126166132 | D31: =SUM(D24:D28) -> 882274855 | E31: =SUM(E24:E30) -> 243891277 | F31: =F28+F24+F26 -> 1144304665 | G31: =G28+G24+G26 -> 890097496 | H31: =H28+H24+H26 -> 264198125 | I31: =I24+I26+I28 -> 1180728376 | J31: =J28+J24+J26 -> 916530251 | K31: =K28+K24+K26 -> 264198125
A32: Maradvány felhasználás | B32: 0 | C32: ='2B'!C31+'2C'!B29+'2D'!B33 -> 49000000 | D32: ='2B'!C31+'2C'!B29 -> 39000000 | E32: ='2D'!B33 -> 10000000 | F32: ='2B'!D31+'2C'!C29+'2D'!C33 -> 51354805 | G32: =F32-H32 -> 41354805 | H32: 10000000 | I32: 51354805 | J32: =I32-K32 -> 41354805 | K32: 10000000
A33: Bevételek összesen: | B33: =B31+B32 -> 617575013 | C33: =C31+C32 -> 1175166132 | D33: =SUM(D31:D32) -> 921274855 | E33: =SUM(E31:E32) -> 253891277 | F33: =SUM(F31:F32) -> 1195659470 | G33: =F33-H33 -> 921461345 | H33: =SUM(H31:H32) -> 274198125 | I33: =SUM(I31:I32) -> 1232083181 | J33: =SUM(J31:J32) -> 957885056 | K33: =SUM(K31:K32) -> 274198125
A36: Mosonmagyaróvár, 2017. december 01.
B37: …./2014. (XII.09.) Kt. Határozat alapján
B39: 200 Ft/lakos
B40: 100 Ft/lakos
B41: 20 Ft/lakos
B42: 10 Ft/lakos
B43: 100 Ft/lakos

Sheet 2B
B1: 2./B SZÁMÚ MELLÉKLET
A3: MOSONMAGYARÓVÁR TÉRSÉGI TÁRSULÁS
A4: 2017. ÉVI KÖLTSÉGVETÉSI HATÁROZAT MÓDOSÍTÁSA
A5: PÉNZFORGALMI MÉRLEG
A6: adatok ezer Ft-ban
C8: kötelező feladat | D8: kötelező feladat | E8: kötelező feladat
A9: KISTÉRSÉGI EGYESÍTETT SZOCIÁLIS INTÉZET
A10: Megnevezés | B10: eredeti | C10: eredeti | D10: módosított | E10: módosított
B11: előirányzat 2014. | C11: előirányzat 2017. | D11: előirányzat 2017.07.31 | E11: előirányzat 2017.10.31
A12: Személyi juttatások | B12: 264817 | C12: 406705000 | D12: 416037014 | E12: 410525035 | F12: =E12-D12 -> -5511979
A13: Munkaadót terhelő járulékok | B13: 69967 | C13: 98000400 | D13: 100076710 | E13: 98174077 | F13: =E13-D13 -> -1902633
A14: Dologi és egyéb folyó kiadások | B14: =SUM(200046) -> 200046 | C14: 193270000 | D14: 191550000 | E14: 211512634 | F14: =E14-D14 -> 19962634
A15: Ellátottak pénzbeli juttatásai | B15: 570 | C15: 850000 | D15: 850000 | E15: 850000 | F15: =E15-D15 -> 0
A16: Elvonások és befizetések | C16: 0 | D16: 0 | E16: 0 | F16: =E16-D16 -> 0
A17: Felhalmozási kiadások | B17: 0 | C17: 0 | D17: 1720000 | E17: 13654185 | F17: =E17-D17 -> 11934185
A18: Hitelek és kölcsönök kiadásai | B18: 0 | C18: 0 | D18: 0 | E18: 0 | F18: =E18-D18 -> 0
A19: Pénzforgalmi kiadások | B19: =SUM(B12:B18) -> 535400 | C19: =SUM(C12:C18) -> 698825400 | D19: =SUM(D12:D18) -> 710233724 | E19: =SUM(E12:E18) -> 734715931 | F19: =E19-D19 -> 24482207
A20: Kiegyenlítő, átfutó, függő kiadás | B20: nem releváns | C20: nem releváns | F20: =E20-D20 -> 0
A21: Kiadások összesen: | B21: =SUM(B19) -> 535400 | C21: =SUM(C19) -> 698825400 | D21: =SUM(D19) -> 710233724 | E21: =SUM(E19) -> 734715931 | F21: =E21-D21 -> 24482207
A23: Intézményi működési bevételek | B23: 201101 | C23: 273830368 | D23: 273830368 | E23: 279600368 | F23: =E23-D23 -> 5770000
A24: Felhalmozási és tőke jellegű bevételek | B24: 0 | C24: 0 | D24: 0 | E24: 0 | F24: =E24-D24 -> 0
A25: ebből: sajátos felhalm. és tőkef. | B25: 0 | C25: 0 | D25: 0 | E25: 0 | F25: =E25-D25 -> 0
A26: Támogatások, kiegészítések és átvett pénzeszközök | B26: =SUM(50763-12615) -> 38148 | C26: 0 | D26: 0 | E26: 2279228 | F26: =E26-D26 -> 2279228
A27: ebből: önkorm. költségvetési tám. | B27: 0 | C27: 0 | D27: 0 | E27: 0 | F27: =E27-D27 -> 0
A28: Irányító szervtől kapott támogatás | B28: =SUM(283536+12615) -> 296151 | C28: 388995032 | D28: 399874159 | E28: 416307138 | F28: =E28-D28 -> 16432979
A29: Hitelek, kölcsönök bevételei | B29: 0 | C29: 0 | D29: 0 | E29: 0 | F29: =E29-D29 -> 0
A30: Pénzforgalmi bevételek összesen | B30: =SUM(B29+B28+B26+B24+B23) -> 535400 | C30: =SUM(C29+C28+C26+C24+C23) -> 662825400 | D30: =SUM(D29+D28+D26+D24+D23) -> 673704527 | E30: =SUM(E29+E28+E26+E24+E23) -> 698186734 | F30: =E30-D30 -> 24482207
A31: Maradvány felhasználás | B31: 0 | C31: 36000000 | D31: 36529197 | E31: 36529197 | F31: =E31-D31 -> 0
A32: Kiegyenlítő, átfutó, függő bevételek | B32: nem releváns | C32: nem releváns | F32: =E32-D32 -> 0
A33: Bevételek összesen: | B33: =B30+B31 -> 535400 | C33: =C30+C31 -> 698825400 | D33: =D30+D31 -> 710233724 | E33: =E30+E31 -> 734715931 | F33: =E33-D33 -> 24482207
A36: Irányító szervi támogatás részletezése 2017. év eredeti és módosítások Ft-ban | B36: adatok Ft-ban
B37: 2016. évi | C37: 2017. évi eredeti | D37: 2017.07.31. módosított | E37: 2017.10.31. módosított | F37: Változás
A38: Szociális étkeztetés | B38: =[1]KESZI!$D$82 -> 25576320 | C38: ='[2]KESZI 2016.12.12.'!$G$101 -> 24967360 | D38: ='[2]KESZI 2016.12.12.'!$G$101 -> 24967360 | E38: 22714208 | F38: =E38-D38 -> -2253152
A39: Házi segítségnyújtás | B39: =[1]KESZI!$D$83 -> 35815000 | C39: ='[2]KESZI 2016.12.12.'!$G$102 -> 41769000 | D39: ='[2]KESZI 2016.12.12.'!$G$102 -> 41769000 | E39: 47502000 | F39: =E39-D39 -> 5733000
A40: Időskorúak nappali int. Ellátása | B40: =[1]KESZI!$D$84 -> 6376500 | C40: ='[2]KESZI 2016.12.12.'!$G$105 -> 7357500 | D40: ='[2]KESZI 2016.12.12.'!$G$105 -> 7357500 | E40: 7521000 | F40: =E40-D40 -> 163500
A41: Fogyatékos és demens személyek ell. | B41: =[1]KESZI!$D$85+[1]KESZI!$D$86+[1]KESZI!$D$87 -> 24090000 | C41: ='[2]KESZI 2016.12.12.'!$G$106+'[2]KESZI 2016.12.12.'!$G$107+'[2]KESZI 2016.12.12.'!$G$108 -> 21340000 | D41: ='[2]KESZI 2016.12.12.'!$G$106+'[2]KESZI 2016.12.12.'!$G$107+'[2]KESZI 2016.12.12.'!$G$108 -> 21340000 | E41: 19910000 | F41: =E41-D41 -> -1430000
A42: Hajléktalanok nappali ellátása | B42: =[1]KESZI!$D$88 -> 8903520 | C42: ='[2]KESZI 2016.12.12.'!$G$109 -> 8903520 | D42: ='[2]KESZI 2016.12.12.'!$G$109 -> 8903520 | E42: 8903520 | F42: =E42-D42 -> 0
A43: Hajléktalanok átmeneti ellátása | B43: =[1]KESZI!$D$89 -> 20607400 | C43: ='[2]KESZI 2016.12.12.'!$G$110 -> 19577030 | D43: ='[2]KESZI 2016.12.12.'!$G$110 -> 19577030 | E43: 21122585 | F43: =E43-D43 -> 1545555
A44: Bértámogatás szociális szféra | B44: =[1]KESZI!$D$90 -> 82898132 | C44: ='[2]KESZI 2016.12.12.'!$G$111 -> 82888885 | D44: ='[2]KESZI 2016.12.12.'!$G$111 -> 82888885 | E44: 82888885 | F44: =E44-D44 -> 0
A45: intézmény üzemeltetési támogatás | B45: =[1]KESZI!$D$91 -> 19795000 | C45: ='[2]KESZI 2016.12.12.'!$G$112 -> 33582000 | D45: ='[2]KESZI 2016.12.12.'!$G$112 -> 33582000 | E45: 40170688 | F45: =E45-D45 -> 6588688 | H45: =SUM(E38:E45) -> 250732886
A46: Gesztor önkormányzat támogatása | B46: =[1]KESZI!$D$105 -> 93047238 | C46: =[2]Társulás!$E$55 -> 78493074 | D46: =C46-529197 -> 77963877 | E46: 77963877 | F46: =E46-D46 -> 0
A47: Szociális foglalkoztatás támogatása (gesztor önk. Keresztül) | B47: 13005120 | C47: ='[2]KESZI 2016.12.12.'!$G$113 -> 17450784 | D47: ='[2]KESZI 2016.12.12.'!$G$113 -> 17450784 | E47: 17450784 | F47: =E47-D47 -> 0
A48: Összevont ágazati pótlék | B48: 0 | C48: ='[2]KESZI 2016.12.12.'!$G$118 -> 42317678 | D48: =C48+2477778+545114+2477778+545114 -> 48363462 | E48: 51167621 | F48: =E48-D48 -> 2804159
A49: Beszedett tagdíjakból | B49: 8608467 | C49: =388995032-378646831 -> 10348201 | D49: =388995032-378646831 -> 10348201 | E49: 10348201 | F49: =E49-D49 -> 0
A50: Bérkompenzáció | D50: 3424864 | E50: 4761862 | F50: =E50-D50 -> 1336998
A51: Jubileumi jutalom | D51: 1080310 | E51: 2062410 | F51: =E51-D51 -> 982100
A52: Felmentési bér | D52: 857366 | E52: 1819497 | F52: =E52-D52 -> 962131 | H52: =SUM(E48:E50) -> 66277684
B53: =SUM(B38:B52) -> 338722697 | C53: =SUM(C38:C52) -> 388995032 | D53: =SUM(D38:D52) -> 399874159 | E53: =SUM(E38:E52) -> 416307138 | F53: =SUM(F38:F52) -> 16432979
A55: Mosonmagyaróvár, 2017. december 01.

Sheet 2C
B1: 2./C SZÁMÚ MELLÉKLET
A3: MOSONMAGYARÓVÁR TÉRSÉGI TÁRSULÁS
A4: 2017. ÉVI KÖLTSÉGVETÉSI HATÁROZAT MÓDOSÍTÁSA
A5: PÉNZFORGALMI MÉRLEG
A6: adatok ezer Ft-ban
B8: kötelező feladat | C8: kötelező feladat | D8: kötelező feladat
A9: Család- és Gyermekjóléti Központ
A10: Megnevezés | B10: eredeti | C10: módosított | D10: módosított
B11: előirányzat 2017. | C11: előirányzat 2017.07.31 | D11: előirányzat 2017.10.31
A12: Személyi juttatások | B12: 141381508 | C12: 148977160 | D12: 151927109 | E12: =D12-C12 -> 2949949
A13: Munkaadót terhelő járulékok | B13: 32227057 | C13: 33913672 | D13: 34716664 | E13: =D13-C13 -> 802992
A14: Dologi és egyéb folyó kiadások | B14: 26640000 | C14: 26010000 | D14: 29274397 | E14: =D14-C14 -> 3264397
A15: Ellátottak pénzbeli juttatásai | B15: 420000 | C15: 420000 | D15: 420000 | E15: =D15-C15 -> 0
A16: Elvonások és befizetések | B16: 0 | C16: 0 | D16: 0 | E16: =D16-C16 -> 0
A17: Felhalmozási kiadások | B17: 0 | C17: 1896698 | D17: 3897010 | E17: =D17-C17 -> 2000312
A18: Pénzforgalmi kiadások | B18: =SUM(B12:B17) -> 200668565 | C18: =SUM(C12:C17) -> 211217530 | D18: =SUM(D12:D17) -> 220235180 | E18: =D18-C18 -> 9017650
A19: Kiadások összesen: | B19: =B18 -> 200668565 | C19: =C18 -> 211217530 | D19: =D18 -> 220235180 | E19: =D19-C19 -> 9017650
A21: Intézményi működési bevételek | B21: 2300000 | C21: 2300000 | D21: 2385057 | E21: =D21-C21 -> 85057
A22: Felhalmozási és tőke jellegű bevételek | B22: 0 | C22: 0 | D22: 0 | E22: =D22-C22 -> 0
A23: ebből: sajátos felhalm. és tőkef. | B23: 0 | C23: 0 | D23: 0 | E23: =D23-C23 -> 0
A24: Támogatások, kiegészítések és átvett pénzeszközök | B24: 700000 | C24: 700000 | D24: 1954300 | E24: =D24-C24 -> 1254300
A25: ebből: önkorm. költségvetési tám. | B25: 0 | C25: 0 | D25: 0 | E25: =D25-C25 -> 0
A26: Felügyeleti szervtől átvett támogatás | B26: 194668565 | C26: 204308624 | D26: 211986917 | E26: =D26-C26 -> 7678293
A27: Hitelek, kölcsönök bevételei | B27: 0 | C27: 0 | D27: 0 | E27: =D27-C27 -> 0
A28: Pénzforgalmi bevételek összesen | B28: =SUM(B27,B26,B24,B21) -> 197668565 | C28: =SUM(C27,C26,C24,C21) -> 207308624 | D28: =SUM(D27,D26,D24,D21) -> 216326274 | E28: =D28-C28 -> 9017650
A29: Maradvány felhasználás | B29: 3000000 | C29: 3908906 | D29: 3908906 | E29: =D29-C29 -> 0
A30: Bevételek összesen: | B30: =SUM(B28+B29) -> 200668565 | C30: =SUM(C28+C29) -> 211217530 | D30: =SUM(D28+D29) -> 220235180 | E30: =D30-C30 -> 9017650
A32: Irányító szervi támogatás részletezése 2017. év eredeti és a módosítások | B32: adatok Ft-ban
B33: 2017. év eredeti | C33: 2017.07.31. módosított | D33: 2017.10.31 módosított | E33: Változás
A34: Szociális és gyermekjóléti alapszolg., állami támogatás | B34: 79200000 | C34: 79200000 | D34: 81806040 | E34: =D34-C34 -> 2606040
A35: Gyermekek átmeneti int. Ellátása, állami támogatás
A36: GYÁÓ bértámogatás és intézményüzemeltetési támogatás | B36: ='[2]CSGYK 2016.11.23'!$F$86 -> 5716475 | C36: 5716475 | D36: 6335787 | E36: =D36-C36 -> 619312
A37: Gesztor önkormányzat támogatása | B37: ='[2]CSGYK 2016.11.23'!$F$106 -> 78217295 | C37: =B37-908906 -> 77308389 | D37: 77308389 | E37: =D37-C37 -> 0
A38: Térségi Társulástól érkező támogatás (tagdíj) | B38: ='[2]CSGYK 2016.11.23'!$F$105 -> 7732500 | C38: 7732500 | D38: 7732500 | E38: =D38-C38 -> 0
A39: Összevont ágazati pótlék | B39: ='[2]CSGYK 2016.11.23'!$F$104 -> 23802295 | C39: =B39+2453580+539791+2453580+539791 -> 29789037 | D39: 32702519 | E39: =D39-C39 -> 2913482
A40: Bérkompenzáció | C40: 2681143 | D40: 3737053 | E40: =D40-C40 -> 1055910
A41: Jubileumi jutalom | C41: 392840 | D41: 392840 | E41: =D41-C41 -> 0
A42: Felmentési bér | C42: 221542 | D42: 705091 | E42: =D42-C42 -> 483549
A43: Felújítási Alap terhére kapott előirányzat | C43: 1266698 | D43: 1266698 | E43: =D43-C43 -> 0
A44: Összesen | B44: =SUM(B34:B39) -> 194668565 | C44: =SUM(C34:C43) -> 204308624 | D44: =SUM(D34:D43) -> 211986917 | E44: =SUM(E36:E43) -> 5072253
A46: Mosonmagyaróvár, 2017. december 01.

Sheet 2D
B1: 2./D SZÁMÚ MELLÉKLET
A3: MOSONMAGYARÓVÁR TÉRSÉGI TÁRSULÁS
A4: 2017. ÉVI KÖLTSÉGVETÉSI HATÁROZATÁHOZ
A5: PÉNZFORGALMI MÉRLEG
A6: adatok ezer Ft-ban
C7: Ft-ban
B8: önként vállalt feladat | C8: önként vállalt feladat | D8: önként vállalt feladat
A9: Mosonmagyaróvár Térségi Társulás
A10: Megnevezés | B10: eredeti | C10: módosított | D10: módosított
B11: előirányzat 2017. | C11: előirányzat 2017.07.31 | D11: előirányzat 2017.10.31
A12: Személyi juttatások | B12: 500000 | C12: 500000 | D12: 500000 | E12: =D12-C12 -> 0
A13: Munkaadót terhelő járulékok | B13: 249000 | C13: 249000 | D13: 352712 | E13: =D13-C13 -> 103712
A14: Dologi és egyéb folyó kiadások | B14: 11812368 | C14: 11812368 | D14: 17164002 | E14: =D14-C14 -> 5351634
A15: Pénzeszköz átadás, támogatás | B15: 6340000 | C15: 6340000 | D15: 6340000 | E15: =D15-C15 -> 0
A16: Felhalmozási célú pénzeszköz átadás | B16: 0 | C16: 0 | D16: 0 | E16: =D16-C16 -> 0
A17: Felügyelet alá tartozó költségvetési szerv. Támogat. | B17: 583663597 | C17: 604182783 | D17: 628294055 | E17: =D17-C17 -> 24111272
A18: Felhalmozási kiadások | B18: 235000000 | C18: 235000000 | D18: 234896288 | E18: =D18-C18 -> -103712
A19: Hitelek és kölcsönök kiadásai | B19: 0 | C19: 0 | D19: 0 | E19: =D19-C19 -> 0
A20: Pénzforgalmi kiadások | B20: =SUM(B12:B19) -> 837564965 | C20: =SUM(C12:C19) -> 858084151 | D20: =SUM(D12:D19) -> 887547057 | E20: =D20-C20 -> 29462906
A21: Államháztartási tartalék | B21: 21770799 | C21: 20306848 | D21: 17879068 | E21: =D21-C21 -> -2427780
A22: Kiadások összesen: | B22: =SUM(B20+B21) -> 859335764 | C22: =SUM(C20+C21) -> 878390999 | D22: =SUM(D20+D21) -> 905426125 | E22: =D22-C22 -> 27035126
A24: Intézményi működési bevételek | B24: 10090368 | C24: 10090368 | D24: 15442002 | E24: =D24-C24 -> 5351634
A25: Költségvetési visszatérülések | B25: 0 | C25: 0 | D25: 0 | E25: =D25-C25 -> 0
A26: Felhalmozási és tőke jellegű bevételek | B26: 235000000 | C26: 235000000 | D26: 235000000 | E26: =D26-C26 -> 0
A27: ebből: sajátos felhalm. és tőkef. | B27: 0 | C27: 0 | D27: 0 | E27: =D27-C27 -> 0
A28: Támogatások, kiegészítések és átvett pénzeszközök | B28: 604245396 | C28: 622383929 | D28: 644067421 | E28: =D28-C28 -> 21683492
A29: ebből: önkorm. költségvetési tám. | B29: ='2B'!C38+'2B'!C39+'2B'!C40+'2B'!C41+'2B'!C42+'2B'!C43+'2B'!C44+'2B'!C45+'2C'!B34+'2C'!B36 -> 325301770 | C29: ='2B'!D38+'2B'!D39+'2B'!D40+'2B'!D41+'2B'!D42+'2B'!D43+'2B'!D44+'2B'!D45+'2C'!C34+'2C'!C36 -> 325301770 | D29: ='2B'!F38+'2B'!F39+'2B'!F40+'2B'!F41+'2B'!F42+'2B'!F43+'2B'!F44+'2B'!F45+'2C'!E34+'2C'!E36 -> 13572943 | E29: =D29-C29 -> -311728827
A30: Felügyeleti szervtől átvett támogatás | B30: 0 | C30: 0 | D30: 0 | E30: =D30-C30 -> 0
A31: Hitelek, kölcsönök bevételei | B31: 0 | C31: 0 | D31: 0 | E31: =D31-C31 -> 0
A32: Pénzforgalmi bevételek összesen | B32: =SUM(B24+B25+B26+B28+B30+B31) -> 849335764 | C32: =SUM(C24+C25+C26+C28+C30+C31) -> 867474297 | D32: =SUM(D24+D25+D26+D28+D30+D31) -> 894509423 | E32: =D32-C32 -> 27035126
A33: Maradvány felhasználás | B33: 10000000 | C33: 10916702 | D33: 10916702 | E33: =D33-C33 -> 0
A34: Bevételek összesen: | B34: =B32+B33 -> 859335764 | C34: =C32+C33 -> 878390999 | D34: =D32+D33 -> 905426125 | E34: =D34-C34 -> 27035126
A36: Mosonmagyaróvár, 2017. december 01.

Sheet egyensúly
G1: 3. SZÁMÚ MELLÉKLET
A2: MOSONMAGYARÓVÁR TÉRSÉGI TÁRSULÁS
A3: 2017. ÉVI KÖLTSÉGVETÉSI HATÁROZATÁHOZ
A5: Kiadások és Bevételek működési egyensúlya
A6: 2017. év
A7: adatok Ft-ban
A8: Működési kiadások Ft eredeti
A10: Intézmény megnevezése | B10: Személyi juttatások | C10: Járulékok | D10: Dologi kiadások | E10: Ellátottak juttatása | F10: Tartalékképzés | G10: Átadott pénzeszközök működési | H10: Összesen
A11: Kistérségi Egyesített Szociális Intézmény | B11: ='2B'!C12 -> 406705000 | C11: ='2B'!C13 -> 98000400 | D11: ='2B'!C14 -> 193270000 | E11: ='2B'!C15 -> 850000 | F11: 0 | G11: 0 | H11: =SUM(B11:G11) -> 698825400
A12: Család és Gyermekjóléti Központ | B12: ='2C'!B12 -> 141381508 | C12: ='2C'!B13 -> 32227057 | D12: ='2C'!B14 -> 26640000 | E12: ='2C'!B15 -> 420000 | F12: 0 | G12: 0 | H12: =SUM(B12:G12) -> 200668565
A13: Mosonmagyaróvár Térségi Társulás | B13: ='2D'!B12 -> 500000 | C13: ='2D'!B13 -> 249000 | D13: ='2D'!B14 -> 11812368 | E13: 0 | F13: ='2D'!B21 -> 21770799 | G13: ='2D'!B15 -> 6340000 | H13: =SUM(B13:G13) -> 40672167
A14: Mindösszesen: | B14: =SUM(B11:B13) -> 548586508 | C14: =SUM(C11:C13) -> 130476457 | D14: =SUM(D11:D13) -> 231722368 | E14: =SUM(E11:E13) -> 1270000 | F14: =SUM(F11:F13) -> 21770799 | G14: =SUM(G11:G13) -> 6340000 | H14: =SUM(H11:H13) -> 940166132
A16: Működési kiadások Ft módosított
A17: Intézmény megnevezése | B17: Személyi juttatások | C17: Járulékok | D17: Dologi kiadások | E17: Ellátottak juttatása | F17: Tartalékképzés | G17: Átadott pénzeszközök működési | H17: Összesen
A18: Kistérségi Egyesített Szociális Intézmény | B18: 410525035 | C18: 98174077 | D18: 211512634 | E18: ='2B'!D15 -> 850000 | F18: ='2B'!G12 -> 0 | G18: ='2B'!H12 -> 0 | H18: =SUM(B18:G18) -> 721061746
A19: Család és Gyermekjóléti Központ | B19: 151927109 | C19: 34716664 | D19: 29274397 | E19: ='2C'!C15 -> 420000 | F19: 0 | G19: 0 | H19: =SUM(B19:G19) -> 216338170
A20: Mosonmagyaróvár Térségi Társulás | B20: ='2D'!C12 -> 500000 | C20: 352712 | D20: 17164002 | E20: 0 | F20: 17879068 | G20: ='2D'!C15 -> 6340000 | H20: =SUM(B20:G20) -> 42235782
A21: Mindösszesen: | B21: =SUM(B18:B20) -> 562952144 | C21: =SUM(C18:C20) -> 133243453 | D21: =SUM(D18:D20) -> 257951033 | E21: =SUM(E18:E20) -> 1270000 | F21: =SUM(F18:F20) -> 17879068 | G21: =SUM(G18:G20) -> 6340000 | H21: =SUM(H18:H20) -> 979635698
A23: Működési bevételek Ft eredeti
A25: Intézmény megnevezése | B25: Intézmény saját bevételei | C25: Állami támogatás | D25: MÖK támogatás | E25: Egyéb támogatás értékű műk. bevétel | F25: Feladatfinanszírozás | G25: Maradvány felhasználás | H25: Összesen
A26: Kistérségi Egyesített Szociális Intézmény | B26: ='2B'!C23 -> 273830368 | C26: 240385295 | D26: 78493074 | E26: 52665879 | F26: 17450784 | G26: 36000000 | H26: =SUM(B26:G26) -> 698825400
A27: Család és Gyermekjóléti Központ | B27: ='2C'!B21+'2C'!B24 -> 3000000 | C27: 84916475 | D27: 78217295 | E27: 31534795 | F27: 0 | G27: 3000000 | H27: =SUM(B27:G27) -> 200668565
A28: Mosonmagyaróvár Térségi Társulás | B28: ='2D'!B24 -> 10090368 | C28: 0 | D28: 0 | E28: 20581799 | F28: 0 | G28: 10000000 | H28: =SUM(B28:G28) -> 40672167
A29: Mindösszesen: | B29: =SUM(B26:B28) -> 286920736 | C29: =SUM(C26:C28) -> 325301770 | D29: =SUM(D26:D28) -> 156710369 | E29: =SUM(E26:E28) -> 104782473 | F29: =SUM(F26:F28) -> 17450784 | G29: =SUM(G26:G28) -> 49000000 | H29: =SUM(H26:H28) -> 940166132
A31: Működési bevételek Ft módosított
A32: Intézmény megnevezése | B32: Intézmény saját bevételei | C32: Állami támogatás | D32: MÖK támogatás | E32: Egyéb támogatás értékű műk. bevétel | F32: Feladatfinanszírozás | G32: Maradvány felhasználás | H32: Összesen
A33: Kistérségi Egyesített Szociális Intézmény | B33: 279600368 | C33: 250732886 | D33: =78493074-529197 -> 77963877 | E33: 66277684 | F33: 17450784 | G33: 29036147 | H33: =SUM(B33:G33) -> 721061746
A34: Család és Gyermekjóléti Központ | B34: 4254300 | C34: 88141827 | D34: =78217295-908906 -> 77308389 | E34: 44172072 | F34: 0 | G34: 2461582 | H34: =SUM(B34:G34) -> 216338170
A35: Mosonmagyaróvár Térségi Társulás | B35: 15442002 | C35: 0 | D35: 0 | E35: =20581799-2380653-2324068 -> 15877078 | F35: 0 | G35: ='2D'!C33 -> 10916702 | H35: =SUM(B35:G35) -> 42235782
A36: Mindösszesen: | B36: =SUM(B33:B35) -> 299296670 | C36: =SUM(C33:C35) -> 338874713 | D36: =SUM(D33:D35) -> 155272266 | E36: =SUM(E33:E35) -> 126326834 | F36: =SUM(F33:F35) -> 17450784 | G36: =SUM(G33:G35) -> 42414431 | H36: =SUM(H33:H35) -> 979635698
A38: Felhalmozási kiadások Ft | E38: Felhalmozási bevételek Ft
A39: Intézmény megnevezése | B39: Felhalmozási kiadások eredeti | C39: Felhalmozási kiadások módosított | E39: Intézmény megnevezése | F39: Felhalmozási bevétel eredeti | G39: Felhalmozási bevétel módosított
A40: Kistérségi Egyesített Szociális Intézmény | B40: 0 | C40: 13654185 | E40: Kistérségi Egyesített Szociális Intézmény 1.720.000 Ft a dologi kiadásokból átcsoportosítva, 10.029.185 Ft személyi és járulék kiadásokról átcsoportosítva a többletbevétel felhasználásával, 1.905.000 Ft a normatíva felmérésből | F40: 0 | G40: 13654185
A41: Család és Gyermekjóléti Központ | B41: 0 | C41: 3897010 | E41: Család és Gyermekjóléti Központ felújítási alapból 1.266.698 Ft, 681.000 Ft többletbevételből, 700.000 Ft személyi és járulékról átcsoportosítás, 630.000 Ft a dologiból átcsoportosítva, 619.312 Ft a normatíva felmérés eredményéből | F41: 0 | G41: 3897010
A42: Mosonmagyaróvár Térségi Társulás | B42: 235000000 | C42: ='2D'!C18 -> 235000000 | E42: Mosonmagyaróvár Térségi Társulás TOP pályázati bevételből 235.000.000 Ft | F42: 235000000 | G42: 235000000
A43: Mindösszesen: | B43: =SUM(B40:B42) -> 235000000 | C43: =SUM(C40:C42) -> 252551195 | E43: Mindösszesen: | F43: =SUM(F40:F42) -> 235000000 | G43: =SUM(G40:G42) -> 252551195
A48: Mosonmagyaróvár, 2017. december 01.

Sheet 1 sz. melléklet
B1: 4. sz. melléklet
A3: Mosonmagyaróvár Térségi Társulás
A4: és felügyelete alá tartozó költségvetési szerv
A5: 2017. évi költségvetéséről szóló határozat módosításához
A7: Költségvetési engedélyzett létszámhely
B9: adatok: fő-ben
A10: Megnevezés | B10: 2016. január 1. | C10: 2017. január 1. | D10: 2017. július 31. | E10: 2017. október 31. | F10: Közfoglalkoztatottak átlagos létszáma
A11: (intézmény, szakfeladat, stb.) | B11: engedélyezett | C11: engedélyezett | D11: engedélyezett | E11: engedélyezett
B12: létszámhely | C12: létszámhely | D12: létszámhely | E12: létszámhely
A13: Család és Gyermekjóléti Központ | B13: =SUM(B14:B16) -> 43 | C13: =SUM(C14:C16) -> 46 | D13: =SUM(D14:D16) -> 46 | E13: =SUM(E14:E16) -> 46 | F13: 0
A14: GyÁÓ | B14: 8 | C14: 8 | D14: 8 | E14: 8 | F14: 0
A15: Család- és Gyermekjóléti Szolgálat | B15: 16 | C15: 21 | D15: 21 | E15: 21 | F15: 0
A16: Család- és Gyermekjóléti Központ Hatósági és Speciális Munkacsoporot | B16: 19 | C16: 17 | D16: 17 | E16: 17 | F16: 0
A17: Kistérségi Egyesített Szociális Intézet | B17: =SUM(B18:B27) -> 141 | C17: =SUM(C18:C27) -> 146 | D17: =SUM(D18:D27) -> 146 | E17: =SUM(E18:E27) -> 146 | F17: =SUM(F18:F27) -> 0
A18: Aranykor, kp.-i irányítás | B18: 43 | C18: 47 | D18: 47 | E18: 47 | F18: 0
A19: Gondozóház, főzőkonyha | B19: 28 | C19: 29 | D19: 29 | E19: 29 | F19: 0
A20: Hajléktalanok Átmeneti Szállása | B20: 6 | C20: 7 | D20: 7 | E20: 7 | F20: 0
A21: Idősek klubja | B21: 16 | C21: 15 | D21: 15 | E21: 15 | F21: 0
A22: FÉNI | B22: 7 | C22: 6 | D22: 6 | E22: 6 | F22: 0
A23: Nappali melegedő | B23: 2 | C23: 2 | D23: 2 | E23: 2 | F23: 0
A24: Szociális étkezés | B24: 4 | C24: 1 | D24: 1 | E24: 1 | F24: 0
A25: Házi segítségnyújtás | B25: 30 | C25: 34 | D25: 34 | E25: 34 | F25: 0
A26: Jelzőrendszer | B26: 1 | C26: 1 | D26: 1 | E26: 1 | F26: 0
A27: Szoc. foglalkoztatás | B27: 4 | C27: 4 | D27: 4 | E27: 4 | F27: 0
A28: Mosonmagyaróvár Térségi Társulás | B28: 0 | C28: 0 | D28: 0 | E28: 0 | F28: 0
A29: Összesen: | B29: =SUM(B13+B17+B28) -> 184 | C29: =SUM(C13+C17+C28) -> 192 | D29: =SUM(D13+D17+D28) -> 192 | E29: =SUM(E13+E17+E28) -> 192 | F29: =SUM(F13+F17+F28) -> 0
A32: Mosonmagyaróvár, 2017. december 01.
