Workbook

Sheet Címrend
B1: 1. SZÁMÚ MELLÉKLET
A5: MOSONMAGYARÓVÁR TÉRSÉGI TÁRSULÁS
A6: 2016. ÉVI KÖLTSÉGVETÉSI HATÁROZAT MÓDOSÍTÁSÁHOZ
A11: A Mosonmagyaróvár Térségi Társulás és irányítása alá tartozó költségvetési szervek
A12: 2016. évi költségvetéséről szóló 2/2016. (II.15.) TT. határozatot
A13: végrehajtásáról szóló …/2017. (IV.25.) TT. határozat
A15: CÍMRENDJÉT
A16: az alábbiak szerint állapítja meg:
A21: Címszám | B21: Megnevezés
A22: 1. | B22: Mosonmagyaróvár Térségi Társulás
A23: 2. | B23: Kistérségi Egyesített Szociális Intézmény
A24: 3. | B24: Család- és Gyermekjóléti Központ

Sheet összevont mérleg
B1: 2./A SZÁMÚ MELLÉKLET
A3: MOSONMAGYARÓVÁR TÉRSÉGI TÁRSULÁS
A4: 2016. ÉVI KÖLTSÉGVETÉSI VÉGREHAJTÁSÁRÓL SZÓLÓ HATÁROZATÁHOZ
A5: KÖLTSÉGVETÉSI MÉRLEG
A6: adatok Ft-ban
A8: Mosonmagyaróvár Térségi Társulás | C8: összesen | D8: kötelező | E8: önként | F8: összesen | G8: kötelező | H8: önként | I8: összesen | J8: kötelező | K8: önként
A9: Megnevezés | B9: eredeti | C9: eredeti | D9: eredeti | E9: eredeti | F9: módosított | G9: módosított | H9: módosított | I9: teljesítés | J9: teljesítés | K9: teljesítés | L9: Rovatrend
B10: előirányzat 2014. | C10: előirányzat 2016. | D10: előirányzat 2016. | E10: előirányzat 2016. | F10: előirányzat 2016.12.31 | G10: előirányzat 2016.12.31 | H10: előirányzat 2016.12.31 | I10: 42735 | J10: 42735 | K10: 42735 | L10: 2016. év
A11: Személyi juttatások | B11: ='KESZI mérleg'!B12+'CSGYK mérleg'!B12+'Társulás mérleg'!B12 -> 101706130 | C11: ='KESZI mérleg'!C12+'CSGYK mérleg'!B12+'Társulás mérleg'!B12 -> 418968813 | D11: =SUM(C11-E11) -> 418468813 | E11: ='Társulás mérleg'!B12 -> 500000 | F11: ='KESZI mérleg'!D12+'CSGYK mérleg'!C12+'Társulás mérleg'!C12 -> 477768789 | G11: =F11-H11 -> 477268789 | H11: ='Társulás mérleg'!C12 -> 500000 | I11: ='KESZI mérleg'!E12+'CSGYK mérleg'!D12+'Társulás mérleg'!D12 -> 446849798 | J11: =I11-K11 -> 446569869 | K11: ='Társulás mérleg'!D12 -> 279929 | L11: K1
A12: Munkaadót terhelő járulékok | B12: ='KESZI mérleg'!B13+'CSGYK mérleg'!B13+'Társulás mérleg'!B13 -> 27287967 | C12: ='KESZI mérleg'!C13+'CSGYK mérleg'!B13+'Társulás mérleg'!B13 -> 113513000 | D12: =SUM(C12-E12) -> 113257000 | E12: ='Társulás mérleg'!B13 -> 256000 | F12: ='KESZI mérleg'!D13+'CSGYK mérleg'!C13+'Társulás mérleg'!C13 -> 123494971 | G12: =F12-H12 -> 123238971 | H12: ='Társulás mérleg'!C13 -> 256000 | I12: ='KESZI mérleg'!E13+'CSGYK mérleg'!D13+'Társulás mérleg'!D13 -> 119844891 | J12: =I12-K12 -> 119714710 | K12: ='Társulás mérleg'!D13 -> 130181 | L12: K2
A13: Dologi és egyéb folyó kiadások | B13: ='KESZI mérleg'!B14+'CSGYK mérleg'!B14+'Társulás mérleg'!B14 -> 38160046 | C13: ='KESZI mérleg'!C14+'CSGYK mérleg'!B14+'Társulás mérleg'!B14 -> 228860000 | D13: =SUM(C13-E13) -> 227141000 | E13: ='Társulás mérleg'!B14-10091000 -> 1719000 | F13: ='KESZI mérleg'!D14+'CSGYK mérleg'!C14+'Társulás mérleg'!C14 -> 236152177 | G13: =F13-H13 -> 221613897 | H13: ='Társulás mérleg'!C14 -> 14538280 | I13: ='KESZI mérleg'!E14+'CSGYK mérleg'!D14+'Társulás mérleg'!D14 -> 218997729 | J13: =I13-K13 -> 205837585 | K13: ='Társulás mérleg'!D14 -> 13160144 | L13: K3
A14: Ellátottak pénzbeli juttatásai | C14: ='KESZI mérleg'!C15+'CSGYK mérleg'!B15 -> 1270000 | D14: 1270000 | E14: 0 | F14: ='KESZI mérleg'!D15+'CSGYK mérleg'!C15 -> 1270000 | G14: =F14-H14 -> 1270000 | H14: 0 | I14: ='KESZI mérleg'!E15+'CSGYK mérleg'!D15 -> 1004465 | J14: =I14-K14 -> 1004465 | K14: 0 | L14: K4
A15: Pénzeszköz átadás, támogatás | B15: ='KESZI mérleg'!B15+'CSGYK mérleg'!B15+'Társulás mérleg'!B15 -> 6760570 | C15: ='Társulás mérleg'!B15 -> 6340000 | D15: =SUM(C15-E15) -> 0 | E15: ='Társulás mérleg'!B15 -> 6340000 | F15: ='Társulás mérleg'!C15 -> 6340000 | G15: 0 | H15: 6340000 | I15: ='Társulás mérleg'!D15 -> 6290000 | J15: =I15-K15 -> 0 | K15: ='Társulás mérleg'!D15 -> 6290000 | L15: K5
A16: Elvonások és befizetések | C16: 0 | F16: 0 | G16: =F16-H16 -> 0 | H16: 0 | I16: 0 | J16: =I16-K16 -> 0 | K16: 0 | L16: K502
A17: Felhalmozási célú pénzeszköz átadás | C17: 0 | D17: 0 | E17: 0 | F17: 0 | G17: =F17-H17 -> 0 | H17: 0 | I17: 0 | J17: =I17-K17 -> 0 | K17: 0
A18: Felhalmozási kiadások | B18: 0 | C18: ='KESZI mérleg'!C17+'CSGYK mérleg'!B17+'Társulás mérleg'!B18 -> 151800000 | D18: =SUM(C18-E18) -> 1800000 | E18: 150000000 | F18: ='KESZI mérleg'!D17+'CSGYK mérleg'!C17+'Társulás mérleg'!C18 -> 191334828 | G18: =F18-H18 -> 41334828 | H18: ='Társulás mérleg'!C18-1800000 -> 150000000 | I18: ='KESZI mérleg'!E17+'CSGYK mérleg'!D17+'Társulás mérleg'!D18 -> 35869471 | J18: =I18-K18 -> 35869471 | K18: 0 | L18: K61-67, K71-74
A19: Hitelek és kölcsönök kiadásai | B19: 0 | C19: 0 | D19: =SUM(C19-E19) -> 0 | E19: 0 | F19: 0 | G19: =F19-H19 -> 0 | H19: 0 | I19: 0 | J19: =I19-K19 -> 0 | K19: 0 | L19: K9111
A20: Pénzforgalmi kiadások | B20: =SUM(B11:B19) -> 173914713 | C20: =SUM(C11:C19) -> 920751813 | D20: =SUM(C20-E20) -> 761936813 | E20: =SUM(E11:E19) -> 158815000 | F20: =SUM(F11:F19) -> 1036360765 | G20: =SUM(G11:G19) -> 864726485 | H20: =SUM(H11:H19) -> 171634280 | I20: =SUM(I11:I19) -> 828856354 | J20: =I20-K20 -> 808996100 | K20: =SUM(K11:K19) -> 19860254
A21: Államháztartási tartalék | B21: ='Társulás mérleg'!B21 -> 26447958 | C21: ='Társulás mérleg'!B21 -> 26447958 | D21: =SUM(C21-E21) -> 25400958 | E21: 1047000 | F21: ='Társulás mérleg'!C21 -> 1698159 | G21: 0 | H21: ='Társulás mérleg'!C21 -> 1698159 | I21: ='Társulás mérleg'!D21 -> 0 | J21: =I21-K21 -> 0 | K21: 0 | L21: K513
A22: Kiadások összesen: | B22: =B20+B21 -> 200362671 | C22: =C20+C21 -> 947199771 | D22: =SUM(C22-E22) -> 787337771 | E22: =SUM(E20+E21) -> 159862000 | F22: =SUM(F20:F21) -> 1038058924 | G22: =SUM(G20:G21) -> 864726485 | H22: =SUM(H20:H21) -> 173332439 | I22: =SUM(I20:I21) -> 828856354 | J22: =I22-K22 -> 808996100 | K22: =SUM(K20:K21) -> 19860254
A24: Intézményi működési bevételek | B24: ='KESZI mérleg'!B23+'CSGYK mérleg'!B21+'Társulás mérleg'!B24 -> 13192101 | C24: ='KESZI mérleg'!C23+'CSGYK mérleg'!B21+'Társulás mérleg'!B24 -> 233922000 | D24: =C24-E24 -> 233922000 | E24: 0 | F24: ='KESZI mérleg'!D23+'CSGYK mérleg'!C21+'Társulás mérleg'!C24 -> 249267746 | G24: =F24-H24 -> 249267746 | H24: 0 | I24: ='KESZI mérleg'!E23+'CSGYK mérleg'!D21+'Társulás mérleg'!D24 -> 249247971 | J24: =I24-K24 -> 249247971 | K24: 0 | L24: B4
A25: Költségvetési visszatérülések | B25: 0 | C25: ='KESZI mérleg'!C24+'CSGYK mérleg'!B22+'Társulás mérleg'!B25 -> 0 | D25: =C25-E25 -> 0 | E25: 0 | F25: 0 | G25: 0 | H25: 0 | I25: 0 | J25: =I25-K25 -> 0 | K25: 0
A26: Felhalmozási és tőke jellegű bevételek | B26: 0 | C26: ='KESZI mérleg'!C25+'CSGYK mérleg'!B23+'Társulás mérleg'!B26 -> 150000000 | D26: =C26-E26 -> 0 | E26: ='Társulás mérleg'!C26 -> 150000000 | F26: ='Társulás mérleg'!C26 -> 150000000 | G26: =F26-H26 -> 0 | H26: 150000000 | I26: ='KESZI mérleg'!E24+'CSGYK mérleg'!D22+'Társulás mérleg'!D26 -> 0 | J26: =I26-K26 -> 0 | K26: 0 | L26: B21, B25, B52, B72, B73
A27: ebből: sajátos felhalm. és tőkef. | B27: 0 | C27: 0 | D27: =C27-E27 -> 0 | E27: 0 | F27: 0 | G27: =F27-H27 -> 0 | H27: 0 | I27: 0 | J27: =I27-K27 -> 0 | K27: 0
A28: Támogatások, kiegészítések és átvett pénzeszközök | B28: ='KESZI mérleg'!B26+'CSGYK mérleg'!B24+'Társulás mérleg'!B28 -> 506441841 | C28: ='KESZI mérleg'!C26+'CSGYK mérleg'!B24+'Társulás mérleg'!B28 -> 523403693 | D28: =C28-E28 -> 513541693 | E28: 9862000 | F28: ='KESZI mérleg'!D26+'CSGYK mérleg'!C24+'Társulás mérleg'!C28 -> 577716376 | G28: =F28-H28 -> 577716376 | H28: 0 | I28: ='KESZI mérleg'!E26+'CSGYK mérleg'!D24+'Társulás mérleg'!D28 -> 569888386 | J28: =I28-K28 -> 569888386 | K28: 0 | L28: B816
A29: ebből: önkorm. költségvetési tám. | B29: ='Társulás mérleg'!B29 -> 318200426 | C29: ='KESZI mérleg'!C27+'CSGYK mérleg'!B25+'Társulás mérleg'!B29 -> 318210517 | D29: 363962 | E29: 0 | F29: ='KESZI mérleg'!D27+'CSGYK mérleg'!C25+'Társulás mérleg'!C29 -> 389152509 | G29: =F29-H29 -> 389152509 | H29: 0 | I29: ='KESZI mérleg'!E27+'CSGYK mérleg'!D25+'Társulás mérleg'!D29 -> 389152509 | J29: =I29-K29 -> 389152509 | K29: 0
A30: Hitelek, kölcsönök bevételei | B30: 0 | C30: ='KESZI mérleg'!C29+'CSGYK mérleg'!B27+'Társulás mérleg'!B30 -> 0 | D30: =C30-E30 -> 0 | E30: 0 | F30: 0 | G30: =F30-H30 -> 0 | H30: 0 | I30: 0 | J30: =I30-K30 -> 0 | K30: 0 | L30: B8111
A31: Pénzforgalmi bevételek összesen | B31: =B28+B24 -> 519633942 | C31: =C28+C24+C26 -> 907325693 | D31: =D28+D24+D26 -> 747463693 | E31: =E28+E24+E26 -> 159862000 | F31: =F24+F26+F28 -> 976984122 | G31: =G24+G26+G28 -> 826984122 | H31: =H24+H26+H28 -> 150000000 | I31: =I24+I26+I28 -> 819136357 | J31: =I31-K31 -> 819136357 | K31: =K24+K26+K28 -> 0
A32: Maradvány felhasználás | B32: 0 | C32: ='KESZI mérleg'!C31+'CSGYK mérleg'!B29+'Társulás mérleg'!B33 -> 39874078 | D32: 0 | F32: ='KESZI mérleg'!D31+'CSGYK mérleg'!C29+'Társulás mérleg'!C33 -> 61074802 | G32: =F32-H32 -> 37742363 | H32: ='Társulás mérleg'!D33-14492060 -> 23332439 | I32: ='KESZI mérleg'!E31+'CSGYK mérleg'!D29+'Társulás mérleg'!D33 -> 61074802 | J32: =I32-K32 -> 41214548 | K32: 19860254 | L32: B813
A33: Bevételek összesen: | B33: =B31+B32 -> 519633942 | C33: =C31+C32 -> 947199771 | D33: =C33-E33 -> 787337771 | E33: =E31+E32 -> 159862000 | F33: =SUM(F31:F32) -> 1038058924 | G33: =SUM(G31:G32) -> 864726485 | H33: =SUM(H31:H32) -> 173332439 | I33: =SUM(I31:I32) -> 880211159 | J33: =I33-K33 -> 860350905 | K33: =SUM(K31:K32) -> 19860254
A36: Mosonmagyaróvár, 2017. április
B37: …./2014. (XII.09.) Kt. Határozat alapján
B39: 200 Ft/lakos
B40: 100 Ft/lakos
B41: 20 Ft/lakos
B42: 10 Ft/lakos
B43: 100 Ft/lakos

Sheet KESZI mérleg
B1: 2./B SZÁMÚ MELLÉKLET
A3: MOSONMAGYARÓVÁR TÉRSÉGI TÁRSULÁS
A4: 2016. ÉVI KÖLTSÉGVETÉSI VÉGREHAJTÁSÁRÓL SZÓLÓ HATÁROZAT MELLÉKLETE
A5: KÖLTSÉGVETÉSI MÉRLEG
A6: adatok Ft-ban (!)
C8: kötelező feladat | D8: kötelező feladat | E8: kötelező feladat
A9: KISTÉRSÉGI EGYESÍTETT SZOCIÁLIS INTÉZET
A10: Megnevezés | B10: eredeti | C10: eredeti | D10: módosított | E10: teljesítés | F10: teljesítés aránya a módosított előirányzathoz képest % | G10: Rovatrend
B11: előirányzat 2014. | C11: előirányzat 2016. | D11: előirányzat 2016.12.31 | E11: 42735 | G11: 2016. év
A12: Személyi juttatások | B12: 264817 | C12: 317527500 | D12: 351903762 | E12: 327582509 | F12: =E12/D12 -> 0.93088664 | G12: K1
A13: Munkaadót terhelő járulékok | B13: 69967 | C13: 86295000 | D13: 90613055 | E13: 87694414 | F13: =E13/D13 -> 0.96779006 | G13: K2
A14: Dologi és egyéb folyó kiadások | B14: =SUM(200046) -> 200046 | C14: 190900000 | D14: 195983205 | E14: 186178925 | F14: =E14/D14 -> 0.94997388 | G14: K3
A15: Ellátottak pénzbeli juttatásai | B15: 570 | C15: 850000 | D15: 850000 | E15: 627960 | F15: =E15/D15 -> 0.73877647 | G15: K4
A16: Elvonások és befizetések | C16: 0 | D16: 0 | E16: 0 | G16: K502
A17: Felhalmozási kiadások | B17: 0 | C17: 0 | D17: =22707000+10432721 -> 33139721 | E17: =20794171+10432721 -> 31226892 | F17: =E17/D17 -> 0.94227987 | G17: K61-67, K71-74
A18: Hitelek és kölcsönök kiadásai | B18: 0 | C18: 0 | D18: 0 | E18: 0 | G18: K9111
A19: Pénzforgalmi kiadások | B19: =SUM(B12:B18) -> 535400 | C19: =SUM(C12:C18) -> 595572500 | D19: =SUM(D12:D18) -> 672489743 | E19: =SUM(E12:E18) -> 633310700 | F19: =E19/D19 -> 0.94174031
A20: Kiegyenlítő, átfutó, függő kiadás | B20: nem releváns | C20: nem releváns | F20: =E20/D20 -> #DIV/0!
A21: Kiadások összesen: | B21: =SUM(B19) -> 535400 | C21: =SUM(C19) -> 595572500 | D21: =SUM(D19) -> 672489743 | E21: =SUM(E19) -> 633310700 | F21: =E21/D21 -> 0.94174031
A23: Intézményi működési bevételek | B23: 201101 | C23: 220931000 | D23: 234933638 | E23: 234913863 | F23: =E23/D23 -> 0.99991583 | G23: B4
A24: Felhalmozási és tőke jellegű bevételek | B24: 0 | C24: 0 | D24: 0 | G24: B21, B25, B52, B72, B73
A25: ebből: sajátos felhalm. és tőkef. | B25: 0 | C25: 0 | D25: 0
A26: Támogatások, kiegészítések és átvett pénzeszközök | B26: =SUM(50763-12615) -> 38148 | C26: 17000000 | D26: =21832922+1894000 -> 23726922 | E26: =21832922+1894000 -> 23726922 | F26: =E26/D26 -> 1 | G26: B16, B65
A27: ebből: önkorm. költségvetési tám. | B27: 0 | C27: 10091 | D27: 0 | E27: 0
A28: Irányító szervtől kapott támogatás | B28: =SUM(283536+12615) -> 296151 | C28: 338722697 | D28: 394808380 | E28: 392178309 | F28: =E28/D28 -> 0.99333836 | G28: B816
A29: Hitelek, kölcsönök bevételei | B29: 0 | C29: 0 | D29: 0 | G29: B8111
A30: Pénzforgalmi bevételek összesen | B30: =SUM(B29+B28+B26+B24+B23) -> 535400 | C30: =SUM(C29+C28+C26+C24+C23) -> 576653697 | D30: =SUM(D29+D28+D26+D24+D23) -> 653468940 | E30: =SUM(E29+E28+E26+E24+E23) -> 650819094 | F30: =E30/D30 -> 0.99594495
A31: Maradvány felhasználás | B31: 0 | C31: 18918803 | D31: 19020803 | E31: 19020803 | F31: =E31/D31 -> 1 | G31: B8131
A32: Kiegyenlítő, átfutó, függő bevételek | B32: nem releváns | C32: nem releváns
A33: Bevételek összesen: | B33: =B30+B31 -> 535400 | C33: =C30+C31 -> 595572500 | D33: =D30+D31 -> 672489743 | E33: =E30+E31 -> 669839897 | F33: =E33/D33 -> 0.99605965
A36: Irányító szervi támogatás részletezése 2016. év eredeti és módosított adatok Ft-ban (!) | B36: adatok Ft-ban
B37: 2014. évi | C37: 2016. évi eredeti | D37: 2016.12.31.mód. | E37: Teljesítés | G37: Változás eredeti előirányzathoz képest
A38: Szociális étkeztetés | B38: 27403200 | C38: 25576320 | D38: ='[1]Állami támogatások'!$G$30 -> 25150048 | E38: ='[1]Állami támogatások'!$H$30 -> 25150048 | F38: =E38/D38 -> 1 | G38: =E38-C38 -> -426272
A39: Házi segítségnyújtás | B39: 34872500 | C39: 35815000 | D39: ='[1]Állami támogatások'!$G$31 -> 28652000 | E39: ='[1]Állami támogatások'!$H$31 -> 28652000 | F39: =E39/D39 -> 1 | G39: =E39-C39 -> -7163000
A40: Időskorúak nappali int. Ellátása | B40: 7357500 | C40: 6376500 | D40: ='[1]Állami támogatások'!$G$32 -> 8011500 | E40: ='[1]Állami támogatások'!$H$32 -> 8011500 | F40: =E40/D40 -> 1 | G40: =E40-C40 -> 1635000
A41: Fogyatékos és demens személyek ell. | B41: =SUM(6050000+4180000+12100000) -> 22330000 | C41: =6600000+3740000+13750000 -> 24090000 | D41: ='[1]Állami támogatások'!$G$33 -> 21340000 | E41: ='[1]Állami támogatások'!$H$33 -> 21340000 | F41: =E41/D41 -> 1 | G41: =E41-C41 -> -2750000
A42: Hajléktalanok nappali ellátása | B42: 11129400 | C42: 8903520 | D42: ='[1]Állami támogatások'!$G$34 -> 8903520 | E42: ='[1]Állami támogatások'!$H$34 -> 8903520 | F42: =E42/D42 -> 1 | G42: =E42-C42 -> 0
A43: Hajléktalanok átmeneti ellátása | B43: 20607400 | C43: 20607400 | D43: ='[1]Állami támogatások'!$G$35 -> 19577030 | E43: ='[1]Állami támogatások'!$H$35 -> 19577030 | F43: =E43/D43 -> 1 | G43: =E43-C43 -> -1030370
A44: Bértámogatás szociális szféra | B44: 83393280 | C44: 82898132 | D44: =82898132+4309792 -> 87207924 | E44: 87207924 | F44: =E44/D44 -> 1 | G44: =E44-C44 -> 4309792
A45: intézmény üzemeltetési támogatás | B45: 19973000 | C45: 19795000 | D45: 19795000 | E45: 19795000 | F45: =E45/D45 -> 1 | G45: =E45-C45 -> 0
A46: Gesztor önkormányzat támogatása | B46: 56470000 | C46: 93047238 | D46: =121300723-'CSGYK mérleg'!C35-2484470-3745702 -> 70690292 | E46: =121300723-'CSGYK mérleg'!D35-15957067-3745702 -> 68060221 | F46: =E46/D46 -> 0.96279445 | G46: =E46-C46 -> -24987017
A47: Szociális foglalkoztatás támogatása (gesztor önk. Keresztül) | B47: 12615000 | C47: 13005120 | D47: =16103880+3999000 -> 20102880 | E47: =16103880+3999000 -> 20102880 | F47: =E47/D47 -> 1 | G47: =E47-C47 -> 7097760
A48: Térségi Társulás felé befizetett tagdíjból átadásra kerülő | C48: 8608467 | D48: 8608467 | E48: 8608467 | F48: =E48/D48 -> 1 | G48: =E48-C48 -> 0
A49: Bérkompenzáció | D49: 8741395 | E49: 8741395 | F49: =E49/D49 -> 1 | G49: =E49-C49 -> 8741395
A50: Jubileumi jutalom, felmentési bérek | D50: 6093085 | E50: 6093085 | F50: =E50/D50 -> 1 | G50: =E50-C50 -> 6093085
A51: Felújításra átadott előirányzat | D51: =8067039+2365682 -> 10432721 | E51: 10432721 | F51: =E51/D51 -> 1 | G51: =E51-C51 -> 10432721
A52: Szociális ágazati pótlék és kiegészítő pótlék | D52: 42236150 | E52: 42236150 | F52: =E52/D52 -> 1 | G52: =E52-C52 -> 42236150
A53: Megelőlegező támogatás áht. Szerint | D53: 9266368 | E53: 9266368 | F53: =E53/D53 -> 1 | G53: =E53-C53 -> 9266368
B54: =SUM(B38:B47) -> 296151280 | C54: =SUM(C38:C48) -> 338722697 | D54: =SUM(D38:D53) -> 394808380 | E54: =SUM(E38:E53) -> 392178309 | G54: =SUM(G38:G53) -> 53455612
D55: =D28-D54 -> 0 | E55: =E28-E54 -> 0
A56: Mosonmagyaróvár, 2017. április

Sheet CSGYK mérleg
A1: 2./C SZÁMÚ MELLÉKLET
A3: MOSONMAGYARÓVÁR TÉRSÉGI TÁRSULÁS
A4: 2016. ÉVI KÖLTSÉGVETÉSI VÉGREHAJTÁSÁRÓL SZÓLÓ HATÁROZAT MELLÉKLETE
A5: KÖLTSÉGVETÉSI MÉRLEG
A6: adatok Ft-ban
B8: kötelező feladat | C8: kötelező feladat | D8: kötelező feladat
A9: Család- és Gyermekjóléti Központ
A10: Megnevezés | B10: eredeti | C10: módosított | D10: teljesítés | E10: teljesítés módosított előirányzathoz képest % | F10: Rovatrend
B11: előirányzat 2016. | C11: előirányzat 2016.12.31 | D11: 42735 | F11: 2016. év
A12: Személyi juttatások | B12: 100941313 | C12: 125365027 | D12: 118987360 | E12: =D12/C12 -> 0.94912722 | F12: K1
A13: Munkaadót terhelő járulékok | B13: 26962000 | C13: 32625916 | D13: 32020296 | E13: =D13/C13 -> 0.98143746 | F13: K2
A14: Dologi és egyéb folyó kiadások | B14: 26150000 | C14: 25630692 | D14: 19658660 | E14: =D14/C14 -> 0.76699685 | F14: K3
A15: Ellátottak pénzbeli juttatásai | B15: 420000 | C15: 420000 | D15: 376505 | E15: =D15/C15 -> 0.89644048 | F15: K4
A16: Elvonások és befizetések | B16: 0 | C16: 0 | D16: 0 | F16: K502
A17: Felhalmozási kiadások | B17: 0 | C17: =6051884+343223 -> 6395107 | D17: =4299356+343223 -> 4642579 | E17: =D17/C17 -> 0.72595799 | F17: K61-67, K71-74
A18: Pénzforgalmi kiadások | B18: =SUM(B12:B17) -> 154473313 | C18: =SUM(C12:C17) -> 190436742 | D18: =SUM(D12:D17) -> 175685400 | E18: =D18/C18 -> 0.92253941
A19: Kiadások összesen: | B19: =B18 -> 154473313 | C19: =C18 -> 190436742 | D19: =D18 -> 175685400 | E19: =D19/C19 -> 0.92253941
A21: Intézményi működési bevételek | B21: 2900000 | C21: 3142874 | D21: 3142874 | E21: =D21/C21 -> 1 | F21: B4
A22: Felhalmozási és tőke jellegű bevételek | B22: 0 | C22: 0 | D22: 0 | F22: B21, B25, B52, B72, B73
A23: ebből: sajátos felhalm. és tőkef. | B23: 0 | C23: 0 | D23: 0
A24: Támogatások, kiegészítések és átvett pénzeszközök | B24: 700000 | C24: 2244000 | D24: 2244000 | E24: =D24/C24 -> 1 | F24: B16, B63
A25: ebből: önkorm. költségvetési tám. | B25: 0 | C25: 1134000 | D25: 1134000 | E25: =D25/C25 -> 1
A26: Felügyeleti szervtől átvett támogatás | B26: 146645029 | C26: 180820368 | D26: 169977932 | E26: =D26/C26 -> 0.94003753 | F26: B816
A27: Hitelek, kölcsönök bevételei | B27: 0 | C27: 0 | D27: 0 | F27: B8111
A28: Pénzforgalmi bevételek összesen | B28: =SUM(B27,B26,B24,B21) -> 150245029 | C28: =SUM(C27,C26,C24,C21) -> 186207242 | D28: =SUM(D27,D26,D24,D21) -> 175364806 | E28: =D28/C28 -> 0.94177221
A29: Maradvány felhasználás | B29: 4228284 | C29: 4229500 | D29: 4229500 | E29: =D29/C29 -> 1 | F29: B813
A30: Bevételek összesen: | B30: =SUM(B28+B29) -> 154473313 | C30: =SUM(C28+C29) -> 190436742 | D30: =SUM(D28+D29) -> 179594306 | E30: =D30/C30 -> 0.94306542
A32: Irányító szervi támogatás részletezése 2016. év eredeti és módosított adatok Ft-ban (!) | B32: adatok Ft-ban
B33: 2016. év eredeti | C33: 2016.12.31.mód | D33: teljesítés | F33: változás eredeti előirányzathoz képest
A34: Szociális és gyermekjóléti alapszolg., állami támogatás | B34: 79200000 | C34: 79200000 | D34: ='[1]Állami támogatások'!$H$29 -> 79200000 | E34: =D34/C34 -> 1 | F34: =D34-B34 -> 0
A35: Gesztor önkormányzat támogatása | B35: 49444585 | C35: =46376349+1749612-3745702 -> 44380259 | D35: =37283435-3745702 -> 33537733 | E35: =D35/C35 -> 0.75569034 | F35: =D35-B35 -> -15906852
A36: Térségi tárulásba fizetett tagdíjból származó támogatás | B36: 4146216 | C36: 7695500 | D36: 7695500 | E36: =D36/C36 -> 1 | F36: =D36-B36 -> 3549284
A37: Bértámogatás és intézmény üzemeltetés támogatás mint állami támogatás | B37: 13854228 | C37: 9544346 | D37: =88605360+27942000-'KESZI mérleg'!E44-'KESZI mérleg'!E45 -> 9544436 | E37: =D37/C37 -> 1.0000094 | F37: =D37-B37 -> -4309792
A38: Családi napközi támogatása | C38: 0 | D38: 0 | F38: =D38-B38 -> 0
A39: Gyáó épület felújítására átadott előirányzat | C39: 343223 | D39: 343223 | E39: =D39/C39 -> 1 | F39: =D39-B39 -> 343223
A40: Jubileumi jutalom, felmentési bérekre átadott előirányzat | C40: 6251832 | D40: 6251832 | E40: =D40/C40 -> 1 | F40: =D40-B40 -> 6251832
A41: bérkompenzáció | C41: 5688687 | D41: 5688687 | E41: =D41/C41 -> 1 | F41: =D41-B41 -> 5688687
A42: Szociális ágazati pótlék és kiegészítő pótlék | C42: 23970819 | D42: =18045143+5925676 -> 23970819 | E42: =D42/C42 -> 1 | F42: =D42-B42 -> 23970819
A43: Megelőlegező támogatás | C43: 3745702 | D43: 3745702 | E43: =D43/C43 -> 1 | F43: =D43-B43 -> 3745702
A44: Összesen | B44: =SUM(B34:B42) -> 146645029 | C44: =SUM(C34:C43) -> 180820368 | D44: =SUM(D34:D43) -> 169977932 | F44: =SUM(F34:F43) -> 23332903
A46: Mosonmagyaróvár, 2017. április

Sheet Társulás mérleg
A1: 2./D SZÁMÚ MELLÉKLET
A3: MOSONMAGYARÓVÁR TÉRSÉGI TÁRSULÁS
A4: 2016. ÉVI KÖLTSÉGVETÉSI VÉGREHAJTÁSÁRÓL SZÓLÓ HATÁROZAT MELLÉKLETE
A5: KÖLTSÉGVETÉSI MÉRLEG
A6: adatok Ft-ban
B8: önként vállalt feladat | C8: önként vállalt feladat | D8: önként vállalt feladat
A9: Mosonmagyaróvár Térségi Társulás
A10: Megnevezés | B10: eredeti | C10: módosított | D10: teljesítés | E10: teljesítés módosított előirányzathoz képest % | F10: Rovatrend
B11: előirányzat 2016. | C11: előirányzat 2016.12.31 | D11: 42735 | F11: 2016. év
A12: Személyi juttatások | B12: 500000 | C12: 500000 | D12: 279929 | E12: =D12/C12 -> 0.559858 | F12: K1
A13: Munkaadót terhelő járulékok | B13: 256000 | C13: 256000 | D13: 130181 | E13: =D13/C13 -> 0.50851953 | F13: K2
A14: Dologi és egyéb folyó kiadások | B14: 11810000 | C14: 14538280 | D14: 13160144 | E14: =D14/C14 -> 0.90520639 | F14: K3
A15: Pénzeszköz átadás, támogatás | B15: =3600000+2740000 -> 6340000 | C15: =3600000+2740000 -> 6340000 | D15: =3600000+2690000 -> 6290000 | E15: =D15/C15 -> 0.99211356 | F15: K5
A16: Felhalmozási célú pénzeszköz átadás | B16: 0 | C16: 0 | D16: 0 | F16: K89
A17: Felügyelet alá tartozó költségvetési szerv. Támogat. | B17: 485367726 | C17: 575628748 | D17: 562156241 | E17: =D17/C17 -> 0.97659515 | F17: K915
A18: Felhalmozási kiadások | B18: 151800000 | C18: 151800000 | D18: 0 | E18: =D18/C18 -> 0 | F18: K61-67, K71-74
A19: Hitelek és kölcsönök kiadásai | B19: 0 | C19: 0 | F19: K9111
A20: Pénzforgalmi kiadások | B20: =SUM(B12:B19) -> 656073726 | C20: =SUM(C12:C19) -> 749063028 | D20: =SUM(D12:D19) -> 582016495 | E20: =D20/C20 -> 0.77699269
A21: Államháztartási tartalék | B21: 26447958 | C21: 1698159 | D21: 0 | E21: =D21/C21 -> 0 | F21: K513
A22: Kiadások összesen: | B22: =SUM(B20+B21) -> 682521684 | C22: =SUM(C20+C21) -> 750761187 | D22: =SUM(D20+D21) -> 582016495 | E22: =D22/C22 -> 0.77523519
A24: Intézményi működési bevételek | B24: 10091000 | C24: 11191234 | D24: 11191234 | E24: =D24/C24 -> 1 | F24: B4
A25: Költségvetési visszatérülések | B25: 0 | C25: 0 | D25: 0
A26: Felhalmozási és tőke jellegű bevételek | B26: 150000000 | C26: 150000000 | D26: 0 | E26: =D26/C26 -> 0 | F26: B21, B25, B52, B72, B73
A27: ebből: sajátos felhalm. és tőkef. | B27: 0 | C27: 0 | D27: 0
A28: Támogatások, kiegészítések és átvett pénzeszközök | B28: 505703693 | C28: 551745454 | D28: 543917464 | E28: =D28/C28 -> 0.98581232 | F28: B16, 816, B65
A29: ebből: önkorm. költségvetési tám. | B29: 318200426 | C29: 388018509 | D29: 388018509 | E29: =D29/C29 -> 1
A30: Felügyeleti szervtől átvett támogatás | B30: 0 | C30: 0 | D30: 0
A31: Hitelek, kölcsönök bevételei | B31: 0 | C31: 0 | D31: 0 | F31: B8111
A32: Pénzforgalmi bevételek összesen | B32: =SUM(B24+B25+B26+B28+B30+B31) -> 665794693 | C32: =C24+C26+C28+C30+C31 -> 712936688 | D32: =D24+D26+D28+D30+D31 -> 555108698 | E32: =D32/C32 -> 0.77862271
A33: Maradvány felhasználás | B33: 16726991 | C33: 37824499 | D33: 37824499 | E33: =D33/C33 -> 1 | F33: B813
A34: Bevételek összesen: | B34: =B32+B33 -> 682521684 | C34: =C32+C33 -> 750761187 | D34: =D32+D33 -> 592933197 | E34: =D34/C34 -> 0.78977604
A40: Mosonmagyaróvár, 2017. április

Sheet működési és felh. egyensúly
G1: 3. SZÁMÚ MELLÉKLET
A2: MOSONMAGYARÓVÁR TÉRSÉGI TÁRSULÁS
A3: 2016. ÉVI KÖLTSÉGVETÉSI VÉGREHAJTÁSÁRÓL SZÓLÓ HATÁROZAT MELLÉKLETE
A5: Kiadások és Bevételek működési egyensúlya
A6: 2016. évi teljesítés
A7: adatok Ft-ban
A8: Működési kiadások Ft teljesítés
A10: Intézmény megnevezése | B10: Személyi juttatások | C10: Járulékok | D10: Dologi kiadások | E10: Ellátottak juttatása | F10: Tartalékképzés | G10: Átadott pénzeszközök működési | H10: Összesen
A11: Kistérségi Egyesített Szociális Intézmény | B11: ='KESZI mérleg'!E12 -> 327582509 | C11: ='KESZI mérleg'!E13 -> 87694414 | D11: ='KESZI mérleg'!E14 -> 186178925 | E11: ='KESZI mérleg'!E15 -> 627960 | F11: 0 | G11: 0 | H11: =SUM(B11:G11) -> 602083808
A12: Család és Gyermekjóléti Központ | B12: ='CSGYK mérleg'!D12 -> 118987360 | C12: ='CSGYK mérleg'!D13 -> 32020296 | D12: ='CSGYK mérleg'!D14 -> 19658660 | E12: ='CSGYK mérleg'!D15 -> 376505 | F12: 0 | G12: 0 | H12: =SUM(B12:G12) -> 171042821
A13: Mosonmagyaróvár Térségi Társulás | B13: ='Társulás mérleg'!D12 -> 279929 | C13: ='Társulás mérleg'!D13 -> 130181 | D13: ='Társulás mérleg'!D14 -> 13160144 | E13: 0 | F13: 0 | G13: ='Társulás mérleg'!D15 -> 6290000 | H13: =SUM(B13:G13) -> 19860254
A14: Mindösszesen: | B14: =SUM(B11:B13) -> 446849798 | C14: =SUM(C11:C13) -> 119844891 | D14: =SUM(D11:D13) -> 218997729 | E14: =SUM(E11:E13) -> 1004465 | F14: =SUM(F11:F13) -> 0 | G14: =SUM(G11:G13) -> 6290000 | H14: =SUM(H11:H13) -> 792986883
A17: Működési bevételek Ft teljesítés
A19: Intézmény megnevezése | B19: Intézmény saját bevételei | C19: Állami támogatás | D19: MÖK támogatás | E19: Egyéb támogatás értékű műk. bevétel | F19: Feladatfinanszírozás | G19: Maradvány felhasználás | H19: Összesen
A20: Kistérségi Egyesített Szociális Intézmény | B20: ='KESZI mérleg'!E23-E30 -> 233140495 | C20: ='KESZI mérleg'!E38+'KESZI mérleg'!E39+'KESZI mérleg'!E40+'KESZI mérleg'!E41+'KESZI mérleg'!E42+'KESZI mérleg'!E43+'KESZI mérleg'!E44+'KESZI mérleg'!E45+'KESZI mérleg'!E47+'KESZI mérleg'!E49+'KESZI mérleg'!E53+'KESZI mérleg'!E52 -> 298983815 | D20: ='KESZI mérleg'!E46+'KESZI mérleg'!E48 -> 76668688 | E20: ='KESZI mérleg'!E50+'KESZI mérleg'!E26 -> 29820007 | G20: ='KESZI mérleg'!E31-E29 -> 0 | H20: =SUM(B20:G20) -> 638613005
A21: Család és Gyermekjóléti Központ | B21: ='CSGYK mérleg'!D21-E33 -> 3073018 | C21: ='CSGYK mérleg'!D34+'CSGYK mérleg'!D37+'CSGYK mérleg'!D42+'CSGYK mérleg'!D43+1134000+'CSGYK mérleg'!D41 -> 123283644 | D21: ='CSGYK mérleg'!D35+5462423 -> 39000156 | E21: ='CSGYK mérleg'!D36-5462423+'CSGYK mérleg'!D40+'CSGYK mérleg'!D24-1134000 -> 9594909 | F21: 0 | G21: ='CSGYK mérleg'!D29-E32 -> 0 | H21: =SUM(B21:G21) -> 174951727
A22: Mosonmagyaróvár Térségi Társulás | B22: ='Társulás mérleg'!D24 -> 11191234 | C22: 0 | D22: 0 | F22: 0 | G22: ='Társulás mérleg'!D33 -> 37824499 | H22: =SUM(B22:G22) -> 49015733
A23: Mindösszesen: | B23: =SUM(B20:B22) -> 247404747 | C23: =SUM(C20:C22) -> 422267459 | D23: =SUM(D20:D22) -> 115668844 | E23: =SUM(E20:E22) -> 39414916 | F23: =SUM(F20:F22) -> 0 | G23: =SUM(G20:G22) -> 37824499 | H23: =SUM(H20:H22) -> 862580465
A26: Felhalmozási kiadások Ft | E26: Felhalmozási bevételek Ft
A27: Intézmény megnevezése | B27: Felhalmozási kiadások teljesítés | D27: Intézmény megnevezése | E27: Felhalmozási bevétel teljesítés
A28: Kistérségi Egyesített Szociális Intézmény | B28: ='KESZI mérleg'!E17 -> 31226892 | D28: Kistérségi Egyesített Szociális Intézmény felújítási alapból | E28: ='KESZI mérleg'!E51 -> 10432721
A29: Család és Gyermekjóléti Központ | B29: ='CSGYK mérleg'!D17 -> 4642579 | D29: KESZI maradványból | E29: 19020803
A30: Mosonmagyaróvár Térségi Társulás | B30: ='Társulás mérleg'!D18 -> 0 | D30: KESZI saját bevételből | E30: 1773368
A31: Mindösszesen: | B31: =SUM(B28:B30) -> 35869471 | D31: Család és Gyermekjóléti Központ felújítási alapból 343e Ft | E31: ='CSGYK mérleg'!D39 -> 343223
D32: CSGYK maradványból | E32: 4229500
D33: CSGYK saját bevétel | E33: 69856
D34: Mosonmagyaróvár Térségi Társulás | E34: 0
D35: Mindösszesen: | E35: =SUM(E28:E34) -> 35869471
A37: Mosonmagyaróvár, 2017. április

Sheet létszám
B1: 4. sz. melléklet
A3: MOSONMAGYARÓVÁR TÉRSÉGI TÁRSULÁS
A4: ÉS FELÜGYELETE ALÁ TARTOZÓ KÖLTSÉGVETÉSI SZERVE
A5: 2016. ÉVI KÖLTSÉGVETÉSI VÉGREHAJTÁSÁRÓL SZÓLÓ HATÁROZAT MELLÉKLETE
A7: Költségvetési engedélyzett létszámhely, és év végi átlagos statisztikai záró létszáma
A10: Megnevezés | B10: 2016. január 1. | C10: 2016. december 31. | D10: 2016. december 31. | E10: Közfoglalkoztatottak átlagos létszáma
A11: (intézmény, szakfeladat, stb.) | B11: engedélyezett | C11: engedélyezett | D11: tényleges
B12: létszámhely | C12: létszámhely | D12: állományi létszám
A13: Család és Gyermekjóléti Központ | B13: =SUM(B14:B16) -> 43 | C13: =SUM(C14:C16) -> 43 | D13: =D14+D15+D16 -> 41 | E13: 0
A14: GyÁÓ | B14: 8 | C14: 8 | D14: 8 | E14: 0
A15: Gyermekjóléti szolgálat | B15: 16 | C15: 16 | D15: 15 | E15: 0
A16: Családsegítő | B16: 19 | C16: 19 | D16: 18 | E16: 0
A17: Kistérségi Egyesített Szociális Intézet | B17: 141 | C17: =SUM(C18:C28) -> 146 | D17: =SUM(D18:D30) -> 122 | E17: =SUM(E18:E28) -> 1
A18: Aranykor, kp.-i irányítás | B18: 43 | C18: 43 | D18: 37 | E18: 1
A19: Gondozóház | B19: 28 | C19: 28 | D19: 24 | E19: 0
A20: ESZO | C20: 0 | D20: 0 | E20: 0
A21: Hajléktalan | B21: 6 | C21: 6 | D21: 6 | E21: 0
A22: Idősek klubja | B22: 16 | C22: 16 | D22: 15 | E22: 0
A23: FÉNI | B23: 7 | C23: 7 | D23: 6 | E23: 0
A24: Nappali melegedő | B24: 2 | C24: 2 | D24: 1 | E24: 0
A25: Szociális étkezés | B25: 4 | C25: 4 | D25: 1 | E25: 0
A26: Házi segítségnyújtás | B26: 30 | C26: 35 | D26: 27 | E26: 0
A27: Jelzőrendszer | B27: 1 | C27: 1 | D27: 1 | E27: 0
A28: Szoc. foglalkoztatás | B28: 4 | C28: 4 | D28: 4 | E28: 0
A29: Mosonmagyaróvár Térségi Társulás | B29: 0 | C29: 0 | D29: 0 | E29: 0
A30: TÁMOP 5.4.9-11/1-2012-0014 | B30: 0 | C30: 0 | D30: 0 | E30: 0
A31: Összesen: | B31: =SUM(B13+B17+B29) -> 184 | C31: =C13+C17 -> 189 | D31: =D13+D17 -> 163 | E31: =SUM(E13+E17+E29) -> 1
A33: Mosonmagyaróvár, 2017. április

Sheet állami
E1: 5. számú melléklet
A3: MOSONMAGYARÓVÁR TÉRSÉGI TÁRSULÁS
A4: ÁLLAMI TÁMOGATÁS
A5: 2016. ÉVI KÖLTSÉGVETÉSI VÉGREHAJTÁSÁRÓL SZÓLÓ HATÁROZAT MELLÉKLETE
A6: adatok Ft-ban
A8: Jogcím | B8: Megnevezés | C8: Fajlagos mutató | D8: Eredeti előirányzat | E8: Módosított előirányzat | F8: Teljesítés | G8: Járó támogatás | H8: Elszámolás szerinti különbözet
A9: III.3.a. | B9: Család és Gyermekjóléti Szolgálat | D9: ='CSGYK mérleg'!B34 -> 79200000 | E9: 79200000 | F9: ='CSGYK mérleg'!D34 -> 79200000 | G9: 79200000 | H9: =G9-F9 -> 0
A10: III.3.c. | B10: Szociális Étkeztetés | C10: 417 fő | D10: ='KESZI mérleg'!C38 -> 25576320 | E10: ='KESZI mérleg'!D38 -> 25150048 | F10: ='KESZI mérleg'!E38 -> 25150048 | G10: =F10+H10 -> 25393632 | H10: 243584
A11: III.3.d. | B11: Házi segítségnyújtás | C11: 153 fő | D11: ='KESZI mérleg'!C39 -> 35815000 | E11: ='KESZI mérleg'!D39 -> 28652000 | F11: ='KESZI mérleg'!E39 -> 28652000 | G11: =F11+H11 -> 28840500 | H11: 188500
A12: III.3.f (2) | B12: Időskorúak nappali intézményi ellátása | C12: 48 fő | D12: ='KESZI mérleg'!C40 -> 6376500 | E12: ='KESZI mérleg'!D40 -> 8011500 | F12: 8011500 | G12: =F12+H12 -> 7848000 | H12: -163500
A13: III.3.g (2) (3) (6) | B13: Fogyatékos személyek nappali intézményi ellátása, foglalkoztatásban részesülő fogyatékos személyek, demens személyek nappali ellátása | C13: 10 fő, 17fő, 21 fő | D13: ='KESZI mérleg'!C41 -> 24090000 | E13: ='KESZI mérleg'!D41 -> 21340000 | F13: ='KESZI mérleg'!E41 -> 21340000 | G13: =F13+H13 -> 20790000 | H13: -550000
A14: III.3. i. (2) | B14: hajléktalanok napplai intézményi ellátása | C14: 36 fő | D14: ='KESZI mérleg'!C42 -> 8903520 | E14: ='KESZI mérleg'!D42 -> 8903520 | F14: 8903520 | G14: 8903520 | H14: =G14-F14 -> 0
A15: III.3.k | B15: hajléktalanok átmeneti szállása | C15: 39 fő | D15: ='KESZI mérleg'!C43 -> 20607400 | E15: ='KESZI mérleg'!D43 -> 19577030 | F15: 19577030 | G15: =F15+H15 -> 20092215 | H15: 515185
A16: III.4. | B16: szakmai dolgozók bértámogatása | C16: 34 fő | D16: 88605360 | E16: 88605360 | F16: 88605360 | G16: 88605360 | H16: =G16-F16 -> 0
A17: III.4. b | B17: intézményi- üzemeltetési támgoatás | D17: 27942000 | E17: 27942000 | F17: 27942000 | G17: 27942000 | H17: =G17-F17 -> 0
B18: Összesen | D18: =SUM(D9:D17) -> 317116100 | E18: =SUM(E9:E17) -> 307381458 | F18: =SUM(F9:F17) -> 307381458 | G18: =SUM(G9:G17) -> 307615227 | H18: =SUM(H9:H17) -> 233769
B20: Bérkompenzáció
B21: KESZI | E21: 8741395 | F21: 8741395
B22: CSGYK | E22: 5688687 | F22: 5688687
B23: Ágazati pótlék
B24: KESZI | E24: 16994574 | F24: 16994574
B25: CSGYK | E25: 5925676 | F25: 5925676
B26: Kiegészítő ágazgati pótlék
B27: KESZI | E27: 25241576 | F27: 25241576
B28: CSGYK | E28: 18045143 | F28: 18045143
B30: Nemzeti Rehabilitációs és Szociális Hivatal támogatása KABELT | E30: 1134000 | F30: 1134000
B31: Mindösszesen | E31: =E18+E21+E22+E24+E25+E27+E28+E30 -> 389152509 | F31: =F18+F21+F22+F24+F25+F27+F28+F30 -> 389152509
B34: Mosonmagyaróvár, 2017. április

Sheet vagyonmérleg
A1: 6. számú melléklet
A2: MOSONMAGYARÓVÁR TÉRSÉGI TÁRSULÁS
A3: 2016. ÉVI KÖLTSÉGVETÉSI VÉGREHAJTÁSÁRÓL SZÓLÓ HATÁROZAT MELLÉKLETE
A4: VAGYONMÉRLEG
A5: ADATOK FT-BAN
A6: Összevont vagyonmérleg | G6: Mosonmagyaróvár Térségi Társulás vagyonmérlege
B8: Megnevezés | C8: Előző időszak | D8: Tárgyi időszak | G8: Megnevezés | H8: Előző időszak | I8: Tárgyi időszak
B9: A/I Immateriális javak (=A/I/1+A/I/2+A/I/3) | C9: 398968 | D9: 2710 | G9: A/I Immateriális javak (=A/I/1+A/I/2+A/I/3) | H9: 398968 | I9: 2710
B10: A/II Tárgyi eszközök (=A/II/1+...+A/II/5) | C10: 422918025 | D10: 448097285 | G10: A/II/2 Gépek, berendezések, felszerelések, járművek | H10: 1947612 | I10: 953958
B11: A) NEMZETI VAGYONBA TARTOZÓ BEFEKTETETT ESZKÖZÖK (=A/I+A/II+A/III+A/IV) | C11: 423316993 | D11: 448099995 | G11: A/II/4 Beruházások, felújítások | H11: 7451199 | I11: 7451199
B12: B/I Készletek (=B/I/1+…+B/I/5) | C12: 3707773 | D12: 3574075 | G12: A/II Tárgyi eszközök (=A/II/1+...+A/II/5) | H12: 9398811 | I12: 8405157
B13: B) NEMZETI VAGYONBA TARTOZÓ FORGÓESZKÖZÖK (= B/I+B/II) | C13: 3707773 | D13: 3574075 | G13: A) NEMZETI VAGYONBA TARTOZÓ BEFEKTETETT ESZKÖZÖK (=A/I+A/II+A/III+A/IV) | H13: 9797779 | I13: 8407867
B14: C/II Pénztárak, csekkek, betétkönyvek (=C/II/1+C/II/2+C/II/3) | C14: 1690906 | D14: 2529791 | G14: C/III Forintszámlák (=C/III/1+C/III/2) | H14: 35219417 | I14: 29042128
B15: C/III Forintszámlák (=C/III/1+C/III/2) | C15: 54685767 | D15: 70583515 | G15: C) PÉNZESZKÖZÖK (=C/I+…+C/IV) | H15: 35219417 | I15: 29042128
B16: C) PÉNZESZKÖZÖK (=C/I+…+C/IV) | C16: 56376673 | D16: 73113306 | G16: D/I Költségvetési évben esedékes követelések (=D/I/1+…+D/I/8) | H16: 5078218 | I16: 0
B17: D/I Költségvetési évben esedékes követelések (=D/I/1+…+D/I/8) | C17: 13174683 | D17: 9198858 | G17: D/III/1 Adott előlegek (=D/III/1a+…+D/III/1f) | H17: 0 | I17: 139820
B18: D/II Költségvetési évet követően esedékes követelések (=D/II/1+…+D/II/8) | C18: 874800 | D18: 0 | G18: D/III/1e - ebből: foglalkoztatottaknak adott előlegek | H18: 0 | I18: 139820
B19: D/III Követelés jellegű sajátos elszámolások (=D/III/1+…+D/III/9) | C19: 0 | D19: 1852971 | G19: D/III Követelés jellegű sajátos elszámolások (=D/III/1+…+D/III/9) | H19: 0 | I19: 139820
B20: D) KÖVETELÉSEK (=D/I+D/II+D/III) | C20: 14049483 | D20: 11051829 | G20: D) KÖVETELÉSEK (=D/I+D/II+D/III) | H20: 5078218 | I20: 139820
... B45: H/III/8 Letétre, megőrzésre, fedezetkezelésre átvett pénzeszközök, biztosítékok | C45: 1690906 | D45: 2529791 | G45: FORRÁSOK ÖSSZESEN (=G+H+I+J) | H45: 70965742 | I45: 37589815
B46: H/III Kötelezettség jellegű sajátos elszámolások (=H/III/1+…+H/III/10) | C46: 17907906 | D46: 3847594
B47: H) KÖTELEZETTSÉGEK (=H/I+H/II+H/III) | C47: 23130090 | D47: 3904445
B48: J/2 Költségek, ráfordítások passzív időbeli elhatárolása | C48: 52088370 | D48: 39809314
B49: J) PASSZÍV IDŐBELI ELHATÁROLÁSOK (=J/1+J/2+J/3) | C49: 52088370 | D49: 39809314
B50: FORRÁSOK ÖSSZESEN (=G+H+I+J) | C50: 523813663 | D50: 536660543
A52: Kistérségi Egyesített Szociális Intézmény vagyonmérlege | G52: Család és Gyermekjóléti Központ vagyonmérlege
B54: Megnevezés | C54: Előző időszak | D54: Tárgyi időszak | G54: Megnevezés | H54: Előző időszak | I54: Tárgyi időszak
B55: A/II/1 Ingatlanok és a kapcsolódó vagyoni értékű jogok | C55: 375732649 | D55: 394658710 | G55: A/II/1 Ingatlanok és a kapcsolódó vagyoni értékű jogok | H55: 28695349 | I55: 28813640
B56: A/II/2 Gépek, berendezések, felszerelések, járművek | C56: 8476271 | D56: 15737173 | G56: A/II/2 Gépek, berendezések, felszerelések, járművek | H56: 614945 | I56: 482605
B57: A/II Tárgyi eszközök (=A/II/1+...+A/II/5) | C57: 384208920 | D57: 410395883 | G57: A/II Tárgyi eszközök (=A/II/1+...+A/II/5) | H57: 29310294 | I57: 29296245
B58: A) NEMZETI VAGYONBA TARTOZÓ BEFEKTETETT ESZKÖZÖK (=A/I+A/II+A/III+A/IV) | C58: 384208920 | D58: 410395883 | G58: A) NEMZETI VAGYONBA TARTOZÓ BEFEKTETETT ESZKÖZÖK (=A/I+A/II+A/III+A/IV) | H58: 29310294 | I58: 29296245
B59: B/I Készletek (=B/I/1+…+B/I/5) | C59: 3707773 | D59: 3574075 | G59: C/III Forintszámlák (=C/III/1+C/III/2) | H59: 2213448 | I59: 3163292
B60: B) NEMZETI VAGYONBA TARTOZÓ FORGÓESZKÖZÖK (= B/I+B/II) | C60: 3707773 | D60: 3574075 | G60: C) PÉNZESZKÖZÖK (=C/I+…+C/IV) | H60: 2213448 | I60: 3163292
B61: C/II Pénztárak, csekkek, betétkönyvek (=C/II/1+C/II/2+C/II/3) | C61: 1690906 | D61: 2529791 | G61: D/I Költségvetési évben esedékes követelések (=D/I/1+…+D/I/8) | H61: 0 | I61: 171535
B62: C/III Forintszámlák (=C/III/1+C/III/2) | C62: 17252902 | D62: 38378095 | G62: D/III/1 Adott előlegek (=D/III/1a+…+D/III/1f) | H62: 0 | I62: 646380
B63: C) PÉNZESZKÖZÖK (=C/I+…+C/IV) | C63: 18943808 | D63: 40907886 | G63: D/III/1e - ebből: foglalkoztatottaknak adott előlegek | H63: 0 | I63: 646380
B64: D/I Költségvetési évben esedékes követelések (=D/I/1+…+D/I/8) | C64: 8096465 | D64: 9027323 | G64: D/III Követelés jellegű sajátos elszámolások (=D/III/1+…+D/III/9) | H64: 0 | I64: 646380
B65: D/II Költségvetési évet követően esedékes követelések (=D/II/1+…+D/II/8) | C65: 874800 | D65: 0 | G65: D) KÖVETELÉSEK (=D/I+D/II+D/III) | H65: 0 | I65: 817915
B66: D/III Követelés jellegű sajátos elszámolások (=D/III/1+…+D/III/9) | C66: 0 | D66: 1066771 | G66: E/III/2 Utalványok, bérletek és más hasonló, készpénz-helyettesítő fizetési eszköznek nem minősülő eszközök elszámolásai | H66: 2015471 | I66: 98653
... B78: G/I Nemzeti vagyon induláskori értéke | C78: 545920165 | D78: 545920165 | G78: FORRÁSOK ÖSSZESEN (=G+H+I+J) | H78: 33539213 | I78: 33376105
B79: G/III/3 Pénzeszközön kívüli egyéb eszközök induláskori értéke és változásai | C79: 1000000 | D79: 1000000
B80: G/III Egyéb eszközök induláskori értéke és változásai (=G/III/1+G/III/2+G/III/3) | C80: 1000000 | D80: 1000000
B81: G/IV Felhalmozott eredmény | C81: -166660639 | D81: -168535385
B82: G/VI Mérleg szerinti eredmény | C82: -1874746 | D82: 53146973
B83: G/ SAJÁT TŐKE (= G/I+…+G/VI) | C83: 378384780 | D83: 431531753
B84: H/III/1 Kapott előlegek | C84: 0 | D84: 1317803
B85: H/III/8 Letétre, megőrzésre, fedezetkezelésre átvett pénzeszközök, biztosítékok | C85: 1690906 | D85: 2529791
B86: H/III Kötelezettség jellegű sajátos elszámolások (=H/III/1+…+H/III/10) | C86: 1690906 | D86: 3847594
B87: H) KÖTELEZETTSÉGEK (=H/I+H/II+H/III) | C87: 1690906 | D87: 3847594
B88: J/2 Költségek, ráfordítások passzív időbeli elhatárolása | C88: 39233022 | D88: 30315276
B89: J) PASSZÍV IDŐBELI ELHATÁROLÁSOK (=J/1+J/2+J/3) | C89: 39233022 | D89: 30315276
B90: FORRÁSOK ÖSSZESEN (=G+H+I+J) | C90: 419308708 | D90: 465694623
B93: Mosonmagyaróvár, 2017. április

Sheet eredménykimutatás
A1: 7. számú melléklet
A2: MOSONMAGYARÓVÁR TÉRSÉGI TÁRSULÁS
A3: 2016. ÉVI KÖLTSÉGVETÉSI VÉGREHAJTÁSÁRÓL SZÓLÓ HATÁROZAT MELLÉKLETE
A4: EREDMÉNYKIMUTATÁS
A5: ADATOK FT-BAN
A6: Összevont eredménykimutatás | F6: Mosonmagyaróvár Térségi Társulás eredménykimutatása
A8: Megnevezés | B8: Előző időszak | C8: Tárgyi időszak | F8: Megnevezés | G8: Előző időszak | H8: Tárgyi időszak
A9: 02 Eszközök és szolgáltatások értékesítése nettó eredményszemléletű bevételei | B9: 203742374 | C9: 219444946 | F9: 02 Eszközök és szolgáltatások értékesítése nettó eredményszemléletű bevételei | G9: 10835108 | H9: 5828234
A10: I Tevékenység nettó eredményszemléletű bevétele (=01+02+03) | B10: 203742374 | C10: 219444946 | F10: I Tevékenység nettó eredményszemléletű bevétele (=01+02+03) | G10: 10835108 | H10: 5828234
A11: 06 Központi működési célú támogatások eredményszemléletű bevételei | B11: 491145374 | C11: 562156241 | F11: 07 Egyéb működési célú támogatások eredményszemléletű bevételei | G11: 536631615 | H11: 543917464
A12: 07 Egyéb működési célú támogatások eredményszemléletű bevételei | B12: 566677101 | C12: 569888386 | F12: 08 Felhalmozási célú támogatások eredményszemléletű bevételei | G12: 395398 | H12: 0
A13: 08 Felhalmozási célú támogatások eredményszemléletű bevételei | B13: 395398 | C13: 0 | F13: 09 Különféle egyéb eredményszemléletű bevételek | G13: 0 | H13: 195324
A14: 09 Különféle egyéb eredményszemléletű bevételek | B14: 4558881 | C14: 34551251 | F14: III Egyéb eredményszemléletű bevételek (=06+07+08+09) | G14: 537027013 | H14: 544112788
A15: III Egyéb eredményszemléletű bevételek (=06+07+08+09) | B15: 1062776754 | C15: 1166595878 | F15: 10 Anyagköltség | G15: 0 | H15: 4000
A16: 10 Anyagköltség | B16: 56269634 | C16: 57961190 | F16: 11 Igénybe vett szolgáltatások értéke | G16: 3375478 | H16: 1982388
A17: 11 Igénybe vett szolgáltatások értéke | B17: 107996372 | C17: 112511855 | F17: 13 Eladott (közvetített) szolgáltatások értéke | G17: 10494524 | H17: 5341832
A18: 13 Eladott (közvetített) szolgáltatások értéke | B18: 12037691 | C18: 6823315 | F18: IV Anyagjellegű ráfordítások (=10+11+12+13) | G18: 13870002 | H18: 7328220
A19: IV Anyagjellegű ráfordítások (=10+11+12+13) | B19: 176303697 | C19: 177296360 | F19: 14 Bérköltség | G19: 84455 | H19: 0
A20: 14 Bérköltség | B20: 349941766 | C20: 384255115 | F20: 15 Személyi jellegű egyéb kifizetések | G20: 190016 | H20: 279929
... A29: B) PÉNZÜGYI MŰVELETEK EREDMÉNYE (=VIII-IX) | B29: 2878 | C29: 1689 | F29: C) MÉRLEG SZERINTI EREDMÉNY (=±A±B) | G29: 31620600 | H29: -28198993
A30: C) MÉRLEG SZERINTI EREDMÉNY (=±A±B) | B30: 33699131 | C30: 28134581
A32: Kistérségi Egyesített Szociális Intézmény eredménykimutatása | F32: Család és Gyermekjóléti Központ eredménykimutatása
A34: Megnevezés | B34: Előző időszak | C34: Tárgyi időszak | F34: Megnevezés | G34: Előző időszak | H34: Tárgyi időszak
A35: 02 Eszközök és szolgáltatások értékesítése nettó eredményszemléletű bevételei | B35: 191730001 | C35: 211561957 | F35: 02 Eszközök és szolgáltatások értékesítése nettó eredményszemléletű bevételei | G35: 1177265 | H35: 2054755
A36: I Tevékenység nettó eredményszemléletű bevétele (=01+02+03) | B36: 191730001 | C36: 211561957 | F36: I Tevékenység nettó eredményszemléletű bevétele (=01+02+03) | G36: 1177265 | H36: 2054755
A37: 06 Központi működési célú támogatások eredményszemléletű bevételei | B37: 345385521 | C37: 392178309 | F37: 06 Központi működési célú támogatások eredményszemléletű bevételei | G37: 145759853 | H37: 169977932
A38: 07 Egyéb működési célú támogatások eredményszemléletű bevételei | B38: 24777486 | C38: 23726922 | F38: 07 Egyéb működési célú támogatások eredményszemléletű bevételei | G38: 5268000 | H38: 2244000
A39: 09 Különféle egyéb eredményszemléletű bevételek | B39: 2430628 | C39: 32936168 | F39: 09 Különféle egyéb eredményszemléletű bevételek | G39: 2128253 | H39: 1419759
A40: III Egyéb eredményszemléletű bevételek (=06+07+08+09) | B40: 372593635 | C40: 448841399 | F40: III Egyéb eredményszemléletű bevételek (=06+07+08+09) | G40: 153156106 | H40: 173641691
A41: 10 Anyagköltség | B41: 53670808 | C41: 55297476 | F41: 10 Anyagköltség | G41: 2598826 | H41: 2659714
A42: 11 Igénybe vett szolgáltatások értéke | B42: 92556560 | C42: 96343093 | F42: 11 Igénybe vett szolgáltatások értéke | G42: 12064334 | H42: 14186374
A43: 13 Eladott (közvetített) szolgáltatások értéke | B43: 1543167 | C43: 1481483 | F43: IV Anyagjellegű ráfordítások (=10+11+12+13) | G43: 14663160 | H43: 16846088
A44: IV Anyagjellegű ráfordítások (=10+11+12+13) | B44: 147770535 | C44: 153122052 | F44: 14 Bérköltség | G44: 88363378 | H44: 101283150
A45: 14 Bérköltség | B45: 261493933 | C45: 282971965 | F45: 15 Személyi jellegű egyéb kifizetések | G45: =13121914-724 -> 13121190 | H45: 14904732
A46: 15 Személyi jellegű egyéb kifizetések | B46: 38256411 | C46: 36339922 | F46: 16 Bérjárulékok | G46: 27407236 | H46: 31295802
A47: 16 Bérjárulékok | B47: 79756848 | C47: 85610773 | F47: V Személyi jellegű ráfordítások (=14+15+16) | G47: =SUM(G44:G46) -> 128891804 | H47: 147483684
A48: V Személyi jellegű ráfordítások (=14+15+16) | B48: 379507192 | C48: 404922660 | F48: VI Értékcsökkenési leírás | G48: 1930064 | H48: 3670115
A49: VI Értékcsökkenési leírás | B49: 13885160 | C49: 18781834 | F49: VII Egyéb ráfordítások | G49: 4894342 | H49: 4509958
A50: VII Egyéb ráfordítások | B50: 25035495 | C50: 30429837 | F50: A) TEVÉKENYSÉGEK EREDMÉNYE (=I±II+III-IV-V-VI-VII) | G50: =G36+G40-G43-G47-G48-G49 -> 3954001 | H50: 3186601
A51: A) TEVÉKENYSÉGEK EREDMÉNYE (=I±II+III-IV-V-VI-VII) | B51: -1874746 | C51: 53146973 | F51: C) MÉRLEG SZERINTI EREDMÉNY (=±A±B) | G51: =G36+G40-G43-G47-G48-G49 -> 3954001 | H51: 3186601
A52: C) MÉRLEG SZERINTI EREDMÉNY (=±A±B) | B52: -1874746 | C52: 53146973
A54: Mosonmagyaróvár, 2017. április

Sheet maradványkimutatás
A1: 8. számú melléklet
A2: MOSONMAGYARÓVÁR TÉRSÉGI TÁRSULÁS
A3: 2016. ÉVI KÖLTSÉGVETÉSI VÉGREHAJTÁSÁRÓL SZÓLÓ HATÁROZAT MELLÉKLETE
A4: MARADVÁNYKIMUTATÁS
A5: ADATOK FT-BAN
A7: Összevont maradványkimutatás | E7: Mosonmagyaróvár Térségi Társulás maradványkimutatása
B8: Megnevezés | C8: Összeg | E8: Megnevezés | F8: Összeg
B9: 01 Alaptevékenység költségvetési bevételei | C9: 819136357 | E9: 01 Alaptevékenység költségvetési bevételei | F9: 555108698
B10: 02 Alaptevékenység költségvetési kiadásai | C10: 828856354 | E10: 02 Alaptevékenység költségvetési kiadásai | F10: 19860254
B11: I Alaptevékenység költségvetési egyenlege (=01-02) | C11: -9719997 | E11: I Alaptevékenység költségvetési egyenlege (=01-02) | F11: 535248444
B12: 03 Alaptevékenység finanszírozási bevételei | C12: 623231043 | E12: 03 Alaptevékenység finanszírozási bevételei | F12: 37824499
B13: 04 Alaptevékenység finanszírozási kiadásai | C13: 562156241 | E13: 04 Alaptevékenység finanszírozási kiadásai | F13: 562156241
B14: II Alaptevékenység finanszírozási egyenlege (=03-04) | C14: 61074802 | E14: II Alaptevékenység finanszírozási egyenlege (=03-04) | F14: -524331742
B15: A) Alaptevékenység maradványa (=±I±II) | C15: 51354805 | E15: A) Alaptevékenység maradványa (=±I±II) | F15: 10916702
B16: C) Összes maradvány (=A+B) | C16: 51354805 | E16: C) Összes maradvány (=A+B) | F16: 10916702
B17: E) Alaptevékenység szabad maradványa (=A-D) | C17: 51354805 | E17: E) Alaptevékenység szabad maradványa (=A-D) | F17: 10916702
A20: Kistérségi Egyesített Szociális Intézmény maradványkimutatása | E20: Család és Gyermekjóléti Központ maradványkimutatása
B21: Megnevezés | C21: Összeg | E21: Megnevezés | F21: Összeg
B22: 01 Alaptevékenység költségvetési bevételei | C22: 258640785 | E22: 01 Alaptevékenység költségvetési bevételei | F22: 5386874
B23: 02 Alaptevékenység költségvetési kiadásai | C23: 633310700 | E23: 02 Alaptevékenység költségvetési kiadásai | F23: 175685400
B24: I Alaptevékenység költségvetési egyenlege (=01-02) | C24: -374669915 | E24: I Alaptevékenység költségvetési egyenlege (=01-02) | F24: -170298526
B25: 03 Alaptevékenység finanszírozási bevételei | C25: 411199112 | E25: 03 Alaptevékenység finanszírozási bevételei | F25: 174207432
B26: II Alaptevékenység finanszírozási egyenlege (=03-04) | C26: 411199112 | E26: II Alaptevékenység finanszírozási egyenlege (=03-04) | F26: 174207432
B27: A) Alaptevékenység maradványa (=±I±II) | C27: 36529197 | E27: A) Alaptevékenység maradványa (=±I±II) | F27: 3908906
B28: C) Összes maradvány (=A+B) | C28: 36529197 | E28: C) Összes maradvány (=A+B) | F28: 3908906
B29: E) Alaptevékenység szabad maradványa (=A-D) | C29: 36529197 | E29: E) Alaptevékenység szabad maradványa (=A-D) | F29: 3908906
B33: Mosonmagyaróvár, 2017. április

Sheet kiadások
A1: 9. számú melléklet | N1: 9. számú melléklet
A2: MOSONMAGYARÓVÁR TÉRSÉGI TÁRSULÁS | N2: MOSONMAGYARÓVÁR TÉRSÉGI TÁRSULÁS
A3: 2016. ÉVI KÖLTSÉGVETÉSI VÉGREHAJTÁSÁRÓL SZÓLÓ HATÁROZAT MELLÉKLETE | N3: 2016. ÉVI KÖLTSÉGVETÉSI VÉGREHAJTÁSÁRÓL SZÓLÓ HATÁROZAT MELLÉKLETE
A4: KIADÁSOK KORMÁNYZATI FUNKCIÓNKÉNT | N4: KIADÁSOK KORMÁNYZATI FUNKCIÓNKÉNT
A5: ADATOK FT-BAN | N5: ADATOK FT-BAN
A7: Megnevezés | B7: Összesen | C7: 011130 Önkormányzatok és önkormányzati hivatalok jogalkotó és általános igazgatási tevékenysége | D7: 018030 Támogatási célú finanszírozási műveletek | E7: 047450 Szektorhoz nem köthető komplex gazdaságfejlesztési projektek támogatása | F7: 049010 Máshova nem sorolt gazdasági ügyek | G7: 084032 Civil szervezetek programtámogatása | H7: 101221 Fogyatékossággal élők nappali ellátása | I7: 102023 Időskorúak tartós bentlakásos ellátása | J7: 102024 Demens betegek tartós bentlakásos ellátása | K7: 102025 Időskorúak átmeneti ellátása | L7: 102026 Demens betegek átmeneti ellátása | M7: 102031 Idősek nappali ellátása | N7: 102032 Demens betegek nappali ellátása | O7: 104012 Gyermekek átmeneti ellátása | P7: 104030 Gyermekek napközbeni ellátása | Q7: 104042 Család és gyermekjóléti szolgáltatások | R7: 104043 Család és gyermekjóléti központ | S7: 107013 Hajléktalanok átmeneti ellátása | T7: 107015 Hajléktalanok nappali ellátása | U7: 107030 Szociális foglalkoztatás | V7: 107051 Szociális étkeztetés | W7: 107052 Házi segítségnyújtás | X7: 107053 Jelzőrendszeres házi segítségnyújtás
A8: Személyi juttatások (=15+19) (K1) | B8: 446849798 | C8: 279929 | D8: 0 | E8: 0 | F8: 0 | G8: 0 | H8: 15706135 | I8: 63402836 | J8: 54958141 | K8: 30282250 | L8: 15710097 | M8: 28639190 | N8: 14309052 | O8: 21238853 | P8: 0 | Q8: 45454850 | R8: 52293657 | S8: 19343692 | T8: 5678901 | U8: 13170306 | V8: 6888184 | W8: 55626238 | X8: 3867487
A9: Munkaadókat terhelő járulékok és szociális hozzájárulási adó (=22+…+28) (K2) | B9: 119844891 | C9: 130181 | D9: 0 | E9: 0 | F9: 0 | G9: 0 | H9: 4210423 | I9: 17087908 | J9: 15124627 | K9: 8240687 | L9: 4275781 | M9: 7909603 | N9: 3710870 | O9: 5712935 | P9: 0 | Q9: 11971491 | R9: 14335870 | S9: 5208521 | T9: 1467407 | U9: 1841061 | V9: 1889245 | W9: 15680379 | X9: 1047902
A10: Dologi kiadások (=32+35+46+49+60) (K3) | B10: 218997729 | C10: 12864644 | D10: 0 | E10: 295500 | F10: 0 | G10: 0 | H10: 4932553 | I10: 39446574 | J10: 33906334 | K10: 18848183 | L10: 9682699 | M10: 2948041 | N10: 1601385 | O10: 6308236 | P10: 48682 | Q10: 5150231 | R10: 8151511 | S10: 6652888 | T10: 2713048 | U10: 1232869 | V10: 56861047 | W10: 1648439 | X10: 5704865
A11: Ellátottak pénzbeli juttatásai (=62+63+74+75+83+93+98+101) (K4) | B11: 1004465 | C11: 0 | D11: 0 | E11: 0 | F11: 0 | G11: 0 | H11: 47566 | I11: 107285 | J11: 94928 | K11: 51784 | L11: 26793 | M11: 6277 | N11: 4641 | O11: 376505 | P11: 0 | Q11: 0 | R11: 0 | S11: 278586 | T11: 590 | U11: 88 | V11: 6388 | W11: 2848 | X11: 186
A12: Egyéb működési célú támogatások államháztartáson belülre (=152+…+161) (K506) | B12: 3600000 | C12: 0 | D12: 0 | E12: 0 | F12: 3600000 | G12: 0 | H12: 0 | I12: 0 | J12: 0 | K12: 0 | L12: 0 | M12: 0 | N12: 0 | O12: 0 | P12: 0 | Q12: 0 | R12: 0 | S12: 0 | T12: 0 | U12: 0 | V12: 0 | W12: 0 | X12: 0
A13: Egyéb működési célú támogatások államháztartáson kívülre (=180+…+189) (K512) | B13: 2690000 | C13: 0 | D13: 0 | E13: 0 | F13: 0 | G13: 2690000 | H13: 0 | I13: 0 | J13: 0 | K13: 0 | L13: 0 | M13: 0 | N13: 0 | O13: 0 | P13: 0 | Q13: 0 | R13: 0 | S13: 0 | T13: 0 | U13: 0 | V13: 0 | W13: 0 | X13: 0
A14: Egyéb működési célú kiadások (=122+127+128+129+140+151+162+164+176+177+178+179+190) (K5) | B14: 6290000 | C14: 0 | D14: 0 | E14: 0 | F14: 3600000 | G14: 2690000 | H14: 0 | I14: 0 | J14: 0 | K14: 0 | L14: 0 | M14: 0 | N14: 0 | O14: 0 | P14: 0 | Q14: 0 | R14: 0 | S14: 0 | T14: 0 | U14: 0 | V14: 0 | W14: 0 | X14: 0
A15: Immateriális javak beszerzése, létesítése (K61) | B15: 519901 | C15: 0 | D15: 0 | E15: 0 | F15: 0 | G15: 0 | H15: 0 | I15: 217796 | J15: 0 | K15: 0 | L15: 0 | M15: 0 | N15: 0 | O15: 0 | P15: 0 | Q15: 0 | R15: 181263 | S15: 120842 | T15: 0 | U15: 0 | V15: 0 | W15: 0 | X15: 0
A16: Ingatlanok beszerzése, létesítése (>=194) (K62) | B16: 240430 | C16: 0 | D16: 0 | E16: 0 | F16: 0 | G16: 0 | H16: 0 | I16: 0 | J16: 0 | K16: 0 | L16: 0 | M16: 0 | N16: 0 | O16: 240430 | P16: 0 | Q16: 0 | R16: 0 | S16: 0 | T16: 0 | U16: 0 | V16: 0 | W16: 0 | X16: 0
A17: Informatikai eszközök beszerzése, létesítése (K63) | B17: 1643948 | C17: 0 | D17: 0 | E17: 0 | F17: 0 | G17: 0 | H17: 0 | I17: 532552 | J17: 0 | K17: 0 | L17: 0 | M17: 0 | N17: 0 | O17: 0 | P17: 0 | Q17: 142127 | R17: 567155 | S17: 402114 | T17: 0 | U17: 0 | V17: 0 | W17: 0 | X17: 0
A18: Egyéb tárgyi eszközök beszerzése, létesítése (K64) | B18: 17479477 | C18: 0 | D18: 0 | E18: 0 | F18: 0 | G18: 0 | H18: 266169 | I18: 11164618 | J18: 33323 | K18: 979207 | L18: 8913 | M18: 952610 | N18: 1874 | O18: 1052113 | P18: 0 | Q18: 417770 | R18: 784955 | S18: 1326157 | T18: 347 | U18: 14016 | V18: 2232 | W18: 471810 | X18: 3363
A19: Beruházási célú előzetesen felszámított általános forgalmi adó (K67) | B19: 5209771 | C19: 0 | D19: 0 | E19: 0 | F19: 0 | G19: 0 | H19: 71865 | I19: 3211643 | J19: 8997 | K19: 264387 | L19: 2406 | M19: 257208 | N19: 506 | O19: 348360 | P19: 0 | Q19: 151171 | R19: 414012 | S19: 329429 | T19: 93 | U19: 20794 | V19: 603 | W19: 127388 | X19: 909
... A28: Kiadások összesen (=268+308) (K1-K9) | B28: 1391012595 | C28: 13274754 | D28: 562156241 | E28: 295500 | F28: 3600000 | G28: 2690000 | H28: 27600393 | I28: 137000012 | J28: 104126350 | K28: 64803137 | L28: 29706689 | M28: 40712929 | N28: 19628328 | O28: 35277432 | P28: 48682 | Q28: 63287640 | R28: 77071646 | S28: 33763829 | T28: 9860386 | U28: 16279134 | V28: 65647699 | W28: 73557102 | X28: 10624712
A32: Mosonmagyaróvár, 2017. április

Sheet bevételek
A1: 10. számú melléklet | N1: 10. számú melléklet
A2: MOSONMAGYARÓVÁR TÉRSÉGI TÁRSULÁS | N2: MOSONMAGYARÓVÁR TÉRSÉGI TÁRSULÁS
A3: 2016. ÉVI KÖLTSÉGVETÉSI VÉGREHAJTÁSÁRÓL SZÓLÓ HATÁROZAT MELLÉKLETE | N3: 2016. ÉVI KÖLTSÉGVETÉSI VÉGREHAJTÁSÁRÓL SZÓLÓ HATÁROZAT MELLÉKLETE
A4: BEVÉTELEK KORMÁNYZATI FUNKCIÓNKÉNT | N4: BEVÉTELEK KORMÁNYZATI FUNKCIÓNKÉNT
A5: ADATOK FT-BAN | N5: ADATOK FT-BAN
A7: Megnevezés | B7: Összesen | C7: 011130 Önkormányzatok és önkormányzati hivatalok jogalkotó és általános igazgatási tevékenysége | D7: 018030 Támogatási célú finanszírozási műveletek | E7: 101221 Fogyatékossággal élők nappali ellátása | F7: 102023 Időskorúak tartós bentlakásos ellátása | G7: 102024 Demens betegek tartós bentlakásos ellátása | H7: 102025 Időskorúak átmeneti ellátása | I7: 102026 Demens betegek átmeneti ellátása | J7: 102031 Idősek nappali ellátása | K7: 102032 Demens betegek nappali ellátása | L7: 104012 Gyermekek átmeneti ellátása | M7: 104030 Gyermekek napközbeni ellátása | N7: 104042 Család és gyermekjóléti szolgáltatások | O7: 104043 Család és gyermekjóléti központ | P7: 107013 Hajléktalanok átmeneti ellátása | Q7: 107015 Hajléktalanok nappali ellátása | R7: 107030 Szociális foglalkoztatás | S7: 107051 Szociális étkeztetés | T7: 107052 Házi segítségnyújtás | U7: 107053 Jelzőrendszeres házi segítségnyújtás
A8: Egyéb működési célú támogatások bevételei államháztartáson belülről (=33+…+42) (B16) | B8: 567994386 | C8: 0 | D8: 543917464 | E8: 130000 | F8: 7841821 | G8: 0 | H8: 741394 | I8: 0 | J8: 12318692 | K8: 0 | L8: 0 | M8: 0 | N8: 1060000 | O8: 1184000 | P8: 801015 | Q8: 0 | R8: 0 | S8: 0 | T8: 0 | U8: 0
A9: ebből: központi költségvetési szervek (B16) | B9: 202980 | C9: 0 | D9: 0 | E9: 0 | F9: 202980 | G9: 0 | H9: 0 | I9: 0 | J9: 0 | K9: 0 | L9: 0 | M9: 0 | N9: 0 | O9: 0 | P9: 0 | Q9: 0 | R9: 0 | S9: 0 | T9: 0 | U9: 0
A10: ebből: elkülönített állami pénzalapok (B16) | B10: 3425120 | C10: 0 | D10: 0 | E10: 0 | F10: 3425120 | G10: 0 | H10: 0 | I10: 0 | J10: 0 | K10: 0 | L10: 0 | M10: 0 | N10: 0 | O10: 0 | P10: 0 | Q10: 0 | R10: 0 | S10: 0 | T10: 0 | U10: 0
A11: ebből: helyi önkormányzatok és költségvetési szerveik (B16) | B11: 564366286 | C11: 0 | D11: 543917464 | E11: 130000 | F11: 4213721 | G11: 0 | H11: 741394 | I11: 0 | J11: 12318692 | K11: 0 | L11: 0 | M11: 0 | N11: 1060000 | O11: 1184000 | P11: 801015 | Q11: 0 | R11: 0 | S11: 0 | T11: 0 | U11: 0
A12: Működési célú támogatások államháztartáson belülről (=07+...+10+21+32) (B1) | B12: 567994386 | C12: 0 | D12: 543917464 | E12: 130000 | F12: 7841821 | G12: 0 | H12: 741394 | I12: 0 | J12: 12318692 | K12: 0 | L12: 0 | M12: 0 | N12: 1060000 | O12: 1184000 | P12: 801015 | Q12: 0 | R12: 0 | S12: 0 | T12: 0 | U12: 0
A13: Működési bevételek (=186+187+190+192+199+…+201+208+216+217+218) (B4) | B13: 249247971 | C13: 11191234 | D13: 0 | E13: 4086367 | F13: 68042949 | G13: 41419204 | H13: 29408980 | I13: 10754891 | J13: 3046492 | K13: 4166436 | L13: 1415690 | M13: 313050 | N13: 1260935 | O13: 153199 | P13: 6267524 | Q13: 6866 | R13: 505000 | S13: 37102047 | T13: 16490089 | U13: 13617018
A14: Egyéb működési célú átvett pénzeszközök (=244+…+255) (B65) | B14: 1894000 | C14: 0 | D14: 0 | E14: 650000 | F14: 322000 | G14: 0 | H14: 0 | I14: 0 | J14: 0 | K14: 0 | L14: 0 | M14: 0 | N14: 0 | O14: 0 | P14: 922000 | Q14: 0 | R14: 0 | S14: 0 | T14: 0 | U14: 0
A15: ebből: nonprofit gazdasági társaságok (B65) | B15: 1894000 | C15: 0 | D15: 0 | E15: 650000 | F15: 322000 | G15: 0 | H15: 0 | I15: 0 | J15: 0 | K15: 0 | L15: 0 | M15: 0 | N15: 0 | O15: 0 | P15: 922000 | Q15: 0 | R15: 0 | S15: 0 | T15: 0 | U15: 0
A16: Működési célú átvett pénzeszközök (=231+...+234+244) (B6) | B16: 1894000 | C16: 0 | D16: 0 | E16: 650000 | F16: 322000 | G16: 0 | H16: 0 | I16: 0 | J16: 0 | K16: 0 | L16: 0 | M16: 0 | N16: 0 | O16: 0 | P16: 922000 | Q16: 0 | R16: 0 | S16: 0 | T16: 0 | U16: 0
A17: Költségvetési bevételek (=43+79+185+221+230+256+282) (B1-B7) | B17: 819136357 | C17: 11191234 | D17: 543917464 | E17: 4866367 | F17: 76206770 | G17: 41419204 | H17: 30150374 | I17: 10754891 | J17: 15365184 | K17: 4166436 | L17: 1415690 | M17: 313050 | N17: 2320935 | O17: 1337199 | P17: 7990539 | Q17: 6866 | R17: 505000 | S17: 37102047 | T17: 16490089 | U17: 13617018
A18: Előző év költségvetési maradványának igénybevétele (B8131) | B18: 61074802 | C18: 0 | D18: 61074802 | E18: 0 | F18: 0 | G18: 0 | H18: 0 | I18: 0 | J18: 0 | K18: 0 | L18: 0 | M18: 0 | N18: 0 | O18: 0 | P18: 0 | Q18: 0 | R18: 0 | S18: 0 | T18: 0 | U18: 0
A19: Maradvány igénybevétele (=295+296) (B813) | B19: 61074802 | C19: 0 | D19: 61074802 | E19: 0 | F19: 0 | G19: 0 | H19: 0 | I19: 0 | J19: 0 | K19: 0 | L19: 0 | M19: 0 | N19: 0 | O19: 0 | P19: 0 | Q19: 0 | R19: 0 | S19: 0 | T19: 0 | U19: 0
... A23: Bevételek összesen (283+315) (B1-B8) | B23: 1442367400 | C23: 11191234 | D23: 1167148507 | E23: 4866367 | F23: 76206770 | G23: 41419204 | H23: 30150374 | I23: 10754891 | J23: 15365184 | K23: 4166436 | L23: 1415690 | M23: 313050 | N23: 2320935 | O23: 1337199 | P23: 7990539 | Q23: 6866 | R23: 505000 | S23: 37102047 | T23: 16490089 | U23: 13617018
A26: Mosonmagyaróvár, 2017. április

Sheet pénzeszköz átadások
A1: 11. számú melléklet
A2: MOSONMAGYARÓVÁR TÉRSÉGI TÁRSULÁS
A3: 2016. ÉVI KÖLTSÉGVETÉSI VÉGREHAJTÁSÁRÓL SZÓLÓ HATÁROZAT MELLÉKLETE
B5: Jogcím | C5: Teljesítés Ft-ban
B6: Áht. Belüli pénzeszköz átadás
B7: .= megállapodás alapján Hivatal részére átadott támogatás | C7: 3600000
B8: Áht. Kívüli pénzeszköz átadás
B9: .= Mosonmagyaróvár és Környéke Nyugdíjas Egyesület támogatása | C9: 600000
B10: .= Vadvirág Nyugdíjas Klub támogatása | C10: 150000
B11: .= Aranypor kiadvány támogatása | C11: 100000
B12: Felhalmozási célú pénzeszköz átadás Áht. Kívülre
B13: .= Karolina Kórház - Rendelőintézet eszközbeszerzéséhez kapcsolódó alapítványi támogatás | C13: 1840000
B14: Összes pénzeszköz átadás intézményfinanszírozáson kívül | C14: =SUM(C7:C13) -> 6290000
B17: Mosonmagyaróvár, 2017. április

Sheet befiztések
A2: 12. számú melléklet
A3: MOSONMAGYARÓVÁR TÉRSÉGI TÁRSULÁS
A4: 2016. ÉVI KÖLTSÉGVETÉSI VÉGREHAJTÁSÁRÓL SZÓLÓ HATÁROZAT MELLÉKLETE
B6: Mosonmagyaróvár Térségi Társulás tagönkormányzati által teljesített befizetések
B7: 2016. évben
D8: Előirányzat Ft | E8: Teljesített befizetés Ft | F8: Tartozás Ft | G8: Megjegyzés Ft
B9: Társulási tagdíj | D9: 15391000 | E9: 15391000 | F9: =D9-E9 -> 0 | G9: Térségi Társulás illetve KESZI finanszírozásra használva
B10: Gyermekjólét támogatása | D10: 7695500 | E10: 7695500 | F10: =D10-E10 -> 0 | G10: felhasználás a KGYCSSZK működéséhez
B11: Karolina Kórház - Rendelőintézet eszközbeszerzés támogatása | D11: 1539100 | E11: 1539100 | F11: =D11-E11 -> 0 | G11: a Tásulás kiegészítette a támogatást 300.900 Ft-tal, és a kórházi alapítványnak átadásra került az 1.840e Ft
B12: Szolidaritási alap | D12: 769600 | E12: 769600 | F12: =D12-E12 -> 0 | G12: Nem került felhasználásra, elkülönített számlán rendelkezésre áll. 2016.12.31-én záró egyenleg 1.592.323 Ft. 2016.10.25-én Hegyeshalom Község Önkormányzata visszafizette a 2015-ben részére tanácsi határozat alapján átutalt, de fel nem használt forrást 763.920 Ft összegben.
B13: Felújítási alap | D13: 7695500 | E13: 7695500 | F13: =D13-E13 -> 0 | G13: KESZI részére átadott forrás 10.432.721 Ft, CSGYK részére átadott forrás 343.223 Ft. KESZI-ben a hajléktalanok átmeneti szállásánál gázhálózat kiépítésének terve, Aranykor Idősek Otthona és az Idősek Gondozóháza Soproni út 65. szám alatti telephelyének átalakítási és bővítési tanulmányterve, központi főzőkonyhájának TOP-4.2.1-15 pályázathoz szükséges tervek elkészítése, központi főzőkonyhájának TOP-4.2.1-15 pályázathoz szükséges tervek elkészítése, Idősek Gondozóházában a másfél emeleti vizesblokk , Idősek Gondozóháza középső szintjén akadálymentes WC kialakítása és teljeskörű vizesblokk felújításfelújítása, Soproni út 65. szám alatti telephely Soproni úti és Úttörő utcai kapuinak átalakítása, Fogyatékossággal Élők Nappali Intézményének fűtési rendszerének korszerűsítése, szabályozhatóvá tétele részleges radiátor cserével. CSGYK intézményében az ügyeleti iroda burkolat cseréje valósult meg, illetve az intézmény bővítéséhez kapcsolódó tervek. Felújítási alap záró egyenlege 2016.12.31-én 2.496.198 Ft.
B14: Összesen | D14: =SUM(D9:D13) -> 33090700 | E14: =SUM(E9:E13) -> 33090700 | F14: =SUM(F9:F13) -> 0
C16: Mosonmagyaróvár, 2017. április
