Workbook

Sheet 1_
B1: 1. SZÁMÚ MELLÉKLET
A5: MOSONMAGYARÓVÁR TÉRSÉGI TÁRSULÁS
A6: 2017. ÉVI KÖLTSÉGVETÉSI HATOZATÁHOZ
A11: A Mosonmagyaróvár Térségi Társulás és irányítása alá tartozó költségvetési szervek
A12: 2017. évi költségvetéséről szóló …../2017. (II….) TT. határozatához
A14: CÍMRENDJÉT
A15: az alábbiak szerint állapítja meg:
A20: Címszám | B20: Megnevezés
A21: 1. | B21: Mosonmagyaróvár Térségi Társulás
A22: 2. | B22: Kistérségi Egyesített Szociális Intézmény
A23: 3. | B23: Család és Gyermekjóléti Központ

Sheet 2A
B1: 2./A SZÁMÚ MELLÉKLET
A3: MOSONMAGYARÓVÁR TÉRSÉGI TÁRSULÁS
A4: 2016. ÉVI KÖLTSÉGVETÉSI HATOZATÁHOZ
A5: PÉNZFORGALMI MÉRLEG
A6: adatok ezer Ft-ban
A8: MOSONMAGYARÓVÁRI TÖBBCÉLÚ KISTÉRSÉGI TÁRSULÁS ÉS KÖLTSÉGVETÉSI SZERVEI | D8: kötelező | E8: önként
A9: Megnevezés | B9: eredeti | C9: eredeti | D9: eredeti | E9: eredeti | F9: Rovatrend
B10: előirányzat 2016. | C10: előirányzat 2017 | D10: előirányzat 2017. | E10: előirányzat 2017. | F10: 2015. év
A11: Személyi juttatások | B11: ='2B'!B12+'2C'!B12+'2D'!B12 -> 418968.81 | C11: ='2B'!C12+'2C'!C12+'2D'!C12 -> 548586508 | D11: =SUM(C11-E11) -> 548086508 | E11: ='2D'!C12 -> 500000 | F11: K1
A12: Munkaadót terhelő járulékok | B12: ='2B'!B13+'2C'!B13+'2D'!B13 -> 113513 | C12: ='2B'!C13+'2C'!C13+'2D'!C13 -> 130476457 | D12: =SUM(C12-E12) -> 130227457 | E12: ='2D'!C13 -> 249000 | F12: K2
A13: Dologi és egyéb folyó kiadások | B13: ='2B'!B14+'2C'!B14+'2D'!B14 -> 228860 | C13: ='2B'!C14+'2C'!C14+'2D'!C14 -> 231722368 | D13: =SUM(C13-E13) -> 219920091 | E13: ='2D'!C14-10091 -> 11802277 | F13: K3
A14: Pénzeszköz átadás, támogatás | B14: ='2B'!B15+'2C'!B15+'2D'!B15 -> 7610 | C14: ='2B'!C15+'2C'!C15+'2D'!C15 -> 7610000 | D14: =SUM(C14-E14) -> 1270000 | E14: ='2D'!C15 -> 6340000 | F14: K4
A15: Felhalmozási kiadások | B15: ='2B'!B16+'2C'!B16+'2D'!B17 -> 151800 | C15: ='2D'!C17 -> 235000000 | D15: =SUM(C15-E15) -> 0 | E15: 235000000 | F15: K61-67, K71-74
A16: Hitelek és kölcsönök kiadásai | B16: 0 | C16: 0 | D16: =SUM(C16-E16) -> 0 | E16: 0 | F16: K9111
A17: Pénzforgalmi kiadások | B17: =SUM(B11:B16) -> 920751.81 | C17: =SUM(C11:C16) -> 1153395333 | D17: =SUM(C17-E17) -> 899504056 | E17: =SUM(E11:E16) -> 253891277
A18: Államháztartási tartalék | B18: ='2D'!B20 -> 26447.958 | C18: ='2D'!C20 -> 21770799 | D18: =SUM(C18-E18) -> 21770799 | F18: K512
A19: Kiegyenlítő, átfutó, függő kiadás | B19: nem releváns | C19: nem releváns
A20: Kiadások összesen: | B20: =B17+B18 -> 947199.77 | C20: =C17+C18 -> 1.1751661e+09 | D20: =SUM(C20-E20) -> 9.2127485e+08 | E20: =SUM(E17+E18) -> 253891277
A22: Intézményi működési bevételek | B22: ='2B'!B22+'2C'!B22+'2D'!B24 -> 233922 | C22: ='2B'!C22+'2C'!C22+'2D'!C24 -> 286920736 | D22: =C22-E22 -> 286831415 | E22: ='2D'!C24-10000000-1047 -> 89321 | F22: B4
A23: Költségvetési visszatérülések | B23: 0 | C23: 0 | D23: =C23-E23 -> 0 | E23: 0
A24: Felhalmozási és tőke jellegű bevételek | B24: ='2B'!B23+'2C'!B23+'2D'!B26 -> 150000 | C24: 235000000 | D24: =C24-E24 -> 0 | E24: ='2D'!C26 -> 235000000 | F24: B21, B25, B52, B72, B73
A25: ebből: sajátos felhalm. és tőkef. | B25: 0 | C25: 0 | D25: =C25-E25 -> 0 | E25: 0
A26: Támogatások, kiegészítések és átvett pénzeszközök | B26: ='2B'!B25+'2C'!B25+'2D'!B28 -> 523403.69 | C26: ='2B'!C25+'2C'!C25+'2D'!C28 -> 604245396 | D26: =C26-E26 -> 595443440 | E26: =18892324-10100230+9862 -> 8801956 | F26: B816
A27: ebből: önkorm. költségvetési tám. | B27: ='2D'!B29+'2C'!B26+'2B'!B26 -> 327207.1 | C27: ='2D'!C29 -> 325301770 | D27: =C27-E27 -> 325301770 | E27: 0
A28: Hitelek, kölcsönök bevételei | B28: 0 | C28: 0 | D28: =C28-E28 -> 0 | E28: 0 | F28: B8111
A29: Pénzforgalmi bevételek összesen | B29: =B26+B22+B24 -> 907325.69 | C29: =C26+C22+C24 -> 1126166132 | D29: =C29-E29 -> 882274855 | E29: =E26+E22+E24 -> 243891277
A30: Maradvány felhasználás | B30: ='2B'!B30+'2C'!B30+'2D'!B33 -> 39874.078 | C30: ='2B'!C30+'2C'!C30+'2D'!C33 -> 49000000 | D30: 39000000 | E30: 10000000
A31: Kiegyenlítő, átfutó, függő bevételek | B31: nem releváns | C31: nem releváns
A32: Bevételek összesen: | B32: =B29+B30 -> 947199.77 | C32: =C29+C30 -> 1175166132 | D32: =C32-E32 -> 921274855 | E32: =E29+E30 -> 253891277
A35: Mosonmagyaróvár, 2017. február 7.
B36: 56/2016. (XII.12.) TT. határozat alapján
B38: 270 Ft/lakos | C38: térségi társulás támogatása | E38: évi kétszeri befizetés
B39: 100 Ft/lakos | C39: KGYCSSZK támogatására
B40: 20 Ft/lakos | C40: Kórház támogatására
B41: 10 Ft/lakos | C41: Szolidaritási alap
B42: 100 Ft/lakos | C42: Felújítási alap | E42: évi kétszeri befizetés

Sheet 2B
B1: 2./B SZÁMÚ MELLÉKLET
A3: MOSONMAGYARÓVÁR TÉRSÉGI TÁRSULÁS
A4: 2017. ÉVI KÖLTSÉGVETÉSI HATOZATÁHOZ
A5: PÉNZFORGALMI MÉRLEG
A6: tárgyévi adatok Ft-ban
C8: kötelező feladat
A9: KISTÉRSÉGI EGYESÍTETT SZOCIÁLIS INTÉZET
A10: Megnevezés | B10: eredeti | C10: eredeti | D10: változás | E10: Rovatrend
B11: előirányzat 2016. adatok ezer Ft-ban (!) | C11: előirányzat 2017 adatok Ft-ban | D11: előző évhez képest ezer Ft alapján %-ban | E11: 2015. év
A12: Személyi juttatások | B12: =[1]KESZI!$E$24/1000 -> 317527.5 | C12: ='[2]KESZI 2016.12.12.'!$G$24 -> 406705000 | D12: =C12/1000/B12 -> 1.2808497 | E12: K1
A13: Munkaadót terhelő járulékok | B13: =[1]KESZI!$E$25/1000 -> 86295 | C13: ='[2]KESZI 2016.12.12.'!$G$25 -> 98000400 | D13: =C13/1000/B13 -> 1.135644 | E13: K2
A14: Dologi és egyéb folyó kiadások | B14: =[1]KESZI!$E$64/1000 -> 190900 | C14: ='[2]KESZI 2016.12.12.'!$G$64 -> 193270000 | D14: =C14/1000/B14 -> 1.0124149 | E14: K3
A15: Pénzeszköz átadás, támogatás | B15: =[1]KESZI!$E$65/1000 -> 850 | C15: ='[2]KESZI 2016.12.12.'!$G$65 -> 850000 | D15: =C15/1000/B15 -> 1 | E15: K4
A16: Felhalmozási kiadások | B16: 0 | C16: 0 | D16: =C16-B16 -> 0 | E16: K61-67, K71-74
A17: Hitelek és kölcsönök kiadásai | B17: 0 | C17: 0 | D17: =C17-B17 -> 0 | E17: K9111
A18: Pénzforgalmi kiadások | B18: =SUM(B12:B17) -> 595572.5 | C18: =SUM(C12:C17) -> 698825400 | D18: =C18/1000/B18 -> 1.1733675
A19: Kiegyenlítő, átfutó, függő kiadás | B19: nem releváns | C19: nem releváns
A20: Kiadások összesen: | B20: =SUM(B18) -> 595572.5 | C20: =SUM(C18) -> 698825400 | D20: =C20/1000/B20 -> 1.1733675
A22: Intézményi működési bevételek | B22: =[1]KESZI!$D$97/1000+[1]KESZI!$D$95/1000 -> 220931 | C22: ='[2]KESZI 2016.12.12.'!$G$87+'[2]KESZI 2016.12.12.'!$G$88+'[2]KESZI 2016.12.12.'!$G$89+'[2]KESZI 2016.12.12.'!$G$90+'[2]KESZI 2016.12.12.'!$G$91+'[2]KESZI 2016.12.12.'!$G$92+'[2]KESZI 2016.12.12.'!$G$93+'[2]KESZI 2016.12.12.'!$G$95 -> 273830368 | D22: =C22/1000/B22 -> 1.2394384 | E22: B4
A23: Felhalmozási és tőke jellegű bevételek | B23: 0 | C23: 0 | D23: =C23-B23 -> 0 | E23: B21, B25, B52, B72, B73
A24: ebből: sajátos felhalm. és tőkef. | B24: 0 | C24: 0 | D24: =C24-B24 -> 0
A25: Támogatások, kiegészítések és átvett pénzeszközök | B25: =[1]KESZI!$D$96/1000+[1]KESZI!$D$98/1000 -> 17000 | C25: 0 | D25: =C25/1000/B25 -> 0 | E25: B16, B63
A26: ebből: önkorm. költségvetési tám. | B26: 10091 | C26: 0 | D26: 0
A27: Irányító szervtől kapott támogatás | B27: =[1]KESZI!$D$102/1000+[1]KESZI!$D$92/1000 -> 338722.7 | C27: ='[2]KESZI 2016.12.12.'!$G$122 -> 388995032 | D27: =C27/1000/B27 -> 1.1484174 | E27: B816
A28: Hitelek, kölcsönök bevételei | B28: 0 | C28: 0 | D28: =C28-B28 -> 0 | E28: B8111
A29: Pénzforgalmi bevételek összesen | B29: =SUM(B28+B27+B25+B23+B22) -> 576653.7 | C29: =SUM(C28+C27+C25+C23+C22) -> 662825400 | D29: =C29/1000/B29 -> 1.1494341
A30: Maradvány felhasználás | B30: =[1]KESZI!$D$99/1000 -> 18918.803 | C30: ='[2]KESZI 2016.12.12.'!$G$117 -> 36000000 | D30: =C30/1000/B30 -> 1.9028688
A31: Kiegyenlítő, átfutó, függő bevételek | B31: nem releváns | C31: nem releváns
A32: Bevételek összesen: | B32: =B29+B30 -> 595572.5 | C32: =C29+C30 -> 698825400 | D32: =C32/1000/B32 -> 1.1733675
A35: Irányító szervi támogatás részletezése 2016.-2017. év eredeti Ft-ban | B35: adatok Ft-ban
B36: 2016. évi | C36: 2017. évi | D36: Változás 2016-hoz képest
A37: Szociális étkeztetés | B37: =[1]KESZI!$D$82 -> 25576320 | C37: ='[2]KESZI 2016.12.12.'!$G$101 -> 24967360 | D37: =C37-B37 -> -608960
A38: Házi segítségnyújtás | B38: =[1]KESZI!$D$83 -> 35815000 | C38: ='[2]KESZI 2016.12.12.'!$G$102 -> 41769000 | D38: =C38-B38 -> 5954000
A39: Időskorúak nappali int. Ellátása | B39: =[1]KESZI!$D$84 -> 6376500 | C39: ='[2]KESZI 2016.12.12.'!$G$105 -> 7357500 | D39: =C39-B39 -> 981000
A40: Fogyatékos és demens személyek ell. | B40: =[1]KESZI!$D$85+[1]KESZI!$D$86+[1]KESZI!$D$87 -> 24090000 | C40: ='[2]KESZI 2016.12.12.'!$G$106+'[2]KESZI 2016.12.12.'!$G$107+'[2]KESZI 2016.12.12.'!$G$108 -> 21340000 | D40: =C40-B40 -> -2750000
A41: Hajléktalanok nappali ellátása | B41: =[1]KESZI!$D$88 -> 8903520 | C41: ='[2]KESZI 2016.12.12.'!$G$109 -> 8903520 | D41: =C41-B41 -> 0
A42: Hajléktalanok átmeneti ellátása | B42: =[1]KESZI!$D$89 -> 20607400 | C42: ='[2]KESZI 2016.12.12.'!$G$110 -> 19577030 | D42: =C42-B42 -> -1030370
A43: Bértámogatás szociális szféra | B43: =[1]KESZI!$D$90 -> 82898132 | C43: ='[2]KESZI 2016.12.12.'!$G$111 -> 82888885 | D43: =C43-B43 -> -9247
A44: intézmény üzemeltetési támogatás | B44: =[1]KESZI!$D$91 -> 19795000 | C44: ='[2]KESZI 2016.12.12.'!$G$112 -> 33582000 | D44: =C44-B44 -> 13787000
A45: Gesztor önkormányzat támogatása | B45: =[1]KESZI!$D$105 -> 93047238 | C45: =[2]Társulás!$E$55 -> 78493074 | D45: =C45-B45 -> -14554164
...

Sheet 2C
B1: 2./C SZÁMÚ MELLÉKLET
A3: MOSONMAGYARÓVÁR TÉRSÉGI TÁRSULÁS
A4: 2017. ÉVI KÖLTSÉGVETÉSI HATOZATÁHOZ
A5: PÉNZFORGALMI MÉRLEG
A6: tárgyévi adatok Ft-ban
C8: kötelező feladat
A9: Család és Gyermekjóléti Központ
A10: Megnevezés | B10: eredeti | C10: eredeti | D10: változás | E10: Rovatrend
B11: előirányzat 2016. adatok ezer Ft-ban (!) | C11: előirányzat 2017 adatok Ft-ban | D11: előző évhez képest ezer Ft alapján %-ban | E11: 2015. év
A12: Személyi juttatások | B12: =[1]KGYCSSZK!$E$24/1000 -> 100941.31 | C12: ='[2]CSGYK 2016.11.23'!$G$24 -> 141381508 | D12: =C12/1000/B12 -> 1.4006308 | E12: K1
A13: Munkaadót terhelő járulékok | B13: =[1]KGYCSSZK!$E$25/1000 -> 26962 | C13: ='[2]CSGYK 2016.11.23'!$G$25 -> 32227057 | D13: =C13/1000/B13 -> 1.1952769 | E13: K2
A14: Dologi és egyéb folyó kiadások | B14: =[1]KGYCSSZK!$E$64/1000 -> 26150 | C14: ='[2]CSGYK 2016.11.23'!$G$64 -> 26640000 | D14: =C14/1000/B14 -> 1.018738 | E14: K3
A15: Pénzeszköz átadás, támogatás | B15: =[1]KGYCSSZK!$E$65/1000 -> 420 | C15: ='[2]CSGYK 2016.11.23'!$G$65 -> 420000 | D15: =C15/1000/B15 -> 1 | E15: K4
A16: Felhalmozási kiadások | B16: 0 | C16: 0 | D16: =C16-B16 -> 0 | E16: K61-67, K71-74
A17: Hitelek és kölcsönök kiadásai | B17: 0 | C17: 0 | D17: =C17-B17 -> 0 | E17: K9111
A18: Pénzforgalmi kiadások | B18: =SUM(B12:B17) -> 154473.31 | C18: =SUM(C12:C17) -> 200668565 | D18: =C18/1000/B18 -> 1.2990501
A19: Kiegyenlítő, átfutó, függő kiadás | B19: nem releváns | C19: nem releváns
A20: Kiadások összesen: | B20: =B18 -> 154473.31 | C20: =C18 -> 200668565 | D20: =C20/1000/B20 -> 1.2990501
A22: Intézményi működési bevételek | B22: =[1]KGYCSSZK!$D$92/1000 -> 2900 | C22: ='[2]CSGYK 2016.11.23'!$F$94 -> 3000000 | D22: =C22/1000/B22 -> 1.0344828 | E22: B4
A23: Felhalmozási és tőke jellegű bevételek | B23: 0 | C23: 0 | D23: =C23-B23 -> 0 | E23: B21, B25, B52, B72, B73
A24: ebből: sajátos felhalm. és tőkef. | B24: 0 | C24: 0 | D24: =C24-B24 -> 0
A25: Támogatások, kiegészítések és átvett pénzeszközök | B25: =[1]KGYCSSZK!$D$93/1000 -> 700 | C25: 0 | D25: 0 | E25: B16, B63
A26: ebből: önkorm. költségvetési tám. | B26: 0 | C26: 0 | D26: =C26-B26 -> 0
A27: Felügyeleti szervtől átvett támogatás | B27: =[1]KGYCSSZK!$D$89/1000+[1]KGYCSSZK!$D$98/1000 -> 146645.03 | C27: ='[2]CSGYK 2016.11.23'!$F$101 -> 194668565 | D27: =C27/1000/B27 -> 1.3274815 | E27: B816
A28: Hitelek, kölcsönök bevételei | B28: 0 | C28: 0 | D28: =C28-B28 -> 0 | E28: B8111
A29: Pénzforgalmi bevételek összesen | B29: =SUM(B28,B27,B25,B22) -> 150245.03 | C29: =SUM(C28,C27,C25,C22) -> 197668565 | D29: =C29/1000/B29 -> 1.3156413
A30: Maradvány felhasználást | B30: =[1]KGYCSSZK!$D$94/1000 -> 4228.284 | C30: ='[2]CSGYK 2016.11.23'!$F$102 -> 3000000 | D30: =C30/1000/B30 -> 0.70950769
A31: Kiegyenlítő, átfutó, függő bevételek | B31: nem releváns | C31: nem releváns
A32: Bevételek összesen: | B32: =SUM(B29+B30) -> 154473.31 | C32: =SUM(C29+C30) -> 200668565 | D32: =C32/1000/B32 -> 1.2990501
A34: Irányító szervi támogatás részletezése 2016.-2017. év eredeti | B34: adatok Ft-ban
B35: 2016. év | C35: 2017. év | D35: Változás 2016-hoz képest
A36: Szociális és gyermekjóléti alapszolg., állami támogatás | B36: 79200000 | C36: 79200000 | D36: =C36-B36 -> 0
A37: Gyermekek átmeneti int. Ellátása, állami támogatás
A38: GYÁÓ bértámogatás és intézményüzemeltetési támogatás | B38: 13854228 | C38: ='[2]CSGYK 2016.11.23'!$F$86 -> 5716475 | D38: =C38-B38 -> -8137753
A39: Gesztor önkormányzat támogatása | B39: =[1]KGYCSSZK!$D$100 -> 49444585 | C39: ='[2]CSGYK 2016.11.23'!$F$106 -> 78217295 | D39: =C39-B39 -> 28772710
A40: Térségi Társulástól érkező támogatás (tagdíj) | B40: =[1]KGYCSSZK!$D$99 -> 4146216 | C40: ='[2]CSGYK 2016.11.23'!$F$105 -> 7732500 | D40: =C40-B40 -> 3586284
A41: Összevont ágazati pótlék | B41: 0 | C41: ='[2]CSGYK 2016.11.23'!$F$104 -> 23802295 | D41: =C41-B41 -> 23802295
A42: Összesen | B42: =SUM(B36:B40) -> 146645029 | C42: =SUM(C36:C41) -> 194668565 | D42: =C42-B42 -> 48023536
A44: Mosonmagyaróvár, 2017. február 7.

Sheet 2D
B1: 2./D SZÁMÚ MELLÉKLET
A3: MOSONMAGYARÓVÁR TÉRSÉGI TÁRSULÁS
A4: 2017. ÉVI KÖLTSÉGVETÉSI HATOZATÁHOZ
A5: PÉNZFORGALMI MÉRLEG
A6: tárgyévi adatok Ft-ban
C8: önként vállalt feladat
A9: Mosonmagyaróvár Térségi Társulás
A10: Megnevezés | B10: eredeti | C10: eredeti | D10: változás | E10: Rovatrend
B11: előirányzat 2016. adatok ezer Ft-ban (!) | C11: előirányzat 2017 adatok Ft-ban | D11: előző évhez képest ezer Ft alapján %-ban | E11: 2015. év
A12: Személyi juttatások | B12: =[1]Társulás!$E$8/1000 -> 500 | C12: =[2]Társulás!$E$9 -> 500000 | D12: =C12/1000/B12 -> 1 | E12: K1 | F12: *
A13: Munkaadót terhelő járulékok | B13: =[1]Társulás!$E$12/1000 -> 256 | C13: =[2]Társulás!$E$13 -> 249000 | D13: =C13/1000/B13 -> 0.97265625 | E13: K2 | F13: *
A14: Dologi és egyéb folyó kiadások | B14: =[1]Társulás!$E$20/1000 -> 11810 | C14: =[2]Társulás!$E$21 -> 11812368 | D14: =C14/1000/B14 -> 1.0002005 | E14: K3 | F14: *
A15: Pénzeszköz átadás, támogatás | B15: =[1]Társulás!$E$25/1000 -> 6340 | C15: =[2]Társulás!$E$26 -> 6340000 | D15: =C15/1000/B15 -> 1 | E15: K5
A16: Felügyelet alá tartozó költségvetési szerv. Támogat. | B16: 485368 | C16: =[2]Társulás!$E$38 -> 583663597 | D16: =C16/1000/B16 -> 1.2025177 | E16: K915
A17: Felhalmozási kiadások | B17: =[1]Társulás!$E$36/1000+150000 -> 151800 | C17: =[2]Társulás!$E$36 -> 235000000 | D17: =C17/1000/B17 -> 1.5480896 | E17: K61-67, K71-74
A18: Hitelek és kölcsönök kiadásai | B18: 0 | C18: 0 | E18: K9111
A19: Pénzforgalmi kiadások | B19: =SUM(B12:B18) -> 656074 | C19: =SUM(C12:C18) -> 837564965 | D19: =C19/1000/B19 -> 1.2766319
A20: Államháztartási tartalék | B20: =[1]Társulás!$E$26/1000 -> 26447.958 | C20: =[2]Társulás!$E$27 -> 21770799 | D20: =C20/1000/B20 -> 0.82315613 | E20: K513
A21: Kiegyenlítő, átfutó, függő kiadás | B21: nem releváns | C21: nem releváns
A22: Kiadások összesen: | B22: =SUM(B19+B20) -> 682521.96 | C22: =SUM(C19+C20) -> 8.5933576e+08 | D22: =C22/1000/B22 -> 1.2590595
A24: Intézményi működési bevételek | B24: =[1]Társulás!$E$71/1000 -> 10091 | C24: =[2]Társulás!$E$72 -> 10090368 | D24: =C24/1000/B24 -> 0.99993737 | E24: B4
A25: Költségvetési visszatérülések | B25: 0 | C25: 0
A26: Felhalmozási és tőke jellegű bevételek, felhalmozási célú pénzeszköz átvételek | B26: 150000 | C26: =[2]Társulás!$E$70 -> 235000000 | D26: =C26/1000/B26 -> 1.5666667 | E26: B21, B25, B52, B72, B73
A27: ebből: sajátos felhalm. és tőkef. | B27: 0 | C27: 0
A28: Támogatások, kiegészítések és átvett pénzeszközök | B28: =[1]Társulás!$E$52/1000+[1]Társulás!$E$53/1000+[1]Társulás!$E$56/1000+[1]Társulás!$E$63/1000 -> 505703.69 | C28: =[2]Társulás!$E$52+[2]Társulás!$E$63+[2]Társulás!$E$53+[2]Társulás!$E$56 -> 604245396 | D28: =C28/1000/B28 -> 1.1948606 | E28: B16, 816
A29: ebből: önkorm. költségvetési tám. | B29: =[1]Társulás!$E$52/1000 -> 317116.1 | C29: ='[2]CSGYK 2016.11.23'!$F$88+'[2]KESZI 2016.12.12.'!$G$101+'[2]KESZI 2016.12.12.'!$G$102+'[2]KESZI 2016.12.12.'!$G$105+'[2]KESZI 2016.12.12.'!$G$106+'[2]KESZI 2016.12.12.'!$G$107+'[2]KESZI 2016.12.12.'!$G$108+'[2]KESZI 2016.12.12.'!$G$109+'[2]KESZI 2016.12.12.'!$G$110+'[2]KESZI 2016.12.12.'!$G$111+'[2]KESZI 2016.12.12.'!$G$112 -> 325301770 | D29: =C29/1000/B29 -> 1.0258128
A30: Felügyeleti szervtől átvett támogatás | B30: 0 | C30: 0
A31: Hitelek, kölcsönök bevételei | B31: 0 | C31: 0 | E31: B8111
A32: Pénzforgalmi bevételek összesen | B32: =SUM(B24+B25+B26+B28+B30+B31) -> 665794.69 | C32: =SUM(C24+C25+C26+C28+C30+C31) -> 849335764
A33: Maradvány felhasználást | B33: =[1]Társulás!$E$72/1000 -> 16726.991 | C33: =[2]Társulás!$E$73 -> 10000000 | D33: =C33/1000/B33 -> 0.59783616
A34: Kiegyenlítő, átfutó, függő bevételek | B34: nem releváns | C34: nem releváns
A35: Bevételek összesen: | B35: =B32+B33 -> 682521.68 | C35: =C32+C33 -> 859335764 | D35: =C35/1000/B35 -> 1.25906
A41: Mosonmagyaróvár, 2017. február 7.

Sheet 5
G1: 5. SZÁMÚ MELLÉKLET
A2: MOSONMAGYARÓVÁR TÉRSÉGI TÁRSULÁS
A3: 2017. ÉVI KÖLTSÉGVETÉSI HATOZATÁHOZ
A5: Kiadások és Bevételek működési egyensúlya
A6: 2017. év terv
A7: adatok Ft-ban
A8: Működési kiadások Ft
A10: Intézmény megnevezése | B10: Személyi juttatások | C10: Járulékok | D10: Dologi kiadások | E10: Ellátottak juttatása | F10: Tartalékképzés | G10: Átadott pénzeszközök működési | H10: Összesen
A11: Kistérségi Egyesített Szociális Intézmény | B11: ='2B'!C12 -> 406705000 | C11: ='2B'!C13 -> 98000400 | D11: ='2B'!C14 -> 193270000 | E11: ='2B'!C15 -> 850000 | F11: 0 | G11: 0 | H11: =SUM(B11:G11) -> 698825400
A12: Család és Gyermekjóléti Központ | B12: ='2C'!C12 -> 141381508 | C12: ='2C'!C13 -> 32227057 | D12: ='2C'!C14 -> 26640000 | E12: ='2C'!C15 -> 420000 | F12: 0 | G12: 0 | H12: =SUM(B12:G12) -> 200668565
A13: Mosonmagyaróvár Térségi Társulás | B13: ='2D'!C12 -> 500000 | C13: ='2D'!C13 -> 249000 | D13: ='2D'!C14 -> 11812368 | E13: 0 | F13: ='2D'!C20 -> 21770799 | G13: ='2D'!C15 -> 6340000 | H13: =SUM(B13:G13) -> 40672167
A14: Mindösszesen: | B14: =SUM(B11:B13) -> 548586508 | C14: =SUM(C11:C13) -> 130476457 | D14: =SUM(D11:D13) -> 231722368 | E14: =SUM(E11:E13) -> 1270000 | F14: =SUM(F11:F13) -> 21770799 | G14: =SUM(G11:G13) -> 6340000 | H14: =SUM(H11:H13) -> 9.4016613e+08
A16: Működési bevételek Ft
A18: Intézmény megnevezése | B18: Intézmény saját bevételei | C18: Állami támogatás | D18: MÖK támogatás | E18: Egyéb támogatás értékű műk. bevétel | F18: Feladatfinanszírozás | G18: Maradvány felhasználás | H18: Összesen
A19: Kistérségi Egyesített Szociális Intézmény | B19: ='2B'!C22 -> 273830368 | C19: ='[2]KESZI 2016.12.12.'!$G$124 -> 240385295 | D19: =[2]Társulás!$E$55 -> 78493074 | E19: ='[2]KESZI 2016.12.12.'!$G$125+'[2]KESZI 2016.12.12.'!$G$126-7102583 -> 52665879 | F19: ='[2]KESZI 2016.12.12.'!$G$113 -> 17450784 | G19: ='2B'!C30 -> 36000000 | H19: =SUM(B19:G19) -> 698825400
A20: Család és Gyermekjóléti Központ | B20: ='2C'!C22 -> 3000000 | C20: ='[2]CSGYK 2016.11.23'!$F$88 -> 84916475 | D20: =[2]Társulás!$E$54 -> 78217295 | E20: ='[2]CSGYK 2016.11.23'!$F$104+'[2]CSGYK 2016.11.23'!$F$105 -> 31534795 | F20: 0 | G20: ='2C'!C30 -> 3000000 | H20: =SUM(B20:G20) -> 200668565
A21: Mosonmagyaróvár Térségi Társulás | B21: ='2D'!C24 -> 10090368 | C21: 0 | D21: 0 | E21: =40672167-20090368 -> 20581799 | F21: 0 | G21: ='2D'!C33 -> 10000000 | H21: =SUM(B21:G21) -> 40672167
A22: Mindösszesen: | B22: =SUM(B19:B21) -> 286920736 | C22: =SUM(C19:C21) -> 325301770 | D22: =SUM(D19:D21) -> 156710369 | E22: =SUM(E19:E21) -> 104782473 | F22: =SUM(F19:F21) -> 17450784 | G22: =SUM(G19:G21) -> 49000000 | H22: =SUM(H19:H21) -> 940166132
A24: Felhalmozási kiadások Ft | E24: Felhalmozási bevételek Ft
A25: Intézmény megnevezése | B25: Felhalmozási kiadások | C25: Összesen | E25: Intézmény megnevezése | F25: Maradvány felhasználás/ támogatás | G25: Összesen
A26: Kistérségi Egyesített Szociális Intézmény | B26: 0 | C26: 0 | E26: Kistérségi Egyesített Szociális Intézmény | F26: 0 | G26: 0
A27: Család és Gyermekjóléti Központ | B27: 0 | C27: 0 | E27: Család és Gyermekjóléti Központ | F27: 0 | G27: 0
A28: Mosonmagyaróvár Térségi Társulás | B28: 235000000 | C28: =B28 -> 235000000 | E28: Mosonmagyaróvár Térségi Társulás | F28: 235000000 | G28: =F28 -> 235000000
A29: Mindösszesen: | B29: =SUM(B26:B28) -> 235000000 | C29: =SUM(C26:C28) -> 235000000 | E29: Mindösszesen: | F29: =SUM(F26:F28) -> 235000000 | G29: =SUM(G26:G28) -> 235000000
A34: Mosonmagyaróvár, 2017. február 7.

Sheet 3
H1: 3. SZÁMÚ MELLÉKLET
A3: MOSONMAGYARÓVÁR TÉRSÉGI TÁRSULÁS
A4: 2017. ÉVI KÖLTSÉGVETÉSI HATOZATÁHOZ
A6: Kiadások összefoglalása
A7: 2017. év terv
A8: adatok ezer Ft-ban
A10: Tervezett kiadások összesítése ezer Ft
A12: Intézmény megnevezése | B12: Személyi juttatások | C12: Járulékok | D12: Dologi kiadások | E12: Ellátottak juttatása | F12: Tartalékképzés | G12: Átadott pénzeszközök működési | H12: Felhalmozási kiadások | I12: Összesen
A13: Kistérségi Egyesített Szociális Intézmény | B13: ='2B'!C12 -> 406705000 | C13: ='2B'!C13 -> 98000400 | D13: ='2B'!C14 -> 193270000 | E13: ='2B'!C15 -> 850000 | F13: 0 | G13: 0 | H13: ='2B'!C16 -> 0 | I13: =SUM(B13:H13) -> 698825400
A14: Család és Gyermekjóléti Központ | B14: ='2C'!C12 -> 141381508 | C14: ='2C'!C13 -> 32227057 | D14: ='2C'!C14 -> 26640000 | E14: ='2C'!C15 -> 420000 | F14: 0 | G14: 0 | H14: 0 | I14: =SUM(B14:H14) -> 200668565
A15: Mosonmagyaróvár Térségi Társulás | B15: ='2D'!C12 -> 500000 | C15: ='2D'!C13 -> 249000 | D15: ='2D'!C14 -> 11812368 | E15: 0 | F15: ='2D'!C20 -> 21770799 | G15: ='2D'!C15 -> 6340000 | H15: 235000000 | I15: =SUM(B15:H15) -> 2.7567217e+08
A16: Mindösszesen: | B16: =SUM(B13:B15) -> 548586508 | C16: =SUM(C13:C15) -> 130476457 | D16: =SUM(D13:D15) -> 231722368 | E16: =SUM(E13:E15) -> 1270000 | F16: =SUM(F13:F15) -> 21770799 | G16: =SUM(G13:G15) -> 6340000 | H16: =SUM(H13:H15) -> 235000000 | I16: =SUM(I13:I15) -> 1.1751661e+09
A20: Mosonmagyaróvár, 2017. február 7.

Sheet 4
I1: 4. SZÁMÚ MELLÉKLET
A3: MOSONMAGYARÓVÁR TÉRSÉGI TÁRSULÁS
A4: 2017. ÉVI KÖLTSÉGVETÉSI HATOZATÁHOZ
A6: Bevételek összefoglalása
A7: 2017. év terv
A8: adatok ezer Ft-ban
A10: Tervezett bevételek összesítése ezer Ft
A12: Intézmény megnevezése | B12: Intézmény saját bevételei | C12: Állami támogatás | D12: MÖK támogatás | E12: Egyéb támogatás értékű műk. bevétel | F12: TOP-s pályázatok bevételi forrása | G12: Feladatfinanszírozás | H12: Társulási támogatás | I12: Maradvány felhasználás | J12: Összesen
A13: Kistérségi Egyesített Szociális Intézmény | B13: ='2B'!C22 -> 273830368 | C13: ='2B'!C37+'2B'!C38+'2B'!C39+'2B'!C40+'2B'!C41+'2B'!C42+'2B'!C43+'2B'!C44+'2B'!C47 -> 282702973 | D13: ='2B'!C45 -> 78493074 | F13: 0 | G13: ='2B'!C46 -> 17450784 | H13: ='2B'!C48 -> 10348201 | I13: ='2B'!C30 -> 36000000 | J13: =SUM(B13:I13) -> 698825400
A14: Család és Gyermekjóléti Központ | B14: ='2C'!C22 -> 3000000 | C14: =79200000+'2C'!C38+'2C'!C41 -> 108718770 | D14: ='2C'!C39 -> 78217295 | E14: ='2C'!C25 -> 0 | F14: 0 | G14: 0 | H14: ='2C'!C40 -> 7732500 | I14: ='2C'!C30 -> 3000000 | J14: =SUM(B14:I14) -> 200668565
A15: Mosonmagyaróvár Térségi Társulás | B15: ='2D'!C24 -> 10090368 | C15: 0 | E15: =[2]Társulás!$E$63-1743201 -> 20581799 | F15: 235000000 | G15: 0 | I15: ='2D'!C33 -> 10000000 | J15: =SUM(B15:I15) -> 275672167
A16: Mindösszesen: | B16: =SUM(B13:B15) -> 286920736 | C16: =SUM(C13:C15) -> 391421743 | D16: =SUM(D13:D15) -> 156710369 | E16: =SUM(E13:E15) -> 20581799 | F16: =SUM(F13:F15) -> 235000000 | G16: =SUM(G13:G15) -> 17450784 | H16: =SUM(H13:H15) -> 18080701 | I16: =SUM(I13:I15) -> 49000000 | J16: =SUM(J13:J15) -> 1175166132
A20: Mosonmagyaróvár, 2017. február 7.

Sheet 6
B1: 6. SZÁMÚ MELLÉKLET
A5: MOSONMAGYARÓVÁR TÉRSÉGI TÁRSULÁS
A6: 2017. ÉVI KÖLTSÉGVETÉSI HATÁROZATÁHOZ
A9: A Mosonmagyaróvár Térségi Társulás által tervezett átvett
A10: támogatások
A12: Átadó megnevezése | B12: Átadás célja | C12: Összege ezer Ft-ban
A13: Magyar Államkincstár | B13: Állami támogatással finanszírozott feladatok ellátásra (kiegészítő ágazati pótlékkal együtt) | C13: ='4'!C16 -> 391421743
A14: Nemzeti Rehabilitációs és Szociális Hivatal | B14: Szociális foglalkoztatás feladatalapú finanszírozása (gesztor önkormányzaton keresztül) | C14: =[2]Társulás!$E$57 -> 17450784
A15: Nemzeti Rehabilitációs és Szociális Hivatal | B15: Jelzőrendszer támogatása (Térségi Társuláson keresztül, KESZI intézménye által kiállított számla szerint) | C15: ='[2]KESZI 2016.12.12.'!$G$97 -> 10090368
A16: Mosonmagyaróvár Város Önkormányzata | B16: Kistérségi Egyesített Szociális Intézmény működésének támogatása (tagdíjon kívül) | C16: ='4'!D13 -> 78493074
A17: Mosonmagyaróvár Város Önkormányzata | B17: Család és Gyermekjóléti Központ működésének támogatása (tagdíjon kívül) | C17: ='4'!D14 -> 78217295
A18: Település önkormányzatok (magába foglalja gesztor önkormányzat támogatását is) | B18: Család és Gyermekjóléti Központ működésének támogatása | C18: =[2]Társulás!$E$60+[2]Társulás!$E$66 -> 4160500
A19: Település önkormányzatok (magába foglalja gesztor önkormányzat támogatását is) | B19: Térségi tagdíj, felújítási alap, szolidaritási alap, orvosi gép- műszer beszerzés támogatása | C19: =[2]Társulás!$E$58+[2]Társulás!$E$59+[2]Társulás!$E$61+[2]Társulás!$E$62+[2]Társulás!$E$64+[2]Társulás!$E$65+[2]Társulás!$E$67+[2]Társulás!$E$68 -> 34502000
A20: Összesen: | C20: =SUM(C13:C19) -> 614335764
B21: 1. oldal
A23: A Mosonmagyaróvár Térségi Társulás által tervezett átadandó
A24: támogatások
A26: Átvevő megnevezése | B26: Támogatás célja | C26: Összege ezer Ft-ban
A27: Mosonmagyaróvári Polgármesteri Hivatal | B27: Társulási feladatok ellátására hozzájárulás | C27: =[2]Társulás!$E$23 -> 3600000
A28: Civil szervezet számára Tanács döntése alapján | B28: Társulás által átadandó pénzeszköz | C28: =[2]Társulás!$E$24 -> 900000
A29: Karolina Kórház - Rendelőintézet | B29: Orvosi gép-, műszer beszerzés támogatása | C29: =[2]Társulás!$E$25 -> 1840000
A30: Család és Gyermekjóléti Központ | B30: Működési támogatás, mely tartalmazza normatív állami támogatást, feladatalapú támogatást, MÖK támogatást, társulási támogatást | C30: ='2C'!C27 -> 194668565
A31: Kistérségi Egyesített Szociális Intézet | B31: Működési támogatás, mely tartalmazza normatív állami támogatást, feladatalapú támogatást, MÖK támogatást, társulási támogatást | C31: ='2B'!C27 -> 388995032
A32: Kistérségi Egyesített Szociális Intézet | B32: Jelzőrendszer működési hozzájárulás (nem tényleges támogatás továbbszámlázott szolgáltatás bevételeként jelenik meg szerződés szerint) | C32: =C15 -> 10090368
A33: Család és Gyermekjóléti Központ | B33: Jubileumi jutalomra, felmentési bérre átadandó | C33: =[2]Társulás!$E$32 -> 1098541.7
A34: Kistérségi Egyesített Szociális Intézet | B34: Jubileumi jutalomra, felmentési bérre átadandó | C34: =[2]Társulás!$E$33 -> 7480879
A35: Összesen: | C35: =SUM(C27:C34) -> 6.0867339e+08
B36: 2. oldal
A38: Mosonmagyaróvár, 2017. február 7.

Sheet 7
M1: 7. SZÁMÚ MELLÉKLET
A5: MOSONMAGYARÓVÁR TÉRSÉGI TÁRSULÁS
A6: 2017. ÉVI KÖLTSÉGVETÉSI HATOZATÁHOZ
A8: Mosonmagyaróvári Többcélú Kistérségi Társulás Tanácsa
A9: likviditási ütemterve 2017. év ezer Ft-ban
A11: Havi bontás | B11: január | C11: február | D11: március | E11: április | F11: május | G11: június | H11: július | I11: augusztus | J11: szeptember | K11: október | L11: november | M11: december | N11: összesen
A12: Kiadásnem
A13: Személyi juttatás | B13: 0 | C13: 0 | D13: 0 | E13: 0 | F13: 0 | G13: 250000 | H13: 0 | I13: 0 | J13: 0 | K13: 0 | L13: 0 | M13: 250000 | N13: ='2D'!C12 -> 500000
A14: Járulékok | B14: 0 | C14: 0 | D14: 0 | E14: 0 | F14: 0 | G14: 124500 | H14: 0 | I14: 0 | J14: 0 | K14: 0 | L14: 0 | M14: 124500 | N14: ='2D'!C13 -> 249000
A15: Dologi kiadások | B15: 143296 | C15: 143296 | D15: 2665000 | E15: 143296 | F15: 143296 | G15: 2665000 | H15: 143296 | I15: 143296 | J15: 2665000 | K15: 143296 | L15: 143296 | M15: 2671000 | N15: ='2D'!C14 -> 11812368
A16: Támogatások | B16: 0 | C16: 0 | D16: 0 | E16: 1800000 | F16: 900000 | G16: 1840000 | H16: 0 | I16: 0 | J16: 0 | K16: 1800000 | L16: 0 | M16: 0 | N16: ='2D'!C15 -> 6340000
A17: Beruházási kiadás | B17: 0 | C17: 0 | D17: 0 | E17: 0 | F17: 0 | G17: 0 | H17: 0 | I17: 35000000 | J17: 100000000 | K17: 0 | L17: 100000000 | M17: 0 | N17: =SUM(B17:M17) -> 235000000
A18: Tartalékképzés | B18: 0 | C18: 0 | D18: 0 | E18: 0 | F18: 0 | G18: 0 | H18: 0 | I18: 0 | J18: 0 | K18: 0 | L18: 0 | M18: 21770799 | N18: ='2D'!C20 -> 21770799
A19: Kiadások összesen | B19: =SUM(B13:B18) -> 143296 | C19: =SUM(C13:C18) -> 143296 | D19: =SUM(D13:D18) -> 2665000 | E19: =SUM(E13:E18) -> 1943296 | F19: =SUM(F13:F18) -> 1043296 | G19: =SUM(G13:G18) -> 4879500 | H19: =SUM(H13:H18) -> 143296 | I19: =SUM(I13:I18) -> 35143296 | ... N19: =SUM(N13:N18) -> 2.7567217e+08
A21: Havi bontás | B21: január | C21: február | D21: március | E21: április | F21: május | G21: június | H21: július | I21: augusztus | J21: szeptember | K21: október | L21: november | M21: december | N21: összesen
A22: Bevétel
A23: Intézményi működési bevétel | B23: 0 | C23: 0 | D23: 2522592 | E23: 0 | F23: 0 | G23: 2522592 | H23: 0 | I23: 0 | J23: 2522592 | K23: 0 | L23: 0 | M23: 2522592 | N23: ='2D'!C24 -> 10090368
A24: Állami támogatás | B24: 0 | C24: 0 | D24: 0 | E24: 0 | F24: 0 | G24: 0 | H24: 0 | I24: 0 | J24: 0 | K24: 0 | L24: 0 | M24: 0 | N24: 0
A25: Egyéb támogatás | B25: 0 | C25: 0 | D25: 10000000 | E25: 0 | F25: 0 | G25: 0 | H25: 0 | I25: 0 | J25: 0 | K25: =N25-D25 -> 10584799 | L25: 0 | M25: 0 | N25: =N28-N23-N27-N26 -> 20584799
A26: Felhalmozási projekt bevétel | B26: 0 | C26: 0 | D26: 0 | E26: 0 | F26: 0 | G26: 0 | H26: 35000000 | I26: 0 | J26: 100000000 | K26: 0 | L26: 100000000 | M26: 0 | N26: =SUM(B26:M26) -> 235000000
A27: Pénzmaradvány felhasználás | B27: 143296 | C27: 143296 | D27: 0 | E27: 0 | F27: 0 | K27: 0 | L27: 0 | M27: =N27-B27-C27 -> 9713408 | N27: ='2D'!C33 -> 10000000
A28: Bevételek összesen | B28: =SUM(B23:B27) -> 143296 | C28: =SUM(C23:C27) -> 143296 | D28: =SUM(D23:D27) -> 12522592 | E28: =SUM(E23:E27) -> 0 | F28: =SUM(F23:F27) -> 0 | G28: =SUM(G23:G27) -> 2522592 | H28: =SUM(H23:H27) -> 35000000 | I28: =SUM(I23:I27) -> 0 | ... M28: =SUM(M23:M27) -> 12236000 | N28: 275675167
A30: 1. oldal
A32: MOSONMAGYARÓVÁR TÉRSÉGI TÁRSULÁS
A33: 2017. ÉVI KÖLTSÉGVETÉSI HATOZATÁHOZ
A35: Család és Gyermekjóléti Központ
A36: likviditási ütemterve 2017. év ezer Ft-ban
A38: Havi bontás | B38: január | C38: február | D38: március | E38: április | F38: május | G38: június | H38: július | I38: augusztus | J38: szeptember | K38: október | L38: november | M38: december | N38: összesen
A39: Kiadásnem
A40: Személyi juttatás | B40: 10875500 | C40: 10875500 | D40: 10875500 | E40: 10875500 | F40: 10875500 | G40: =10875500+5437750 -> 16313250 | H40: 10875500 | I40: 10875500 | J40: =10875500+5437750+8 -> 16313258 | K40: 10875500 | L40: 10875500 | M40: 10875500 | N40: ='2C'!C12 -> 141381508
A41: Járulékok | B41: =B40*0.27-500000 -> 2436385 | C41: =C40*0.27-500000 -> 2436385 | D41: =D40*0.27-500000 -> 2436385 | E41: =E40*0.27-500000 -> 2436385 | F41: =F40*0.27-500000 -> 2436385 | G41: =G40*0.27-500000+54049 -> 3958626.5 | H41: =H40*0.27-500000 -> 2436385 | I41: =I40*0.27-500000 -> 2436385 | J41: =J40*0.27-500000 -> 3904579.7 | K41: =K40*0.27-500000 -> 2436385 | L41: =L40*0.27-500000 -> 2436385 | M41: =M40*0.27-500000 -> 2436385 | N41: ='2C'!C13 -> 32227057
A42: Dologi kiadások | B42: 2220000 | C42: 2220000 | D42: 2220000 | E42: 2220000 | F42: 2220000 | G42: 2220000 | H42: 2220000 | I42: =2220000-220000 -> 2000000 | J42: =2220000-405000 -> 1815000 | K42: 2220000 | L42: 2220000 | M42: =2220000+220000+405000 -> 2845000 | N42: ='2C'!C14 -> 26640000
A43: Támogatások | B43: 35000 | C43: 35000 | D43: 35000 | E43: 35000 | F43: 35000 | G43: 35000 | H43: 35000 | I43: 35000 | J43: 35000 | K43: 35000 | L43: 35000 | M43: 35000 | N43: ='2C'!C15 -> 420000
A44: Beruházási kiadás | N44: 0
A45: Kiadások összesen | B45: =SUM(B40:B44) -> 15566885 | C45: =SUM(C40:C44) -> 15566885 | D45: =SUM(D40:D44) -> 15566885 | E45: =SUM(E40:E44) -> 15566885 | F45: =SUM(F40:F44) -> 15566885 | G45: =SUM(G40:G44) -> 22526876 | H45: =SUM(H40:H44) -> 15566885 | I45: =SUM(I40:I44) -> 15346885 | ... N45: =SUM(N40:N44) -> 200668565
A47: Havi bontás | B47: január | C47: február | D47: március | E47: április | F47: május | G47: június | H47: július | I47: augusztus | J47: szeptember | K47: október | L47: november | M47: december | N47: összesen
A48: Bevétel
A49: Intézményi működési bevétel | B49: 250000 | C49: 250000 | D49: 250000 | E49: 250000 | F49: 250000 | G49: 250000 | H49: 250000 | I49: 250000 | J49: 250000 | K49: 250000 | L49: 250000 | M49: 250000 | N49: ='2C'!C22 -> 3000000
A50: Állami támogatás | B50: 8362900 | C50: 8362900 | D50: 8362900 | E50: 8362900 | F50: 8362900 | G50: =8362900+4181491 -> 12544391 | H50: 8362900 | I50: 8362900 | J50: =8362900+4181491+988 -> 12545379 | K50: 8362900 | L50: 8362900 | M50: 8362900 | N50: ='4'!C14 -> 108718770
A51: Egyéb támogatás | B51: 7162000 | C51: 7162000 | D51: 7162000 | E51: 7162000 | F51: 7162000 | G51: 7162000 | H51: =7162000-1670000 -> 5492000 | I51: 7162000 | J51: =7162000+5795+1670000 -> 8837795 | K51: 7162000 | L51: 7162000 | M51: 7162000 | N51: ='4'!D14+'4'!H14 -> 85949795
...

Sheet 8
C1: 8. számú melléklet
A3: Mosonmagyaróvár Térségi Társulás
A4: és felügyelete alá tartozó költségvetési szerv
A5: 2017. évi költségvetéséről szóló határozatához
A7: Költségvetési engedélyzett létszámhely
B9: adatok: fő-ben
A10: Megnevezés | B10: 2016. január 1. | C10: 2017. január 1. | D10: Közfoglalkoztatottak átlagos létszáma
A11: (intézmény, szakfeladat, stb.) | B11: engedélyezett | C11: engedélyezett
B12: létszámhely | C12: létszámhely
A13: Család és Gyermekjóléti Központ | B13: =SUM(B14:B16) -> 43 | C13: =SUM(C14:C16) -> 46 | D13: 0
A14: GyÁÓ | B14: 8 | C14: 8 | D14: 0
A15: Család- és Gyermekjóléti Szolgálat | B15: 16 | C15: 21 | D15: 0
A16: Család- és Gyermekjóléti Központ Hatósági és Speciális Munkacsoporot | B16: 19 | C16: 17 | D16: 0
A17: Kistérségi Egyesített Szociális Intézet | B17: =SUM(B18:B27) -> 141 | C17: =SUM(C18:C27) -> 146 | D17: =SUM(D18:D27) -> 0
A18: Aranykor, kp.-i irányítás | B18: 43 | C18: 47 | D18: 0
A19: Gondozóház, főzőkonyha | B19: 28 | C19: 29 | D19: 0
A20: Hajléktalanok Átmeneti Szállása | B20: 6 | C20: 7 | D20: 0
A21: Idősek klubja | B21: 16 | C21: 15 | D21: 0
A22: FÉNI | B22: 7 | C22: 6 | D22: 0
A23: Nappali melegedő | B23: 2 | C23: 2 | D23: 0
A24: Szociális étkezés | B24: 4 | C24: 1 | D24: 0
A25: Házi segítségnyújtás | B25: 30 | C25: 34 | D25: 0
A26: Jelzőrendszer | B26: 1 | C26: 1 | D26: 0
A27: Szoc. foglalkoztatás | B27: 4 | C27: 4 | D27: 0
A28: Mosonmagyaróvár Térségi Társulás | B28: 0 | C28: 0 | D28: 0
A29: Összesen: | B29: =SUM(B13+B17+B28) -> 184 | C29: =SUM(C13+C17+C28) -> 192 | D29: =SUM(D13+D17+D28) -> 0
A31: Mosonmagyaróvár, 2017. február 7.

Sheet 9
B1: 9. számú melléklet
A2: Mosonmagyaróvár Térségi Társulás
A4: Állami támogatások
A6: Kistérségi Egyesített Szociális Intézmény
A7: Rovat: B113
A8: Jogcím | B8: Feladat | C8: Fajlagos támogatás 2016. évi XC. tv. Alapján | D8: mutató | E8: Eredeti előirányzat
A9: 3.c. | B9: Szociális étkeztetés | C9: 60896 | D9: 410 | E9: =SUM(D9*C9) -> 24967360
A10: 3.d. | B10: Házi segítségnyújtás | C10: 273000 | D10: 153 | E10: =SUM(D10*C10) -> 41769000
A11: 3.f. | B11: Időskorúak nappali int. ellátása | C11: 163500 | D11: 45 | E11: =SUM(D11*C11) -> 7357500
A12: 3.g. | B12: Fogyatékos személyek napp. int. ellátása | C12: 550000 | D12: 11 | E12: =SUM(D12*C12) -> 6050000
A13: 3.g. | B13: Foglalkoztatási támogatásban rész. fogy. | C13: 220000 | D13: 17 | E13: =SUM(D13*C13) -> 3740000
A14: 3.g. | B14: Demens szem. napp. int. ellátása | C14: 550000 | D14: 21 | E14: =SUM(D14*C14) -> 11550000
A15: 3.i. | B15: Hajléktalanik napp. int. ellátása | C15: 247320 | D15: 36 | E15: =SUM(D15*C15) -> 8903520
A16: 3.k. | B16: Hajléktalanok Átmeneti Szállása | C16: 515185 | D16: 38 | E16: =SUM(D16*C16) -> 19577030
A17: 4.a. | B17: Bértámogatás | C17: 2606040 | D17: 26 fő | E17: 82888885
A18: 4.b. | B18: Intézmény-üzemeltetési támogatás | E18: 33582000
B19: Összesen | E19: =SUM(E9:E18) -> 240385295
A21: Család és Gyermekjóléti Központ
A22: Jogcím | B22: Feladat | C22: Fajlagos támogatás 2016. évi XC. tv. Alapján | D22: mutató | E22: Eredeti előirányzat
A23: 3.a. | B23: Család és gyermekjóléti szolgálat | C23: 3000000 Ft/mutató | D23: 15.6 | E23: 46800000
A24: 3.b | B24: Család és gyermekjóléti központ | C24: 3000000 Ft/mutató | D24: 10.8 | E24: 32400000
A25: 4.a | B25: GyÁÓ bértámogatás | D25: 8 fő | E25: 5716475
B26: Összesen: | E26: =SUM(E23:E25) -> 84916475
B28: Mindösszesen | E28: =E19+E26 -> 325301770
A30: Mosonmagyaróvár, 2017. február 7.
