Workbook

Sheet címrend
B1: 1. SZÁMÚ MELLÉKLET
A5: MOSONMAGYARÓVÁR TÉRSÉGI TÁRSULÁS
A6: 2015. ÉVI KÖLTSÉGVETÉSI HATÁROZATÁHOZ
A11: A Mosonmagyaróvár Térségi Társulás és irányítása alá tartozó költségvetési szervek
A12: 2015. évi költségvetéséről szóló 2/2015. (II.17.) TT. határozatot
A13: végrehajtásáról szóló …/2016. (IV. 19.) TT. határozat
A15: CÍMRENDJÉT
A16: az alábbiak szerint állapítja meg:
A21: Címszám | B21: Megnevezés
A22: 1. | B22: Mosonmagyaróvár Térségi Társulás
A23: 2. | B23: Kistérségi Egyesített Szociális Intézmény
A24: 3. | B24: Kistérségi Gyermekjóléti és Családsegítő Szolgáltató Központ

Sheet összevont ktg.mérleg
B1: 2./A SZÁMÚ MELLÉKLET
A3: MOSONMAGYARÓVÁR TÉRSÉGI TÁRSULÁS
A4: 2015. ÉVI KÖLTSÉGVETÉSI HATÁROZATÁHOZ
A5: PÉNZFORGALMI MÉRLEG
A6: adatok ezer Ft-ban
A8: MOSONMAGYARÓVÁRI TÖBBCÉLÚ KISTÉRSÉGI TÁRSULÁS ÉS KÖLTSÉGVETÉSI SZERVEI | D8: kötelező | E8: önként | G8: kötelező | H8: önként | J8: kötelező | K8: önként | M8: kötelező | N8: önként | P8: kötelező | Q8: önként
A9: Megnevezés | B9: eredeti | C9: eredeti | D9: eredeti | E9: eredeti | F9: módosított | G9: módosított | H9: módosított | I9: módosított | J9: módosított | K9: módosított | L9: módosított | M9: módosított | N9: módosított | O9: Teljesítés | P9: Teljesítés | Q9: Teljesítés | R9: Rovatrend
B10: előirányzat 2014. | C10: előirányzat 2015. | D10: előirányzat 2015. | E10: előirányzat 2015. | F10: előirányzat 2015.07.31 | G10: előirányzat 2015.07.31 | H10: előirányzat 2015.07.31 | I10: előirányzat 2015.09.30 | J10: előirányzat 2015.09.30 | K10: előirányzat 2015.09.31 | L10: előirányzat 2015.12.31 | M10: előirányzat 2015.12.31 | N10: előirányzat 2015.12.31 | R10: 2015. év
A11: Személyi juttatások | B11: ='KESZI ktg. mérleg'!B12+'KGYCSSZK ktg. mérleg'!B12+'társulás ktg. mérleg'!B12 -> 363679.31 | C11: ='KESZI ktg. mérleg'!C12+'KGYCSSZK ktg. mérleg'!B12+'társulás ktg. mérleg'!B12 -> 385136.31 | D11: =SUM(C11-E11) -> 384136.31 | E11: ='társulás ktg. mérleg'!B12 -> 1000 | F11: ='KESZI ktg. mérleg'!D12+'KGYCSSZK ktg. mérleg'!C12+'társulás ktg. mérleg'!C12 -> 396602 | G11: =F11-H11 -> 395602 | H11: ='társulás ktg. mérleg'!C12 -> 1000 | I11: ='KESZI ktg. mérleg'!E12+'KGYCSSZK ktg. mérleg'!D12+'társulás ktg. mérleg'!D12 -> 413848 | J11: =I11-K11 -> 412848 | K11: 1000 | L11: ='KESZI ktg. mérleg'!F12+'KGYCSSZK ktg. mérleg'!E12+'társulás ktg. mérleg'!E12 -> 420421 | M11: ='KESZI ktg. mérleg'!F12+'KGYCSSZK ktg. mérleg'!E12 -> 419421 | N11: =L11-M11 -> 1000 | O11: ='KESZI ktg. mérleg'!G12+'KGYCSSZK ktg. mérleg'!F12+'társulás ktg. mérleg'!F12 -> 391796 | P11: ='KESZI ktg. mérleg'!G12+'KGYCSSZK ktg. mérleg'!F12 -> 391606 | Q11: =O11-P11 -> 190 | R11: K1
A12: Munkaadót terhelő járulékok | B12: ='KESZI ktg. mérleg'!B13+'KGYCSSZK ktg. mérleg'!B13+'társulás ktg. mérleg'!B13 -> 94973.752 | C12: ='KESZI ktg. mérleg'!C13+'KGYCSSZK ktg. mérleg'!B13+'társulás ktg. mérleg'!B13 -> 102784.75 | D12: =SUM(C12-E12) -> 102273.05 | E12: ='társulás ktg. mérleg'!B13 -> 511.7 | F12: ='KESZI ktg. mérleg'!D13+'KGYCSSZK ktg. mérleg'!C13+'társulás ktg. mérleg'!C13 -> 105085.7 | G12: =F12-H12 -> 104574 | H12: ='társulás ktg. mérleg'!C13 -> 511.7 | I12: ='KESZI ktg. mérleg'!E13+'KGYCSSZK ktg. mérleg'!D13+'társulás ktg. mérleg'!D13 -> 109715 | J12: =I12-K12 -> 109203 | K12: 512 | L12: ='KESZI ktg. mérleg'!F13+'KGYCSSZK ktg. mérleg'!E13+'társulás ktg. mérleg'!E13 -> 106310 | M12: ='KESZI ktg. mérleg'!F13+'KGYCSSZK ktg. mérleg'!E13 -> 105798 | N12: =L12-M12 -> 512 | O12: ='KESZI ktg. mérleg'!G13+'KGYCSSZK ktg. mérleg'!F13+'társulás ktg. mérleg'!F13 -> 104035 | P12: ='KESZI ktg. mérleg'!G13+'KGYCSSZK ktg. mérleg'!F13 -> 103947 | Q12: =O12-P12 -> 88 | R12: K2
A13: Dologi és egyéb folyó kiadások | B13: ='KESZI ktg. mérleg'!B14+'KGYCSSZK ktg. mérleg'!B14+'társulás ktg. mérleg'!B14 -> 231544.3 | C13: ='KESZI ktg. mérleg'!C14+'KGYCSSZK ktg. mérleg'!B14+'társulás ktg. mérleg'!B14 -> 220124.3 | D13: =SUM(C13-E13) -> 207303 | E13: ='társulás ktg. mérleg'!B14 -> 12821.3 | F13: ='KESZI ktg. mérleg'!D14+'KGYCSSZK ktg. mérleg'!C14+'társulás ktg. mérleg'!C14 -> 226748 | G13: =F13-H13 -> 208567 | H13: ='társulás ktg. mérleg'!C14 -> 18181 | I13: ='KESZI ktg. mérleg'!E14+'KGYCSSZK ktg. mérleg'!D14+'társulás ktg. mérleg'!D14 -> 225629 | J13: =I13-K13 -> 208905 | K13: 16724 | L13: ='KESZI ktg. mérleg'!F14+'KGYCSSZK ktg. mérleg'!E14+'társulás ktg. mérleg'!E14 -> 229839 | M13: ='KESZI ktg. mérleg'!F14+'KGYCSSZK ktg. mérleg'!E14 -> 208022 | N13: =L13-M13 -> 21817 | O13: ='KESZI ktg. mérleg'!G14+'KGYCSSZK ktg. mérleg'!F14+'társulás ktg. mérleg'!F14 -> 211119 | P13: ='KESZI ktg. mérleg'!G14+'KGYCSSZK ktg. mérleg'!F14 -> 200960 | Q13: =O13-P13 -> 10159 | R13: K3
A14: Ellátottak pénzbeli juttatásai | C14: ='KESZI ktg. mérleg'!C15+'KGYCSSZK ktg. mérleg'!B15 -> 1120 | D14: ='KESZI ktg. mérleg'!D15+'KGYCSSZK ktg. mérleg'!C15 -> 1120 | E14: 0 | F14: ='KESZI ktg. mérleg'!D15+'KGYCSSZK ktg. mérleg'!C15 -> 1120 | G14: 0 | H14: 0 | I14: 1120 | J14: =I14-K14 -> 1120 | K14: 0 | L14: ='KESZI ktg. mérleg'!F15+'KGYCSSZK ktg. mérleg'!E15 -> 1270 | M14: ='KESZI ktg. mérleg'!F15+'KGYCSSZK ktg. mérleg'!E15 -> 1270 | N14: =L14-M14 -> 0 | O14: ='KESZI ktg. mérleg'!G15+'KGYCSSZK ktg. mérleg'!F15 -> 1162 | P14: ='KESZI ktg. mérleg'!G15+'KGYCSSZK ktg. mérleg'!F15 -> 1162 | Q14: =O14-P14 -> 0 | R14: K4
A15: Pénzeszköz átadás, támogatás | B15: ='KESZI ktg. mérleg'!B15+'KGYCSSZK ktg. mérleg'!B15+'társulás ktg. mérleg'!B15 -> 7117 | C15: ='társulás ktg. mérleg'!B15 -> 6127 | D15: =SUM(C15-E15) -> 0 | E15: ='társulás ktg. mérleg'!B15 -> 6127 | F15: ='társulás ktg. mérleg'!C15 -> 8247 | G15: =F15-H15 -> 0 | H15: ='társulás ktg. mérleg'!C15 -> 8247 | I15: 7584 | J15: =I15-K15 -> 0 | K15: 7584 | L15: ='KESZI ktg. mérleg'!F16+'KGYCSSZK ktg. mérleg'!E16+'társulás ktg. mérleg'!E15-2632 -> 7584 | M15: 0 | N15: =L15-M15 -> 7584 | O15: ='KESZI ktg. mérleg'!G16+'KGYCSSZK ktg. mérleg'!F16+'társulás ktg. mérleg'!F15-O16 -> 3364 | P15: 3364 | Q15: =O15-P15 -> 0 | R15: K5
A16: Elvonások és befizetések | C16: 0 | F16: ='KESZI ktg. mérleg'!D16+'KGYCSSZK ktg. mérleg'!C16 -> 512 | G16: =F16-H16 -> 512 | H16: 0 | I16: 2632 | J16: 2632 | K16: 0 | L16: 2632 | M16: 2632 | N16: =L16-M16 -> 0 | O16: 2632 | P16: 2632 | Q16: =O16-P16 -> 0 | R16: K502
A17: Felhalmozási célú pénzeszköz átadás | C17: 0 | D17: 0 | E17: 0 | F17: 0 | G17: 0 | H17: 0 | I17: 0 | J17: 0 | K17: 0 | L17: ='társulás ktg. mérleg'!E16 -> 1827 | M17: 0 | N17: =L17-M17 -> 1827 | O17: ='társulás ktg. mérleg'!F16 -> 1827 | P17: ='társulás ktg. mérleg'!F16 -> 1827 | Q17: =O17-P17 -> 0 | R17: K89
A18: Felhalmozási kiadások | B18: 0 | C18: ='KESZI ktg. mérleg'!C17+'KGYCSSZK ktg. mérleg'!B17+'társulás ktg. mérleg'!B18 -> 2435 | D18: =SUM(C18-E18) -> 2435 | E18: 0 | F18: ='KESZI ktg. mérleg'!D17+'KGYCSSZK ktg. mérleg'!C17+'társulás ktg. mérleg'!C18 -> 7893 | G18: =F18-H18 -> 7893 | H18: 0 | I18: 8549 | J18: =I18-K18 -> 8549 | K18: 0 | L18: ='KESZI ktg. mérleg'!F17+'KGYCSSZK ktg. mérleg'!E17+'társulás ktg. mérleg'!E18 -> 13106 | M18: ='KESZI ktg. mérleg'!F17+'KGYCSSZK ktg. mérleg'!E17 -> 13106 | N18: =L18-M18 -> 0 | O18: ='KESZI ktg. mérleg'!G17+'KGYCSSZK ktg. mérleg'!F17 -> 12714 | P18: ='KESZI ktg. mérleg'!G17+'KGYCSSZK ktg. mérleg'!F17+'társulás ktg. mérleg'!F18 -> 12714 | Q18: =O18-P18 -> 0 | R18: K61-67, K71-74
A19: Hitelek és kölcsönök kiadásai | B19: 0 | C19: 0 | D19: =SUM(C19-E19) -> 0 | E19: 0 | F19: 0 | G19: =F19-H19 -> 0 | H19: 0 | I19: 0 | J19: =I19-K19 -> 0 | K19: 0 | L19: 0 | M19: 0 | N19: =L19-M19 -> 0 | O19: 0 | P19: 0 | Q19: =O19-P19 -> 0 | R19: K9111
A20: Pénzforgalmi kiadások | B20: =SUM(B11:B19) -> 697314.37 | C20: =SUM(C11:C19) -> 717727.37 | D20: =SUM(C20-E20) -> 697267.37 | E20: =SUM(E11:E19) -> 20460 | F20: =SUM(F11:F19) -> 746207.7 | G20: =SUM(G11:G19) -> 717148 | H20: =SUM(H11:H19) -> 27939.7 | I20: =SUM(I11:I19) -> 769077 | J20: =I20-K20 -> 743257 | K20: =SUM(K11:K19) -> 25820 | L20: =SUM(L11:L19) -> 782989 | M20: =SUM(M11:M19) -> 750249 | N20: =SUM(N11:N19) -> 32740 | O20: =SUM(O11:O19) -> 728649 | P20: =SUM(P11:P19) -> 718212 | Q20: =SUM(Q11:Q19) -> 10437
A21: Államháztartási tartalék | B21: ='társulás ktg. mérleg'!B21 -> 18060 | C21: ='társulás ktg. mérleg'!B21 -> 18060 | D21: =SUM(C21-E21) -> 17013 | E21: 1047 | F21: ='társulás ktg. mérleg'!C21 -> 23631 | G21: =F21-H21 -> 22584 | H21: 1047 | I21: 20524 | J21: =I21-K21 -> 0 | K21: 20524 | L21: ='társulás ktg. mérleg'!E21 -> 16602 | M21: 16602 | N21: 0 | O21: ='társulás ktg. mérleg'!F21 -> 0 | R21: K513
A22: Kiadások összesen: | B22: =B20+B21 -> 715374.37 | C22: =C20+C21 -> 735787.37 | D22: =SUM(C22-E22) -> 714280.37 | E22: =SUM(E20+E21) -> 21507 | F22: =SUM(F20:F21) -> 769838.7 | G22: =SUM(G20:G21) -> 739732 | H22: =SUM(H20:H21) -> 28986.7 | I22: =SUM(I20:I21) -> 789601 | J22: =I22-K22 -> 743257 | K22: =SUM(K20:K21) -> 46344 | L22: =L20+L21 -> 799591 | M22: =M20+M21 -> 766851 | N22: =N20+N21 -> 32740 | O22: =O20+O21 -> 728649 | P22: =P20+P21 -> 718212 | Q22: =Q20+Q21 -> 10437
A24: Intézményi működési bevételek | B24: ='KESZI ktg. mérleg'!B23+'KGYCSSZK ktg. mérleg'!B22+'társulás ktg. mérleg'!B24 -> 203341 | C24: ='KESZI ktg. mérleg'!C23+'KGYCSSZK ktg. mérleg'!B22+'társulás ktg. mérleg'!B24 -> 200170 | D24: =C24-E24 -> 200170 | E24: ='társulás ktg. mérleg'!B24 -> 0 | F24: ='KESZI ktg. mérleg'!D23+'KGYCSSZK ktg. mérleg'!C22+'társulás ktg. mérleg'!C24 -> 210335 | G24: =F24-H24 -> 199755 | H24: ='társulás ktg. mérleg'!C24 -> 10580 | I24: ='KESZI ktg. mérleg'!E23+'KGYCSSZK ktg. mérleg'!D22+'társulás ktg. mérleg'!D24 -> 210335 | J24: =I24-K24 -> 199755 | K24: 10580 | L24: ='KESZI ktg. mérleg'!F23+'KGYCSSZK ktg. mérleg'!E22+'társulás ktg. mérleg'!E24 -> 220901 | M24: ='KESZI ktg. mérleg'!F23+'KGYCSSZK ktg. mérleg'!E22 -> 211709 | N24: =L24-M24 -> 9192 | O24: ='KESZI ktg. mérleg'!G23+'KGYCSSZK ktg. mérleg'!F22+'társulás ktg. mérleg'!F24 -> 218537 | P24: ='KESZI ktg. mérleg'!G23+'KGYCSSZK ktg. mérleg'!F22 -> 211709 | Q24: =O24-P24 -> 6828 | R24: B4
A25: Költségvetési visszatérülések | B25: 0 | C25: ='KESZI ktg. mérleg'!C24+'KGYCSSZK ktg. mérleg'!B23+'társulás ktg. mérleg'!B25 -> 0 | D25: =C25-E25 -> 0 | E25: 0 | F25: ='társulás ktg. mérleg'!C25 -> 0 | G25: =F25-H25 -> 0 | H25: ='KGYCSSZK ktg. mérleg'!C23 -> 0 | I25: ='KESZI ktg. mérleg'!E24+'KGYCSSZK ktg. mérleg'!D23+'társulás ktg. mérleg'!D25 -> 0 | J25: =I25-K25 -> 0 | K25: 0 | L25: 0 | M25: 0 | N25: =L25-M25 -> 0 | Q25: =O25-P25 -> 0
A26: Felhalmozási és tőke jellegű bevételek | B26: 0 | C26: ='KESZI ktg. mérleg'!C25+'KGYCSSZK ktg. mérleg'!B24+'társulás ktg. mérleg'!B26 -> 0 | D26: =C26-E26 -> 0 | E26: ='társulás ktg. mérleg'!C26 -> 0 | F26: ='KESZI ktg. mérleg'!D24+'KGYCSSZK ktg. mérleg'!C23+'társulás ktg. mérleg'!C26 -> 0 | G26: =F26-H26 -> 0 | H26: ='KGYCSSZK ktg. mérleg'!C24 -> 0 | I26: ='KESZI ktg. mérleg'!E25+'KGYCSSZK ktg. mérleg'!D24+'társulás ktg. mérleg'!D26 -> 0 | J26: =I26-K26 -> 0 | K26: 0 | L26: 0 | M26: 0 | N26: =L26-M26 -> 0 | O26: ='KESZI ktg. mérleg'!G24+'KGYCSSZK ktg. mérleg'!F23+'társulás ktg. mérleg'!F26 -> 0 | Q26: =O26-P26 -> 0 | R26: B21, B25, B52, B72, B73
A27: ebből: sajátos felhalm. és tőkef. | B27: 0 | C27: 0 | D27: =C27-E27 -> 0 | E27: 0 | F27: 0 | G27: =F27-H27 -> 0 | H27: 0 | I27: 0 | J27: =I27-K27 -> 0 | K27: 0 | L27: 0 | M27: 0 | N27: =L27-M27 -> 0 | Q27: =O27-P27 -> 0
A28: Támogatások, kiegészítések és átvett pénzeszközök | B28: ='KESZI ktg. mérleg'!B26+'KGYCSSZK ktg. mérleg'!B25+'társulás ktg. mérleg'!B28 -> 536637.37 | C28: ='KESZI ktg. mérleg'!C26+'KGYCSSZK ktg. mérleg'!B25+'társulás ktg. mérleg'!B28 -> 533182.37 | D28: =C28-E28 -> 511675.37 | E28: =18407+3100 -> 21507 | F28: ='KESZI ktg. mérleg'!D26+'KGYCSSZK ktg. mérleg'!C25+'társulás ktg. mérleg'!C28 -> 554994 | G28: =F28-H28 -> 536587 | H28: =17360+1047 -> 18407 | I28: ='KESZI ktg. mérleg'!E26+'KGYCSSZK ktg. mérleg'!D25+'társulás ktg. mérleg'!D28 -> 574756 | J28: =I28-K28 -> 540130 | K28: =536309-501683 -> 34626 | L28: ='KESZI ktg. mérleg'!F26+'KGYCSSZK ktg. mérleg'!E25+'társulás ktg. mérleg'!E28 -> 574179 | M28: =583648-2784-13769-11953 -> 555142 | N28: =L28-M28 -> 19037 | O28: ='KESZI ktg. mérleg'!G26+'KGYCSSZK ktg. mérleg'!F25+'társulás ktg. mérleg'!F28 -> 566677 | P28: ='KESZI ktg. mérleg'!G26+'KGYCSSZK ktg. mérleg'!F25 -> 30045 | Q28: =O28-P28 -> 536632 | R28: B16, B64, B816
A29: ebből: önkorm. költségvetési tám. | B29: ='társulás ktg. mérleg'!B29 -> 321246.5 | C29: ='KESZI ktg. mérleg'!C27+'KGYCSSZK ktg. mérleg'!B26+'társulás ktg. mérleg'!B29 -> 331337.5 | D29: =C29-E29 -> 331337.5 | E29: 0 | F29: ='KESZI ktg. mérleg'!D27+'KGYCSSZK ktg. mérleg'!C26+'társulás ktg. mérleg'!C29 -> 350673 | G29: =F29-H29 -> 350673 | H29: 0 | I29: 359220 | J29: 359220 | K29: 0 | L29: ='társulás ktg. mérleg'!E29 -> 371122 | M29: 371122 | N29: =L29-M29 -> 0 | O29: ='társulás ktg. mérleg'!F29 -> 531648 | Q29: =O29-P29 -> 531648
A30: Hitelek, kölcsönök bevételei | B30: 0 | C30: ='KESZI ktg. mérleg'!C29+'KGYCSSZK ktg. mérleg'!B28+'társulás ktg. mérleg'!B30 -> 0 | D30: =C30-E30 -> 0 | E30: 0 | F30: 0 | G30: =F30-H30 -> 0 | H30: ='KGYCSSZK ktg. mérleg'!C28 -> 0 | I30: ='KESZI ktg. mérleg'!E29+'KGYCSSZK ktg. mérleg'!D28+'társulás ktg. mérleg'!D30 -> 0 | J30: =I30-K30 -> 0 | K30: 0 | L30: 0 | M30: 0 | N30: =L30-M30 -> 0 | O30: ='KESZI ktg. mérleg'!G29+'KGYCSSZK ktg. mérleg'!F28+'társulás ktg. mérleg'!F31 -> 0 | Q30: =O30-P30 -> 0 | R30: B8111
A31: Pénzforgalmi bevételek összesen | B31: =B28+B24 -> 739978.37 | C31: =C28+C24 -> 733352.37 | D31: =C31-E31 -> 711845.37 | E31: =E28+E24 -> 21507 | F31: =SUM(F30+F28+F27+F26+F25+F24) -> 765329 | G31: =F31-H31 -> 736342 | H31: =SUM(H24+H25+H26+H28) -> 28987 | I31: =I24+I25+I26+I28 -> 785091 | J31: =I31-K31 -> 739885 | K31: =K24+K25+K26+K28 -> 45206 | L31: =L24+L25+L26+L28+1 -> 795081 | M31: =M24+M25+M26+M28 -> 766851 | N31: =N24+N25+N26+N28+1 -> 28230 | O31: =O24+O25+O26+O28 -> 785214 | P31: =P24+P25+P26+P28 -> 241754 | Q31: =Q24+Q25+Q26+Q28 -> 543460
A32: Maradvány felhasználás | B32: 0 | C32: ='KESZI ktg. mérleg'!C31+'KGYCSSZK ktg. mérleg'!B30+'társulás ktg. mérleg'!B33 -> 2435 | F32: ='KESZI ktg. mérleg'!D31+'KGYCSSZK ktg. mérleg'!C30+'társulás ktg. mérleg'!C33 -> 4510 | G32: =F32-H32 -> 4510 | H32: 0 | I32: ='KESZI ktg. mérleg'!E31+'KGYCSSZK ktg. mérleg'!D30+'társulás ktg. mérleg'!D33 -> 4510 | J32: =I32-K32 -> 1252 | K32: 3258 | L32: ='KESZI ktg. mérleg'!F31+'KGYCSSZK ktg. mérleg'!E30+'társulás ktg. mérleg'!E33 -> 4510 | M32: 0 | N32: =L32-M32 -> 4510 | O32: ='KESZI ktg. mérleg'!G31+'KGYCSSZK ktg. mérleg'!F30+'társulás ktg. mérleg'!F33 -> 4510 | P32: ='KESZI ktg. mérleg'!G31+'KGYCSSZK ktg. mérleg'!F30 -> 1252 | Q32: =O32-P32 -> 3258 | R32: B813
A33: Bevételek összesen: | B33: =B31+B32 -> 739978.37 | C33: =C31+C32 -> 735787.37 | D33: =C33-E33 -> 714280.37 | E33: =E31+E32 -> 21507 | F33: =SUM(F31:F32) -> 769839 | G33: =F33-H33 -> 740852 | H33: =SUM(H31:H32) -> 28987 | I33: =SUM(I31:I32) -> 789601 | J33: =I33-K33 -> 741137 | K33: =SUM(K31:K32) -> 48464 | L33: =SUM(L31:L32) -> 799591 | M33: =M31+M32 -> 766851 | N33: =N31+N32 -> 32740 | O33: =O31+O32 -> 789724 | P33: =P31+P32 -> 243006 | Q33: =Q31+Q32 -> 546718
A36: Mosonmagyaróvár, 2016. április 07.
B37: …./2014. (XII.09.) Kt. Határozat alapján
B39: 200 Ft/lakos
B40: 100 Ft/lakos
B41: 20 Ft/lakos
B42: 10 Ft/lakos
B43: 100 Ft/lakos

Sheet KESZI ktg. mérleg
B1: 2./B SZÁMÚ MELLÉKLET
A3: MOSONMAGYARÓVÁR TÉRSÉGI TÁRSULÁS
A4: 2015. ÉVI KÖLTSÉGVETÉSI HATÁROZAT MÓDOSÍTÁSA
A5: PÉNZFORGALMI MÉRLEG
A6: adatok ezer Ft-ban
C8: kötelező feladat | D8: kötelező feladat | E8: kötelező feladat | F8: kötelező feladat
A9: KISTÉRSÉGI EGYESÍTETT SZOCIÁLIS INTÉZET
A10: Megnevezés | B10: eredeti | C10: eredeti | D10: módosított | E10: módosított | F10: módosított | G10: Teljesítés | H10: Rovatrend
B11: előirányzat 2014. | C11: előirányzat 2015. | D11: előirányzat 2015.07.31 | E11: előirányzat 2015.09.30 | F11: előirányzat 2015.12.31. | H11: 2015. év
A12: Személyi juttatások | B12: 264817 | C12: ='[1]KESZI költségvetés'!$D$9 -> 286274 | D12: 293850 | E12: 304650 | F12: 310168 | G12: 292684 | H12: K1
A13: Munkaadót terhelő járulékok | B13: 69967 | C13: ='[1]KESZI költségvetés'!$D$10 -> 77778 | D13: 79250 | E13: 82139 | F13: 78396 | G13: 77343 | H13: K2
A14: Dologi és egyéb folyó kiadások | B14: =SUM(200046) -> 200046 | C14: ='[1]KESZI költségvetés'!$D$16 -> 188626 | D14: 187866 | E14: 188204 | F14: 187802 | G14: 183031 | H14: K3
A15: Ellátottak pénzbeli juttatásai | B15: 570 | C15: ='[1]KESZI költségvetés'!$D$17 -> 700 | D15: 700 | E15: 700 | F15: 850 | G15: 816 | H15: K4
A16: Elvonások és befizetések | C16: 0 | D16: 344 | E16: 344 | F16: 344 | G16: 344 | H16: K502
A17: Felhalmozási kiadások | B17: 0 | C17: ='[1]KESZI költségvetés'!$D$18 -> 2435 | D17: =1350+2187 -> 3537 | E17: 4193 | F17: =3225+2944 -> 6169 | G17: 6164 | H17: K61-67, K71-74
A18: Hitelek és kölcsönök kiadásai | B18: 0 | C18: 0 | D18: 0 | E18: 0 | H18: K9111
A19: Pénzforgalmi kiadások | B19: =SUM(B12:B18) -> 535400 | C19: =SUM(C12:C18) -> 555813 | D19: =SUM(D12:D18) -> 565547 | E19: =SUM(E12:E18) -> 580230 | F19: =SUM(F12:F18) -> 583729 | G19: =SUM(G12:G18) -> 560382
A20: Kiegyenlítő, átfutó, függő kiadás | B20: nem releváns | C20: nem releváns
A21: Kiadások összesen: | B21: =SUM(B19) -> 535400 | C21: =SUM(C19) -> 555813 | D21: =SUM(D19) -> 565547 | E21: =SUM(E19) -> 580230 | F21: =SUM(F19) -> 583729 | G21: =SUM(G19) -> 560382
A23: Intézményi működési bevételek | B23: 201101 | C23: ='[1]KESZI költségvetés'!$D$22 -> 197930 | D23: 197930 | E23: 197930 | F23: =197930+10473 -> 208403 | G23: 208403 | H23: B4 | I23: =F23-G23 -> 0
A24: Felhalmozási és tőke jellegű bevételek | B24: 0 | C24: 0 | D24: 0 | E24: 0 | F24: 0 | H24: B21, B25, B52, B72, B73
A25: ebből: sajátos felhalm. és tőkef. | B25: 0 | C25: 0 | D25: 0 | E25: 0 | F25: 0
A26: Támogatások, kiegészítések és átvett pénzeszközök | B26: =SUM(50763-12615) -> 38148 | C26: ='[1]KESZI költségvetés'!$D$21+'[1]KESZI költségvetés'!$D$23 -> 34693 | D26: 35243 | E26: 35783 | F26: =36904+400-10473 -> 26831 | G26: 24777 | H26: B16, B64
A27: ebből: önkorm. költségvetési tám. | B27: 0 | C27: 10091 | D27: 10091 | E27: 10091 | F27: 10091 | G27: 16479
A28: Irányító szervtől kapott támogatás | B28: =SUM(283536+12615) -> 296151 | C28: ='[1]KESZI költségvetés'!$D$25+'[1]KESZI költségvetés'!$D$26+'[1]KESZI költségvetés'!$D$27+'[1]KESZI költségvetés'!$D$28 -> 320755 | D28: 331537 | E28: 345680 | F28: 347658 | G28: 345386 | H28: B816
A29: Hitelek, kölcsönök bevételei | B29: 0 | C29: 0 | D29: 0 | E29: 0 | F29: 0 | H29: B8111
A30: Pénzforgalmi bevételek összesen | B30: =SUM(B29+B28+B26+B24+B23) -> 535400 | C30: =SUM(C29+C28+C26+C24+C23) -> 553378 | D30: =SUM(D29+D28+D26+D24+D23) -> 564710 | E30: =SUM(E29+E28+E26+E24+E23) -> 579393 | F30: =SUM(F29+F28+F26+F24+F23) -> 582892 | G30: =SUM(G29+G28+G26+G24+G23) -> 578566
A31: Maradvány felhasználás | B31: 0 | C31: ='[1]KESZI költségvetés'!$D$24 -> 2435 | D31: 837 | E31: 837 | F31: 837 | G31: 837 | H31: B8131
A32: Kiegyenlítő, átfutó, függő bevételek | B32: nem releváns | C32: nem releváns
A33: Bevételek összesen: | B33: =B30+B31 -> 535400 | C33: =C30+C31 -> 555813 | D33: =D30+D31 -> 565547 | E33: =E30+E31 -> 580230 | F33: =F30+F31 -> 583729 | G33: =G30+G31 -> 579403
A36: Irányító szervi támogatás részletezése 2015. év eredeti és módosított | B36: adatok Ft-ban
B37: 2014. évi | C37: 2015. évi eredeti | D37: 2015.07.31 mód. | E37: 2015.09.30 mód. | F37: 2015.12.31 mód. | G37: Teljesítés 2015.12.31-ig
A38: Szociális étkeztetés | B38: 27403200 | C38: =[2]Munka1!$E$18 -> 25941696 | D38: =[2]Munka1!$E$18 -> 25941696 | E38: 25698112 | F38: 25515424 | G38: 25515424
A39: Házi segítségnyújtás | B39: 34872500 | C39: =[2]Munka1!$E$19 -> 36192000 | D39: =[2]Munka1!$E$19 -> 36192000 | E39: 35815000 | F39: 35626500 | G39: 35626500
A40: Időskorúak nappali int. Ellátása | B40: 7357500 | C40: =[2]Munka1!$E$20 -> 6213000 | D40: =[2]Munka1!$E$20 -> 6213000 | E40: =D40 -> 6213000 | F40: 6540000 | G40: 6540000
A41: Fogyatékos és demens személyek ell. | B41: =SUM(6050000+4180000+12100000) -> 22330000 | C41: =[2]Munka1!$E$21+[2]Munka1!$E$22+[2]Munka1!$E$23 -> 24970000 | D41: =[2]Munka1!$E$21+[2]Munka1!$E$22+[2]Munka1!$E$23 -> 24970000 | E41: 22880000 | F41: 23870000 | G41: 23870000
A42: Hajléktalanok nappali ellátása | B42: 11129400 | C42: =[2]Munka1!$E$24 -> 8903520 | D42: =[2]Munka1!$E$24 -> 8903520 | E42: =D42 -> 8903520 | F42: 8903520 | G42: 8903520
A43: Hajléktalanok átmeneti ellátása | B43: 20607400 | C43: =[2]Munka1!$E$25 -> 20607400 | D43: =[2]Munka1!$E$25 -> 20607400 | E43: 21122585 | F43: 21122585 | G43: =19164881+1957704 -> 21122585
A44: Bértámogatás szociális szféra | B44: 83393280 | C44: =[2]Munka1!$E$26 -> 83393280 | D44: =[2]Munka1!$E$26 -> 83393280 | E44: =D44 -> 83393280 | F44: =83393280-7178365 -> 76214915 | G44: =83393280-7168365 -> 76224915
A45: intézmény üzemeltetési támogatás | B45: 19973000 | C45: 25725104 | D45: 25725104 | E45: =D45+8700896 -> 34426000 | F45: =42396429-492064 -> 41904365 | G45: =42396429-492064 -> 41904365
A46: Gesztor önkormányzat támogatása | B46: 56470000 | C46: ='[1]KESZI költségvetés'!$D$27*1000 -> 72513000 | D46: ='[1]KESZI költségvetés'!$D$27*1000 -> 72513000 | E46: =D46 -> 72513000 | F46: 72513000 | G46: =72513000+8875817 -> 81388817
A47: Szociális foglalkoztatás támogatása (gesztor önk. Keresztül) | B47: 12615000 | C47: ='[1]KESZI költségvetés'!$D$26*1000 -> 12615000 | D47: ='[1]KESZI költségvetés'!$D$26*1000 -> 12615000 | E47: =D47 -> 12615000 | F47: 12615000 | G47: =3999000*3 -> 11997000
A48: Térségi Társulás felé befizetett tagdíjból átadásra kerülő | C48: ='[1]KESZI költségvetés'!$D$28*1000 -> 3681000 | D48: ='[1]KESZI költségvetés'!$D$28*1000 -> 3681000 | E48: =D48 -> 3681000 | F48: 3681000 | G48: 0
A49: Bérkompenzáció | D49: 5572953 | E49: =D49+727583+720852 -> 7021388 | F49: 8795258 | G49: 8795258
A50: Jubileumi jutalom, felmentési bérek | D50: 3269344 | E50: =D50+2553090 -> 5822434 | F50: 5822434 | G50: 5822434
A51: Felújításra átadott előirányzat | D51: 1939894 | E51: =D51+142138+411480 -> 2493512 | F51: 2696712 | G51: 2696712
A52: Szociális ágazati pótlék és kiegészítő pótlék | E52: =1917645+7670580 -> 9588225 | F52: =9588225+7178365 -> 16766590 | G52: =9588225+7168365 -> 16756590
A53: Egyéb nettósításhoz kapcsolódó rendezések | E53: -6505497 | F53: =-14726474-11365280+11162080 -> -14929674 | G53: =-27082875+11162080-662987-5194817 -> -21778599
B54: =SUM(B38:B47) -> 296151280 | C54: =SUM(C38:C48) -> 320755000 | D54: =SUM(D38:D51) -> 331537191 | E54: =SUM(E38:E53) -> 345680559 | F54: =SUM(F38:F53) -> 347657629 | G54: =SUM(G38:G53) -> 345385521
A56: Mosonmagyaróvár, 2016. április 07.

Sheet KGYCSSZK ktg. mérleg
B1: 2./C SZÁMÚ MELLÉKLET
A3: MOSONMAGYARÓVÁR TÉRSÉGI TÁRSULÁS
A4: 2015. ÉVI KÖLTSÉGVETÉSI HATÁROZATÁHOZ
A5: PÉNZFORGALMI MÉRLEG
A6: adatok ezer Ft-ban
C8: kötelező feladat | D8: kötelező feladat
A9: Kistérségi Gyermekjóléti és Családsegítő Szolgáltató Központ
A10: Megnevezés | B10: eredeti | C10: módosított | D10: módosított | E10: módosított | F10: Teljesítés | G10: Rovatrend
B11: előirányzat 2015. | C11: előirányzat 2015.07.31 | D11: előirányzat 2015.09.30 | E11: előirányzat 2015.12.31 | G11: 2015. év
A12: Személyi juttatások | B12: ='[1]KGYCSSZK költségvetés'!$F$4/1000 -> 97862.314 | C12: 101752 | D12: 108198 | E12: 109253 | F12: 98922 | G12: K1
A13: Munkaadót terhelő járulékok | B13: ='[1]KGYCSSZK költségvetés'!$F$5/1000 -> 24495.052 | C13: 25324 | D13: 27064 | E13: 27402 | F13: 26604 | G13: K2
A14: Dologi és egyéb folyó kiadások | B14: ='[1]KGYCSSZK költségvetés'!$F$19/1000 -> 18677 | C14: 20701 | D14: 20701 | E14: 20220 | F14: 17929 | G14: K3
A15: Ellátottak pénzbeli juttatásai | B15: ='[1]KGYCSSZK költségvetés'!$F$20/1000 -> 420 | C15: ='[1]KGYCSSZK költségvetés'!$F$20/1000 -> 420 | D15: 420 | E15: 420 | F15: 346 | G15: K4
A16: Elvonások és befizetések | C16: 168 | D16: 168 | E16: 168 | F16: 168 | G16: K502
A17: Felhalmozási kiadások | B17: 0 | C17: =270+4086 -> 4356 | D17: 4356 | E17: =2351+4586 -> 6937 | F17: 6550 | G17: K61-67, K71-74
A18: Hitelek kölcsönök
A19: Pénzforgalmi kiadások | B19: =SUM(B12:B17) -> 141454.37 | C19: =SUM(C12:C17) -> 152721 | D19: =SUM(D12:D17) -> 160907 | E19: =SUM(E12:E17) -> 164400 | F19: =SUM(F12:F17) -> 150519
A20: Kiadások összesen: | B20: =B19 -> 141454.37 | C20: =C19 -> 152721 | D20: =D19 -> 160907 | E20: =E19 -> 164400 | F20: =F19 -> 150519
A22: Intézményi működési bevételek | B22: ='[1]KGYCSSZK költségvetés'!$F$25/1000+'[1]KGYCSSZK költségvetés'!$F$24/1000 -> 2240 | C22: 1825 | D22: 1825 | E22: =1825+1481 -> 3306 | F22: 3306 | G22: B4 | I22: 1481
A23: Felhalmozási és tőke jellegű bevételek | B23: 0 | C23: 0 | D23: 0 | E23: 0 | G23: B21, B25, B52, B72, B73
A24: ebből: sajátos felhalm. és tőkef. | B24: 0 | C24: 0 | D24: 0 | E24: 0
A25: Támogatások, kiegészítések és átvett pénzeszközök | B25: ='[1]KGYCSSZK költségvetés'!$F$23/1000 -> 370 | C25: =1250+1414 -> 2664 | D25: 2664 | E25: =1250+3014+1004 -> 5268 | F25: 5268 | G25: B16, B65 | I25: 1004
A26: ebből: önkorm. költségvetési tám. | B26: 0 | C26: 0 | D26: 0 | E26: 0
A27: Felügyeleti szervtől átvett támogatás | B27: ='[1]KGYCSSZK költségvetés'!$F$27/1000 -> 138844.37 | C27: 147817 | D27: 156003 | E27: =157896-1481-1004 -> 155411 | F27: 145760 | G27: B816
A28: Hitelek, kölcsönök bevételei | B28: 0 | C28: 0 | D28: 0 | E28: 0 | G28: B8111
A29: Pénzforgalmi bevételek összesen | B29: =SUM(B28,B27,B25,B22) -> 141454.37 | C29: =SUM(C28,C27,C25,C22) -> 152306 | D29: =SUM(D22:D28) -> 160492 | E29: =SUM(E22:E28) -> 163985 | F29: =SUM(F22:F28) -> 154334
A30: Maradvány felhasználás | B30: 0 | C30: 415 | D30: 415 | E30: 415 | F30: 415 | G30: B813
A31: Bevételek összesen: | B31: =SUM(B29+B30) -> 141454.37 | C31: =SUM(C29+C30) -> 152721 | D31: =SUM(D29+D30) -> 160907 | E31: =SUM(E29+E30) -> 164400 | F31: =SUM(F29+F30) -> 154749
A33: Irányító szervi támogatás részletezése 2015. év eredeti és módosított | B33: adatok Ft-ban
B34: 2015. év eredeti | C34: 2015.07.31. mód. | D34: 2015.09.30.mód. | E34: 2015.12.31.mód. | F34: Teljesítés
A35: Szociális és gyermekjóléti alapszolg., állami támogatás | B35: 78138520 | C35: =[2]Munka1!$E$6+[2]Munka1!$E$7+[2]Munka1!$E$8+[2]Munka1!$E$9 -> 78138520 | D35: =C35 -> 78138520 | E35: 78138520 | F35: 78138520
A36: Gesztor önkormányzat támogatása | B36: 42261266 | C36: ='[1]KGYCSSZK költségvetés'!$F$32 -> 42261266 | D36: =C36 -> 42261266 | E36: 42261266 | F36: =30124995+366+3260500 -> 33385861
A37: Tagönkormányzatok támogatása | B37: 7282500 | C37: ='[1]KGYCSSZK költségvetés'!$F$31 -> 7282500 | D37: =C37 -> 7282500 | E37: 7282500 | F37: 4022000
A38: Bértámogatás és intézmény üzemeltetés támogatás mint állami támogatás | B38: 11162080 | C38: 11162080 | D38: =C38 -> 11162080 | E38: 11162080 | F38: 11162080
A39: Gyáó épület felújítására átadott előirányzat | C39: 4086225 | D39: =C39 -> 4086225 | E39: =4086225+500000 -> 4586225 | F39: 4586225
A40: Jubileumi jutalom, felmentési bérekre átadott előirányzat | C40: 1800186 | D40: =C40 -> 1800186 | E40: 2279738 | F40: 2279698
A41: bérkompenzáció | C41: 3086688 | D41: =C41+820166 -> 3906854 | E41: =D41+362204+374777+374777-198327 -> 4820285 | F41: 4820285
A42: Szociális ágazati pótlék és kiegészítő pótlék | D42: =1473110+5892440 -> 7365550 | E42: =D42 -> 7365550 | F42: 7365550
A43: Egyéb nettósításhoz kapcsolódó rendezések | C43: -366 | D43: -366 | E43: -366 | F43: -366
A44: Összesen | B44: =SUM(B35:B39) -> 138844366 | C44: =SUM(C35:C43) -> 147817099 | D44: =SUM(D35:D43) -> 156002815 | E44: =SUM(E35:E43) -> 157895798 | F44: =SUM(F35:F43) -> 145759853
A46: Mosonmagyaróvár, 2016. április 07.

Sheet társulás ktg. mérleg
B1: 2./D SZÁMÚ MELLÉKLET
A3: MOSONMAGYARÓVÁR TÉRSÉGI TÁRSULÁS
A4: 2015. ÉVI KÖLTSÉGVETÉSI HATÁROZATÁHOZ
A5: PÉNZFORGALMI MÉRLEG
A6: adatok ezer Ft-ban
C8: önként vállalt feladat | D8: önként vállalt feladat | E8: önként vállalt feladat | F8: önként vállalt feladat
A9: Mosonmagyaróvár Térségi Társulás
A10: Megnevezés | B10: eredeti | C10: módosított | D10: módosított | E10: módosított | F10: Teljesítés | G10: Rovatrend
B11: előirányzat 2015. | C11: előirányzat 2015.07.31 | D11: előirányzat 2015.09.30 | E11: előirányzat 2015.12.31 | G11: 2015. év
A12: Személyi juttatások | B12: =[1]Munka1!$C$6/1000 -> 1000 | C12: =[1]Munka1!$C$6/1000 -> 1000 | D12: 1000 | E12: 1000 | F12: 190 | G12: K1
A13: Munkaadót terhelő járulékok | B13: =[1]Munka1!$C$11/1000 -> 511.7 | C13: =[1]Munka1!$C$11/1000 -> 511.7 | D13: 512 | E13: 512 | F13: 88 | G13: K2
A14: Dologi és egyéb folyó kiadások | B14: =[1]Munka1!$C$19/1000 -> 12821.3 | C14: 18181 | D14: 16724 | E14: 21817 | F14: 10159 | G14: K3
A15: Pénzeszköz átadás, támogatás | B15: =[1]Munka1!$C$24/1000 -> 6127 | C15: 8247 | D15: 9704 | E15: =2120+5057+2527 -> 9704 | F15: 5484 | G15: K5
A16: Felhalmozási célú pénzeszköz átadás | B16: 0 | C16: 0 | D16: 0 | E16: 1827 | F16: 1827 | G16: K89
A17: Felügyelet alá tartozó költségvetési szerv. Támogat. | B17: =[1]Munka1!$C$33/1000 -> 459599.37 | C17: 479354 | D17: 501683 | E17: =505553-1004-1481 -> 503068 | F17: 491146 | G17: K915
A18: Felhalmozási kiadások | B18: 0 | C18: 0 | D18: 0 | E18: 0 | G18: K61-67, K71-74
A19: Hitelek és kölcsönök kiadásai | B19: 0 | C19: 0 | D19: 0 | E19: 0 | G19: K9111
A20: Pénzforgalmi kiadások | B20: =SUM(B12:B19) -> 480059.37 | C20: =SUM(C12:C19) -> 507293.7 | D20: =SUM(D12:D19) -> 529623 | E20: =SUM(E12:E19) -> 537928 | F20: =SUM(F12:F19) -> 508894
A21: Államháztartási tartalék | B21: =[1]Munka1!$C$25/1000 -> 18060 | C21: 23631 | D21: 20524 | E21: 16602 | F21: 0 | G21: K513
A22: Kiadások összesen: | B22: =SUM(B20+B21) -> 498119.37 | C22: =SUM(C20+C21) -> 530924.7 | D22: =SUM(D20:D21) -> 550147 | E22: =SUM(E20:E21) -> 554530 | F22: =SUM(F20:F21) -> 508894
A24: Intézményi működési bevételek | B24: 0 | C24: 10580 | D24: 10580 | E24: =11677-1481-1004 -> 9192 | F24: 6828 | G24: B4
A25: Költségvetési visszatérülések | B25: 0 | C25: 0 | D25: 0 | E25: 0
A26: Felhalmozási és tőke jellegű bevételek | B26: 0 | C26: 0 | D26: 0 | E26: 0 | G26: B21, B25, B52, B72, B73
A27: ebből: sajátos felhalm. és tőkef. | B27: 0 | C27: 0 | D27: 0 | E27: 0
A28: Támogatások, kiegészítések és átvett pénzeszközök | B28: =[1]Munka1!$C$65/1000+[1]Munka1!$C$46/1000+[1]Munka1!$C$45/1000+[1]Munka1!$C$44/1000 -> 498119.37 | C28: 517087 | D28: 536309 | E28: =539296+2784 -> 542080 | F28: 536632 | G28: B16, 816, B65
A29: ebből: önkorm. költségvetési tám. | B29: =[1]Munka1!$C$47/1000 -> 321246.5 | C29: 340582 | D29: 366310 | E29: 371122 | F29: 531648
A30: Felügyeleti szervtől átvett támogatás | B30: 0 | C30: 0 | D30: 0 | E30: 0
A31: Hitelek, kölcsönök bevételei | B31: 0 | C31: 0 | D31: 0 | E31: 0 | G31: B8111
A32: Pénzforgalmi bevételek összesen | B32: =SUM(B24+B25+B26+B28+B30+B31) -> 498119.37 | C32: =SUM(C24+C25+C26+C28+C30+C31) -> 527667 | D32: =D24+D25+D26+D28+D30+D31 -> 546889 | E32: =E24+E25+E26+E28+E30+E31 -> 551272 | F32: =F24+F25+F26+F28+F30+F31 -> 543460
A33: Maradvány felhasználás | B33: 0 | C33: 3258 | D33: 3258 | E33: 3258 | F33: 3258 | G33: B813
A34: Bevételek összesen: | B34: =B32+B33 -> 498119.37 | C34: =C32+C33 -> 530925 | D34: =SUM(D32:D33) -> 550147 | E34: =SUM(E32:E33) -> 554530 | F34: =SUM(F32:F33) -> 546718
A40: Mosonmagyaróvár, 2016. április 07.

Sheet műk. és fel. egyens.
G1: 3. SZÁMÚ MELLÉKLET
A2: MOSONMAGYARÓVÁR TÉRSÉGI TÁRSULÁS
A3: 2015. ÉVI KÖLTSÉGVETÉSI HATÁROZATÁHOZ
A5: Kiadások és Bevételek működési egyensúlya teljesítés szerint
A6: 2015. december 31. teljesítés
A7: adatok ezer Ft-ban
A8: Működési kiadások ezer Ft
A10: Intézmény megnevezése | B10: Személyi juttatások | C10: Járulékok | D10: Dologi kiadások | E10: Ellátottak juttatása | F10: Tartalékképzés | G10: Átadott pénzeszközök működési | H10: Összesen
A11: Kistérségi Egyesített Szociális Intézmény | B11: ='KESZI ktg. mérleg'!G12 -> 292684 | C11: ='KESZI ktg. mérleg'!G13 -> 77343 | D11: ='KESZI ktg. mérleg'!G14 -> 183031 | E11: ='KESZI ktg. mérleg'!G15 -> 816 | F11: 0 | G11: ='KESZI ktg. mérleg'!G16 -> 344 | H11: =SUM(B11:G11) -> 554218
A12: Kistérségi Gyermekjóléti és Családsegítő Szolgáltató Központ | B12: ='KGYCSSZK ktg. mérleg'!F12 -> 98922 | C12: ='KGYCSSZK ktg. mérleg'!F13 -> 26604 | D12: ='KGYCSSZK ktg. mérleg'!F14 -> 17929 | E12: ='KGYCSSZK ktg. mérleg'!F15 -> 346 | F12: 0 | G12: ='KGYCSSZK ktg. mérleg'!F16 -> 168 | H12: =SUM(B12:G12) -> 143969
A13: Mosonmagyaróvár Térségi Társulás | B13: ='társulás ktg. mérleg'!F12 -> 190 | C13: ='társulás ktg. mérleg'!F13 -> 88 | D13: ='társulás ktg. mérleg'!F14 -> 10159 | E13: =0 -> 0 | F13: ='társulás ktg. mérleg'!F21 -> 0 | G13: ='társulás ktg. mérleg'!F15 -> 5484 | H13: =SUM(B13:G13) -> 15921
A14: Mindösszesen: | B14: =SUM(B11:B13) -> 391796 | C14: =SUM(C11:C13) -> 104035 | D14: =SUM(D11:D13) -> 211119 | E14: =SUM(E11:E13) -> 1162 | F14: =SUM(F11:F13) -> 0 | G14: =SUM(G11:G13) -> 5996 | H14: =SUM(H11:H13) -> 714108
A16: Működési bevételek ezer Ft
A18: Intézmény megnevezése | B18: Intézmény saját bevételei | C18: Állami támogatás | D18: MÖK támogatás | E18: Egyéb támogatás értékű műk. bevétel | F18: Feladatfinanszírozás | G18: Társulási támogatás | H18: Maradvány felhasználás | I18: Összesen
A19: Kistérségi Egyesített Szociális Intézmény | B19: ='KESZI ktg. mérleg'!G23 -> 208403 | C19: 246876 | D19: =81389-2630 -> 78759 | E19: =24377+400 -> 24777 | F19: 11997 | G19: =8673+2630-8876 -> 2427 | H19: ='KESZI ktg. mérleg'!F31-837 -> 0 | I19: =SUM(B19:G19) -> 573239
A20: Kistérségi Gyermekjóléti és Családsegítő Szolgáltató Központ | B20: ='KGYCSSZK ktg. mérleg'!F22 -> 3306 | C20: 89301 | D20: =33386-1549 -> 31837 | E20: 5268 | F20: 0 | G20: =21748-3261 -> 18487 | H20: ='KGYCSSZK ktg. mérleg'!E30-415 -> 0 | I20: =SUM(B20:H20) -> 148199
A21: Mosonmagyaróvár Térségi Társulás | B21: ='társulás ktg. mérleg'!F24 -> 6828 | C21: 0 | D21: 0 | E21: =34626+74+1827 -> 36527 | F21: 0 | G21: 0 | H21: 3258 | I21: =SUM(B21:H21) -> 46613
A22: Mindösszesen: | B22: =SUM(B19:B21) -> 218537 | C22: =SUM(C19:C21) -> 336177 | D22: =SUM(D19:D21) -> 110596 | E22: =SUM(E19:E21) -> 66572 | F22: =SUM(F19:F21) -> 11997 | G22: =SUM(G19:G21) -> 20914 | I22: =SUM(I19:I21) -> 768051
A24: Felhalmozási kiadások ezer Ft | E24: Felhalmozási bevételek ezer Ft
A25: Intézmény megnevezése | B25: Felhalmozási kiadások | C25: Összesen | E25: Intézmény megnevezése | F25: Maradvány felhasználás | G25: Társulási támogatás | H25: MÖK támogatás | I25: Összesen
A26: Kistérségi Egyesített Szociális Intézmény | B26: ='KESZI ktg. mérleg'!G17 -> 6164 | C26: =B26 -> 6164 | E26: Kistérségi Egyesített Szociális Intézmény | F26: ='KESZI ktg. mérleg'!G31 -> 837 | G26: 2697 | H26: =2838-208 -> 2630 | I26: =SUM(F26:H26) -> 6164
A27: Kistérségi Gyermekjóléti és Családsegítő Szolgáltató Központ | B27: ='KGYCSSZK ktg. mérleg'!F17 -> 6550 | C27: =B27 -> 6550 | E27: Kistérségi Gyermekjóléti és Családsegítő Szolgáltató Központ | F27: ='KGYCSSZK ktg. mérleg'!F30 -> 415 | G27: 4586 | H27: =1936-387 -> 1549 | I27: =SUM(F27:H27) -> 6550
A28: Mosonmagyaróvár Térségi Társulás | B28: ='társulás ktg. mérleg'!F16 -> 1827 | C28: =B28 -> 1827 | E28: Mosonmagyaróvár Térségi Társulás | F28: ='társulás ktg. mérleg'!F33 -> 3258 | G28: 0 | H28: 0 | I28: =SUM(F28:H28) -> 3258
A29: Mindösszesen: | B29: =SUM(B26:B28) -> 14541 | C29: =SUM(C26:C28) -> 14541 | E29: Mindösszesen: | F29: =SUM(F26:F28) -> 4510 | G29: =SUM(G26:G28) -> 7283 | H29: =SUM(H26:H28) -> 4179 | I29: =SUM(I26:I28) -> 15972
A34: Mosonmagyaróvár, 2016. április 07.

Sheet létszám
A3: Mosonmagyaróvár Térségi Társulás
A4: és felügyelete alá tartozó költségvetési szerv
A5: 2015. évi költségvetéséről szóló határozatához
A7: Költségvetési engedélyzett létszámhely
B9: adatok: fő-ben
A10: Megnevezés | B10: 2015. január 1. | C10: 2015. december 31. | D10: Foglalkoztatottak létszáma | F10: Foglalkoztatottak átlagos létszáma
A11: (intézmény, szakfeladat, stb.) | B11: engedélyezett | C11: engedélyezett | D11: 2015. december 31. | E11: ebből közfoglalkoztatott
B12: létszámhely | C12: létszámhely
A13: Kistérségi Gyermekjóléti és Családsegítő Szolgáltató Központ | B13: 43 | C13: 43 | D13: 43 | E13: 0 | F13: 43
A14: GyÁÓ | B14: 8 | C14: 8 | D14: 8 | F14: 8
A15: Gyermekjóléti szolgálat | B15: 16 | C15: 16 | D15: 16 | F15: 16
A16: Családsegítő | B16: 19 | C16: 19 | D16: 19 | F16: 19
A17: Kistérségi Egyesített Szociális Intézet | B17: 134 | C17: 135 | D17: 131 | E17: 4 | F17: 131
A18: Aranykor, kp.-i irányítás | B18: 42 | C18: 43 | D18: 42 | E18: 4 | F18: 42
A19: Gondozóház | B19: 28 | C19: 28 | D19: 28 | F19: 28
A20: ESZO | F20: 0
A21: Hajléktalan | B21: 6 | C21: 6 | D21: 6 | F21: 6
A22: Idősek klubja | B22: 16 | C22: 16 | D22: 16 | F22: 16
A23: FÉNI | B23: 7 | C23: 7 | D23: 6 | F23: 6
A24: Nappali melegedő | B24: 2 | C24: 2 | D24: 2 | F24: 2
A25: Szociális étkezés | B25: 4 | C25: 4 | D25: 2 | F25: 2
A26: Házi segítségnyújtás | B26: 24 | C26: 24 | D26: 24 | F26: 24
A27: Jelzőrendszer | B27: 1 | C27: 1 | D27: 1 | F27: 1
A28: Szoc. foglalkoztatás | B28: 4 | C28: 4 | D28: 4 | F28: 4
A29: Mosonmagyaróvár Térségi Társulás | B29: 0 | C29: 0 | D29: 0 | E29: 0 | F29: 0
A30: TÁMOP 5.4.9-11/1-2012-0014 | B30: 0 | C30: 0 | F30: 0
A31: Összesen: | B31: 177 | C31: 178 | D31: 174 | E31: 4 | F31: 174
A33: Mosonmagyaróvár, 2016. április 07.

Sheet állami
B1: 5. számú melléklet
A2: Mosonmagyaróvár Térségi Társulás
A4: Állami támogatások
A6: Kistérségi Egyesített Szociális Intézmény
A7: Rovat: B113, B115
A8: Jogcím | B8: Feladat | C8: Fajlagos támogatás 2014. évi C. tv. Alapján | D8: mutató | E8: Eredeti előirányzat | F8: Módosított előirányzat 2015.07.31 | G8: Módosított előirányzat 2015.09.30 | H8: Módosított előirányzat 2015.12.31 | I8: Teljesítés | J8: Év végi elszámolás szerint jár | K8: Igénybe vett és járó támogatás különbsége (- visszafizetési kötelezettség, + járó támogatás)
A9: 3.c. | B9: Szociális étkeztetés | C9: 60896 | D9: 426 | E9: =SUM(D9*C9) -> 25941696 | F9: 25941696 | G9: ='KESZI ktg. mérleg'!E38 -> 25698112 | H9: ='KESZI ktg. mérleg'!F38 -> 25515424 | I9: ='KESZI ktg. mérleg'!G38 -> 25515424 | J9: 25515424 | K9: =J9-I9 -> 0
A10: 3.d. | B10: Házi segítségnyújtás | C10: 188500 | D10: 192 | E10: =SUM(D10*C10) -> 36192000 | F10: 36192000 | G10: ='KESZI ktg. mérleg'!E39 -> 35815000 | H10: ='KESZI ktg. mérleg'!F39 -> 35626500 | I10: ='KESZI ktg. mérleg'!G39 -> 35626500 | J10: 36380500 | K10: =J10-I10 -> 754000
A11: 3.f. | B11: Időskorúak nappali int. ellátása | C11: 163500 | D11: 38 | E11: =SUM(D11*C11) -> 6213000 | F11: 6213000 | G11: ='KESZI ktg. mérleg'!E40 -> 6213000 | H11: ='KESZI ktg. mérleg'!F40 -> 6540000 | I11: ='KESZI ktg. mérleg'!G40 -> 6540000 | J11: 6376500 | K11: =J11-I11 -> -163500
A12: 3.g. | B12: Fogyatékos személyek napp. int. ellátása | C12: 550000 | D12: 11 | E12: =SUM(D12*C12) -> 6050000 | F12: 6050000 | G12: 6050000 | H12: 6050000 | I12: 6050000 | J12: 6050000 | K12: =J12-I12 -> 0
A13: 3.g. | B13: Foglalkoztatási támogatásban rész. fogy. | C13: 220000 | D13: 16 | E13: =SUM(D13*C13) -> 3520000 | F13: 3520000 | G13: 3520000 | H13: 3520000 | I13: 3520000 | J13: 3740000 | K13: =J13-I13 -> 220000
A14: 3.g. | B14: Demens szem. napp. int. ellátása | C14: 550000 | D14: 28 | E14: =SUM(D14*C14) -> 15400000 | F14: 15400000 | G14: =15400000-2090000 -> 13310000 | H14: 14300000 | I14: 14300000 | J14: 13750000 | K14: =J14-I14 -> -550000
A15: 3.i. | B15: Hajléktalanik napp. int. ellátása | C15: 247320 | D15: 36 | E15: =SUM(D15*C15) -> 8903520 | F15: 8903520 | G15: 8903520 | H15: ='KESZI ktg. mérleg'!F42 -> 8903520 | I15: 8903520 | J15: 8903520 | K15: =J15-I15 -> 0
A16: 3.k. | B16: Hajléktalanok Átmeneti Szállása | C16: 515185 | D16: 40 | E16: =SUM(D16*C16) -> 20607400 | F16: 20607400 | G16: =20607400+515185 -> 21122585 | H16: ='KESZI ktg. mérleg'!F43 -> 21122585 | I16: 21122585 | J16: 20607400 | K16: =J16-I16 -> -515185
A17: 4.a. | B17: Bértámogatás | C17: 2606040 | D17: 32 | E17: 83393280 | F17: 83393280 | G17: 83393280 | H17: ='KESZI ktg. mérleg'!F44 -> 76214915 | I17: =83393280-7178365 -> 76214915 | J17: =83393280-2906040 -> 80487240 | K17: =J17-I17 -> 4272325
A18: 4.b. | B18: Intézmény-üzemeltetési támogatás | E18: 25725104 | F18: 25725104 | G18: =25725104+8701000 -> 34426104 | H18: ='KESZI ktg. mérleg'!F45 -> 41904365 | I18: 41904365 | J18: =SUM(41904365-7178365) -> 34726000 | K18: =J18-I18 -> -7178365
B19: Bérkompenzáció | F19: 5572953 | G19: 7021388 | H19: ='KESZI ktg. mérleg'!F49 -> 8795258 | I19: 8795258
B20: Szociális ágazgati pótlék* | F20: 8130034 | G20: 9588225 | H20: ='KESZI ktg. mérleg'!F52+4376342 -> 21142932 | I20: 9588225
B21: Összesen | E21: =SUM(E9:E18) -> 231946000 | F21: =SUM(F9:F20) -> 245648987 | G21: =SUM(G9:G20) -> 255061214 | H21: =SUM(H9:H20) -> 269635499 | I21: =SUM(I9:I20) -> 258080792 | J21: =SUM(J9:J20) -> 236536584 | K21: =SUM(K9:K20) -> -3160725
A23: Kistérségi Gyermekjóléti és Családsegítő Szolgáltató Központ
A24: Jogcím | B24: Feladat | C24: Fajlagos támogatás 2014. évi C. tv. Alapján | D24: mutató | E24: Eredeti előirányzat | F24: Módosított előirányzat 2015.07.31 | G24: Módosított előirányzat 2015.09.30 | H24: Módosított előirányzat 2015.12.31 | I24: Teljesítés | J24: Év végi elszámolás szerint jár | K24: Igénybe vett és járó támogatás különbsége (- visszafizetési kötelezettség, + járó támogatás)
A25: 3.a. | B25: Családsegítés | C25: L/7000*1 975 000 | D25: 10.4036 | E25: 20547110 | F25: 20547110 | G25: 20547110 | H25: 20547110 | I25: 20547110 | J25: 20547110 | K25: =J25-I25 -> 0
A26: 3.aa. | B26: Családsegítés társult kiegészítés | C26: 300 Ft/fő | D26: 72825 | E26: 21847500 | F26: 21847500 | G26: 21847500 | H26: 21847500 | I26: 21847500 | J26: 21847500 | K26: =J26-I26 -> 0
A27: 3.a. | B27: Gyeremkjóléti szolgáltatás | C27: L/7000*1 975 000 | D27: 10.4036 | E27: 20547110 | F27: 20547110 | G27: 20547110 | H27: 20547110 | I27: 20547110 | J27: 20547110 | K27: =J27-I27 -> 0
A28: 3.aa. | B28: Gyeremkjóléti szolg. társult kiegészítés | C28: 1200 Ft/fő | D28: 12664 | E28: 15196800 | F28: 15196800 | G28: 15196800 | H28: 15196800 | I28: 15196800 | J28: 15196800 | K28: =J28-I28 -> 0
A29: 4.a | B29: GyÁÓ bértámogatás | C29: 2606040 | D29: 2 | E29: 5212080 | F29: 5212080 | G29: 5212080 | H29: 5212080 | I29: 5512080 | J29: 5512080 | K29: =J29-I29 -> 0
A30: 4.b | B30: GyÁÓ intézmény-üzelemtetés | E30: 5950000 | F30: 5950000 | G30: 5950000 | H30: =5950000-300000 -> 5650000 | I30: 5650000 | J30: 5650000 | K30: =J30-I30 -> 0
B31: Bérkompenzáció | F31: 3086688 | G31: 3906854 | H31: ='KGYCSSZK ktg. mérleg'!E41 -> 4820285 | I31: 4820285
B32: Szociális ágazati pótlék* | F32: 2546244 | G32: 7365550 | H32: ='KGYCSSZK ktg. mérleg'!E42 -> 7365550 | I32: 7365550
B33: Összesen: | E33: =SUM(E25:E30) -> 89300600 | F33: =SUM(F25:F32) -> 94933532 | G33: =SUM(G25:G32) -> 100573004 | H33: =SUM(H25:H32) -> 101186435 | I33: =SUM(I25:I32) -> 101486435 | J33: =SUM(J25:J32) -> 89300600 | K33: =SUM(K25:K32) -> 0
B35: Mindösszesen | E35: =E21+E33 -> 321246600 | F35: =F33+F21 -> 340582519 | G35: =G33+G21 -> 355634218 | H35: =H33+H21 -> 370821934 | I35: =I33+I21 -> 359567227 | J35: =J33+J21 -> 325837184 | K35: =K33+K21 -> -3160725 | L35: **
A37: * A szociális ágazgati pótlék kiadás szintje eredeti előirányzatban tervezésre került, így a bevételt az intézmény finanszírozás eredeti előirányzatban
A38: tartalmazza.
A40: ** Gesztor önkormányzat felé visszafizetési kötelezettség az állami támogatások elszámolásához kapcsolódóan.
A42: Mosonmagyaróvár, 2016. április 07.

Sheet vagyonmérleg
F1: 6. számú melléklet
A3: Összevont Vagyonmérleg | B3: Előző időszak | C3: Tárgyi időszak | E3: Vagyonmérleg | F3: Előző időszak | G3: Tárgyi időszak
B4: 2014. év | C4: 2015. év | E4: Térségi Társulás | F4: 2014.év | G4: 2015. év
A5: A/I/1 Vagyoni értékű jogok | B5: 599 | C5: 257 | E5: A/I/1 Vagyoni értékű jogok | F5: 599 | G5: 257
A6: A/I/2 Szellemi termékek | B6: 267 | C6: 142 | E6: A/I/2 Szellemi termékek | F6: 214 | G6: 142
A7: A/I Immateriális javak (=A/I/1+A/I/2+A/I/3) | B7: 866 | C7: 399 | E7: A/I Immateriális javak (=A/I/1+A/I/2+A/I/3) | F7: 813 | G7: 399
A8: A/II/1 Ingatlanok és a kapcsolódó vagyoni értékű jogok | B8: 406959 | C8: 404428 | E8: A/II/2 Gépek, berendezések, felszerelések, járművek | F8: 3339 | G8: 1948
A9: A/II/2 Gépek, berendezések, felszerelések, járművek | B9: 15462 | C9: 11039 | E9: A/II/4 Beruházások, felújítások | F9: 7451 | G9: 7451
A10: A/II/4 Beruházások, felújítások | B10: 7451 | C10: 7451 | E10: A/II Tárgyi eszközök (=A/II/1+...+A/II/5) | F10: 10790 | G10: 9399
A11: A/II Tárgyi eszközök (=A/II/1+...+A/II/5) | B11: 429872 | C11: 422918 | E11: A) NEMZETI VAGYONBA TARTOZÓ BEFEKTETETT ESZKÖZÖK (=A/I+A/II+A/III+A/IV) | F11: 11603 | G11: 9798
A12: A) NEMZETI VAGYONBA TARTOZÓ BEFEKTETETT ESZKÖZÖK (=A/I+A/II+A/III+A/IV) | B12: 430738 | C12: 423317 | E12: C/III/1 Kincstáron kívüli forintszámlák | F12: 3258 | G12: 35219
A13: B/I/1 Vásárolt készletek | B13: 3300 | C13: 3708 | E13: C/III Forintszámlák (=C/III/1+C/III/2) | F13: 3258 | G13: 35219
A14: B/I Készletek (=B/I/1+…+B/I/5) | B14: 3300 | C14: 3708 | E14: C) PÉNZESZKÖZÖK (=C/I+…+C/IV) | F14: 3258 | G14: 35219
A15: B) NEMZETI VAGYONBA TARTOZÓ FORGÓESZKÖZÖK (= B/I+B/II) | B15: 3300 | C15: 3708 | E15: D/I Költségvetési évben esedékes követelések (=D/I/1+…+D/I/8) | F15: 56 | G15: 5078
A16: C/II/1 Forintpénztár | B16: 3188 | C16: 1691 | E16: D/II Költségvetési évet követően esedékes követelések (=D/II/1+…+D/II/8) | F16: 908 | G16: 0
... A44: G/ SAJÁT TŐKE (= G/I+…+G/VI) | B44: 431113 | C44: 448596 | E44: FORRÁSOK ÖSSZESEN (=G+H+I+J) | F44: 34216 | G44: 70965
A45: H/I/3 Költségvetési évben esedékes kötelezettségek dologi kiadásokra | B45: 0 | C45: 5045
A46: H/I Költségvetési évben esedékes kötelezettségek (=H/I/1+…+H/I/9) | B46: 0 | C46: 5045
A47: H/II/3 Költségvetési évet követően esedékes kötelezettségek dologi kiadásokra | B47: 0 | C47: 177
A48: H/II Költségvetési évet követően esedékes kötelezettségek (=H/II/1+…+H/II/9) | B48: 0 | C48: 177
A49: H/III/5 Vagyonkezelésbe vett eszközökkel kapcsolatos visszapótlási kötelezettség elszámolása | B49: 0 | C49: 16217
A50: H/III/8 Letétre, megőrzésre, fedezetkezelésre átvett pénzeszközök, biztosítékok | B50: 3188 | C50: 1691
A51: H/III Kötelezettség jellegű sajátos elszámolások (=H/III/1+…+H/III/10) | B51: 3188 | C51: 17908
A52: H) KÖTELEZETTSÉGEK (=H/I+H/II+H/III) | B52: 3188 | C52: 23130
A53: J/2 Költségek, ráfordítások passzív időbeli elhatárolása | B53: 40496 | C53: 52087
A54: J) PASSZÍV IDŐBELI ELHATÁROLÁSOK (=J/1+J/2+J/3) | B54: 40496 | C54: 52087
A55: FORRÁSOK ÖSSZESEN (=G+H+I+J) | B55: 474797 | C55: 523813
A58: Vagyonmérleg | B58: Előző időszak | C58: Tárgyi időszak | E58: Vagyonmérleg | F58: Előző időszak | G58: Tárgyi időszak
A59: KESZI | B59: 2014 | C59: 2015 | E59: KGYCSSZK | F59: 2014 | G59: 2015
A60: A/II/1 Ingatlanok és a kapcsolódó vagyoni értékű jogok | B60: 381422 | C60: 375733 | E60: A/I/2 Szellemi termékek | F60: 53 | G60: 0
A61: A/II/2 Gépek, berendezések, felszerelések, járművek | B61: 11807 | C61: 8476 | E61: A/I Immateriális javak (=A/I/1+A/I/2+A/I/3) | F61: 53 | G61: 0
A62: A/II Tárgyi eszközök (=A/II/1+...+A/II/5) | B62: 393229 | C62: 384209 | E62: A/II/1 Ingatlanok és a kapcsolódó vagyoni értékű jogok | F62: 25537 | G62: 28695
A63: A) NEMZETI VAGYONBA TARTOZÓ BEFEKTETETT ESZKÖZÖK (=A/I+A/II+A/III+A/IV) | B63: 393229 | C63: 384209 | E63: A/II/2 Gépek, berendezések, felszerelések, járművek | F63: 316 | G63: 615
A64: B/I/1 Vásárolt készletek | B64: 3300 | C64: 3708 | E64: A/II Tárgyi eszközök (=A/II/1+...+A/II/5) | F64: 25853 | G64: 29310
A65: B/I Készletek (=B/I/1+…+B/I/5) | B65: 3300 | C65: 3708 | E65: A) NEMZETI VAGYONBA TARTOZÓ BEFEKTETETT ESZKÖZÖK (=A/I+A/II+A/III+A/IV) | F65: 25906 | G65: 29310
A66: B) NEMZETI VAGYONBA TARTOZÓ FORGÓESZKÖZÖK (= B/I+B/II) | B66: 3300 | C66: 3708 | E66: C/III/1 Kincstáron kívüli forintszámlák | F66: 415 | G66: 2214
A67: C/II/1 Forintpénztár | B67: 3188 | C67: 1691 | E67: C/III Forintszámlák (=C/III/1+C/III/2) | F67: 415 | G67: 2214
A68: C/II Pénztárak, csekkek, betétkönyvek (=C/II/1+C/II/2+C/II/3) | B68: 3188 | C68: 1691 | E68: C) PÉNZESZKÖZÖK (=C/I+…+C/IV) | F68: 415 | G68: 2214
A69: C/III/1 Kincstáron kívüli forintszámlák | B69: 2435 | C69: 17253 | E69: E) EGYÉB SAJÁTOS ESZKÖZOLDALI ELSZÁMOLÁSOK (=E/I+…+E/II) | F69: 0 | G69: 2015
A70: C/III Forintszámlák (=C/III/1+C/III/2) | B70: 2435 | C70: 17253 | E70: ESZKÖZÖK ÖSSZESEN (=A+B+C+D+E+F) | F70: 26321 | G70: 33539
... A78: G/I Nemzeti vagyon induláskori értéke | B78: 545920 | C78: 545920 | E78: FORRÁSOK ÖSSZESEN (=G+H+I+J) | F78: 26321 | G78: 33539
A79: G/III Egyéb eszközök induláskori értéke és változásai | B79: 1000 | C79: 1000
A80: G/IV Felhalmozott eredmény | B80: -132011 | C80: -166660
A81: G/VI Mérleg szerinti eredmény | B81: -34649 | C81: -1875
A82: G/ SAJÁT TŐKE (= G/I+…+G/VI) | B82: 380260 | C82: 378385
A83: H/III Kötelezettség jellegű sajátos elszámolások (=H/III/1+…+H/III/10) | B83: 3188 | C83: 1691
A84: H) KÖTELEZETTSÉGEK (=H/I+H/II+H/III) | B84: 3188 | C84: 1691
A85: J) PASSZÍV IDŐBELI ELHATÁROLÁSOK (=J/1+J/2+J/3) | B85: 30812 | C85: 39233
A86: FORRÁSOK ÖSSZESEN (=G+H+I+J) | B86: 414260 | C86: 419309

Sheet eredménykimutatás
G1: 7. számú melléklet
B3: Eredménykimutatás | C3: Előző időszak | D3: Tárgyi időszak | F3: Eredménykimutatás | G3: Előző időszak | H3: Tárgyi időszak
B4: összevont | C4: 2014 | D4: 2015 | F4: Társulás | G4: 2014 | H4: 2015
B5: 02 Eszközök és szolgáltatások értékesítése nettó eredményszemléletű bevételei | C5: 180285 | D5: 203742 | F5: 02 Eszközök és szolgáltatások értékesítése nettó eredményszemléletű bevételei | G5: 5664 | H5: 10835
B6: I Tevékenység nettó eredményszemléletű bevétele (=01+02+03) (04=01+02+03) | C6: 180285 | D6: 203742 | F6: I Tevékenység nettó eredményszemléletű bevétele (=01+02+03) (04=01+02+03) | G6: 5664 | H6: 10835
B7: 06 Központi működési célú támogatások eredményszemléletű bevételei | C7: 451017 | D7: 491146 | F7: 07 Egyéb működési célú támogatások eredményszemléletű bevételei | G7: 499969 | H7: 536632
B8: 07 Egyéb működési célú támogatások eredményszemléletű bevételei | C8: 531874 | D8: 566677 | F8: 08 Különféle egyéb eredményszemléletű bevételek | G8: 0 | H8: 395
B9: 08 Különféle egyéb eredményszemléletű bevételek | C9: 13811 | D9: 4954 | F9: III Egyéb eredményszemléletű bevételek (=06+07+08) (11=08+09+10) | G9: 499969 | H9: 537027
B10: III Egyéb eredményszemléletű bevételek (=06+07+08) (11=08+09+10) | C10: 996702 | D10: 1062777 | F10: 09 Anyagköltség | G10: 457 | H10: 0
B11: 09 Anyagköltség | C11: 53422 | D11: 56270 | F11: 10 Igénybe vett szolgáltatások értéke | G11: 29764 | H11: 3375
B12: 10 Igénybe vett szolgáltatások értéke | C12: 139378 | D12: 107996 | F12: 12 Eladott (közvetített) szolgáltatások értéke | G12: 10400 | H12: 10495
B13: 12 Eladott (közvetített) szolgáltatások értéke | C13: 10400 | D13: 12038 | F13: IV Anyagjellegű ráfordítások (=09+10+11+12) (16=12+...+15) | G13: 40621 | H13: 13870
B14: IV Anyagjellegű ráfordítások (=09+10+11+12) (16=12+...+15) | C14: 203200 | D14: 176304 | F14: 13 Bérköltség | G14: 844 | H14: 84
B15: 13 Bérköltség | C15: 357014 | D15: 349941 | F15: 14 Személyi jellegű egyéb kifizetések | G15: 1211 | H15: 190
... B27: D) RENDKÍVÜLI EREDMÉNY(=X-XI) (40=38-39) | C27: -1822 | D27: -1827 | F27: E) MÉRLEG SZERINTI EREDMÉNY (=±C±D) (41=±35±40) | G27: -2871 | H27: 31621
B28: E) MÉRLEG SZERINTI EREDMÉNY (=±C±D) (41=±35±40) | C28: -50638 | D28: 33700
B30: Eredménykimutatás | C30: Előző időszak | D30: Tárgyi időszak | F30: Eredménykimutatás | G30: Előző időszak | H30: Tárgyi időszak
B31: KESZI | C31: 2014 | D31: 2015 | F31: KGYCSSZK | G31: 2014 | H31: 2015
B32: 02 Eszközök és szolgáltatások értékesítése nettó eredményszemléletű bevételei | C32: 173964 | D32: 191730 | F32: 02 Eszközök és szolgáltatások értékesítése nettó eredményszemléletű bevételei | G32: 657 | H32: 1177
B33: I Tevékenység nettó eredményszemléletű bevétele (=01+02+03) (04=01+02+03) | C33: 173964 | D33: 191730 | F33: I Tevékenység nettó eredményszemléletű bevétele (=01+02+03) (04=01+02+03) | G33: 657 | H33: 1177
B34: 06 Központi működési célú támogatások eredményszemléletű bevételei | C34: 317290 | D34: 345386 | F34: 06 Központi működési célú támogatások eredményszemléletű bevételei | G34: 133727 | H34: 145760
B35: 07 Egyéb működési célú támogatások eredményszemléletű bevételei | C35: 30952 | D35: 24777 | F35: 07 Egyéb működési célú támogatások eredményszemléletű bevételei | G35: 953 | H35: 5268
B36: 08 Különféle egyéb eredményszemléletű bevételek | C36: 10770 | D36: 2430 | F36: 08 Különféle egyéb eredményszemléletű bevételek | G36: 3041 | H36: 2129
B37: III Egyéb eredményszemléletű bevételek (=06+07+08) (11=08+09+10) | C37: 359012 | D37: 372593 | F37: III Egyéb eredményszemléletű bevételek (=06+07+08) (11=08+09+10) | G37: 137721 | H37: 153157
B38: 09 Anyagköltség | C38: 50737 | D38: 53671 | F38: 09 Anyagköltség | G38: 2228 | H38: 2599
B39: 10 Igénybe vett szolgáltatások értéke | C39: 99198 | D39: 92557 | F39: 10 Igénybe vett szolgáltatások értéke | G39: 10416 | H39: 12064
B40: 12 Eladott (közvetített) szolgáltatások értéke | C40: 0 | D40: 1543 | F40: IV Anyagjellegű ráfordítások (=09+10+11+12) (16=12+...+15) | G40: 12644 | H40: 14663
B41: IV Anyagjellegű ráfordítások (=09+10+11+12) (16=12+...+15) | C41: 149935 | D41: 147771 | F41: 13 Bérköltség | G41: 94059 | H41: 88363
B42: 13 Bérköltség | C42: 262111 | D42: 261494 | F42: 14 Személyi jellegű egyéb kifizetések | G42: 14948 | H42: 13122
... B49: C) SZOKÁSOS EREDMÉNY (=±A±B) (35=±23±34) | C49: -34649 | D49: -1875 | F49: E) MÉRLEG SZERINTI EREDMÉNY (=±C±D) (41=±35±40) | G49: -13118 | H49: 3954
B50: E) MÉRLEG SZERINTI EREDMÉNY (=±C±D) (41=±35±40) | C50: -34649 | D50: -1875

Sheet maradvány
E1: 8. számú melléklet
B3: Maradványkimutatás | C3: Összeg | E3: Maradvány | F3: Összeg
B4: Összevont | C4: ezer Ft-ban | E4: Társulás | F4: ezer Ft-ban
B5: 01 Alaptevékenység költségvetési bevételei | C5: 785213 | E5: 01 Alaptevékenység költségvetési bevételei | F5: 543460
B6: 02 Alaptevékenység költségvetési kiadásai | C6: 728650 | E6: 02 Alaptevékenység költségvetési kiadásai | F6: 17748
B7: I Alaptevékenység költségvetési egyenlege (=01-02) | C7: 56563 | E7: I Alaptevékenység költségvetési egyenlege (=01-02) | F7: 525712
B8: 03 Alaptevékenység finanszírozási bevételei | C8: 495656 | E8: 03 Alaptevékenység finanszírozási bevételei | F8: 3258
B9: 04 Alaptevékenység finanszírozási kiadásai | C9: 491146 | E9: 04 Alaptevékenység finanszírozási kiadásai | F9: 491146
B10: II Alaptevékenység finanszírozási egyenlege (=03-04) | C10: 4510 | E10: II Alaptevékenység finanszírozási egyenlege (=03-04) | F10: -487888
B11: A) Alaptevékenység maradványa (=±I±II) | C11: 61073 | E11: A) Alaptevékenység maradványa (=±I±II) | F11: 37824
B12: C) Összes maradvány (=A+B) | C12: 61073 | E12: C) Összes maradvány (=A+B) | F12: 37824
B13: E) Alaptevékenység szabad maradványa (=A-D) | C13: 61073 | E13: E) Alaptevékenység szabad maradványa (=A-D) | F13: 37824
B15: Maradvány kimutatás | C15: Összeg | E15: Maradvány kimutatás | F15: Összeg
B16: KESZI | C16: ezer Ft-ban | E16: KGYCSSZK | F16: ezer Ft-ban
B17: 01 Alaptevékenység költségvetési bevételei | C17: 233180 | E17: 01 Alaptevékenység költségvetési bevételei | F17: 8573
B18: 02 Alaptevékenység költségvetési kiadásai | C18: 560382 | E18: 02 Alaptevékenység költségvetési kiadásai | F18: 150520
B19: I Alaptevékenység költségvetési egyenlege (=01-02) | C19: -327202 | E19: I Alaptevékenység költségvetési egyenlege (=01-02) | F19: -141947
B20: 03 Alaptevékenység finanszírozási bevételei | C20: 346223 | E20: 03 Alaptevékenység finanszírozási bevételei | F20: 146175
B21: II Alaptevékenység finanszírozási egyenlege (=03-04) | C21: 346223 | E21: II Alaptevékenység finanszírozási egyenlege (=03-04) | F21: 146175
B22: A) Alaptevékenység maradványa (=±I±II) | C22: 19021 | E22: A) Alaptevékenység maradványa (=±I±II) | F22: 4228
B23: C) Összes maradvány (=A+B) | C23: 19021 | E23: C) Összes maradvány (=A+B) | F23: 4228
B24: E) Alaptevékenység szabad maradványa (=A-D) | C24: 19021 | E24: E) Alaptevékenység szabad maradványa (=A-D) | F24: 4228

Sheet kiadások
A1: KIADÁSOK KORMÁNYZATI FUNKCIÓNKÉNT 9. számú melléklet
A2: Társulás | B2: 011130 Önkormányzatok és önkormányzati hivatalok jogalkotó és általános igazgatási tevékenysége | C2: 018030 Támogatási célú finanszírozási műveletek | D2: 049010 Máshova nem sorolt gazdasági ügyek | E2: 084032 Civil szervezetek programtámogatása | G2: KESZI | H2: 018030 Támogatási célú finanszírozási műveletek | I2: 101221 Fogyatékossággal élők nappali ellátása | J2: 102021 Időskorúak, demens betegek tartós bentlakásos ellátása | K2: 102022 Időskorúak, demens betegek átmeneti ellátása | L2: 102030 Idősek, demens betegek nappali ellátása | M2: 107013 Hajléktalanok átmeneti ellátása | N2: 107015 Hajléktalanok nappali ellátása | O2: 107030 Szociális foglalkoztatás | P2: 107051 Szociális étkeztetés | Q2: 107052 Házi segítségnyújtás | R2: 107053 Jelzőrendszeres házi segítségnyújtás
A3: Személyi juttatások (=15+19) (K1) | B3: 190 | C3: 0 | D3: 0 | E3: 0 | G3: Személyi juttatások (=15+19) (K1) | H3: 0 | I3: 16263 | J3: 105872 | K3: 43668 | L3: 34675 | M3: 19983 | N3: 6906 | O3: 9725 | P3: 6172 | Q3: 44452 | R3: 4968
A4: Munkaadókat terhelő járulékok és szociális hozzájárulási adó (=22+…+28) (K2) | B4: 88 | C4: 0 | D4: 0 | E4: 0 | G4: Munkaadókat terhelő járulékok és szociális hozzájárulási adó (=22+…+28) (K2) | H4: 0 | I4: 4446 | J4: 28382 | K4: 11842 | L4: 9320 | M4: 5242 | N4: 1866 | O4: 1271 | P4: 1658 | Q4: 11968 | R4: 1348
A5: Kommunikációs szolgáltatások (=33+34) (K32) | B5: 68 | C5: 0 | D5: 0 | E5: 0 | G5: Készletbeszerzés (=29+30+31) (K31) | H5: 0 | I5: 2297 | J5: 27037 | K5: 14555 | L5: 3300 | M5: 1639 | N5: 847 | O5: 332 | P5: 2569 | Q5: 1351 | R5: 4
A6: Szolgáltatási kiadások (=36+37+38+40+41+43+44) (K33) | B6: 8735 | C6: 0 | D6: 0 | E6: 0 | G6: Kommunikációs szolgáltatások (=33+34) (K32) | H6: 0 | I6: 416 | J6: 1206 | K6: 590 | L6: 651 | M6: 169 | N6: 137 | O6: 1 | P6: 219 | Q6: 890 | R6: 79
A7: Kiküldetések, reklám- és propagandakiadások (=46+47) (K34) | B7: 54 | C7: 0 | D7: 0 | E7: 0 | G7: Szolgáltatási kiadások (=36+37+38+40+41+43+44) (K33) | H7: 0 | I7: 3162 | J7: 19638 | K7: 7362 | L7: 3973 | M7: 3798 | N7: 1527 | O7: 292 | P7: 44666 | Q7: 1354 | R7: 4497
A8: Működési célú előzetesen felszámított általános forgalmi adó (K351) | B8: 430 | C8: 0 | D8: 0 | E8: 0 | G8: Kiküldetések, reklám- és propagandakiadások (=46+47) (K34) | H8: 0 | I8: 28 | J8: 136 | K8: 51 | L8: 43 | M8: 6 | N8: 2 | O8: 0 | P8: 9 | Q8: 51 | R8: 0
A9: Egyéb dologi kiadások (K355) | B9: 872 | C9: 0 | D9: 0 | E9: 0 | G9: Működési célú előzetesen felszámított általános forgalmi adó (K351) | H9: 0 | I9: 1403 | J9: 9330 | K9: 4744 | L9: 1883 | M9: 929 | N9: 547 | O9: 111 | P9: 12687 | Q9: 762 | R9: 1241
A10: Különféle befizetések és egyéb dologi kiadások (=49+50+51+54+58) (K35) | B10: 1302 | C10: 0 | D10: 0 | E10: 0 | G10: Egyéb dologi kiadások (K355) | H10: 0 | I10: 2 | J10: 155 | K10: 12 | L10: 3 | M10: 1 | N10: 0 | O10: 33 | P10: 232 | Q10: 72 | R10: 0
A11: Dologi kiadások (=32+35+45+48+59) (K3) | B11: 10159 | C11: 0 | D11: 0 | E11: 0 | G11: Különféle befizetések és egyéb dologi kiadások (=49+50+51+54+58) (K35) | H11: 0 | I11: 1405 | J11: 9485 | K11: 4756 | L11: 1886 | M11: 930 | N11: 547 | O11: 144 | P11: 12919 | Q11: 834 | R11: 1241
A12: Egyéb elvonások, befizetések (K5023) | B12: 0 | C12: 2120 | D12: 0 | E12: 0 | G12: Dologi kiadások (=32+35+45+48+59) (K3) | H12: 0 | I12: 7308 | J12: 57502 | K12: 27314 | L12: 9853 | M12: 6542 | N12: 3060 | O12: 769 | P12: 60382 | Q12: 4480 | R12: 5821
A13: Elvonások és befizetések (K502) (=134+135+136) | B13: 0 | C13: 2120 | D13: 0 | E13: 0 | G13: Intézményi ellátottak pénzbeli juttatásai (>=103+104) (K47) | H13: 0 | I13: 118 | J13: 242 | K13: 101 | L13: 0 | M13: 355 | N13: 0 | O13: 0 | P13: 0 | Q13: 0 | R13: 0
A14: Egyéb működési célú támogatások államháztartáson belülre (=162+…+171) (K506) | B14: 0 | C14: 0 | D14: 2564 | E14: 0 | G14: Ellátottak pénzbeli juttatásai (=61+62+74+75+85+95+102+105) (K4) | H14: 0 | I14: 118 | J14: 242 | K14: 101 | L14: 0 | M14: 355 | N14: 0 | O14: 0 | P14: 0 | Q14: 0 | R14: 0
... A23: Kiadások összesen (=278+318) (K1-K9) | B23: 10437 | C23: 493266 | D23: 2564 | E23: 2627 | G23: Egyéb tárgyi eszközök felújítása (K73) | H23: 0 | I23: 17 | J23: 0 | K23: 0 | L23: 0 | M23: 0 | N23: 0 | O23: 0 | P23: 0 | Q23: 0 | R23: 0
G24: Felújítási célú előzetesen felszámított általános forgalmi adó (K74) | H24: 0 | I24: 29 | J24: 90 | K24: 87 | L24: 91 | M24: 323 | N24: 0 | O24: 0 | P24: 0 | Q24: 0 | R24: 0
G25: Felújítások (=211+...+214) (K7) | H25: 0 | I25: 164 | J25: 422 | K25: 411 | L25: 428 | M25: 1517 | N25: 0 | O25: 0 | P25: 0 | Q25: 0 | R25: 0
G26: Költségvetési kiadások (=20+21+60+131+201+210+215+277) (K1-K8) | H26: 344 | I26: 28461 | J26: 193467 | K26: 84469 | L26: 54438 | M26: 34059 | N26: 11832 | O26: 11797 | P26: 68212 | Q26: 61166 | R26: 12137
G27: Kiadások összesen (=278+318) (K1-K9) | H27: 344 | I27: 28461 | J27: 193467 | K27: 84469 | L27: 54438 | M27: 34059 | N27: 11832 | O27: 11797 | P27: 68212 | Q27: 61166 | R27: 12137
A29: KGYCSSZK | B29: Összesen | C29: 018030 Támogatási célú finanszírozási műveletek | D29: 104012 Gyermekek átmeneti ellátása | E29: 104042 Gyermekjóléti szolgáltatások | F29: 107054 Családsegítés
A30: Személyi juttatások (=15+19) (K1) | B30: 98922 | C30: 0 | D30: 15754 | E30: 37440 | F30: 45728
A31: Munkaadókat terhelő járulékok és szociális hozzájárulási adó (=22+…+28) (K2) | B31: 26604 | C31: 0 | D31: 4177 | E31: 10326 | F31: 12101
A32: Készletbeszerzés (=29+30+31) (K31) | B32: 2599 | C32: 0 | D32: 217 | E32: 329 | F32: 2053
A33: Kommunikációs szolgáltatások (=33+34) (K32) | B33: 3286 | C33: 0 | D33: 227 | E33: 638 | F33: 2421
A34: Szolgáltatási kiadások (=36+37+38+40+41+43+44) (K33) | B34: 8308 | C34: 0 | D34: 4450 | E34: 375 | F34: 3483
A35: Kiküldetések, reklám- és propagandakiadások (=46+47) (K34) | B35: 572 | C35: 0 | D35: 27 | E35: 56 | F35: 489
A36: Működési célú előzetesen felszámított általános forgalmi adó (K351) | B36: 3152 | C36: 0 | D36: 1145 | E36: 323 | F36: 1684
A37: Egyéb dologi kiadások (K355) | B37: 12 | C37: 0 | D37: 0 | E37: 0 | F37: 12
A38: Különféle befizetések és egyéb dologi kiadások (=49+50+51+54+58) (K35) | B38: 3164 | C38: 0 | D38: 1145 | E38: 323 | F38: 1696
A39: Dologi kiadások (=32+35+45+48+59) (K3) | B39: 17929 | C39: 0 | D39: 6066 | E39: 1721 | F39: 10142
A40: Intézményi ellátottak pénzbeli juttatásai (>=103+104) (K47) | B40: 346 | C40: 0 | D40: 346 | E40: 0 | F40: 0
A41: Ellátottak pénzbeli juttatásai (=61+62+74+75+85+95+102+105) (K4) | B41: 346 | C41: 0 | D41: 346 | E41: 0 | F41: 0
... A53: Kiadások összesen (=278+318) (K1-K9) | B53: 150519 | C53: 168 | D53: 27939 | E53: 50729 | F53: 71683

Sheet bevételek
A1: BEVÉTELEK KORMÁNYZATI FUNKCIÓNKÉNT 10. SZÁMÚ MELLÉKLET
A2: Társulás | B2: Összesen | C2: 011130 Önkormányzatok és önkormányzati hivatalok jogalkotó és általános igazgatási tevékenysége | D2: 018030 Támogatási célú finanszírozási műveletek | E2: 047450 Szektorhoz nem köthető komplex gazdaságfejlesztési projektek támogatása
A3: Működési célú támogatások államháztartáson belülről (=07+...+10+21+32) (B1) | B3: 533848 | C3: 531948 | D3: 0 | E3: 1900
A4: Működési bevételek (=186+187+190+192+199+…+202+206+211+212) (B4) | B4: 6828 | C4: 6828 | D4: 0 | E4: 0
A5: Működési célú átvett pénzeszközök (=225+...+228+238) (B6) | B5: 2784 | C5: 2784 | D5: 0 | E5: 0
A6: Költségvetési bevételek (=43+79+185+215+224+250+276) (B1-B7) | B6: 543460 | C6: 541560 | D6: 0 | E6: 1900
A7: Maradvány igénybevétele (=289+290) (B813) | B7: 3258 | C7: 0 | D7: 3258 | E7: 0
A8: Belföldi finanszírozás bevételei (=281+288+291+…+296+299) (B81) | B8: 3258 | C8: 0 | D8: 3258 | E8: 0
A9: Finanszírozási bevételek (=300+306+307+308) (B8) | B9: 3258 | C9: 0 | D9: 3258 | E9: 0
A10: Bevételek összesen (277+309) (B1-B8) | B10: 546718 | C10: 541560 | D10: 3258 | E10: 1900
A13: Kistérségi Gyermekjóléti és Családsegítő Szolgálat | B13: Összesen | C13: 018030 Támogatási célú finanszírozási műveletek | D13: 104012 Gyermekek átmeneti ellátása | E13: 104042 Gyermekjóléti szolgáltatások | F13: 107054 Családsegítés | H13: KESZI | I13: Összesen | J13: 018030 Támogatási célú finanszírozási műveletek | K13: 101221 Fogyatékossággal élők nappali ellátása | L13: 102021 Időskorúak, demens betegek tartós bentlakásos ellátása | M13: 102022 Időskorúak, demens betegek átmeneti ellátása | N13: 102030 Idősek, demens betegek nappali ellátása | O13: 107013 Hajléktalanok átmeneti ellátása | P13: 107030 Szociális foglalkoztatás | Q13: 107051 Szociális étkeztetés | R13: 107052 Házi segítségnyújtás | S13: 107053 Jelzőrendszeres házi segítségnyújtás
A14: Működési célú támogatások államháztartáson belülről (=07+...+10+21+32) (B1) | B14: 4018 | C14: 0 | D14: 0 | E14: 0 | F14: 4018 | H14: Működési célú támogatások államháztartáson belülről (=07+...+10+21+32) (B1) | I14: 24377 | J14: 0 | K14: 225 | L14: 5108 | M14: 735 | N14: 11730 | O14: 570 | P14: 0 | Q14: 800 | R14: 164 | S14: 5045
A15: Működési bevételek (=186+187+190+192+199+…+202+206+211+212) (B4) | B15: 3306 | C15: 0 | D15: 1181 | E15: 1205 | F15: 920 | H15: Működési bevételek (=186+187+190+192+199+…+202+206+211+212) (B4) | I15: 208403 | J15: 0 | K15: 3714 | L15: 103519 | M15: 34768 | N15: 7358 | O15: 4962 | P15: 505 | Q15: 37796 | R15: 12588 | S15: 3193
A16: Működési célú átvett pénzeszközök (=225+...+228+238) (B6) | B16: 1250 | C16: 0 | D16: 0 | E16: 0 | F16: 1250 | H16: Működési célú átvett pénzeszközök (=225+...+228+238) (B6) | I16: 400 | J16: 0 | K16: 0 | L16: 0 | M16: 0 | N16: 0 | O16: 400 | P16: 0 | Q16: 0 | R16: 0 | S16: 0
A17: Költségvetési bevételek (=43+79+185+215+224+250+276) (B1-B7) | B17: 8574 | C17: 0 | D17: 1181 | E17: 1205 | F17: 6188 | H17: Költségvetési bevételek (=43+79+185+215+224+250+276) (B1-B7) | I17: 233180 | J17: 0 | K17: 3939 | L17: 108627 | M17: 35503 | N17: 19088 | O17: 5932 | P17: 505 | Q17: 38596 | R17: 12752 | S17: 8238
A18: Maradvány igénybevétele (=289+290) (B813) | B18: 415 | C18: 415 | D18: 0 | E18: 0 | F18: 0 | H18: Maradvány igénybevétele (=289+290) (B813) | I18: 837 | J18: 837 | K18: 0 | L18: 0 | M18: 0 | N18: 0 | O18: 0 | P18: 0 | Q18: 0 | R18: 0 | S18: 0
A19: Központi, irányító szervi támogatás (B816) | B19: 145760 | C19: 145760 | D19: 0 | E19: 0 | F19: 0 | H19: Központi, irányító szervi támogatás (B816) | I19: 345386 | J19: 345386 | K19: 0 | L19: 0 | M19: 0 | N19: 0 | O19: 0 | P19: 0 | Q19: 0 | R19: 0 | S19: 0
A20: Belföldi finanszírozás bevételei (=281+288+291+…+296+299) (B81) | B20: 146175 | C20: 146175 | D20: 0 | E20: 0 | F20: 0 | H20: Belföldi finanszírozás bevételei (=281+288+291+…+296+299) (B81) | I20: 346223 | J20: 346223 | K20: 0 | L20: 0 | M20: 0 | N20: 0 | O20: 0 | P20: 0 | Q20: 0 | R20: 0 | S20: 0
A21: Finanszírozási bevételek (=300+306+307+308) (B8) | B21: 146175 | C21: 146175 | D21: 0 | E21: 0 | F21: 0 | H21: Finanszírozási bevételek (=300+306+307+308) (B8) | I21: 346223 | J21: 346223 | K21: 0 | L21: 0 | M21: 0 | N21: 0 | O21: 0 | P21: 0 | Q21: 0 | R21: 0 | S21: 0
A22: Bevételek összesen (277+309) (B1-B8) | B22: 154749 | C22: 146175 | D22: 1181 | E22: 1205 | F22: 6188 | H22: Bevételek összesen (277+309) (B1-B8) | I22: 579403 | J22: 346223 | K22: 3939 | L22: 108627 | M22: 35503 | N22: 19088 | O22: 5932 | P22: 505 | Q22: 38596 | R22: 12752 | S22: 8238

Sheet pénzeszköz átadások
A1: Mosonmagyaróvári Többcélú Kistérségi Társulás
A2: államháztartáson belülre illetve kívülre megvalósított
A3: pénzeszköz átadások
A4: 2015. december 31-ig
A5: adatok ezer Ft-ban
E6: 8. számú melléklet
A7: Jogcím | B7: Teljesítés ezer Ft-ban
A8: Áht. Belüli pénzeszköz átadás
A9: .= Magyar Államkincstár felé elszámolás alapján visszafizetett támogatás | B9: 663
A10: .= Mosonmagyaróvár Város Önkormányzatának 2014. évi elszámolás alapján visszafizetett állami támogatás | B10: 1457
A11: .= megállapodás alapján Hivatal részére átadott támogatás | B11: 1800
A12: .= Hegyeshalom Község Önkormányzatának szolidaritási alapból átadott támogatás | B12: 764
A13: Áht. Kívüli pénzeszköz átadás
A14: .= Térségi Nyugdíjas Klub támogatása | B14: 700
A15: .= Diáksport Bizottság támogatása | B15: 50
A16: .= Aranypor kiadvány támogatása | B16: 50
A17: Felhalmozási célú pénzeszköz átadás Áht. Kívülre
A18: .= Karolina Kórház - Rendelőintézet eszközbeszerzéséhez kapcsolódó alapítványi támogatás | B18: 1827
A19: Összes pénzeszköz átadás intézményfinanszírozáson kívül | B19: =SUM(B9:B18) -> 7311
A23: Mosonmagyaróvár, 2016. április 07.

Sheet befizetések
F1: 12. számú melléklet
A2: Mosonmagyaróvár Térségi Társulás tagönkormányzati által teljesített befizetések
A3: 2015. évben
C4: Előirányzat Ft | D4: Teljesített befizetés Ft | E4: Tartozás Ft | F4: Megjegyzés Ft
A5: Társulási tagdíj | C5: 15278400 | D5: 15278400 | E5: =C5-D5 -> 0
A6: Gyermekjólét támogatása | C6: 4022100 | D6: 4022100 | E6: =C6-D6 -> 0 | F6: felhasználás a KGYCSSZK működéséhez
A7: Karolina Kórház - Rendelőintézet eszközbeszerzés támogatása | C7: 1527840 | D7: 1527840 | E7: =C7-D7 -> 0 | F7: a Tásulás kiegészítette a támogatást 299.160 Ft-tal, és a kórházi alapítványnak átadásra került az 1.827e Ft
A8: Szolidaritási alap | C8: 763920 | D8: 763920 | E8: =C8-D8 -> 0 | F8: teljes egészében átadásra került tanácsi döntés alapján Hegyeshalom Község Önk. Részére
A9: Felújítási alap | C9: 7639200 | D9: 7639200 | E9: =C9-D9 -> 0 | F9: Felhasználás: - Idősek klubja állmenyezet 321.843,- Ft, PVC padló idősek klubja 106.097,- Ft, Hajléktalan szálló felújítása 1.511.954,- Ft, intézményi karbantartása 142.138,- Ft, Családsegítő Központ festés villanyszerelés 1.475.712,- Ft, Idősek Gondozóház folyó burkolat csere 411.480,- Ft, E-on csatlakozási díj 271.780,- Ft, ajtózár csere 134.626 ,- Ft, Gyermekek átmeneti otthon felújítása 2.154.207,- Ft, Gyermekek átmeneti otthon festési anyag 370.060,- Ft. Összesen 6.899.897 Ft került felhasználásra. A maradvány - figyelembe véve a 2014. évi maradványt is - 3.584.052,- Ft
A12: Mosonmagyaróvár, 2016. április 07.
