Workbook

Sheet címrend
B1: 1. SZÁMÚ MELLÉKLET
A5: MOSONMAGYARÓVÁR TÉRSÉGI TÁRSULÁS
A6: 2015. ÉVI KÖLTSÉGVETÉSI HATÁROZATÁHOZ
A11: A Mosonmagyaróvár Térségi Társulás és irányítása alá tartozó költségvetési szervek
A12: 2015. évi költségvetéséről szóló 2/2015. (II.17.) TT. határozatot
A13: módosításáról szóló …/2016. (IV. 19.) TT. határozat
A15: CÍMRENDJÉT
A16: az alábbiak szerint állapítja meg:
A21: Címszám | B21: Megnevezés
A22: 1. | B22: Mosonmagyaróvár Térségi Társulás
A23: 2. | B23: Kistérségi Egyesített Szociális Intézmény
A24: 3. | B24: Kistérségi Gyermekjóléti és Családsegítő Szolgáltató Központ

Sheet összevont ktg.mérleg
B1: 2./A SZÁMÚ MELLÉKLET
A3: MOSONMAGYARÓVÁR TÉRSÉGI TÁRSULÁS
A4: 2015. ÉVI KÖLTSÉGVETÉSI HATÁROZATÁHOZ
A5: PÉNZFORGALMI MÉRLEG
A6: adatok ezer Ft-ban
A8: MOSONMAGYARÓVÁRI TÖBBCÉLÚ KISTÉRSÉGI TÁRSULÁS ÉS KÖLTSÉGVETÉSI SZERVEI | D8: kötelező | E8: önként | G8: kötelező | H8: önként | J8: kötelező | K8: önként | M8: kötelező | N8: önként
A9: Megnevezés | B9: eredeti | C9: eredeti | D9: eredeti | E9: eredeti | F9: módosított | G9: módosított | H9: módosított | I9: módosított | J9: módosított | K9: módosított | L9: módosított | M9: módosított | N9: módosított | O9: Rovatrend
B10: előirányzat 2014. | C10: előirányzat 2015. | D10: előirányzat 2015. | E10: előirányzat 2015. | F10: előirányzat 2015.07.31 | G10: előirányzat 2015.07.31 | H10: előirányzat 2015.07.31 | I10: előirányzat 2015.09.30 | J10: előirányzat 2015.09.30 | K10: előirányzat 2015.09.31 | L10: előirányzat 2015.12.31 | M10: előirányzat 2015.12.31 | N10: előirányzat 2015.12.31 | O10: 2015. év
A11: Személyi juttatások | B11: ='KESZI ktg. mérleg'!B12+'KGYCSSZK ktg. mérleg'!B12+'társulás ktg. mérleg'!B12 -> 363679.31 | C11: ='KESZI ktg. mérleg'!C12+'KGYCSSZK ktg. mérleg'!B12+'társulás ktg. mérleg'!B12 -> 385136.31 | D11: =SUM(C11-E11) -> 384136.31 | E11: ='társulás ktg. mérleg'!B12 -> 1000 | F11: ='KESZI ktg. mérleg'!D12+'KGYCSSZK ktg. mérleg'!C12+'társulás ktg. mérleg'!C12 -> 396602 | G11: =F11-H11 -> 395602 | H11: ='társulás ktg. mérleg'!C12 -> 1000 | I11: ='KESZI ktg. mérleg'!E12+'KGYCSSZK ktg. mérleg'!D12+'társulás ktg. mérleg'!D12 -> 413848 | J11: =I11-K11 -> 412848 | K11: 1000 | L11: ='KESZI ktg. mérleg'!F12+'KGYCSSZK ktg. mérleg'!E12+'társulás ktg. mérleg'!E12 -> 420421 | M11: ='KESZI ktg. mérleg'!F12+'KGYCSSZK ktg. mérleg'!E12 -> 419421 | N11: =L11-M11 -> 1000 | O11: K1
A12: Munkaadót terhelő járulékok | B12: ='KESZI ktg. mérleg'!B13+'KGYCSSZK ktg. mérleg'!B13+'társulás ktg. mérleg'!B13 -> 94973.752 | C12: ='KESZI ktg. mérleg'!C13+'KGYCSSZK ktg. mérleg'!B13+'társulás ktg. mérleg'!B13 -> 102784.75 | D12: =SUM(C12-E12) -> 102273.05 | E12: ='társulás ktg. mérleg'!B13 -> 511.7 | F12: ='KESZI ktg. mérleg'!D13+'KGYCSSZK ktg. mérleg'!C13+'társulás ktg. mérleg'!C13 -> 105085.7 | G12: =F12-H12 -> 104574 | H12: ='társulás ktg. mérleg'!C13 -> 511.7 | I12: ='KESZI ktg. mérleg'!E13+'KGYCSSZK ktg. mérleg'!D13+'társulás ktg. mérleg'!D13 -> 109715 | J12: =I12-K12 -> 109203 | K12: 512 | L12: ='KESZI ktg. mérleg'!F13+'KGYCSSZK ktg. mérleg'!E13+'társulás ktg. mérleg'!E13 -> 106310 | M12: ='KESZI ktg. mérleg'!F13+'KGYCSSZK ktg. mérleg'!E13 -> 105798 | N12: =L12-M12 -> 512 | O12: K2
A13: Dologi és egyéb folyó kiadások | B13: ='KESZI ktg. mérleg'!B14+'KGYCSSZK ktg. mérleg'!B14+'társulás ktg. mérleg'!B14 -> 231544.3 | C13: ='KESZI ktg. mérleg'!C14+'KGYCSSZK ktg. mérleg'!B14+'társulás ktg. mérleg'!B14 -> 220124.3 | D13: =SUM(C13-E13) -> 207303 | E13: ='társulás ktg. mérleg'!B14 -> 12821.3 | F13: ='KESZI ktg. mérleg'!D14+'KGYCSSZK ktg. mérleg'!C14+'társulás ktg. mérleg'!C14 -> 226748 | G13: =F13-H13 -> 208567 | H13: ='társulás ktg. mérleg'!C14 -> 18181 | I13: ='KESZI ktg. mérleg'!E14+'KGYCSSZK ktg. mérleg'!D14+'társulás ktg. mérleg'!D14 -> 225629 | J13: =I13-K13 -> 208905 | K13: 16724 | L13: ='KESZI ktg. mérleg'!F14+'KGYCSSZK ktg. mérleg'!E14+'társulás ktg. mérleg'!E14 -> 229839 | M13: ='KESZI ktg. mérleg'!F14+'KGYCSSZK ktg. mérleg'!E14 -> 208022 | N13: =L13-M13 -> 21817 | O13: K3
A14: Ellátottak pénzbeli juttatásai | C14: ='KESZI ktg. mérleg'!C15+'KGYCSSZK ktg. mérleg'!B15 -> 1120 | D14: ='KESZI ktg. mérleg'!D15+'KGYCSSZK ktg. mérleg'!C15 -> 1120 | E14: 0 | F14: ='KESZI ktg. mérleg'!D15+'KGYCSSZK ktg. mérleg'!C15 -> 1120 | G14: 0 | H14: 0 | I14: 1120 | J14: =I14-K14 -> 1120 | K14: 0 | L14: ='KESZI ktg. mérleg'!F15+'KGYCSSZK ktg. mérleg'!E15 -> 1270 | M14: ='KESZI ktg. mérleg'!F15+'KGYCSSZK ktg. mérleg'!E15 -> 1270 | N14: =L14-M14 -> 0 | O14: K4
A15: Pénzeszköz átadás, támogatás | B15: ='KESZI ktg. mérleg'!B15+'KGYCSSZK ktg. mérleg'!B15+'társulás ktg. mérleg'!B15 -> 7117 | C15: ='társulás ktg. mérleg'!B15 -> 6127 | D15: =SUM(C15-E15) -> 0 | E15: ='társulás ktg. mérleg'!B15 -> 6127 | F15: ='társulás ktg. mérleg'!C15 -> 8247 | G15: =F15-H15 -> 0 | H15: ='társulás ktg. mérleg'!C15 -> 8247 | I15: 7584 | J15: =I15-K15 -> 0 | K15: 7584 | L15: ='KESZI ktg. mérleg'!F16+'KGYCSSZK ktg. mérleg'!E16+'társulás ktg. mérleg'!E15-2632 -> 7584 | M15: 0 | N15: =L15-M15 -> 7584 | O15: K5
A16: Elvonások és befizetések | C16: 0 | F16: ='KESZI ktg. mérleg'!D16+'KGYCSSZK ktg. mérleg'!C16 -> 512 | G16: =F16-H16 -> 512 | H16: 0 | I16: 2632 | J16: 2632 | K16: 0 | L16: 2632 | M16: 2632 | N16: =L16-M16 -> 0 | O16: K502
A17: Felhalmozási célú pénzeszköz átadás | C17: 0 | D17: 0 | E17: 0 | F17: 0 | G17: 0 | H17: 0 | I17: 0 | J17: 0 | K17: 0 | L17: ='társulás ktg. mérleg'!E16 -> 1827 | M17: 0 | N17: =L17-M17 -> 1827 | O17: K89
A18: Felhalmozási kiadások | B18: 0 | C18: ='KESZI ktg. mérleg'!C17+'KGYCSSZK ktg. mérleg'!B17+'társulás ktg. mérleg'!B18 -> 2435 | D18: =SUM(C18-E18) -> 2435 | E18: 0 | F18: ='KESZI ktg. mérleg'!D17+'KGYCSSZK ktg. mérleg'!C17+'társulás ktg. mérleg'!C18 -> 7893 | G18: =F18-H18 -> 7893 | H18: 0 | I18: 8549 | J18: =I18-K18 -> 8549 | K18: 0 | L18: ='KESZI ktg. mérleg'!F17+'KGYCSSZK ktg. mérleg'!E17+'társulás ktg. mérleg'!E18 -> 13106 | M18: ='KESZI ktg. mérleg'!F17+'KGYCSSZK ktg. mérleg'!E17 -> 13106 | N18: =L18-M18 -> 0 | O18: K61-67, K71-74
A19: Hitelek és kölcsönök kiadásai | B19: 0 | C19: 0 | D19: =SUM(C19-E19) -> 0 | E19: 0 | F19: 0 | G19: =F19-H19 -> 0 | H19: 0 | I19: 0 | J19: =I19-K19 -> 0 | K19: 0 | L19: 0 | M19: 0 | N19: =L19-M19 -> 0 | O19: K9111
A20: Pénzforgalmi kiadások | B20: =SUM(B11:B19) -> 697314.37 | C20: =SUM(C11:C19) -> 717727.37 | D20: =SUM(C20-E20) -> 697267.37 | E20: =SUM(E11:E19) -> 20460 | F20: =SUM(F11:F19) -> 746207.7 | G20: =SUM(G11:G19) -> 717148 | H20: =SUM(H11:H19) -> 27939.7 | I20: =SUM(I11:I19) -> 769077 | J20: =I20-K20 -> 743257 | K20: =SUM(K11:K19) -> 25820 | L20: =SUM(L11:L19) -> 782989 | M20: =SUM(M11:M19) -> 750249 | N20: =SUM(N11:N19) -> 32740
A21: Államháztartási tartalék | B21: ='társulás ktg. mérleg'!B21 -> 18060 | C21: ='társulás ktg. mérleg'!B21 -> 18060 | D21: =SUM(C21-E21) -> 17013 | E21: 1047 | F21: ='társulás ktg. mérleg'!C21 -> 23631 | G21: =F21-H21 -> 22584 | H21: 1047 | I21: 20524 | J21: =I21-K21 -> 0 | K21: 20524 | L21: ='társulás ktg. mérleg'!E21 -> 16602 | M21: 16602 | N21: 0 | O21: K513
A22: Kiadások összesen: | B22: =B20+B21 -> 715374.37 | C22: =C20+C21 -> 735787.37 | D22: =SUM(C22-E22) -> 714280.37 | E22: =SUM(E20+E21) -> 21507 | F22: =SUM(F20:F21) -> 769838.7 | G22: =SUM(G20:G21) -> 739732 | H22: =SUM(H20:H21) -> 28986.7 | I22: =SUM(I20:I21) -> 789601 | J22: =I22-K22 -> 743257 | K22: =SUM(K20:K21) -> 46344 | L22: =L20+L21 -> 799591 | M22: =M20+M21 -> 766851 | N22: =N20+N21 -> 32740
A24: Intézményi működési bevételek | B24: ='KESZI ktg. mérleg'!B23+'KGYCSSZK ktg. mérleg'!B22+'társulás ktg. mérleg'!B24 -> 203341 | C24: ='KESZI ktg. mérleg'!C23+'KGYCSSZK ktg. mérleg'!B22+'társulás ktg. mérleg'!B24 -> 200170 | D24: =C24-E24 -> 200170 | E24: ='társulás ktg. mérleg'!B24 -> 0 | F24: ='KESZI ktg. mérleg'!D23+'KGYCSSZK ktg. mérleg'!C22+'társulás ktg. mérleg'!C24 -> 210335 | G24: =F24-H24 -> 199755 | H24: ='társulás ktg. mérleg'!C24 -> 10580 | I24: ='KESZI ktg. mérleg'!E23+'KGYCSSZK ktg. mérleg'!D22+'társulás ktg. mérleg'!D24 -> 210335 | J24: =I24-K24 -> 199755 | K24: 10580 | L24: ='KESZI ktg. mérleg'!F23+'KGYCSSZK ktg. mérleg'!E22+'társulás ktg. mérleg'!E24 -> 220901 | M24: ='KESZI ktg. mérleg'!F23+'KGYCSSZK ktg. mérleg'!E22 -> 211709 | N24: =L24-M24 -> 9192 | O24: B4
A25: Költségvetési visszatérülések | B25: 0 | C25: ='KESZI ktg. mérleg'!C24+'KGYCSSZK ktg. mérleg'!B23+'társulás ktg. mérleg'!B25 -> 0 | D25: =C25-E25 -> 0 | E25: 0 | F25: ='társulás ktg. mérleg'!C25 -> 0 | G25: =F25-H25 -> 0 | H25: ='KGYCSSZK ktg. mérleg'!C23 -> 0 | I25: ='KESZI ktg. mérleg'!E24+'KGYCSSZK ktg. mérleg'!D23+'társulás ktg. mérleg'!D25 -> 0 | J25: =I25-K25 -> 0 | K25: 0 | L25: 0 | M25: 0 | N25: =L25-M25 -> 0
A26: Felhalmozási és tőke jellegű bevételek | B26: 0 | C26: ='KESZI ktg. mérleg'!C25+'KGYCSSZK ktg. mérleg'!B24+'társulás ktg. mérleg'!B26 -> 0 | D26: =C26-E26 -> 0 | E26: ='társulás ktg. mérleg'!C26 -> 0 | F26: ='KESZI ktg. mérleg'!D24+'KGYCSSZK ktg. mérleg'!C23+'társulás ktg. mérleg'!C26 -> 0 | G26: =F26-H26 -> 0 | H26: ='KGYCSSZK ktg. mérleg'!C24 -> 0 | I26: ='KESZI ktg. mérleg'!E25+'KGYCSSZK ktg. mérleg'!D24+'társulás ktg. mérleg'!D26 -> 0 | J26: =I26-K26 -> 0 | K26: 0 | L26: 0 | M26: 0 | N26: =L26-M26 -> 0 | O26: B21, B25, B52, B72, B73
A27: ebből: sajátos felhalm. és tőkef. | B27: 0 | C27: 0 | D27: =C27-E27 -> 0 | E27: 0 | F27: 0 | G27: =F27-H27 -> 0 | H27: 0 | I27: 0 | J27: =I27-K27 -> 0 | K27: 0 | L27: 0 | M27: 0 | N27: =L27-M27 -> 0
A28: Támogatások, kiegészítések és átvett pénzeszközök | B28: ='KESZI ktg. mérleg'!B26+'KGYCSSZK ktg. mérleg'!B25+'társulás ktg. mérleg'!B28 -> 536637.37 | C28: ='KESZI ktg. mérleg'!C26+'KGYCSSZK ktg. mérleg'!B25+'társulás ktg. mérleg'!B28 -> 533182.37 | D28: =C28-E28 -> 511675.37 | E28: =18407+3100 -> 21507 | F28: ='KESZI ktg. mérleg'!D26+'KGYCSSZK ktg. mérleg'!C25+'társulás ktg. mérleg'!C28 -> 554994 | G28: =F28-H28 -> 536587 | H28: =17360+1047 -> 18407 | I28: ='KESZI ktg. mérleg'!E26+'KGYCSSZK ktg. mérleg'!D25+'társulás ktg. mérleg'!D28 -> 574756 | J28: =I28-K28 -> 540130 | K28: =536309-501683 -> 34626 | L28: ='KESZI ktg. mérleg'!F26+'KGYCSSZK ktg. mérleg'!E25+'társulás ktg. mérleg'!E28 -> 574179 | M28: =583648-2784-13769-11953 -> 555142 | N28: =L28-M28 -> 19037 | O28: B16, B64, B816
A29: ebből: önkorm. költségvetési tám. | B29: ='társulás ktg. mérleg'!B29 -> 321246.5 | C29: ='KESZI ktg. mérleg'!C27+'KGYCSSZK ktg. mérleg'!B26+'társulás ktg. mérleg'!B29 -> 331337.5 | D29: =C29-E29 -> 331337.5 | E29: 0 | F29: ='KESZI ktg. mérleg'!D27+'KGYCSSZK ktg. mérleg'!C26+'társulás ktg. mérleg'!C29 -> 350673 | G29: =F29-H29 -> 350673 | H29: 0 | I29: 359220 | J29: 359220 | K29: 0 | L29: ='társulás ktg. mérleg'!E29 -> 371122 | M29: 371122 | N29: =L29-M29 -> 0
A30: Hitelek, kölcsönök bevételei | B30: 0 | C30: ='KESZI ktg. mérleg'!C29+'KGYCSSZK ktg. mérleg'!B28+'társulás ktg. mérleg'!B30 -> 0 | D30: =C30-E30 -> 0 | E30: 0 | F30: 0 | G30: =F30-H30 -> 0 | H30: ='KGYCSSZK ktg. mérleg'!C28 -> 0 | I30: ='KESZI ktg. mérleg'!E29+'KGYCSSZK ktg. mérleg'!D28+'társulás ktg. mérleg'!D30 -> 0 | J30: =I30-K30 -> 0 | K30: 0 | L30: 0 | M30: 0 | N30: =L30-M30 -> 0 | O30: B8111
A31: Pénzforgalmi bevételek összesen | B31: =B28+B24 -> 739978.37 | C31: =C28+C24 -> 733352.37 | D31: =C31-E31 -> 711845.37 | E31: =E28+E24 -> 21507 | F31: =SUM(F30+F28+F27+F26+F25+F24) -> 765329 | G31: =F31-H31 -> 736342 | H31: =SUM(H24+H25+H26+H28) -> 28987 | I31: =I24+I25+I26+I28 -> 785091 | J31: =I31-K31 -> 739885 | K31: =K24+K25+K26+K28 -> 45206 | L31: =L24+L25+L26+L28+1 -> 795081 | M31: =M24+M25+M26+M28 -> 766851 | N31: =N24+N25+N26+N28+1 -> 28230
A32: Maradvány felhasználás | B32: 0 | C32: ='KESZI ktg. mérleg'!C31+'KGYCSSZK ktg. mérleg'!B30+'társulás ktg. mérleg'!B33 -> 2435 | F32: ='KESZI ktg. mérleg'!D31+'KGYCSSZK ktg. mérleg'!C30+'társulás ktg. mérleg'!C33 -> 4510 | G32: =F32-H32 -> 4510 | H32: 0 | I32: ='KESZI ktg. mérleg'!E31+'KGYCSSZK ktg. mérleg'!D30+'társulás ktg. mérleg'!D33 -> 4510 | J32: =I32-K32 -> 1252 | K32: 3258 | L32: ='KESZI ktg. mérleg'!F31+'KGYCSSZK ktg. mérleg'!E30+'társulás ktg. mérleg'!E33 -> 4510 | M32: 0 | N32: =L32-M32 -> 4510 | O32: B813
A33: Bevételek összesen: | B33: =B31+B32 -> 739978.37 | C33: =C31+C32 -> 735787.37 | D33: =C33-E33 -> 714280.37 | E33: =E31+E32 -> 21507 | F33: =SUM(F31:F32) -> 769839 | G33: =F33-H33 -> 740852 | H33: =SUM(H31:H32) -> 28987 | I33: =SUM(I31:I32) -> 789601 | J33: =I33-K33 -> 741137 | K33: =SUM(K31:K32) -> 48464 | L33: =SUM(L31:L32) -> 799591 | M33: =M31+M32 -> 766851 | N33: =N31+N32 -> 32740
A36: Mosonmagyaróvár, 2016. április 07.
B37: …./2014. (XII.09.) Kt. Határozat alapján
B39: 200 Ft/lakos
B40: 100 Ft/lakos
B41: 20 Ft/lakos
B42: 10 Ft/lakos
B43: 100 Ft/lakos

Sheet KESZI ktg. mérleg
B1: 2./B SZÁMÚ MELLÉKLET
A3: MOSONMAGYARÓVÁR TÉRSÉGI TÁRSULÁS
A4: 2015. ÉVI KÖLTSÉGVETÉSI HATÁROZAT MÓDOSÍTÁSA
A5: PÉNZFORGALMI MÉRLEG
A6: adatok ezer Ft-ban
C8: kötelező feladat | D8: kötelező feladat | E8: kötelező feladat | F8: kötelező feladat
A9: KISTÉRSÉGI EGYESÍTETT SZOCIÁLIS INTÉZET
A10: Megnevezés | B10: eredeti | C10: eredeti | D10: módosított | E10: módosított | F10: módosított | G10: Rovatrend
B11: előirányzat 2014. | C11: előirányzat 2015. | D11: előirányzat 2015.07.31 | E11: előirányzat 2015.09.30 | F11: előirányzat 2015.12.31. | G11: 2015. év
A12: Személyi juttatások | B12: 264817 | C12: ='[1]KESZI költségvetés'!$D$9 -> 286274 | D12: 293850 | E12: 304650 | F12: 310168 | G12: K1
A13: Munkaadót terhelő járulékok | B13: 69967 | C13: ='[1]KESZI költségvetés'!$D$10 -> 77778 | D13: 79250 | E13: 82139 | F13: 78396 | G13: K2
A14: Dologi és egyéb folyó kiadások | B14: =SUM(200046) -> 200046 | C14: ='[1]KESZI költségvetés'!$D$16 -> 188626 | D14: 187866 | E14: 188204 | F14: 187802 | G14: K3
A15: Ellátottak pénzbeli juttatásai | B15: 570 | C15: ='[1]KESZI költségvetés'!$D$17 -> 700 | D15: 700 | E15: 700 | F15: 850 | G15: K4
A16: Elvonások és befizetések | C16: 0 | D16: 344 | E16: 344 | F16: 344 | G16: K502
A17: Felhalmozási kiadások | B17: 0 | C17: ='[1]KESZI költségvetés'!$D$18 -> 2435 | D17: =1350+2187 -> 3537 | E17: 4193 | F17: =3225+2944 -> 6169 | G17: K61-67, K71-74
A18: Hitelek és kölcsönök kiadásai | B18: 0 | C18: 0 | D18: 0 | E18: 0 | G18: K9111
A19: Pénzforgalmi kiadások | B19: =SUM(B12:B18) -> 535400 | C19: =SUM(C12:C18) -> 555813 | D19: =SUM(D12:D18) -> 565547 | E19: =SUM(E12:E18) -> 580230 | F19: =SUM(F12:F18) -> 583729
A20: Kiegyenlítő, átfutó, függő kiadás | B20: nem releváns | C20: nem releváns
A21: Kiadások összesen: | B21: =SUM(B19) -> 535400 | C21: =SUM(C19) -> 555813 | D21: =SUM(D19) -> 565547 | E21: =SUM(E19) -> 580230 | F21: =SUM(F19) -> 583729
A23: Intézményi működési bevételek | B23: 201101 | C23: ='[1]KESZI költségvetés'!$D$22 -> 197930 | D23: 197930 | E23: 197930 | F23: =197930+10473 -> 208403 | G23: B4
A24: Felhalmozási és tőke jellegű bevételek | B24: 0 | C24: 0 | D24: 0 | E24: 0 | F24: 0 | G24: B21, B25, B52, B72, B73
A25: ebből: sajátos felhalm. és tőkef. | B25: 0 | C25: 0 | D25: 0 | E25: 0 | F25: 0
A26: Támogatások, kiegészítések és átvett pénzeszközök | B26: =SUM(50763-12615) -> 38148 | C26: ='[1]KESZI költségvetés'!$D$21+'[1]KESZI költségvetés'!$D$23 -> 34693 | D26: 35243 | E26: 35783 | F26: =36904+400-10473 -> 26831 | G26: B16, B64
A27: ebből: önkorm. költségvetési tám. | B27: 0 | C27: 10091 | D27: 10091 | E27: 10091 | F27: 10091
A28: Irányító szervtől kapott támogatás | B28: =SUM(283536+12615) -> 296151 | C28: ='[1]KESZI költségvetés'!$D$25+'[1]KESZI költségvetés'!$D$26+'[1]KESZI költségvetés'!$D$27+'[1]KESZI költségvetés'!$D$28 -> 320755 | D28: 331537 | E28: 345680 | F28: 347658 | G28: B816
A29: Hitelek, kölcsönök bevételei | B29: 0 | C29: 0 | D29: 0 | E29: 0 | F29: 0 | G29: B8111
A30: Pénzforgalmi bevételek összesen | B30: =SUM(B29+B28+B26+B24+B23) -> 535400 | C30: =SUM(C29+C28+C26+C24+C23) -> 553378 | D30: =SUM(D29+D28+D26+D24+D23) -> 564710 | E30: =SUM(E29+E28+E26+E24+E23) -> 579393 | F30: =SUM(F29+F28+F26+F24+F23) -> 582892
A31: Maradvány felhasználás | B31: 0 | C31: ='[1]KESZI költségvetés'!$D$24 -> 2435 | D31: 837 | E31: 837 | F31: 837 | G31: B8131
A32: Kiegyenlítő, átfutó, függő bevételek | B32: nem releváns | C32: nem releváns
A33: Bevételek összesen: | B33: =B30+B31 -> 535400 | C33: =C30+C31 -> 555813 | D33: =D30+D31 -> 565547 | E33: =E30+E31 -> 580230 | F33: =F30+F31 -> 583729
A36: Irányító szervi támogatás részletezése 2015. év eredeti és módosított | B36: adatok Ft-ban
B37: 2014. évi | C37: 2015. évi eredeti | D37: 2015.07.31 mód. | E37: 2015.09.30 mód. | F37: 2015.12.31 mód.
A38: Szociális étkeztetés | B38: 27403200 | C38: =[2]Munka1!$E$18 -> 25941696 | D38: =[2]Munka1!$E$18 -> 25941696 | E38: 25698112 | F38: 25515424
A39: Házi segítségnyújtás | B39: 34872500 | C39: =[2]Munka1!$E$19 -> 36192000 | D39: =[2]Munka1!$E$19 -> 36192000 | E39: 35815000 | F39: 35626500
A40: Időskorúak nappali int. Ellátása | B40: 7357500 | C40: =[2]Munka1!$E$20 -> 6213000 | D40: =[2]Munka1!$E$20 -> 6213000 | E40: =D40 -> 6213000 | F40: 6540000
A41: Fogyatékos és demens személyek ell. | B41: =SUM(6050000+4180000+12100000) -> 22330000 | C41: =[2]Munka1!$E$21+[2]Munka1!$E$22+[2]Munka1!$E$23 -> 24970000 | D41: =[2]Munka1!$E$21+[2]Munka1!$E$22+[2]Munka1!$E$23 -> 24970000 | E41: 22880000 | F41: 23870000
A42: Hajléktalanok nappali ellátása | B42: 11129400 | C42: =[2]Munka1!$E$24 -> 8903520 | D42: =[2]Munka1!$E$24 -> 8903520 | E42: =D42 -> 8903520 | F42: 8903520
A43: Hajléktalanok átmeneti ellátása | B43: 20607400 | C43: =[2]Munka1!$E$25 -> 20607400 | D43: =[2]Munka1!$E$25 -> 20607400 | E43: 21122585 | F43: 21122585
A44: Bértámogatás szociális szféra | B44: 83393280 | C44: =[2]Munka1!$E$26 -> 83393280 | D44: =[2]Munka1!$E$26 -> 83393280 | E44: =D44 -> 83393280 | F44: =83393280-7178365 -> 76214915
A45: intézmény üzemeltetési támogatás | B45: 19973000 | C45: 25725104 | D45: 25725104 | E45: =D45+8700896 -> 34426000 | F45: =42396429-492064 -> 41904365
...

Sheet KGYCSSZK ktg. mérleg
B1: 2./C SZÁMÚ MELLÉKLET
A3: MOSONMAGYARÓVÁR TÉRSÉGI TÁRSULÁS
A4: 2015. ÉVI KÖLTSÉGVETÉSI HATÁROZATÁHOZ
A5: PÉNZFORGALMI MÉRLEG
A6: adatok ezer Ft-ban
C8: kötelező feladat | D8: kötelező feladat
A9: Kistérségi Gyermekjóléti és Családsegítő Szolgáltató Központ
A10: Megnevezés | B10: eredeti | C10: módosított | D10: módosított | E10: módosított | F10: Rovatrend
B11: előirányzat 2015. | C11: előirányzat 2015.07.31 | D11: előirányzat 2015.09.30 | E11: előirányzat 2015.12.31 | F11: 2015. év
A12: Személyi juttatások | B12: ='[1]KGYCSSZK költségvetés'!$F$4/1000 -> 97862.314 | C12: 101752 | D12: 108198 | E12: 109253 | F12: K1
A13: Munkaadót terhelő járulékok | B13: ='[1]KGYCSSZK költségvetés'!$F$5/1000 -> 24495.052 | C13: 25324 | D13: 27064 | E13: 27402 | F13: K2
A14: Dologi és egyéb folyó kiadások | B14: ='[1]KGYCSSZK költségvetés'!$F$19/1000 -> 18677 | C14: 20701 | D14: 20701 | E14: 20220 | F14: K3
A15: Ellátottak pénzbeli juttatásai | B15: ='[1]KGYCSSZK költségvetés'!$F$20/1000 -> 420 | C15: ='[1]KGYCSSZK költségvetés'!$F$20/1000 -> 420 | D15: 420 | E15: 420 | F15: K4
A16: Elvonások és befizetések | C16: 168 | D16: 168 | E16: 168 | F16: K502
A17: Felhalmozási kiadások | B17: 0 | C17: =270+4086 -> 4356 | D17: 4356 | E17: =2351+4586 -> 6937 | F17: K61-67, K71-74
A18: Hitelek kölcsönök
A19: Pénzforgalmi kiadások | B19: =SUM(B12:B17) -> 141454.37 | C19: =SUM(C12:C17) -> 152721 | D19: =SUM(D12:D17) -> 160907 | E19: =SUM(E12:E17) -> 164400
A20: Kiadások összesen: | B20: =B19 -> 141454.37 | C20: =C19 -> 152721 | D20: =D19 -> 160907 | E20: =E19 -> 164400
A22: Intézményi működési bevételek | B22: ='[1]KGYCSSZK költségvetés'!$F$25/1000+'[1]KGYCSSZK költségvetés'!$F$24/1000 -> 2240 | C22: 1825 | D22: 1825 | E22: =1825+1481 -> 3306 | F22: B4 | H22: 1481
A23: Felhalmozási és tőke jellegű bevételek | B23: 0 | C23: 0 | D23: 0 | E23: 0 | F23: B21, B25, B52, B72, B73
A24: ebből: sajátos felhalm. és tőkef. | B24: 0 | C24: 0 | D24: 0 | E24: 0
A25: Támogatások, kiegészítések és átvett pénzeszközök | B25: ='[1]KGYCSSZK költségvetés'!$F$23/1000 -> 370 | C25: =1250+1414 -> 2664 | D25: 2664 | E25: =1250+3014+1004 -> 5268 | F25: B16, B65 | H25: 1004
A26: ebből: önkorm. költségvetési tám. | B26: 0 | C26: 0 | D26: 0 | E26: 0
A27: Felügyeleti szervtől átvett támogatás | B27: ='[1]KGYCSSZK költségvetés'!$F$27/1000 -> 138844.37 | C27: 147817 | D27: 156003 | E27: =157896-1481-1004 -> 155411 | F27: B816
A28: Hitelek, kölcsönök bevételei | B28: 0 | C28: 0 | D28: 0 | E28: 0 | F28: B8111
A29: Pénzforgalmi bevételek összesen | B29: =SUM(B28,B27,B25,B22) -> 141454.37 | C29: =SUM(C28,C27,C25,C22) -> 152306 | D29: =SUM(D22:D28) -> 160492 | E29: =SUM(E22:E28) -> 163985
A30: Maradvány felhasználás | B30: 0 | C30: 415 | D30: 415 | E30: 415 | F30: B813
A31: Bevételek összesen: | B31: =SUM(B29+B30) -> 141454.37 | C31: =SUM(C29+C30) -> 152721 | D31: =SUM(D29+D30) -> 160907 | E31: =SUM(E29+E30) -> 164400
A33: Irányító szervi támogatás részletezése 2015. év eredeti és módosított | B33: adatok Ft-ban
B34: 2015. év eredeti | C34: 2015.07.31. mód. | D34: 2015.09.30.mód. | E34: 2015.12.31.mód.
A35: Szociális és gyermekjóléti alapszolg., állami támogatás | B35: 78138520 | C35: =[2]Munka1!$E$6+[2]Munka1!$E$7+[2]Munka1!$E$8+[2]Munka1!$E$9 -> 78138520 | D35: =C35 -> 78138520 | E35: 78138520
A36: Gesztor önkormányzat támogatása | B36: 42261266 | C36: ='[1]KGYCSSZK költségvetés'!$F$32 -> 42261266 | D36: =C36 -> 42261266 | E36: 42261266
A37: Tagönkormányzatok támogatása | B37: 7282500 | C37: ='[1]KGYCSSZK költségvetés'!$F$31 -> 7282500 | D37: =C37 -> 7282500 | E37: 7282500
A38: Bértámogatás és intézmény üzemeltetés támogatás mint állami támogatás | B38: 11162080 | C38: 11162080 | D38: =C38 -> 11162080 | E38: 11162080
A39: Gyáó épület felújítására átadott előirányzat | C39: 4086225 | D39: =C39 -> 4086225 | E39: =4086225+500000 -> 4586225
A40: Jubileumi jutalom, felmentési bérekre átadott előirányzat | C40: 1800186 | D40: =C40 -> 1800186 | E40: 2279738
A41: bérkompenzáció | C41: 3086688 | D41: =C41+820166 -> 3906854 | E41: =D41+362204+374777+374777-198327 -> 4820285
A42: Szociális ágazati pótlék és kiegészítő pótlék | D42: =1473110+5892440 -> 7365550 | E42: =D42 -> 7365550
A43: Egyéb nettósításhoz kapcsolódó rendezések | C43: -366 | D43: -366 | E43: -366
A44: Összesen | B44: =SUM(B35:B39) -> 138844366 | C44: =SUM(C35:C43) -> 147817099 | D44: =SUM(D35:D43) -> 156002815 | E44: =SUM(E35:E43) -> 157895798
...

Sheet társulás ktg. mérleg
B1: 2./D SZÁMÚ MELLÉKLET
A3: MOSONMAGYARÓVÁR TÉRSÉGI TÁRSULÁS
A4: 2015. ÉVI KÖLTSÉGVETÉSI HATÁROZATÁHOZ
A5: PÉNZFORGALMI MÉRLEG
A6: adatok ezer Ft-ban
C8: önként vállalt feladat | D8: önként vállalt feladat | E8: önként vállalt feladat
A9: Mosonmagyaróvár Térségi Társulás
A10: Megnevezés | B10: eredeti | C10: módosított | D10: módosított | E10: módosított | F10: Rovatrend
B11: előirányzat 2015. | C11: előirányzat 2015.07.31 | D11: előirányzat 2015.09.30 | E11: előirányzat 2015.12.31 | F11: 2015. év
A12: Személyi juttatások | B12: =[1]Munka1!$C$6/1000 -> 1000 | C12: =[1]Munka1!$C$6/1000 -> 1000 | D12: 1000 | E12: 1000 | F12: K1
A13: Munkaadót terhelő járulékok | B13: =[1]Munka1!$C$11/1000 -> 511.7 | C13: =[1]Munka1!$C$11/1000 -> 511.7 | D13: 512 | E13: 512 | F13: K2
A14: Dologi és egyéb folyó kiadások | B14: =[1]Munka1!$C$19/1000 -> 12821.3 | C14: 18181 | D14: 16724 | E14: 21817 | F14: K3
A15: Pénzeszköz átadás, támogatás | B15: =[1]Munka1!$C$24/1000 -> 6127 | C15: 8247 | D15: 9704 | E15: =2120+5057+2527 -> 9704 | F15: K5
A16: Felhalmozási célú pénzeszköz átadás | B16: 0 | C16: 0 | D16: 0 | E16: 1827 | F16: K89
A17: Felügyelet alá tartozó költségvetési szerv. Támogat. | B17: =[1]Munka1!$C$33/1000 -> 459599.37 | C17: 479354 | D17: 501683 | E17: =505553-1004-1481 -> 503068 | F17: K915
A18: Felhalmozási kiadások | B18: 0 | C18: 0 | D18: 0 | E18: 0 | F18: K61-67, K71-74
A19: Hitelek és kölcsönök kiadásai | B19: 0 | C19: 0 | D19: 0 | E19: 0 | F19: K9111
A20: Pénzforgalmi kiadások | B20: =SUM(B12:B19) -> 480059.37 | C20: =SUM(C12:C19) -> 507293.7 | D20: =SUM(D12:D19) -> 529623 | E20: =SUM(E12:E19) -> 537928
A21: Államháztartási tartalék | B21: =[1]Munka1!$C$25/1000 -> 18060 | C21: 23631 | D21: 20524 | E21: 16602 | F21: K513
A22: Kiadások összesen: | B22: =SUM(B20+B21) -> 498119.37 | C22: =SUM(C20+C21) -> 530924.7 | D22: =SUM(D20:D21) -> 550147 | E22: =SUM(E20:E21) -> 554530
A24: Intézményi működési bevételek | B24: 0 | C24: 10580 | D24: 10580 | E24: =11677-1481-1004 -> 9192 | F24: B4
A25: Költségvetési visszatérülések | B25: 0 | C25: 0 | D25: 0 | E25: 0
A26: Felhalmozási és tőke jellegű bevételek | B26: 0 | C26: 0 | D26: 0 | E26: 0 | F26: B21, B25, B52, B72, B73
A27: ebből: sajátos felhalm. és tőkef. | B27: 0 | C27: 0 | D27: 0 | E27: 0
A28: Támogatások, kiegészítések és átvett pénzeszközök | B28: =[1]Munka1!$C$65/1000+[1]Munka1!$C$46/1000+[1]Munka1!$C$45/1000+[1]Munka1!$C$44/1000 -> 498119.37 | C28: 517087 | D28: 536309 | E28: =539296+2784 -> 542080 | F28: B16, 816, B65
A29: ebből: önkorm. költségvetési tám. | B29: =[1]Munka1!$C$47/1000 -> 321246.5 | C29: 340582 | D29: 366310 | E29: 371122
A30: Felügyeleti szervtől átvett támogatás | B30: 0 | C30: 0 | D30: 0 | E30: 0
A31: Hitelek, kölcsönök bevételei | B31: 0 | C31: 0 | D31: 0 | E31: 0 | F31: B8111
A32: Pénzforgalmi bevételek összesen | B32: =SUM(B24+B25+B26+B28+B30+B31) -> 498119.37 | C32: =SUM(C24+C25+C26+C28+C30+C31) -> 527667 | D32: =D24+D25+D26+D28+D30+D31 -> 546889 | E32: =E24+E25+E26+E28+E30+E31 -> 551272
A33: Maradvány felhasználás | B33: 0 | C33: 3258 | D33: 3258 | E33: 3258 | F33: B813
A34: Bevételek összesen: | B34: =B32+B33 -> 498119.37 | C34: =C32+C33 -> 530925 | D34: =SUM(D32:D33) -> 550147 | E34: =SUM(E32:E33) -> 554530
A40: Mosonmagyaróvár, 2016. április 07.
