Workbook

Sheet 1_
B1: 1. SZÁMÚ MELLÉKLET
A5: MOSONMAGYARÓVÁR TÉRSÉGI TÁRSULÁS
A6: 2015. ÉVI KÖLTSÉGVETÉSI HATÁROZATÁHOZ
A11: A Mosonmagyaróvár Térségi Társulás és irányítása alá tartozó költségvetési szervek
A12: 2015. évi költségvetéséről szóló 2/2015. (II.17.) TT. határozatot
A13: módosító …/2015. (XI.24.) TT. határozat
A15: CÍMRENDJÉT
A16: az alábbiak szerint állapítja meg:
A21: Címszám | B21: Megnevezés
A22: 1. | B22: Mosonmagyaróvár Térségi Társulás
A23: 2. | B23: Kistérségi Egyesített Szociális Intézmény
A24: 3. | B24: Kistérségi Gyermekjóléti és Családsegítő Szolgáltató Központ

Sheet 2A
B1: 2./A SZÁMÚ MELLÉKLET
A3: MOSONMAGYARÓVÁR TÉRSÉGI TÁRSULÁS
A4: 2015. ÉVI KÖLTSÉGVETÉSI HATÁROZATÁHOZ
A5: PÉNZFORGALMI MÉRLEG
A6: adatok ezer Ft-ban
A8: MOSONMAGYARÓVÁRI TÖBBCÉLÚ KISTÉRSÉGI TÁRSULÁS ÉS KÖLTSÉGVETÉSI SZERVEI | D8: kötelező | E8: önként | G8: kötelező | H8: önként | J8: kötelező | K8: önként | M8: kötelező | N8: önként
A9: Megnevezés | B9: eredeti | C9: eredeti | D9: eredeti | E9: eredeti | F9: módosított | G9: módosított | H9: módosított | I9: módosított | J9: módosított | K9: módosított | L9: módosított | M9: módosított | N9: módosított | O9: Rovatrend
B10: előirányzat 2014. | C10: előirányzat 2015. | D10: előirányzat 2015. | E10: előirányzat 2015. | F10: előirányzat 2015.07.31 | G10: előirányzat 2015.07.31 | H10: előirányzat 2015.07.31 | I10: előirányzat 2015.09.30 | J10: előirányzat 2015.09.30 | K10: előirányzat 2015.09.31 | L10: előirányzat 2015.12.31 | M10: előirányzat 2015.12.31 | N10: előirányzat 2015.12.31 | O10: 2015. év
A11: Személyi juttatások | B11: ='2B'!B12+'2C'!B12+'2D'!B12 -> 363679.31 | C11: ='2B'!C12+'2C'!B12+'2D'!B12 -> 385136.31 | D11: =SUM(C11-E11) -> 384136.31 | E11: ='2D'!B12 -> 1000 | F11: ='2B'!D12+'2C'!C12+'2D'!C12 -> 396602 | G11: =F11-H11 -> 395602 | H11: ='2D'!C12 -> 1000 | I11: ='2B'!E12+'2C'!D12+'2D'!D12 -> 413848 | J11: =I11-K11 -> 412848 | K11: 1000 | L11: ='2B'!F12+'2C'!E12+'2D'!E12 -> 420420 | M11: ='2B'!F12+'2C'!E12 -> 419420 | N11: =L11-M11 -> 1000 | O11: K1
A12: Munkaadót terhelő járulékok | B12: ='2B'!B13+'2C'!B13+'2D'!B13 -> 94973.752 | C12: ='2B'!C13+'2C'!B13+'2D'!B13 -> 102784.75 | D12: =SUM(C12-E12) -> 102273.05 | E12: ='2D'!B13 -> 511.7 | F12: ='2B'!D13+'2C'!C13+'2D'!C13 -> 105085.7 | G12: =F12-H12 -> 104574 | H12: ='2D'!C13 -> 511.7 | I12: ='2B'!E13+'2C'!D13+'2D'!D13 -> 109715 | J12: =I12-K12 -> 109203 | K12: 512 | L12: ='2B'!F13+'2C'!E13+'2D'!E13 -> 106310 | M12: ='2B'!F13+'2C'!E13 -> 105798 | N12: =L12-M12 -> 512 | O12: K2
A13: Dologi és egyéb folyó kiadások | B13: ='2B'!B14+'2C'!B14+'2D'!B14 -> 231544.3 | C13: ='2B'!C14+'2C'!B14+'2D'!B14 -> 220124.3 | D13: =SUM(C13-E13) -> 207303 | E13: ='2D'!B14 -> 12821.3 | F13: ='2B'!D14+'2C'!C14+'2D'!C14 -> 226748 | G13: =F13-H13 -> 208567 | H13: ='2D'!C14 -> 18181 | I13: ='2B'!E14+'2C'!D14+'2D'!D14 -> 225629 | J13: =I13-K13 -> 208905 | K13: 16724 | L13: ='2B'!F14+'2C'!E14+'2D'!E14 -> 229839 | M13: ='2B'!F14+'2C'!E14 -> 208022 | N13: =L13-M13 -> 21817 | O13: K3
A14: Ellátottak pénzbeli juttatásai | C14: ='2B'!C15+'2C'!B15 -> 1120 | D14: ='2B'!D15+'2C'!C15 -> 1120 | E14: 0 | F14: ='2B'!D15+'2C'!C15 -> 1120 | G14: 0 | H14: 0 | I14: 1120 | J14: =I14-K14 -> 1120 | K14: 0 | L14: ='2B'!F15+'2C'!E15 -> 1270 | M14: ='2B'!F15+'2C'!E15 -> 1270 | N14: =L14-M14 -> 0 | O14: K4
A15: Pénzeszköz átadás, támogatás | B15: ='2B'!B15+'2C'!B15+'2D'!B15 -> 7117 | C15: ='2D'!B15 -> 6127 | D15: =SUM(C15-E15) -> 0 | E15: ='2D'!B15 -> 6127 | F15: ='2D'!C15 -> 8247 | G15: =F15-H15 -> 0 | H15: ='2D'!C15 -> 8247 | I15: 7584 | J15: =I15-K15 -> 0 | K15: 7584 | L15: ='2B'!F16+'2C'!E16+'2D'!E15-2632 -> 7584 | M15: 0 | N15: =L15-M15 -> 7584 | O15: K5
A16: Elvonások és befizetések | C16: 0 | F16: ='2B'!D16+'2C'!C16 -> 512 | G16: =F16-H16 -> 512 | H16: 0 | I16: 2632 | J16: 2632 | K16: 0 | L16: 2632 | M16: 2632 | N16: =L16-M16 -> 0 | O16: K502
A17: Felhalmozási célú pénzeszköz átadás | C17: 0 | D17: 0 | E17: 0 | F17: 0 | G17: 0 | H17: 0 | I17: 0 | J17: 0 | K17: 0 | L17: ='2D'!E16 -> 1827 | M17: 0 | N17: =L17-M17 -> 1827
A18: Felhalmozási kiadások | B18: 0 | C18: ='2B'!C17+'2C'!B17+'2D'!B18 -> 2435 | D18: =SUM(C18-E18) -> 2435 | E18: 0 | F18: ='2B'!D17+'2C'!C17+'2D'!C18 -> 7893 | G18: =F18-H18 -> 7893 | H18: 0 | I18: 8549 | J18: =I18-K18 -> 8549 | K18: 0 | L18: ='2B'!F17+'2C'!E17+'2D'!E18 -> 13106 | M18: ='2B'!F17+'2C'!E17 -> 13106 | N18: =L18-M18 -> 0 | O18: K61-67, K71-74
A19: Hitelek és kölcsönök kiadásai | B19: 0 | C19: 0 | D19: =SUM(C19-E19) -> 0 | E19: 0 | F19: 0 | G19: =F19-H19 -> 0 | H19: 0 | I19: 0 | J19: =I19-K19 -> 0 | K19: 0 | L19: 0 | M19: 0 | N19: =L19-M19 -> 0 | O19: K9111
A20: Pénzforgalmi kiadások | B20: =SUM(B11:B19) -> 697314.37 | C20: =SUM(C11:C19) -> 717727.37 | D20: =SUM(C20-E20) -> 697267.37 | E20: =SUM(E11:E19) -> 20460 | F20: =SUM(F11:F19) -> 746207.7 | G20: =SUM(G11:G19) -> 717148 | H20: =SUM(H11:H19) -> 27939.7 | I20: =SUM(I11:I19) -> 769077 | J20: =I20-K20 -> 743257 | K20: =SUM(K11:K19) -> 25820 | L20: =SUM(L11:L19) -> 782988 | M20: =SUM(M11:M19) -> 750248 | N20: =SUM(N11:N19) -> 32740
A21: Államháztartási tartalék | B21: ='2D'!B21 -> 18060 | C21: ='2D'!B21 -> 18060 | D21: =SUM(C21-E21) -> 17013 | E21: 1047 | F21: ='2D'!C21 -> 23631 | G21: =F21-H21 -> 22584 | H21: 1047 | I21: 20524 | J21: =I21-K21 -> 0 | K21: 20524 | L21: ='2D'!E21 -> 16602 | M21: 16602 | N21: 0 | O21: K513
A22: Kiadások összesen: | B22: =B20+B21 -> 715374.37 | C22: =C20+C21 -> 735787.37 | D22: =SUM(C22-E22) -> 714280.37 | E22: =SUM(E20+E21) -> 21507 | F22: =SUM(F20:F21) -> 769838.7 | G22: =SUM(G20:G21) -> 739732 | H22: =SUM(H20:H21) -> 28986.7 | I22: =SUM(I20:I21) -> 789601 | J22: =I22-K22 -> 743257 | K22: =SUM(K20:K21) -> 46344 | L22: =L20+L21 -> 799590 | M22: =M20+M21 -> 766850 | N22: =N20+N21 -> 32740
A24: Intézményi működési bevételek | B24: ='2B'!B23+'2C'!B21+'2D'!B24 -> 203341 | C24: ='2B'!C23+'2C'!B21+'2D'!B24 -> 200170 | D24: =C24-E24 -> 200170 | E24: ='2D'!B24 -> 0 | F24: ='2B'!D23+'2C'!C21+'2D'!C24 -> 210335 | G24: =F24-H24 -> 199755 | H24: ='2D'!C24 -> 10580 | I24: ='2B'!E23+'2C'!D21+'2D'!D24 -> 210335 | J24: =I24-K24 -> 199755 | K24: 10580 | L24: ='2B'!F23+'2C'!E21+'2D'!E24 -> 211432 | M24: ='2B'!F23+'2C'!E21 -> 199755 | N24: =L24-M24 -> 11677 | O24: B4
A25: Költségvetési visszatérülések | B25: 0 | C25: ='2B'!C24+'2C'!B22+'2D'!B25 -> 0 | D25: =C25-E25 -> 0 | E25: 0 | F25: ='2D'!C25 -> 0 | G25: =F25-H25 -> 0 | H25: ='2C'!C22 -> 0 | I25: ='2B'!E24+'2C'!D22+'2D'!D25 -> 0 | J25: =I25-K25 -> 0 | K25: 0 | L25: 0 | M25: 0 | N25: =L25-M25 -> 0
A26: Felhalmozási és tőke jellegű bevételek | B26: 0 | C26: ='2B'!C25+'2C'!B23+'2D'!B26 -> 0 | D26: =C26-E26 -> 0 | E26: ='2D'!C26 -> 0 | F26: ='2B'!D24+'2C'!C22+'2D'!C26 -> 0 | G26: =F26-H26 -> 0 | H26: ='2C'!C23 -> 0 | I26: ='2B'!E25+'2C'!D23+'2D'!D26 -> 0 | J26: =I26-K26 -> 0 | K26: 0 | L26: 0 | M26: 0 | N26: =L26-M26 -> 0 | O26: B21, B25, B52, B72, B73
A27: ebből: sajátos felhalm. és tőkef. | B27: 0 | C27: 0 | D27: =C27-E27 -> 0 | E27: 0 | F27: 0 | G27: =F27-H27 -> 0 | H27: 0 | I27: 0 | J27: =I27-K27 -> 0 | K27: 0 | L27: 0 | M27: 0 | N27: =L27-M27 -> 0
A28: Támogatások, kiegészítések és átvett pénzeszközök | B28: ='2B'!B26+'2C'!B24+'2D'!B28 -> 536637.37 | C28: ='2B'!C26+'2C'!B24+'2D'!B28 -> 533182.37 | D28: =C28-E28 -> 511675.37 | E28: =18407+3100 -> 21507 | F28: ='2B'!D26+'2C'!C24+'2D'!C28 -> 554994 | G28: =F28-H28 -> 536587 | H28: =17360+1047 -> 18407 | I28: ='2B'!E26+'2C'!D24+'2D'!D28 -> 574756 | J28: =I28-K28 -> 540130 | K28: =536309-501683 -> 34626 | L28: ='2B'!F26+'2C'!E24+'2D'!E28 -> 583648 | M28: =583648-2784-13769 -> 567095 | N28: =L28-M28 -> 16553 | O28: B816
A29: ebből: önkorm. költségvetési tám. | B29: ='2D'!B29 -> 321246.5 | C29: ='2B'!C27+'2C'!B25+'2D'!B29 -> 331337.5 | D29: =C29-E29 -> 331337.5 | E29: 0 | F29: ='2B'!D27+'2C'!C25+'2D'!C29 -> 350673 | G29: =F29-H29 -> 350673 | H29: 0 | I29: 359220 | J29: 359220 | K29: 0 | L29: ='2D'!E29 -> 371122 | M29: 371122 | N29: =L29-M29 -> 0
A30: Hitelek, kölcsönök bevételei | B30: 0 | C30: ='2B'!C29+'2C'!B27+'2D'!B30 -> 0 | D30: =C30-E30 -> 0 | E30: 0 | F30: 0 | G30: =F30-H30 -> 0 | H30: ='2C'!C27 -> 0 | I30: ='2B'!E29+'2C'!D27+'2D'!D30 -> 0 | J30: =I30-K30 -> 0 | K30: 0 | L30: 0 | M30: 0 | N30: =L30-M30 -> 0 | O30: B8111
A31: Pénzforgalmi bevételek összesen | B31: =B28+B24 -> 739978.37 | C31: =C28+C24 -> 733352.37 | D31: =C31-E31 -> 711845.37 | E31: =E28+E24 -> 21507 | F31: =SUM(F30+F28+F27+F26+F25+F24) -> 765329 | G31: =F31-H31 -> 736342 | H31: =SUM(H24+H25+H26+H28) -> 28987 | I31: =I24+I25+I26+I28 -> 785091 | J31: =I31-K31 -> 739885 | K31: =K24+K25+K26+K28 -> 45206 | L31: =L24+L25+L26+L28 -> 795080 | M31: =M24+M25+M26+M28 -> 766850 | N31: =N24+N25+N26+N28 -> 28230
A32: Maradvány felhasználás | B32: 0 | C32: ='2B'!C31+'2C'!B29+'2D'!B33 -> 2435 | F32: ='2B'!D31+'2C'!C29+'2D'!C33 -> 4510 | G32: =F32-H32 -> 4510 | H32: 0 | I32: ='2B'!E31+'2C'!D29+'2D'!D33 -> 4510 | J32: =I32-K32 -> 1252 | K32: 3258 | L32: ='2B'!F31+'2C'!E29+'2D'!E33 -> 4510 | M32: 0 | N32: =L32-M32 -> 4510 | O32: B813
A33: Bevételek összesen: | B33: =B31+B32 -> 739978.37 | C33: =C31+C32 -> 735787.37 | D33: =C33-E33 -> 714280.37 | E33: =E31+E32 -> 21507 | F33: =SUM(F31:F32) -> 769839 | G33: =F33-H33 -> 740852 | H33: =SUM(H31:H32) -> 28987 | I33: =SUM(I31:I32) -> 789601 | J33: =I33-K33 -> 741137 | K33: =SUM(K31:K32) -> 48464 | L33: =SUM(L31:L32) -> 799590 | M33: =M31+M32 -> 766850 | N33: =N31+N32 -> 32740
A36: Mosonmagyaróvár, 2016. február 2.
B37: …./2014. (XII.09.) Kt. Határozat alapján
B39: 200 Ft/lakos
B40: 100 Ft/lakos
B41: 20 Ft/lakos
B42: 10 Ft/lakos
B43: 100 Ft/lakos

Sheet 2B
B1: 2./B SZÁMÚ MELLÉKLET
A3: MOSONMAGYARÓVÁR TÉRSÉGI TÁRSULÁS
A4: 2015. ÉVI KÖLTSÉGVETÉSI HATÁROZAT MÓDOSÍTÁSA
A5: PÉNZFORGALMI MÉRLEG
A6: adatok ezer Ft-ban
C8: kötelező feladat | D8: kötelező feladat | E8: kötelező feladat | F8: kötelező feladat
A9: KISTÉRSÉGI EGYESÍTETT SZOCIÁLIS INTÉZET
A10: Megnevezés | B10: eredeti | C10: eredeti | D10: módosított | E10: módosított | F10: módosított | G10: Rovatrend
B11: előirányzat 2014. | C11: előirányzat 2015. | D11: előirányzat 2015.07.31 | E11: előirányzat 2015.09.30 | F11: előirányzat 2015.12.31. | G11: 2015. év
A12: Személyi juttatások | B12: 264817 | C12: ='[1]KESZI költségvetés'!$D$9 -> 286274 | D12: 293850 | E12: 304650 | F12: 310168 | G12: K1
A13: Munkaadót terhelő járulékok | B13: 69967 | C13: ='[1]KESZI költségvetés'!$D$10 -> 77778 | D13: 79250 | E13: 82139 | F13: 78396 | G13: K2
A14: Dologi és egyéb folyó kiadások | B14: =SUM(200046) -> 200046 | C14: ='[1]KESZI költségvetés'!$D$16 -> 188626 | D14: 187866 | E14: 188204 | F14: 187802 | G14: K3
A15: Ellátottak pénzbeli juttatásai | B15: 570 | C15: ='[1]KESZI költségvetés'!$D$17 -> 700 | D15: 700 | E15: 700 | F15: 850 | G15: K4
A16: Elvonások és befizetések | C16: 0 | D16: 344 | E16: 344 | F16: 344 | G16: K502
A17: Felhalmozási kiadások | B17: 0 | C17: ='[1]KESZI költségvetés'!$D$18 -> 2435 | D17: =1350+2187 -> 3537 | E17: 4193 | F17: =3225+2944 -> 6169 | G17: K61-67, K71-74
A18: Hitelek és kölcsönök kiadásai | B18: 0 | C18: 0 | D18: 0 | E18: 0 | G18: K9111
A19: Pénzforgalmi kiadások | B19: =SUM(B12:B18) -> 535400 | C19: =SUM(C12:C18) -> 555813 | D19: =SUM(D12:D18) -> 565547 | E19: =SUM(E12:E18) -> 580230 | F19: =SUM(F12:F18) -> 583729
A20: Kiegyenlítő, átfutó, függő kiadás | B20: nem releváns | C20: nem releváns
A21: Kiadások összesen: | B21: =SUM(B19) -> 535400 | C21: =SUM(C19) -> 555813 | D21: =SUM(D19) -> 565547 | E21: =SUM(E19) -> 580230 | F21: =SUM(F19) -> 583729
A23: Intézményi működési bevételek | B23: 201101 | C23: ='[1]KESZI költségvetés'!$D$22 -> 197930 | D23: 197930 | E23: 197930 | F23: 197930 | G23: B4
A24: Felhalmozási és tőke jellegű bevételek | B24: 0 | C24: 0 | D24: 0 | E24: 0 | F24: 0 | G24: B21, B25, B52, B72, B73
A25: ebből: sajátos felhalm. és tőkef. | B25: 0 | C25: 0 | D25: 0 | E25: 0 | F25: 0
A26: Támogatások, kiegészítések és átvett pénzeszközök | B26: =SUM(50763-12615) -> 38148 | C26: ='[1]KESZI költségvetés'!$D$21+'[1]KESZI költségvetés'!$D$23 -> 34693 | D26: 35243 | E26: 35783 | F26: =36904+400 -> 37304 | G26: B16, B63
A27: ebből: önkorm. költségvetési tám. | B27: 0 | C27: 10091 | D27: 10091 | E27: 10091 | F27: 10091
A28: Irányító szervtől kapott támogatás | B28: =SUM(283536+12615) -> 296151 | C28: ='[1]KESZI költségvetés'!$D$25+'[1]KESZI költségvetés'!$D$26+'[1]KESZI költségvetés'!$D$27+'[1]KESZI költségvetés'!$D$28 -> 320755 | D28: 331537 | E28: 345680 | F28: 347658 | G28: B816
A29: Hitelek, kölcsönök bevételei | B29: 0 | C29: 0 | D29: 0 | E29: 0 | F29: 0 | G29: B8111
A30: Pénzforgalmi bevételek összesen | B30: =SUM(B29+B28+B26+B24+B23) -> 535400 | C30: =SUM(C29+C28+C26+C24+C23) -> 553378 | D30: =SUM(D29+D28+D26+D24+D23) -> 564710 | E30: =SUM(E29+E28+E26+E24+E23) -> 579393 | F30: =SUM(F29+F28+F26+F24+F23) -> 582892
A31: Maradvány felhasználás | B31: 0 | C31: ='[1]KESZI költségvetés'!$D$24 -> 2435 | D31: 837 | E31: 837 | F31: 837 | G31: B8131
A32: Kiegyenlítő, átfutó, függő bevételek | B32: nem releváns | C32: nem releváns
A33: Bevételek összesen: | B33: =B30+B31 -> 535400 | C33: =C30+C31 -> 555813 | D33: =D30+D31 -> 565547 | E33: =E30+E31 -> 580230 | F33: =F30+F31 -> 583729
A36: Irányító szervi támogatás részletezése 2015. év eredeti és módosított | B36: adatok Ft-ban
B37: 2014. évi | C37: 2015. évi eredeti | D37: 2015.07.31 mód. | E37: 2015.09.30 mód. | F37: 2015.12.31 mód.
A38: Szociális étkeztetés | B38: 27403200 | C38: =[2]Munka1!$E$18 -> 25941696 | D38: =[2]Munka1!$E$18 -> 25941696 | E38: 25698112 | F38: 25515424 | G38: =SUM(F38:F45,F49+F52) -> 265259157
A39: Házi segítségnyújtás | B39: 34872500 | C39: =[2]Munka1!$E$19 -> 36192000 | D39: =[2]Munka1!$E$19 -> 36192000 | E39: 35815000 | F39: 35626500
A40: Időskorúak nappali int. Ellátása | B40: 7357500 | C40: =[2]Munka1!$E$20 -> 6213000 | D40: =[2]Munka1!$E$20 -> 6213000 | E40: =D40 -> 6213000 | F40: 6540000
A41: Fogyatékos és demens személyek ell. | B41: =SUM(6050000+4180000+12100000) -> 22330000 | C41: =[2]Munka1!$E$21+[2]Munka1!$E$22+[2]Munka1!$E$23 -> 24970000 | D41: =[2]Munka1!$E$21+[2]Munka1!$E$22+[2]Munka1!$E$23 -> 24970000 | E41: 22880000 | F41: 23870000
A42: Hajléktalanok nappali ellátása | B42: 11129400 | C42: =[2]Munka1!$E$24 -> 8903520 | D42: =[2]Munka1!$E$24 -> 8903520 | E42: =D42 -> 8903520 | F42: 8903520
A43: Hajléktalanok átmeneti ellátása | B43: 20607400 | C43: =[2]Munka1!$E$25 -> 20607400 | D43: =[2]Munka1!$E$25 -> 20607400 | E43: 21122585 | F43: 21122585
A44: Bértámogatás szociális szféra | B44: 83393280 | C44: =[2]Munka1!$E$26 -> 83393280 | D44: =[2]Munka1!$E$26 -> 83393280 | E44: =D44 -> 83393280 | F44: =83393280+5457936 -> 88851216
A45: intézmény üzemeltetési támogatás | B45: 19973000 | C45: 25725104 | D45: 25725104 | E45: =D45+8700896 -> 34426000 | F45: 36446429
A46: Gesztor önkormányzat támogatása | B46: 56470000 | C46: ='[1]KESZI költségvetés'!$D$27*1000 -> 72513000 | D46: ='[1]KESZI költségvetés'!$D$27*1000 -> 72513000 | E46: =D46 -> 72513000 | F46: 72513000
A47: Szociális foglalkoztatás támogatása (gesztor önk. Keresztül) | B47: 12615000 | C47: ='[1]KESZI költségvetés'!$D$26*1000 -> 12615000 | D47: ='[1]KESZI költségvetés'!$D$26*1000 -> 12615000 | E47: =D47 -> 12615000 | F47: 12615000
A48: Térségi Társulás felé befizetett tagdíjból átadásra kerülő | C48: ='[1]KESZI költségvetés'!$D$28*1000 -> 3681000 | D48: ='[1]KESZI költségvetés'!$D$28*1000 -> 3681000 | E48: =D48 -> 3681000 | F48: 3681000
A49: Bérkompenzáció | D49: 5572953 | E49: =D49+727583+720852 -> 7021388 | F49: 8795258
A50: Jubileumi jutalom, felmentési bérek | D50: 3269344 | E50: =D50+2553090 -> 5822434 | F50: 5822434
A51: Felújításra átadott előirányzat | D51: 1939894 | E51: =D51+142138+411480 -> 2493512 | F51: 2493512
A52: Szociális ágazati pótlék és kiegészítő pótlék | E52: =1917645+7670580 -> 9588225 | F52: 9588225
A53: Egyéb nettósításhoz kapcsolódó rendezések | E53: -6505497 | F53: -14726474
B54: =SUM(B38:B47) -> 296151280 | C54: =SUM(C38:C48) -> 320755000 | D54: =SUM(D38:D51) -> 331537191 | E54: =SUM(E38:E53) -> 345680559 | F54: =SUM(F38:F53) -> 347657629
A56: Mosonmagyaróvár, 2016. február 2.

Sheet 2C
B1: 2./C SZÁMÚ MELLÉKLET
A3: MOSONMAGYARÓVÁR TÉRSÉGI TÁRSULÁS
A4: 2015. ÉVI KÖLTSÉGVETÉSI HATÁROZATÁHOZ
A5: PÉNZFORGALMI MÉRLEG
A6: adatok ezer Ft-ban
C8: kötelező feladat | D8: kötelező feladat
A9: Kistérségi Gyermekjóléti és Családsegítő Szolgáltató Központ
A10: Megnevezés | B10: eredeti | C10: módosított | D10: módosított | E10: módosított | F10: Rovatrend
B11: előirányzat 2015. | C11: előirányzat 2015.07.31 | D11: előirányzat 2015.09.30 | E11: előirányzat 2015.12.31 | F11: 2015. év
A12: Személyi juttatások | B12: ='[1]KGYCSSZK költségvetés'!$F$4/1000 -> 97862.314 | C12: 101752 | D12: 108198 | E12: 109252 | F12: K1
A13: Munkaadót terhelő járulékok | B13: ='[1]KGYCSSZK költségvetés'!$F$5/1000 -> 24495.052 | C13: 25324 | D13: 27064 | E13: 27402 | F13: K2
A14: Dologi és egyéb folyó kiadások | B14: ='[1]KGYCSSZK költségvetés'!$F$19/1000 -> 18677 | C14: 20701 | D14: 20701 | E14: 20220 | F14: K3
A15: Ellátottak pénzbeli juttatásai | B15: ='[1]KGYCSSZK költségvetés'!$F$20/1000 -> 420 | C15: ='[1]KGYCSSZK költségvetés'!$F$20/1000 -> 420 | D15: 420 | E15: 420 | F15: K4
A16: Elvonások és befizetések | C16: 168 | D16: 168 | E16: 168 | F16: K502
A17: Felhalmozási kiadások | B17: 0 | C17: =270+4086 -> 4356 | D17: 4356 | E17: =2351+4586 -> 6937 | F17: K61-67, K71-74
A18: Pénzforgalmi kiadások | B18: =SUM(B12:B17) -> 141454.37 | C18: =SUM(C12:C17) -> 152721 | D18: =SUM(D12:D17) -> 160907 | E18: =SUM(E12:E17) -> 164399
A19: Kiadások összesen: | B19: =B18 -> 141454.37 | C19: =C18 -> 152721 | D19: =D18 -> 160907 | E19: =E18 -> 164399
A21: Intézményi működési bevételek | B21: ='[1]KGYCSSZK költségvetés'!$F$25/1000+'[1]KGYCSSZK költségvetés'!$F$24/1000 -> 2240 | C21: 1825 | D21: 1825 | E21: 1825 | F21: B4
A22: Felhalmozási és tőke jellegű bevételek | B22: 0 | C22: 0 | D22: 0 | E22: 0 | F22: B21, B25, B52, B72, B73
A23: ebből: sajátos felhalm. és tőkef. | B23: 0 | C23: 0 | D23: 0 | E23: 0
A24: Támogatások, kiegészítések és átvett pénzeszközök | B24: ='[1]KGYCSSZK költségvetés'!$F$23/1000 -> 370 | C24: =1250+1414 -> 2664 | D24: 2664 | E24: =1250+3014 -> 4264 | F24: B16, B63
A25: ebből: önkorm. költségvetési tám. | B25: 0 | C25: 0 | D25: 0 | E25: 0
A26: Felügyeleti szervtől átvett támogatás | B26: ='[1]KGYCSSZK költségvetés'!$F$27/1000 -> 138844.37 | C26: 147817 | D26: 156003 | E26: 157895 | F26: B816
A27: Hitelek, kölcsönök bevételei | B27: 0 | C27: 0 | D27: 0 | E27: 0 | F27: B8111
A28: Pénzforgalmi bevételek összesen | B28: =SUM(B27,B26,B24,B21) -> 141454.37 | C28: =SUM(C27,C26,C24,C21) -> 152306 | D28: =SUM(D21:D27) -> 160492 | E28: =SUM(E21:E27) -> 163984
A29: Maradvány felhasználás | B29: 0 | C29: 415 | D29: 415 | E29: 415 | F29: B813
A30: Bevételek összesen: | B30: =SUM(B28+B29) -> 141454.37 | C30: =SUM(C28+C29) -> 152721 | D30: =SUM(D28+D29) -> 160907 | E30: =SUM(E28+E29) -> 164399
A32: Irányító szervi támogatás részletezése 2015. év eredeti és módosított | B32: adatok Ft-ban
B33: 2015. év eredeti | C33: 2015.07.31. mód. | D33: 2015.09.30.mód. | E33: 2015.12.31.mód.
A34: Szociális és gyermekjóléti alapszolg., állami támogatás | B34: 78138520 | C34: =[2]Munka1!$E$6+[2]Munka1!$E$7+[2]Munka1!$E$8+[2]Munka1!$E$9 -> 78138520 | D34: =C34 -> 78138520 | E34: 78138520 | F34: =E34+E40+E41 -> 90324355
A35: Gesztor önkormányzat támogatása | B35: 42261266 | C35: ='[1]KGYCSSZK költségvetés'!$F$32 -> 42261266 | D35: =C35 -> 42261266 | E35: 42261266
A36: Tagönkormányzatok támogatása | B36: 7282500 | C36: ='[1]KGYCSSZK költségvetés'!$F$31 -> 7282500 | D36: =C36 -> 7282500 | E36: 7282500 | G36: =F34+'2B'!G38 -> 355583512
A37: Bértámogatás és intézmény üzemeltetés támogatás mint állami támogatás | B37: 11162080 | C37: 11162080 | D37: =C37 -> 11162080 | E37: 11162080
A38: Gyáó épület felújítására átadott előirányzat | C38: 4086225 | D38: =C38 -> 4086225 | E38: =4086225+500000 -> 4586225
A39: Jubileumi jutalom, felmentési bérekre átadott előirányzat | C39: 1800186 | D39: =C39 -> 1800186 | E39: 2279738
A40: bérkompenzáció | C40: 3086688 | D40: =C40+820166 -> 3906854 | E40: =D40+362204+374777+374777-198327 -> 4820285
A41: Szociális ágazati pótlék és kiegészítő pótlék | D41: =1473110+5892440 -> 7365550 | E41: =D41 -> 7365550
A42: Egyéb nettósításhoz kapcsolódó rendezések | C42: -366 | D42: -366 | E42: -366
A43: Összesen | B43: =SUM(B34:B38) -> 138844366 | C43: =SUM(C34:C42) -> 147817099 | D43: =SUM(D34:D42) -> 156002815 | E43: =SUM(E34:E42) -> 157895798
A45: Mosonmagyaróvár, 2016. február 2.

Sheet 2D
B1: 2./D SZÁMÚ MELLÉKLET
A3: MOSONMAGYARÓVÁR TÉRSÉGI TÁRSULÁS
A4: 2015. ÉVI KÖLTSÉGVETÉSI HATÁROZATÁHOZ
A5: PÉNZFORGALMI MÉRLEG
A6: adatok ezer Ft-ban
C8: önként vállalt feladat | D8: önként vállalt feladat | E8: önként vállalt feladat
A9: Mosonmagyaróvár Térségi Társulás
A10: Megnevezés | B10: eredeti | C10: módosított | D10: módosított | E10: módosított | F10: Rovatrend
B11: előirányzat 2015. | C11: előirányzat 2015.07.31 | D11: előirányzat 2015.09.30 | E11: előirányzat 2015.12.31 | F11: 2015. év
A12: Személyi juttatások | B12: =[1]Munka1!$C$6/1000 -> 1000 | C12: =[1]Munka1!$C$6/1000 -> 1000 | D12: 1000 | E12: 1000 | F12: K1 | G12: *
A13: Munkaadót terhelő járulékok | B13: =[1]Munka1!$C$11/1000 -> 511.7 | C13: =[1]Munka1!$C$11/1000 -> 511.7 | D13: 512 | E13: 512 | F13: K2 | G13: *
A14: Dologi és egyéb folyó kiadások | B14: =[1]Munka1!$C$19/1000 -> 12821.3 | C14: 18181 | D14: 16724 | E14: 21817 | F14: K3 | G14: *
A15: Pénzeszköz átadás, támogatás | B15: =[1]Munka1!$C$24/1000 -> 6127 | C15: 8247 | D15: 9704 | E15: =2120+5057+2527 -> 9704 | F15: K5
A16: Felhalmozási célú pénzeszköz átadás | B16: 0 | C16: 0 | D16: 0 | E16: 1827 | F16: K89
A17: Felügyelet alá tartozó költségvetési szerv. Támogat. | B17: =[1]Munka1!$C$33/1000 -> 459599.37 | C17: 479354 | D17: 501683 | E17: 505553 | F17: K915
A18: Felhalmozási kiadások | B18: 0 | C18: 0 | D18: 0 | E18: 0 | F18: K61-67, K71-74
A19: Hitelek és kölcsönök kiadásai | B19: 0 | C19: 0 | D19: 0 | E19: 0 | F19: K9111
A20: Pénzforgalmi kiadások | B20: =SUM(B12:B19) -> 480059.37 | C20: =SUM(C12:C19) -> 507293.7 | D20: =SUM(D12:D19) -> 529623 | E20: =SUM(E12:E19) -> 540413
A21: Államháztartási tartalék | B21: =[1]Munka1!$C$25/1000 -> 18060 | C21: 23631 | D21: 20524 | E21: 16602 | F21: K513
A22: Kiadások összesen: | B22: =SUM(B20+B21) -> 498119.37 | C22: =SUM(C20+C21) -> 530924.7 | D22: =SUM(D20:D21) -> 550147 | E22: =SUM(E20:E21) -> 557015
A24: Intézményi működési bevételek | B24: 0 | C24: 10580 | D24: 10580 | E24: 11677 | F24: B4
A25: Költségvetési visszatérülések | B25: 0 | C25: 0 | D25: 0 | E25: 0
A26: Felhalmozási és tőke jellegű bevételek | B26: 0 | C26: 0 | D26: 0 | E26: 0 | F26: B21, B25, B52, B72, B73
A27: ebből: sajátos felhalm. és tőkef. | B27: 0 | C27: 0 | D27: 0 | E27: 0
A28: Támogatások, kiegészítések és átvett pénzeszközök | B28: =[1]Munka1!$C$65/1000+[1]Munka1!$C$46/1000+[1]Munka1!$C$45/1000+[1]Munka1!$C$44/1000 -> 498119.37 | C28: 517087 | D28: 536309 | E28: =539296+2784 -> 542080 | F28: B16, 816, B65
A29: ebből: önkorm. költségvetési tám. | B29: =[1]Munka1!$C$47/1000 -> 321246.5 | C29: 340582 | D29: 366310 | E29: 371122
A30: Felügyeleti szervtől átvett támogatás | B30: 0 | C30: 0 | D30: 0 | E30: 0
A31: Hitelek, kölcsönök bevételei | B31: 0 | C31: 0 | D31: 0 | E31: 0 | F31: B8111
A32: Pénzforgalmi bevételek összesen | B32: =SUM(B24+B25+B26+B28+B30+B31) -> 498119.37 | C32: =SUM(C24+C25+C26+C28+C30+C31) -> 527667 | D32: =D24+D25+D26+D28+D30+D31 -> 546889 | E32: =E24+E25+E26+E28+E30+E31 -> 553757
A33: Maradvány felhasználás | B33: 0 | C33: 3258 | D33: 3258 | E33: 3258 | F33: B813
A34: Bevételek összesen: | B34: =B32+B33 -> 498119.37 | C34: =C32+C33 -> 530925 | D34: =SUM(D32:D33) -> 550147 | E34: =SUM(E32:E33) -> 557015
A40: Mosonmagyaróvár, 2016. február 2.

Sheet 3
G1: 3. SZÁMÚ MELLÉKLET
A2: MOSONMAGYARÓVÁR TÉRSÉGI TÁRSULÁS
A3: 2015. ÉVI KÖLTSÉGVETÉSI HATÁROZATÁHOZ
A5: Kiadások és Bevételek működési egyensúlya módosított előirányzat szerint
A6: 2015. év terv 2015. december 31. módosított előirányzat
A7: adatok ezer Ft-ban
A8: Működési kiadások ezer Ft
A10: Intézmény megnevezése | B10: Személyi juttatások | C10: Járulékok | D10: Dologi kiadások | E10: Ellátottak juttatása | F10: Tartalékképzés | G10: Átadott pénzeszközök működési | H10: Összesen
A11: Kistérségi Egyesített Szociális Intézmény | B11: ='2B'!F12 -> 310168 | C11: ='2B'!F13 -> 78396 | D11: ='2B'!F14 -> 187802 | E11: ='2B'!F15 -> 850 | F11: 0 | G11: ='2B'!F16 -> 344 | H11: =SUM(B11:G11) -> 577560
A12: Kistérségi Gyermekjóléti és Családsegítő Szolgáltató Központ | B12: ='2C'!E12 -> 109252 | C12: ='2C'!E13 -> 27402 | D12: ='2C'!E14 -> 20220 | E12: ='2C'!E15 -> 420 | F12: 0 | G12: ='2C'!E16 -> 168 | H12: =SUM(B12:G12) -> 157462
A13: Mosonmagyaróvár Térségi Társulás | B13: ='2D'!E12 -> 1000 | C13: ='2D'!E13 -> 512 | D13: ='2D'!E14 -> 21817 | E13: 0 | F13: ='2D'!E21 -> 16602 | G13: ='2D'!E15 -> 9704 | H13: =SUM(B13:G13) -> 49635
A14: Mindösszesen: | B14: =SUM(B11:B13) -> 420420 | C14: =SUM(C11:C13) -> 106310 | D14: =SUM(D11:D13) -> 229839 | E14: =SUM(E11:E13) -> 1270 | F14: =SUM(F11:F13) -> 16602 | G14: =SUM(G11:G13) -> 10216 | H14: =SUM(H11:H13) -> 784657
A16: Működési bevételek ezer Ft
A18: Intézmény megnevezése | B18: Intézmény saját bevételei | C18: Állami támogatás | D18: MÖK támogatás | E18: Egyéb támogatás értékű műk. bevétel | F18: Feladatfinanszírozás | G18: Társulási támogatás | H18: Maradvány felhasználás | I18: Összesen
A19: Kistérségi Egyesített Szociális Intézmény | B19: ='2B'!F23 -> 197930 | C19: 265259 | D19: =72513-2838 -> 69675 | E19: =10622+150+400 -> 11172 | F19: 12615 | G19: ='2B'!F26+'2B'!F28-'3'!C19-'3'!D19-'3'!E19-'3'!F19-5332 -> 20909 | H19: ='2B'!F31-837 -> 0 | I19: =SUM(B19:G19) -> 577560
A20: Kistérségi Gyermekjóléti és Családsegítő Szolgáltató Központ | B20: ='2C'!E21 -> 1825 | C20: 90324 | D20: =42261-1936 -> 40325 | E20: =2250+2014 -> 4264 | F20: 0 | G20: ='2C'!E24+'2C'!E26-'3'!C20-'3'!D20-'3'!E20-'3'!F20-4586-1936 -> 20724 | H20: ='2C'!E29-415 -> 0 | I20: =SUM(B20:H20) -> 157462
A21: Mosonmagyaróvár Térségi Társulás | B21: ='2D'!E24 -> 11677 | C21: 0 | D21: 0 | E21: =34626+74+1827 -> 36527 | F21: 0 | G21: 0 | H21: ='2D'!E33-1827 -> 1431 | I21: =SUM(B21:H21) -> 49635
A22: Mindösszesen: | B22: =SUM(B19:B21) -> 211432 | C22: =SUM(C19:C21) -> 355583 | D22: =SUM(D19:D21) -> 110000 | E22: =SUM(E19:E21) -> 51963 | F22: =SUM(F19:F21) -> 12615 | G22: =SUM(G19:G21) -> 41633 | I22: =SUM(I19:I21) -> 784657
A24: Felhalmozási kiadások ezer Ft | E24: Felhalmozási bevételek ezer Ft
A25: Intézmény megnevezése | B25: Felhalmozási kiadások | C25: Összesen | E25: Intézmény megnevezése | F25: Maradvány felhasználás | G25: Társulási támogatás | H25: MÖK támogatás | I25: Összesen
A26: Kistérségi Egyesített Szociális Intézmény | B26: ='2B'!F17 -> 6169 | C26: =B26 -> 6169 | E26: Kistérségi Egyesített Szociális Intézmény | F26: 837 | G26: 2494 | H26: 2838 | I26: =SUM(F26:H26) -> 6169
A27: Kistérségi Gyermekjóléti és Családsegítő Szolgáltató Központ | B27: ='2C'!E17 -> 6937 | C27: =B27 -> 6937 | E27: Kistérségi Gyermekjóléti és Családsegítő Szolgáltató Központ | F27: 415 | G27: 4586 | H27: 1936 | I27: =SUM(F27:H27) -> 6937
A28: Mosonmagyaróvár Térségi Társulás | B28: ='2D'!E16 -> 1827 | C28: =B28 -> 1827 | E28: Mosonmagyaróvár Térségi Társulás | F28: 1827 | G28: 0 | H28: 0 | I28: =SUM(F28:H28) -> 1827
A29: Mindösszesen: | B29: =SUM(B26:B28) -> 14933 | C29: =SUM(C26:C28) -> 14933 | E29: Mindösszesen: | F29: =SUM(F26:F28) -> 3079 | G29: =SUM(G26:G28) -> 7080 | H29: =SUM(H26:H28) -> 4774 | I29: =SUM(I26:I28) -> 14933
A34: Mosonmagyaróvár, 2016. február 2.

Sheet 4
A3: Mosonmagyaróvár Térségi Társulás
A4: és felügyelete alá tartozó költségvetési szerv
A5: 2015. évi költségvetéséről szóló határozatához
A7: Költségvetési engedélyzett létszámhely
B9: adatok: fő-ben
A10: Megnevezés | B10: 2015. január 1. | C10: 2015. december 31. | D10: Közfoglalkoztatottak átlagos létszáma
A11: (intézmény, szakfeladat, stb.) | B11: engedélyezett | C11: engedélyezett
B12: létszámhely | C12: létszámhely
A13: Kistérségi Gyermekjóléti és Családsegítő Szolgáltató Központ | B13: =SUM(B14:B16) -> 43 | C13: =SUM(C14:C16) -> 43 | D13: 0
A14: GyÁÓ | B14: 8 | C14: 8 | D14: 0
A15: Gyermekjóléti szolgálat | B15: 16 | C15: 16 | D15: 0
A16: Családsegítő | B16: 19 | C16: 19 | D16: 0
A17: Kistérségi Egyesített Szociális Intézet | B17: =SUM(B18:B28) -> 134 | C17: =SUM(C18:C28) -> 135 | D17: =SUM(D18:D28) -> 0
A18: Aranykor, kp.-i irányítás | B18: 42 | C18: =42+1 -> 43 | D18: 0
A19: Gondozóház | B19: 28 | C19: 28 | D19: 0
A20: ESZO | D20: 0
A21: Hajléktalan | B21: 6 | C21: 6 | D21: 0
A22: Idősek klubja | B22: 16 | C22: 16 | D22: 0
A23: FÉNI | B23: 7 | C23: 7 | D23: 0
A24: Nappali melegedő | B24: 2 | C24: 2 | D24: 0
A25: Szociális étkezés | B25: 4 | C25: 4 | D25: 0
A26: Házi segítségnyújtás | B26: 24 | C26: 24 | D26: 0
A27: Jelzőrendszer | B27: 1 | C27: 1 | D27: 0
A28: Szoc. foglalkoztatás | B28: 4 | C28: 4 | D28: 0
A29: Mosonmagyaróvár Térségi Társulás | B29: 0 | C29: 0 | D29: 0
A30: TÁMOP 5.4.9-11/1-2012-0014 | B30: 0 | C30: 0 | D30: 0
A31: Összesen: | B31: =SUM(B13+B17+B29) -> 177 | C31: =SUM(C13+C17+C29) -> 178 | D31: =SUM(D13+D17+D29) -> 0
A33: Mosonmagyaróvár, 2016. február 2.

Sheet 5
B1: 5. számú melléklet
A2: Mosonmagyaróvár Térségi Társulás
A4: Állami támogatások
A6: Kistérségi Egyesített Szociális Intézmény
A7: Rovat: B113, B115
A8: Jogcím | B8: Feladat | C8: Fajlagos támogatás 2014. évi C. tv. Alapján | D8: mutató | E8: Eredeti előirányzat | F8: Módosított előirányzat 2015.07.31 | G8: Módosított előirányzat 2015.09.30 | H8: Módosított előirányzat 2015.12.31
A9: 3.c. | B9: Szociális étkeztetés | C9: 60896 | D9: 426 | E9: =SUM(D9*C9) -> 25941696 | F9: 25941696 | G9: ='2B'!E38 -> 25698112 | H9: ='2B'!F38 -> 25515424
A10: 3.d. | B10: Házi segítségnyújtás | C10: 188500 | D10: 192 | E10: =SUM(D10*C10) -> 36192000 | F10: 36192000 | G10: ='2B'!E39 -> 35815000 | H10: ='2B'!F39 -> 35626500
A11: 3.f. | B11: Időskorúak nappali int. ellátása | C11: 163500 | D11: 38 | E11: =SUM(D11*C11) -> 6213000 | F11: 6213000 | G11: ='2B'!E40 -> 6213000 | H11: ='2B'!F40 -> 6540000
A12: 3.g. | B12: Fogyatékos személyek napp. int. ellátása | C12: 550000 | D12: 11 | E12: =SUM(D12*C12) -> 6050000 | F12: 6050000 | G12: 6050000 | H12: 6050000
A13: 3.g. | B13: Foglalkoztatási támogatásban rész. fogy. | C13: 220000 | D13: 16 | E13: =SUM(D13*C13) -> 3520000 | F13: 3520000 | G13: 3520000 | H13: 3520000
A14: 3.g. | B14: Demens szem. napp. int. ellátása | C14: 550000 | D14: 28 | E14: =SUM(D14*C14) -> 15400000 | F14: 15400000 | G14: =15400000-2090000 -> 13310000 | H14: 14300000
A15: 3.i. | B15: Hajléktalanik napp. int. ellátása | C15: 247320 | D15: 36 | E15: =SUM(D15*C15) -> 8903520 | F15: 8903520 | G15: 8903520 | H15: ='2B'!F42 -> 8903520
A16: 3.k. | B16: Hajléktalanok Átmeneti Szállása | C16: 515185 | D16: 40 | E16: =SUM(D16*C16) -> 20607400 | F16: 20607400 | G16: =20607400+515185 -> 21122585 | H16: ='2B'!F43 -> 21122585
A17: 4.a. | B17: Bértámogatás | C17: 2606040 | D17: 32 | E17: 83393280 | F17: 83393280 | G17: 83393280 | H17: ='2B'!F44 -> 88851216
A18: 4.b. | B18: Intézmény-üzemeltetési támogatás | E18: 25725104 | F18: 25725104 | G18: =25725104+8701000 -> 34426104 | H18: ='2B'!F45 -> 36446429
B19: Bérkompenzáció | F19: 5572953 | G19: 7021388 | H19: ='2B'!F49 -> 8795258
B20: Szociális ágazgati pótlék* | F20: 8130034 | G20: 9588225 | H20: ='2B'!F52+4376342 -> 13964567
B21: Összesen | E21: =SUM(E9:E18) -> 231946000 | F21: =SUM(F9:F20) -> 245648987 | G21: =SUM(G9:G20) -> 255061214 | H21: =SUM(H9:H20) -> 269635499
A23: Kistérségi Gyermekjóléti és Családsegítő Szolgáltató Központ
A24: Jogcím | B24: Feladat | C24: Fajlagos támogatás 2014. évi C. tv. Alapján | D24: mutató | E24: Eredeti előirányzat | F24: Módosított előirányzat 2015.07.31 | G24: Módosított előirányzat 2015.09.30 | H24: Módosított előirányzat 2015.12.31
A25: 3.a. | B25: Családsegítés | C25: L/7000*1 975 000 | D25: 10.4036 | E25: 20547110 | F25: 20547110 | G25: 20547110 | H25: 20547110
A26: 3.aa. | B26: Családsegítés társult kiegészítés | C26: 300 Ft/fő | D26: 72825 | E26: 21847500 | F26: 21847500 | G26: 21847500 | H26: 21847500
A27: 3.a. | B27: Gyeremkjóléti szolgáltatás | C27: L/7000*1 975 000 | D27: 10.4036 | E27: 20547110 | F27: 20547110 | G27: 20547110 | H27: 20547110
A28: 3.aa. | B28: Gyeremkjóléti szolg. társult kiegészítés | C28: 1200 Ft/fő | D28: 12664 | E28: 15196800 | F28: 15196800 | G28: 15196800 | H28: 15196800
A29: 4.a | B29: GyÁÓ bértámogatás | C29: 2606040 | D29: 2 | E29: 5212080 | F29: 5212080 | G29: 5212080 | H29: 5212080
A30: 4.b | B30: GyÁÓ intézmény-üzelemtetés | E30: 5950000 | F30: 5950000 | G30: 5950000 | H30: 5950000
B31: Bérkompenzáció | F31: 3086688 | G31: 3906854 | H31: ='2C'!E40 -> 4820285
B32: Szociális ágazati pótlék* | F32: 2546244 | G32: 7365550 | H32: ='2C'!E41 -> 7365550
B33: Összesen: | E33: =SUM(E25:E30) -> 89300600 | F33: =SUM(F25:F32) -> 94933532 | G33: =SUM(G25:G32) -> 100573004 | H33: =SUM(H25:H32) -> 101486435
B35: Mindösszesen | E35: =E21+E33 -> 321246600 | F35: =F33+F21 -> 340582519 | G35: =G33+G21 -> 355634218 | H35: =H33+H21 -> 371121934 | I35: *
A37: * A szociális ágazgati pótlék kiadás szintje eredeti előirányzatban tervezésre került, így a bevételt az intézmény finanszírozás eredeti előirányzatban
A38: tartalmazza.
A40: Mosonmagyaróvár, 2016. február 2.
