Workbook

Sheet Tartalom
B1: Mosonmagyaróvári Térségi Társulás és intézményei
A3: 2024. évi költségvetés végrehajtása - mellékletek
A5: 1 | B5: Összevont mérleg, bevételek és kiadások összesítése
A7: =A5+1 -> 2 | B7: Összevont mérleg, működés és fejlesztés egyenlege
A9: =A7+1 -> 3 | B9: Működési bevételek, Intézmények
A11: =A9+1 -> 4 | B11: Működési bevételek, Társulás
A13: =A11+1 -> 5 | B13: Működési bevételek Társulás és intézményei
A15: =A13+1 -> 6 | B15: Intézményi finanszírozási bevételek részletezése
A17: =A15+1 -> 7 | B17: Felhalmozási bevételek jogímenként
A19: =A17+1 -> 8 | B19: Működési kiadások, Intézmények
A21: =A19+1 -> 9 | B21: Működési kiadások, Társulás
A23: =A21+1 -> 10 | B23: Működési kiadások, Társulás és intézményei összevontan
A25: =A23+1 -> 11 | B25: Felhalmozási kiadások
A27: =A25+1 -> 12 | B27: Állami hozzájárulások
A29: =A27+1 -> 13 | B29: Társulás által biztosítandó támogatások
... A51: =A49+1 -> 24 | B51: Hitel-, kölcsöntörlesztések, kamatfizetési kötelezettségek
A53: 25 | B53: Többéves kihatású kötelezettségek általános működtetési költségeken kívül Ft-ban
A55: 26 | B55: EU-s támogatással megvalósuló projektek

Sheet Mérleg
B1: Mosonmagyaróvári Térségi Társulás és intézmnyei 2024. évi összevont költségvetési mérlege | Y1: Mosonmagyaróvái Térségi Társulás és intézményei 2024. évi összevont költségvetési mérlege
AE2: 2. melléklet
B3: Bevételek, kiadások összesítése Ft-ban | N3: 1. melléklet | Y3: Működés egyenlege | AD3: Fejlesztés egyenlege
D4: Eredeti előirányzatból | G4: Módosított előirányzatból | J4: Teljesítésből | P4: Eredeti előirányzatból | S4: Módosított előirányatból | V4: Teljesítésből
A5: Rovatrend | B5: Bevételek | C5: Eredeti | D5: Ebből kötelező feladat | E5: Ebből önként vállalt feladat | F5: Módosított | G5: Ebből kötelező feladat | H5: Ebből önként vállalt feladat | I5: Teljesítés | J5: Ebből kötelező feladat | K5: Ebből önként vállalt feladat | M5: Rovatrend | N5: Kiadások | O5: Eredeti | P5: Ebből kötelező feladat | Q5: Ebből önként vállalt feladat | R5: Módosított | S5: Ebből kötelező feladat | T5: Ebből önként vállalt feladat | U5: Teljesítés | V5: Ebből kötelező feladat | W5: Ebből önként vállalt feladat | Y5: Bevételek | Z5: Eredeti | AA5: Módosított | AB5: Teljesítés | AD5: Bevételek | AE5: Eredeti | AF5: Módosított | AG5: Teljesítés
A6: B4 | B6: Intézményi működési bevétel | C6: ='Működési bevételek'!E64 -> 401860000 | D6: =C6-E6 -> 382500000 | E6: ='Működési bevételek'!E28 -> 19360000 | F6: ='Működési bevételek'!E65 -> 401860000 | G6: =F6-H6 -> 382500000 | H6: ='Működési bevételek'!E29 -> 19360000 | I6: ='Működési bevételek'!E66 -> 471188380 | J6: =I6-K6 -> 457253659 | K6: ='Működési bevételek'!E60 -> 13934721 | M6: K1-K5 | N6: Intézmények működési kiadása | O6: ='Működési kiadások'!M71 -> 2085808257 | P6: =O6-Q6 -> 2085808257 | Q6: ='Működési kiadások'!M20 -> 0 | R6: ='Működési kiadások'!M74 -> 2201356708 | S6: =R6-T6 -> 2201356708 | T6: ='Működési kiadások'!P20 -> 0 | U6: ='Működési kiadások'!M24 -> 1933456286 | V6: =U6-W6 -> 1933456286 | W6: ='Működési kiadások'!S20 -> 0 | Y6: Intézményi működési bevétel | Z6: =C6 -> 401860000 | AA6: =F6 -> 401860000 | AB6: =I6 -> 471188380 | AD6: Tárgyi eszközök értékesítése | AE6: =C13 -> 0 | AF6: =D13 -> 0 | AG6: =E13 -> 0
A7: B16 | B7: Támogatásértékű műk. bevétel | C7: ='Működési bevételek'!H64+'Működési bevételek'!F18+'Működési bevételek'!G18 -> 1675306481 | D7: =C7-E7 -> 1674965641 | E7: =390840-50000 -> 340840 | F7: =támogatás!L30 -> 1613625498 | G7: =F7-H7 -> 1613625498 | H7: 0 | I7: =támogatás!O30 -> 1625873642 | J7: =I7-K7 -> 1625873642 | K7: 0 | M7: K1-K5 | N7: Térségi Társulás működési kiadásai | O7: ='Működési kiadások'!M89 -> 112833976 | P7: ='Működési kiadások'!M36 -> 93133136 | Q7: =O7-P7 -> 19700840 | R7: ='Működési kiadások'!M93 -> 148982435 | S7: ='Működési kiadások'!M94 -> 127832669 | T7: =R7-S7 -> 21149766 | U7: ='Működési kiadások'!M49 -> 17544519 | V7: ='Működési kiadások'!P94 -> 0 | W7: =U7-V7 -> 17544519 | Y7: Támogatásértékű műk. bevétel | Z7: =C7 -> 1675306481 | AA7: =F7 -> 1613625498 | AB7: =I7 -> 1625873642 | AD7: Támogtás értékű felhalmozási bev. | AE7: =C14 -> 150000000 | AF7: =D14 -> 150000000 | AG7: =I14 -> 36658738
A8: B65 | B8: Műk.c.pénzeszköz átv.ÁH-n kívülről, visszatérítendő működési támogatás | C8: ='Működési bevételek'!I18+'Működési bevételek'!I31 -> 0 | D8: 0 | E8: =C8 -> 0 | F8: 0 | G8: 0 | H8: =F8 -> 0 | I8: ='Működési bevételek'!I66 -> 6500193 | J8: 6500193 | K8: 0 | N8: Működés összesen | O8: =SUM(O6:O7) -> 2198642233 | P8: =SUM(P6:P7) -> 2178941393 | Q8: =SUM(Q6:Q7) -> 19700840 | R8: =SUM(R6:R7) -> 2350339143 | S8: =SUM(S6:S7) -> 2329189377 | T8: =SUM(T6:T7) -> 21149766 | U8: =SUM(U6:U7) -> 1951000805 | V8: =SUM(V6:V7) -> 1933456286 | W8: =SUM(W6:W7) -> 17544519 | Y8: Műk.c.pénzeszköz átv.ÁH-n kívülről | Z8: =C8 -> 0 | AA8: =D8 -> 0 | AB8: =I8 -> 6500193 | AD8: Felh.c.pénzeszköz átvétel ÁH-n kív. | AE8: =C15 -> 0 | AF8: =D15 -> 0 | AG8: =E15 -> 0
A9: B11 | B9: Közvetlen állami támogatás | C9: ='Működési bevételek'!F31 -> 0 | D9: =C9 -> 0 | E9: =C9-D9 -> 0 | F9: ='Működési bevételek'!I31 -> 0 | G9: =F9 -> 0 | H9: =F9-G9 -> 0 | I9: 0 | J9: =I9 -> 0 | K9: =I9-J9 -> 0 | M9: K6-K8 | N9: Felhalmozási kiadások | O9: ='Felhalmozási kiadások'!I24 -> 164020854 | P9: =O9-Q9 -> 164020854 | Q9: ='Felhalmozási kiadások'!I26 -> 0 | R9: ='Felhalmozási kiadások'!I28 -> 169582074 | S9: =R9-T9 -> 169582074 | T9: ='Felhalmozási kiadások'!L26 -> 0 | U9: ='Felhalmozási kiadások'!I32 -> 47271264 | V9: =U9-W9 -> 47271264 | W9: ='Felhalmozási kiadások'!O26 -> 0 | Y9: Állami támogatás | Z9: =C9+C23 -> 0 | AA9: =D9+D23 -> 0 | AB9: =E9+E23 -> 0 | AD9: Közhatalmi bevétel | AE9: 0 | AF9: 0 | AG9: 0
N10: Hitelek törlesztése | AD10: Lakások és helyis.értékesít. | AE10: =C16 -> 0 | AF10: =D16 -> 0 | AG10: =E16 -> 0
A11: B3 | B11: Közhatalmi bevételek (helyi adók nélkül) | C11: 0 | D11: =C11-E11 -> 0 | E11: 0 | F11: 0 | G11: 0 | H11: 0 | I11: 0 | J11: 0 | K11: 0 | M11: K9111 | N11: Beruházási hitelek | O11: 0 | P11: =O11 -> 0 | Q11: 0 | R11: 0 | S11: =R11 -> 0 | T11: 0 | U11: 0 | V11: =U11 -> 0 | W11: 0 | Y11: Önkormányzati sajátos műk.b. | Z11: =C11 -> 0 | AA11: =D11 -> 0 | AB11: =E11 -> 0 | AD11: Felhalmozási bevételek össz. | AE11: =SUM(AE6:AE10) -> 150000000 | AF11: =SUM(AF6:AF10) -> 150000000 | AG11: =SUM(AG6:AG10) -> 36658738
B12: Működési bevételek összesen | C12: =SUM(C6:C11) -> 2077166481 | D12: =SUM(D6:D11) -> 2057465641 | E12: =SUM(E6:E11) -> 19700840 | F12: =SUM(F6:F11) -> 2015485498 | G12: =SUM(G6:G11) -> 1996125498 | H12: =SUM(H6:H11) -> 19360000 | I12: =SUM(I6:I11) -> 2103562215 | J12: =SUM(J6:J11) -> 2089627494 | K12: =SUM(K6:K11) -> 13934721 | M12: K914 | N12: Államháztartási megelőlegezés visszafizetése | O12: 0 | P12: =O12 -> 0 | Q12: 0 | R12: 0 | S12: =R12 -> 0 | T12: 0 | U12: 0 | V12: =U12 -> 0 | W12: 0 | Y12: Működési bevételek összesen | Z12: =C12+C23 -> 2077166481 | AA12: =SUM(AA6:AA11) -> 2015485498 | AB12: =SUM(AB6:AB11) -> 2103562215 | AD12: Kölcsönök visszatérülése | AE12: =C19 -> 0 | AF12: =D19 -> 0 | AG12: =E19 -> 0
A13: B52 | B13: Ingatlanok, tárgyi eszközök értékesítése | C13: ='Felhalmozási bevételek'!E15 -> 0 | D13: 0 | E13: =C13-D13 -> 0 | F13: ='Felhalmozási bevételek'!H15 -> 0 | G13: 0 | H13: =F13-G13 -> 0 | I13: 0 | J13: 0 | K13: =I13-J13 -> 0 | M13: K353 | N13: Kamatköltségek | O13: 0 | P13: =O13 -> 0 | Q13: 0 | R13: 0 | S13: =R13 -> 0 | T13: 0 | U13: 0 | V13: =U13 -> 0 | W13: 0 | Y13: Közhatalmi bevételek | Z13: 0 | AA13: 0 | AB13: 0 | AD13: Bevételek összesen | AE13: =SUM(AE11:AE12) -> 150000000 | AF13: =SUM(AF11:AF12) -> 150000000 | AG13: =SUM(AG11:AG12) -> 36658738
A14: B21, B25 | B14: Támogtás értékű felhalmozási bev. | C14: ='Felhalmozási bevételek'!F15 -> 150000000 | D14: 150000000 | E14: =C14-D14 -> 0 | F14: ='Felhalmozási bevételek'!F13 -> 150000000 | G14: 150000000 | H14: =F14-G14 -> 0 | I14: ='Felhalmozási bevételek'!F20 -> 36658738 | J14: 36658738 | K14: =I14-J14 -> 0 | Y14: Működési célú maradvány felhasználás | Z14: ='Működési bevételek'!K64 -> 121475751 | AA14: =340507164-5653519 -> 334853645 | AB14: 0
A15: B75 | B15: Felh.c.pénzeszköz átvétel ÁH-n kív. | C15: ='Felhalmozási bevételek'!G15 -> 0 | D15: =C15-E15 -> 0 | E15: 0 | F15: ='Felhalmozási bevételek'!J15 -> 0 | G15: 0 | H15: 0 | I15: ='Felhalmozási bevételek'!M15 -> 0 | J15: 0 | K15: 0 | Y15: Bevételek mindösszesen | Z15: =Z12+Z14+1 -> 2198642233 | AA15: =AA12+AA14 -> 2350339143 | AB15: =AB12+AB14 -> 2103562215 | AD15: Értékpapír beváltás | AE15: =C21 -> 0 | AF15: =D21 -> 0 | AG15: =E21 -> 0
A16: B52 | B16: Önkorm.lakások és helyis.értékesít. | C16: ='Felhalmozási bevételek'!H15 -> 0 | D16: 0 | E16: =C16 -> 0 | F16: 0 | G16: 0 | H16: =F16 -> 0 | I16: 0 | J16: 0 | K16: =I16 -> 0 | Y16: Kiadások | AD16: Állampapír beváltás összesen | AE16: =SUM(AE14:AE15) -> 0 | AF16: =SUM(AF14:AF15) -> 0 | AG16: =SUM(AG14:AG15) -> 0
B17: Felhalmozási bev. összesen | C17: =SUM(C13:C16) -> 150000000 | D17: =SUM(D13:D16) -> 150000000 | E17: =SUM(E13:E16) -> 0 | F17: =SUM(F13:F16) -> 150000000 | G17: =SUM(G13:G16) -> 150000000 | H17: =SUM(H13:H16) -> 0 | I17: =SUM(I13:I16) -> 36658738 | J17: =SUM(J13:J16) -> 36658738 | K17: =SUM(K13:K16) -> 0 | Y17: Intézmények működési kiadása | Z17: =O6 -> 2085808257 | AA17: =R6 -> 2201356708 | AB17: =U6 -> 1933456286 | AD17: Maradvány felhasználás | AE17: ='Felhalmozási bevételek'!K15-1 -> 14020854 | AF17: =F18-AA14 -> 19582074 | AG17: =I18 -> 354435719
A18: B8131 | B18: Maradványfelhasználás | C18: ='Működési bevételek'!K64+'Felhalmozási bevételek'!K15 -> 135496606 | D18: =C18-E18 -> 135496606 | E18: 0 | F18: 354435719 | G18: =F18-H18 -> 352645953 | H18: 1789766 | I18: ='Működési bevételek'!K66+'Működési bevételek'!I86+'Felhalmozási bevételek'!K19 -> 354435719 | J18: =I18-K18 -> 350825921 | K18: 3609798 | Y18: Térségi Társulás működési kiadása | Z18: =O7+O12 -> 112833976 | AA18: =R7 -> 148982435 | AB18: =U7 -> 17544519
A19: B74 | B19: Felhalmozási célú kölcsönök, visszatérítendő támogatások visszatérülése | C19: ='Felhalmozási bevételek'!I15 -> 0 | D19: 0 | E19: 0 | F19: 0 | G19: 0 | H19: 0 | I19: 0 | J19: 0 | K19: 0 | Y19: Működés összesen | Z19: =SUM(Z17:Z18) -> 2198642233 | AA19: =SUM(AA17:AA18) -> 2350339143 | AB19: =SUM(AB17:AB18) -> 1951000805 | AD19: Kiadások mindösszesen | AE19: =O9 -> 164020854 | AF19: =R9 -> 169582074 | AG19: =U9 -> 47271264
B20: Bevételek összesen | C20: =C12+C18+C17 -> 2362663087 | D20: =D12+D18+D17 -> 2342962247 | E20: =E12+E18+E17 -> 19700840 | F20: =F12+F18+F17 -> 2519921217 | G20: =G12+G18+G17 -> 2498771451 | H20: =H12+H18+H17 -> 21149766 | I20: =I12+I18+I17 -> 2494656672 | J20: =J12+J18+J17 -> 2477112153 | K20: =K12+K18+K17 -> 17544519
A21: B812 | B21: Állampapír ügyletek | C21: 0 | D21: =C21 -> 0 | E21: 0 | F21: 0 | G21: =F21 -> 0 | H21: 0 | I21: 0 | J21: =I21 -> 0 | K21: 0 | Y21: Folyószámla hitelkamat | Z21: 0 | AA21: 0 | AB21: 0
A22: B8111 | B22: Kölcsönfelvétel | C22: 0 | F22: 0 | I22: 0
A23: B814 | B23: Államháztartási megelőlegezés | C23: 0 | D23: =C23 -> 0 | E23: 0 | F23: 0 | G23: =F23 -> 0 | H23: 0 | I23: 0 | J23: =I23 -> 0 | K23: 0 | Y23: Kiadások mindösszesen | Z23: =SUM(Z19:Z22) -> 2198642233 | AA23: =SUM(AA19:AA22) -> 2350339143 | AB23: =SUM(AB19:AB22) -> 1951000805
A25: B81 | B25: Finanszírozási műveletek | C25: =SUM(C21:C24) -> 0 | D25: =SUM(D21:D24) -> 0 | E25: =SUM(E21:E24) -> 0 | F25: =SUM(F21:F24) -> 0 | G25: =SUM(G21:G24) -> 0 | H25: =SUM(H21:H24) -> 0 | I25: =SUM(I21:I24) -> 0 | J25: =SUM(J21:J24) -> 0 | K25: =SUM(K21:K24) -> 0
C26: 0 | D26: 0 | E26: 0 | F26: 0 | G26: 0 | H26: 0 | I26: 0 | J26: 0 | K26: 0 | AD26: Bevétel és kiadás egyenlege | AE26: =AE11+AE12+AE17-AE19 -> 0 | AF26: =AF11+AF12+AF17-AF19 -> 0 | AG26: =AG11+AG12+AG17-AG19 -> 343823193
B27: Bevétel mindösszesen | C27: =C26+C25+C20 -> 2362663087 | D27: =D20+D25+D26 -> 2342962247 | E27: =E20+E25+E26 -> 19700840 | F27: =F26+F25+F20 -> 2519921217 | G27: =G20+G25+G26 -> 2498771451 | H27: =H20+H25+H26 -> 21149766 | I27: =I26+I25+I20 -> 2494656672 | J27: =J20+J25+J26 -> 2477112153 | K27: =K20+K25+K26 -> 17544519 | Y27: Bevétel és kiadás egyenlege | Z27: =Z15-Z23 -> 0 | AA27: =AA15-AA23 -> 0 | AB27: =AB15-AB23 -> 152561410
B28: Kötelező feladat ellátásból államigazgatási feladatellátáshoz kapcsolódó | D28: =P30 -> 0 | G28: =Y30 -> 0 | J28: =AC30 -> 0
N29: Kiadás mindösszesen | O29: =O8+O9+O11+O12+O13 -> 2362663087 | P29: =P8+P9+P11+P12+P13 -> 2342962247 | Q29: =Q8+Q9+Q11+Q12+Q13 -> 19700840 | R29: =R8+R9+R11+R12+R13 -> 2519921217 | S29: =S8+S9+S11+S12+S13 -> 2498771451 | T29: =T8+T9+T11+T12+T13 -> 21149766 | U29: =U8+U9+U11+U12+U13 -> 1998272069 | V29: =V8+V9+V11+V12+V13 -> 1980727550 | W29: =W8+W9+W11+W12+W13 -> 17544519 | Y29: Egyenleg: | Z29: 0 | AA29: 0 | AB29: =AB27 -> 152561410 | AE29: 0 | AF29: 0 | AG29: =AG26 -> 343823193
N30: Kötelező feladat ellátásból államigazgatási feladatellátáshoz kapcsolódó | P30: 0 | S30: 0 | V30: 0
E31: Egyenleg: | I31: =I27-U29 -> 496384603 | M31: =O29-C27 -> 0
A33: Mosonmagyaróvár, 2025. május 15. | F33: =F27-F18 -> 2165485498 | G33: =G27-G18 -> 2146125498 | H33: =H27-H18 -> 19360000 | I33: =I27-I18 -> 2140220953 | J33: =J27-J18 -> 2126286232 | K33: =K27-K18 -> 13934721
D35: =C27-C18 -> 2227166481 | O35: =O7+O13+O11+O12 -> 112833976
D36: =D27-D18 -> 2207465641 | O36: =O8+O11+O12+O13 -> 2198642233

Sheet Működési bevételek
B1: MŰKÖDÉSI BEVÉTELEK - INTÉZMÉNYEK (Ft) | H1: 2024. év
K2: 3. melléklet | N2: =M7-L7 -> 0
B3: Intézmények megnevezése | E3: Intézményi működési bevételek Rovatszám: B4 | F3: Állami támogatás Rovatszám: B816 | G3: Intézmény finanszírozás (állami támogatáson túl) Rovatszám: B816 | H3: Támog. ért.műk. Bevétel Rovatszám: B16 | I3: Működési c. pénze. átv. ÁH-n kívülről Rovatszám: B63-65 | J3: Sajátos bevételek Rovatszám: B4 | K3: Maradvány felhasználás, működési, Rovat: B8131 | L3: Összesen | N3: =M12-L12 -> -60200665
C6: Kistérségi Egyesített Szociális Intézmény eredeti | E6: 378000000 | F6: 578235637 | G6: 531466145 | H6: 93260360 | I6: 0 | J6: 0 | K6: 48084145 | L6: =SUM(E6:K6) -> 1629046287 | M6: =1249720806-5715000-1120855 -> 1242884951 | N6: =K6+'Felhalmozási bevételek'!K6 -> 60000000 | O6: =N6-'[1]KESZI 2024'!$G$85 -> -1580962143
C8: Kistérségi Egyesített Szociális Intézmény módosított | E8: 378000000 | F8: =578235637+43099779+1935366-3158622+22149144+3642831-1653137+3330864+22154839+4353239 -> 674089940 | G8: =531466145-12652218+3572617+1+75499758+2947040+2515901+984000+2753524+2023000+894113+1473520 -> 611477401 | H8: =93260360-43099779-1935366-22149144-3642831-22154839-4353239-3152238+7227076 -> 0 | I8: 0 | J8: 0 | K8: 60736363 | L8: =SUM(E8:K8) -> 1724303704
C10: Kistérségi Egyesített Szociális Intézmény teljesítés | E10: 453347511 | F10: 674089940 | G10: =F76+G76+H76+I76+J76 -> 387194988 | H10: 1886517 | I10: 5320193 | J10: 0 | K10: =72652218-'Felhalmozási bevételek'!L8 -> 60736363 | L10: =SUM(E10:K10) -> 1582575512
C12: Család és Gyermekjóléti Központ eredeti | E12: 4500000 | F12: 271843251 | G12: 83902218 | H12: 85421500 | I12: 0 | J12: 0 | K12: 11095000 | L12: =SUM(E12:K12) -> 456761969 | M12: =398061304-1500000 -> 396561304 | N12: =K12+'Felhalmozási bevételek'!K9 -> 13000000 | O12: =N12-'[1]CSGYK 2024'!$F$84 -> -445666969
C14: Család és Gyermekjóléti Központ módosított | E14: 4500000 | F14: =271843251+35888678-84674+17696484+178439+17255870 -> 342778048 | G14: =83902218+1173931+1556953+35454887+1491210+1105140+552570 -> 125236909 | H14: =85421500-35888678-17696484-13580468-17255870 -> 1000000 | I14: 0 | J14: 0 | K14: =11443047-1905000 -> 9538047 | L14: =SUM(E14:K14) -> 483053004
C16: Család és Gyermekjóléti Központ teljesítés | E16: 3906148 | F16: 342778048 | G16: =444893623-342778048 -> 102115575 | H16: 4973400 | I16: 1180000 | J16: 0 | K16: 9538047 | L16: =SUM(E16:K16) -> 464491218
B18: Intézmények eredeti összesen: | E18: =E12+E6 -> 382500000 | F18: =F12+F6 -> 850078888 | G18: =G12+G6 -> 615368363 | H18: =H12+H6 -> 178681860 | I18: =I12+I6 -> 0 | J18: =J12+J6 -> 0 | K18: =K12+K6 -> 59179145 | L18: =L12+L6 -> 2085808256
B19: Intézmények módosított összesen: | E19: =E8+E14 -> 382500000 | F19: =F8+F14 -> 1016867988 | G19: =G8+G14 -> 736714310 | H19: =H8+H14 -> 1000000 | I19: =I8+I14 -> 0 | J19: =J8+J14 -> 0 | K19: =K8+K14 -> 70274410 | L19: =L8+L14 -> 2207356708
B20: Intézmények teljesítés összesen: | E20: =E10+E16 -> 457253659 | F20: =F10+F16 -> 1016867988 | G20: =G10+G16 -> 489310563 | H20: =H10+H16 -> 6859917 | I20: =I10+I16 -> 6500193 | J20: =J10+J16 -> 0 | K20: =K10+K16 -> 70274410 | L20: =L10+L16 -> 2047066730
G21: =F18+G18 -> 1465447251
B23: Mosonmagyaróvár Térségi Társulás működési bevételei adatok Ft-ban | H23: 2024. év | L23: 4. melléklet
B25: Kormányzati funkció szerint | E25: Intézményi működési bevételek Rovatszám: B4 | F25: Állami támogatás Rovatszám: B11 | G25: ÖK támogatás Rovatszám: B816 | H25: Támog. ért.műk. Bevétel Rovatszám: B16 | I25: Működési c. pénze. átv. ÁH-n kívülről Rovatszám: B63- B65 | J25: Közhatalmi bevételek Rovatszám: B3 | K25: Maradvány felhasználás, ÁHT. Belüli megelőlegezés, értékpapír beváltása, működési Rovat: B812, B8131, B814 | L25: Összesen
B28: Önk. Jogalkotó tevékenysége 011130 eredeti | E28: 19360000 | F28: 0 | G28: 0 | H28: 31177370 | I28: 0 | J28: 0 | K28: 62296606 | L28: =E28+F28+G28+H28+I28+J28+K28 -> 112833976 | N28: =K28+'Felhalmozási bevételek'!K12 -> 62496606 | O28: =N28-263033976 -> -200537370
B29: Önk. Jogalkotó tevékenysége 011130 módosított | E29: 19360000 | F29: 0 | G29: 0 | H29: 41494000 | I29: 0 | J29: 0 | K29: 87689654 | L29: =SUM(E29:K29) -> 148543654
B30: Önk. Jogalkotó tevékenysége 011130 teljesítés | E30: 13934721 | F30: 0 | G30: 0 | H30: 241714121 | K30: =270340454-I76-I82-'Felhalmozási bevételek'!K14 -> 141261507 | L30: =SUM(E30:K30) -> 396910349
B31: Eredeti összesen: | E31: =SUM(E28:E28) -> 19360000 | F31: =SUM(F28:F28) -> 0 | G31: =SUM(G28:G28) -> 0 | H31: =SUM(H28:H28) -> 31177370 | I31: =SUM(I28:I28) -> 0 | J31: =SUM(J28:J28) -> 0 | K31: =SUM(K28:K28) -> 62296606 | L31: =SUM(L28:L28) -> 112833976
B32: Módosított összesen: | E32: =E29 -> 19360000 | F32: =F29 -> 0 | G32: =G29 -> 0 | H32: =H29 -> 41494000 | I32: =I29 -> 0 | J32: =J29 -> 0 | K32: =K29 -> 87689654 | L32: =SUM(E32:K32) -> 148543654
B33: Teljesítés összesen: | E33: =E30 -> 13934721 | F33: =F30 -> 0 | G33: =G30 -> 0 | H33: =H30 -> 241714121 | I33: =I30 -> 0 | J33: =J30 -> 0 | K33: =K30 -> 141261507 | L33: =L30 -> 396910349
B35: Mosonmagyaróvár Térségi Társulás és intézményei működési bevételei adatok Ft-ban
L36: 5. melléklet
B37: Intézmények megnevezése | E37: Intézményi működési bevételek Rovatszám: B4 | F37: Állami támogatás Rovatszám: B816 | G37: Intézmény finanszírozás (állami támogatáson túl) Rovatszám: B816 | H37: Támog. ért.műk. Bevétel Rovatszám: B16 | I37: Működési c. pénze. átv. ÁH-n kívülről Rovatszám: B63-65 | J37: Sajátos bevételek Rovatszám: B4 | K37: Maradvány | L37: Összesen
K38: felhasználás
K39: működési Rovatszám: B8131
B40: Kistérségi Egyesített Szociális Intézmény eredeti | E40: =E6 -> 378000000 | F40: =F6 -> 578235637 | G40: =G6 -> 531466145 | H40: =H6 -> 93260360 | I40: =I6 -> 0 | J40: =J6 -> 0 | K40: =K6 -> 48084145 | L40: =SUM(E40:K40) -> 1629046287
B42: Kistérségi Egyesített Szociális Intézmény módosított | E42: =E8 -> 378000000 | F42: =F8 -> 674089940 | G42: =G8 -> 611477401 | H42: =H8 -> 0 | I42: =I8 -> 0 | J42: =J8 -> 0 | K42: =K8 -> 60736363 | L42: =L8 -> 1724303704
B44: Kistérségi Egyesített Szociális Intézmény teljesítés | E44: =E10 -> 453347511 | F44: =F10 -> 674089940 | G44: =G10 -> 387194988 | H44: =H10 -> 1886517 | I44: =I10 -> 5320193 | J44: =J10 -> 0 | K44: =K10 -> 60736363 | L44: =L10 -> 1582575512
B46: Család és Gyermekjóléti Központ eredeti | E46: =E12 -> 4500000 | F46: =F12 -> 271843251 | G46: =G12 -> 83902218 | H46: =H12 -> 85421500 | I46: =I12 -> 0 | J46: =J12 -> 0 | K46: =K12 -> 11095000 | L46: =L12 -> 456761969
B48: Család és Gyermekjóléti Központ módosított | E48: =E14 -> 4500000 | F48: =F14 -> 342778048 | G48: =G14 -> 125236909 | H48: =H14 -> 1000000 | I48: =I14 -> 0 | J48: =J14 -> 0 | K48: =K14 -> 9538047 | L48: =SUM(E48:K48) -> 483053004
B50: Család és Gyermekjóléti Központ teljesítés | E50: =E16 -> 3906148 | F50: =F16 -> 342778048 | G50: =G16 -> 102115575 | H50: =H16 -> 4973400 | I50: =I16 -> 1180000 | J50: =J16 -> 0 | K50: =K16 -> 9538047 | L50: =L16 -> 464491218
B52: Intézmények eredeti összesen: | E52: =E46+E40 -> 382500000 | F52: =F46+F40 -> 850078888 | G52: =G46+G40 -> 615368363 | H52: =H46+H40 -> 178681860 | I52: =I46+I40 -> 0 | J52: =J46+J40 -> 0 | K52: =K46+K40 -> 59179145 | L52: =L46+L40 -> 2085808256
B53: Intézmények módosított összesen: | E53: =E42+E48 -> 382500000 | F53: =F42+F48 -> 1016867988 | G53: =G42+G48 -> 736714310 | H53: =H42+H48 -> 1000000 | I53: =I42+I48 -> 0 | J53: =J42+J48 -> 0 | K53: =K42+K48 -> 70274410 | L53: =L42+L48 -> 2207356708
B54: Intézmények teljesítés összesen: | E54: =E44+E50 -> 457253659 | F54: =F44+F50 -> 1016867988 | G54: =G44+G50 -> 489310563 | H54: =H44+H50 -> 6859917 | I54: =I44+I50 -> 6500193 | J54: =J44+J50 -> 0 | K54: =K44+K50 -> 70274410 | L54: =L44+L50 -> 2047066730
B55: Kormányzati funkció szerint | E55: Intézményi működési bevételek Rovatszám: B4 | F55: Állami támogatás Rovatszám: B11 | G55: ÖK támogatás Rovatszám: B816 | H55: Támog. ért.műk. Bevétel Rovatszám: B16 | I55: Működési c. pénze. átv. ÁH-n kívülről Rovatszám: B63- B65 | J55: Közhatalmi bevételek Rovatszám: B3 | K55: Maradvány | L55: Összesen
K56: felhasználás, ÁHT. Belüli megelőlegezés, értékpapír beváltása
K57: működési Rovatszám: B812, B8131, B814
B58: Térségi Társulás Önk. Jogalkotó tevékenysége 011130 eredeti | E58: =E28 -> 19360000 | F58: =F28 -> 0 | G58: =G28 -> 0 | H58: =H28 -> 31177370 | I58: =I28 -> 0 | J58: =J28 -> 0 | K58: =K28 -> 62296606 | L58: =SUM(E58:K58) -> 112833976
B59: Térségi Társulás Önk. Jogalkotó tevékenysége 011130 módosított | E59: =E29 -> 19360000 | F59: =F29 -> 0 | G59: =G29 -> 0 | H59: =H29 -> 41494000 | I59: =I29 -> 0 | J59: =J29 -> 0 | K59: =K29 -> 87689654 | L59: =SUM(E59:K59) -> 148543654
B60: Térségi Társulás Önk. Jogalkotó tevékenysége 011130 teljesítés | E60: =E30 -> 13934721 | F60: =F30 -> 0 | G60: =G30 -> 0 | H60: =H30 -> 241714121 | I60: =I30 -> 0 | J60: =J30 -> 0 | K60: =K30 -> 141261507 | L60: =L30 -> 396910349
B61: Eredeti összesen: | E61: =SUM(E58:E58) -> 19360000 | F61: =SUM(F58:F58) -> 0 | G61: =SUM(G58:G58) -> 0 | H61: =SUM(H58:H58) -> 31177370 | I61: =SUM(I58:I58) -> 0 | J61: =SUM(J58:J58) -> 0 | K61: =SUM(K58:K58) -> 62296606 | L61: =SUM(L58:L58) -> 112833976
B62: Módosított összesen: | E62: =E59 -> 19360000 | F62: =F59 -> 0 | G62: =G59 -> 0 | H62: =H59 -> 41494000 | I62: =I59 -> 0 | J62: =J59 -> 0 | K62: =K59 -> 87689654 | L62: =L59 -> 148543654
B63: Teljesítés összesen: | E63: =E60 -> 13934721 | F63: =F60 -> 0 | G63: =G60 -> 0 | H63: =H60 -> 241714121 | I63: =I60 -> 0 | J63: =J60 -> 0 | K63: =K60 -> 141261507 | L63: =L60 -> 396910349
B64: Eredeti mindösszesen: | E64: =E61+E52 -> 401860000 | F64: =F61+F52 -> 850078888 | G64: =G61+G52 -> 615368363 | H64: =H61+H52 -> 209859230 | I64: =I61+I52 -> 0 | J64: =J61+J52 -> 0 | K64: =K61+K52 -> 121475751 | L64: =L61+L52 -> 2198642232 | N64: =L64+'Felhalmozási bevételek'!L15 -> 2362663087 | O64: =N64-2362663088 -> -1 | P64: =L61+L46+L40 -> 2198642232
B65: Módosított mindösszesen: | E65: =E62+E53 -> 401860000 | F65: =F62+F53 -> 1016867988 | G65: =G62+G53 -> 736714310 | H65: =H62+H53 -> 42494000 | I65: =I62+I53 -> 0 | J65: =J62+J53 -> 0 | K65: =K62+K53 -> 157964064 | L65: =L62+L53 -> 2355900362
B66: Teljesítés mindösszesen: | E66: =E54+E63 -> 471188380 | F66: =F54+F63 -> 1016867988 | G66: =G54+G63 -> 489310563 | H66: =H54+H63 -> 248574038 | I66: =I54+I63 -> 6500193 | J66: =J54+J63 -> 0 | K66: =K54+K63 -> 211535917 | L66: =L54+L63 -> 2443977079
N67: =L64+'Felhalmozási bevételek'!L15 -> 2362663087
B68: Intézményfinanszírozás részletezése | I68: =E84+F84+G84+H84+H64 -> 1507803088 | J68: 6. melléklet
B70: Intézmények megnevezése | E70: Állami támogatás rovatszám: B816 | F70: Térségi Társuláshoz befolyt hozzájárulásból származó finanszírozás B16 | G70: Mosonmagyaróvár Város Önkormányzatától származó hiányfinanszírozás B16 | H70: Feladat alapú támogatások* B16 | I70: Társulási maradvány felhasználása intézményfinanszírozásra B8131 | J70: Társulási tartalékból származó forrás (felmentés, jub.jutalom) B8131 | K70: Intézményfinanszírozás összesen
B72: Kistérségi Egyesített Szociális Intézmény eredeti | E72: =F6 -> 578235637 | F72: 129919092 | G72: 215813577 | H72: 35733476 | I72: 150000000 | J72: 0 | K72: =SUM(E72:I72) -> 1109701782
B74: Kistérségi Egyesített Szociális Intézmény módosított | E74: =F8 -> 674089940 | F74: 129919092 | G74: 215813577 | H74: =35733476+984000+2753524+2023000 -> 41494000 | I74: =150000000-12652217 -> 137347783 | J74: =3572617+2947040+2515901+75499758+894113+1473520 -> 86902949 | K74: =SUM(E74:J74) -> 1285567341 | L74: =1145657327-K74 -> -139910014 | M74: =1285567341-K74 -> 0
B76: Kistérségi Egyesített Szociális Intézmény teljesítés | E76: 674089940 | F76: 129919092 | G76: 0 | H76: 41494000 | I76: 128878947 | J76: 86902949 | K76: =SUM(E76:J76) -> 1061284928
B78: Család és Gyermekjóléti Központ eredeti | E78: =F12 -> 271843251 | F78: 61574820 | G78: 4824005 | H78: 0 | I78: 17503394 | J78: 0 | K78: =SUM(E78:I78) -> 355745470
B80: Család és Gyermekjóléti Központ módosított | E80: =F14 -> 342778048 | F80: 61574820 | G80: 4824005 | H80: 0 | I80: 17503393 | J80: =1173931+1556953+1491210+1105140+35454887+552570 -> 41334691 | K80: =SUM(E80:J80) -> 468014957 | L80: =394365031-K80 -> -73649926 | M80: =468014957-K80 -> 0
B82: Család és Gyermekjóléti Központ teljesítés | E82: 342778048 | F82: 61574820 | G82: 0 | H82: 0 | I82: 0 | J82: 40540755 | K82: =SUM(E82:J82) -> 444893623
B84: Eredeti összesen: | E84: =E72+E78 -> 850078888 | F84: =F72+F78 -> 191493912 | G84: =G72+G78 -> 220637582 | H84: =H72+H78 -> 35733476 | I84: =I72+I78 -> 167503394 | J84: =J72+J78 -> 0 | K84: =K72+K78 -> 1465447252
B85: Módosított összesen: | E85: =E74+E80 -> 1016867988 | F85: =F74+F80 -> 191493912 | G85: =G74+G80 -> 220637582 | H85: =H74+H80 -> 41494000 | I85: =I74+I80 -> 154851176 | J85: =J74+J80 -> 128237640 | K85: =K74+K80 -> 1753582298
B86: Teljesítés összesen: | E86: =E76+E82 -> 1016867988 | F86: =F76+F82 -> 191493912 | G86: =G76+G82 -> 0 | H86: =H76+H82 -> 41494000 | I86: =I76+I82 -> 128878947 | J86: =J76+J82 -> 127443704 | K86: =K76+K82 -> 1506178551
B88: *Feladat alapú támogatások: jelzőrendszeres házi segítségnyújtás, fejlesztő foglalkoztatási, utcai szociális munka.

Sheet Felhalmozási bevételek
B1: FELHALMOZÁSI BEVÉTELEK (Ft) | F1: 2024. év
K2: 7. melléklet
A3: Kormányzati funkció | B3: Feladat megnevezése | E3: Ingatlanok, tárgyi eszk. értékesít. Rovatrend B52 | F3: Támog.ért. felhalm. bevétel Rovatrend B21, B25 | G3: Felh.célú pénze.átv. ÁH-n kív. B75 | H3: Önk. lak. és helyis. értékes. Rovatrend B52 | I3: Felhalmozási | J3: Fejlesztési | K3: Felhalmozási | L3: Összesen
I4: célú kölcsön | J4: célra | K4: célú
I5: visszatérülés Rovatrend B74, B75 | J5: Kötvény visszaváltás Rovat B812 | K5: maradvány Rovatrend B8131
A6: 018030 Támogatási célú finanszírozási műveletek | B6: Maradványfelhasználás fejlesztési célra KESZI | D6: eredeti | K6: 11915855 | L6: =SUM(E6:K6) -> 11915855
D7: módosított | K7: 11915855 | L7: =SUM(E7:K7) -> 11915855
D8: teljesítés | K8: 11915855 | L8: =SUM(E8:K8) -> 11915855
A9: 018030 Támogatási célú finanszírozási műveletek | B9: Maradványfelhasználás fejlesztési célra Családsegítő | D9: eredeti | K9: 1905000 | L9: =SUM(E9:K9) -> 1905000
D10: módosított | K10: 1905000 | L10: =SUM(E10:K10) -> 1905000
D11: teljesítés | K11: 1905000 | L11: =SUM(E11:K11) -> 1905000
A12: 018030 Támogatási célú finanszírozási műveletek | B12: Maradványfelhasználás fejlesztési célra Térségi Társulás | D12: eredeti | F12: 150000000 | K12: 200000 | L12: =SUM(E12:K12) -> 150200000
D13: módosított | F13: 150000000 | K13: 200000 | L13: =SUM(E13:K13) -> 150200000
D14: teljesítés | F14: 36658738 | K14: 200000 | L14: =SUM(E14:K14) -> 36858738
B15: Eredeti összesen: | D15: eredeti | E15: =E12+E6+E9 -> 0 | F15: =F12+F6+F9 -> 150000000 | G15: =G12+G6+G9 -> 0 | H15: =H12+H6+H9 -> 0 | I15: =I12+I6+I9 -> 0 | J15: =J12+J6+J9 -> 0 | K15: =K12+K6+K9 -> 14020855 | L15: =L12+L6+L9 -> 164020855
B16: ebből Társulás: | D16: eredeti | E16: =E12 -> 0 | F16: =F12 -> 150000000 | G16: =G12 -> 0 | H16: =H12 -> 0 | I16: =I12 -> 0 | J16: =J12 -> 0 | K16: =K12 -> 200000 | L16: =L12 -> 150200000
B17: Módosított összesen: | D17: módosított | E17: =E7+E10+E13 -> 0 | F17: =F7+F10+F13 -> 150000000 | G17: =G7+G10+G13 -> 0 | H17: =H7+H10+H13 -> 0 | I17: =I7+I10+I13 -> 0 | J17: =J7+J10+J13 -> 0 | K17: =K7+K10+K13 -> 14020855 | L17: =L7+L10+L13 -> 164020855
B18: ebből Társulás: | D18: módosított | E18: =E13 -> 0 | F18: =F13 -> 150000000 | G18: =G13 -> 0 | H18: =H13 -> 0 | I18: =I13 -> 0 | J18: =J13 -> 0 | K18: =K13 -> 200000 | L18: =L13 -> 150200000
B19: Teljesítés összesen: | D19: teljesítés | E19: =E8+E11+E14 -> 0 | F19: =F8+F11+F14 -> 36658738 | G19: =G8+G11+G14 -> 0 | H19: =H8+H11+H14 -> 0 | I19: =I8+I11+I14 -> 0 | J19: =J8+J11+J14 -> 0 | K19: =K8+K11+K14 -> 14020855 | L19: =L8+L11+L14 -> 50679593
B20: ebből Társulás: | D20: teljesítés | E20: =E14 -> 0 | F20: =F14 -> 36658738 | G20: =G14 -> 0 | H20: =H14 -> 0 | I20: =I14 -> 0 | J20: =J14 -> 0 | K20: =K14 -> 200000 | L20: =L14 -> 36858738

Sheet Működési kiadások
B1: MŰKÖDÉSI KIADÁSOK - INTÉZMÉNYEK (Ft) | H1: 2024. év
C2: Kötelezően ellátott feladatok | M2: 8. melléklet
B3: Intézmények megnevezése | E3: Személyi juttatások Rovatrend K1 | F3: Járulékok Rovatrend K2 | G3: Dologi kiadások Rovatrend K3 | H3: Elvonások Támog. ért.műk. Kiadások Rovatrend K502 K506 | I3: Működési c. pénze. átad. ÁH-n kívülre Rovatrend K512 | J3: Társadalom és szociálpolitikai juttatások Rovatrend K4 | K3: Tartalék Rovatrend K513 | L3: Kölcsön visszafizetése Rovatrend K91 | M3: Összesen
C6: Kistérségi Egyesített Szociális Intézmény eredeti | E6: 860539000 | F6: 122791400 | G6: 644915888 | H6: 0 | I6: 0 | J6: 800000 | K6: 0 | L6: 0 | M6: =SUM(E6:L6) -> 1629046288 | N6: kötelező | P6: =M6+'Felhalmozási kiadások'!I7 -> 1640962143
C8: Kistérségi Egyesített Szociális Intézmény módosított | E8: =863525102+65381927+11930613 -> 940837642 | F8: =123377915+9314292+272382 -> 132964589 | G8: =637137348+3107858-298-4522273 -> 635722635 | H8: =7778540+298 -> 7778838 | I8: 0 | J8: =800000+200000 -> 1000000 | K8: 0 | L8: 0 | M8: =SUM(E8:L8) -> 1718303704 | N8: kötelező
C10: Kistérségi Egyesített Szociális Intézmény teljesítés | E10: 837268105 | F10: 109933162 | G10: 524882455 | H10: 7778838 | I10: 0 | J10: 980960 | K10: 0 | L10: 0 | M10: =SUM(E10:L10) -> 1480843520 | N10: kötelező
C12: Család és Gyermekjóléti Központ eredeti | E12: 352586000 | F12: 53403400 | G12: 50472569 | H12: 0 | I12: 0 | J12: 300000 | K12: 0 | L12: 0 | M12: =SUM(E12:L12) -> 456761969 | N12: kötelező | P12: =M12+'Felhalmozási kiadások'!I13 -> 458666969
C14: Család és Gyermekjóléti Központ módosított | E14: =353624877+33673662-13580468+489000 -> 374207071 | F14: =53538454+4377575+63570 -> 57979599 | G14: =50472569-84674+178439 -> 50566334 | H14: 0 | I14: 0 | J14: 300000 | K14: 0 | L14: 0 | M14: =SUM(E14:L14) -> 483053004 | N14: kötelező
C16: Család és Gyermekjóléti Központ teljesítés | E16: 360975679 | F16: 53980770 | G16: 37450082 | H16: 0 | I16: 0 | J16: 206235 | K16: 0 | L16: 0 | M16: =SUM(E16:L16) -> 452612766 | N16: kötelező
B18: Intézmények eredeti összesen: | E18: =E12+E6 -> 1213125000 | F18: =F12+F6 -> 176194800 | G18: =G12+G6 -> 695388457 | H18: =H12+H6 -> 0 | I18: =I12+I6 -> 0 | J18: =J12+J6 -> 1100000 | K18: =K12+K6 -> 0 | L18: =L12+L6 -> 0 | M18: =M12+M6 -> 2085808257
B19: Ebből kötelezően ellátott | E19: =E12+E6 -> 1213125000 | F19: =F12+F6 -> 176194800 | G19: =G12+G6 -> 695388457 | H19: =H12+H6 -> 0 | I19: =I12+I6 -> 0 | J19: =J12+J6 -> 1100000 | K19: =K12+K6 -> 0 | L19: =L12+L6 -> 0 | M19: =M12+M6 -> 2085808257
B20: Ebből önként ellátott | E20: =E18-E19 -> 0 | F20: =F18-F19 -> 0 | G20: =G18-G19 -> 0 | H20: =H18-H19 -> 0 | I20: =I18-I19 -> 0 | J20: =J18-J19 -> 0 | K20: =K18-K19 -> 0 | L20: =L18-L19 -> 0 | M20: =M18-M19 -> 0
B21: Intézmények módosított összesen: | E21: =E8+E14 -> 1315044713 | F21: =F8+F14 -> 190944188 | G21: =G8+G14 -> 686288969 | H21: =H8+H14 -> 7778838 | I21: =I8+I14 -> 0 | J21: =J8+J14 -> 1300000 | K21: =K8+K14 -> 0 | L21: =L8+L14 -> 0 | M21: =M8+M14 -> 2201356708
B22: Ebből kötelezően ellátott | E22: =E8+E14 -> 1315044713 | F22: =F8+F14 -> 190944188 | G22: =G8+G14 -> 686288969 | H22: =H8+H14 -> 7778838 | I22: =I8+I14 -> 0 | J22: =J8+J14 -> 1300000 | K22: =K8+K14 -> 0 | L22: =L8+L14 -> 0 | M22: =M8+M14 -> 2201356708
B23: Ebből önként ellátott | E23: 0 | F23: 0 | G23: 0 | H23: 0 | I23: 0 | J23: 0 | K23: 0 | L23: 0 | M23: 0
B24: Intézmények teljesítés összesen: | E24: =E10+E16 -> 1198243784 | F24: =F10+F16 -> 163913932 | G24: =G10+G16 -> 562332537 | H24: =H10+H16 -> 7778838 | I24: =I10+I16 -> 0 | J24: =J10+J16 -> 1187195 | K24: =K10+K16 -> 0 | L24: =L10+L16 -> 0 | M24: =M10+M16 -> 1933456286
B25: Ebből kötelezően ellátott | E25: =E10+E16 -> 1198243784 | F25: =F10+F16 -> 163913932 | G25: =G10+G16 -> 562332537 | H25: =H10+H16 -> 7778838 | I25: =I10+I16 -> 0 | J25: =J10+J16 -> 1187195 | K25: =K10+K16 -> 0 | L25: =L10+L16 -> 0 | M25: =M10+M16 -> 1933456286
B26: Ebből önként ellátott | E26: 0 | F26: 0 | G26: 0 | H26: 0 | I26: 0 | J26: 0 | K26: 0 | L26: 0 | M26: 0
B30: Mosonmagyaróvár Térségi Társulás működési kiadásai adatok Ft-ban | K30: 2024. év | M30: 9. melléklet
B32: Funkció/Feladat megnevezése | E32: Személyi juttatások Rovatrend K1 | F32: Járulékok Rovatrend K2 | G32: Dologi kiadások Rovatrend K3 | H32: Támog. ért.műk. Kiadások, Elszámolások központi ktg-vetés felé Rovatrend K506, K5022 | I32: Működési c. pénze. átad. ÁH-n kívülre Rovatrend K512, működési kölcsön nyújtása K508 | J32: Társadalom és szociálpolitikai juttatások Rovatrend K4 | K32: Tartalék Rovatrend K513 | L32: Kölcsön/Hitel visszafizetése, államháztartási megelőlegezés visszafizetése Rovatrend K91 | M32: Összesen
B35: Térségi Társulás Önk. Jogalkotó tevékenysége 011130 eredeti | E35: 850000 | F35: 280840 | G35: 3420000 | H35: 14300000 | I35: 850000 | J35: 0 | K35: 0 | M35: =SUM(E35:L35) -> 19700840 | N35: önként
E36: 0 | F36: 0 | G36: 0 | H36: 0 | I36: 0 | J36: 0 | K36: 93133136 | L36: 0 | M36: =SUM(E36:L36) -> 93133136 | N36: kötelező | O36: =M36+M35 -> 112833976 | P36: =M35+M36+'Felhalmozási kiadások'!I19 -> 263033975
B37: Térségi Társulás Önk. Jogalkotó tevékenysége 011130 módosított | E37: 850000 | F37: 280840 | G37: =3512300+1010145+346481 -> 4868926 | H37: 14300000 | I37: 850000 | J37: 0 | K37: 0 | L37: 0 | M37: =SUM(E37:L37) -> 21149766 | N37: önként
K38: =250776953-2515901-2947040-1105140-1491210-75499758-35454887-552570-1473520-894113-1010145 -> 127832669 | M38: =SUM(E38:L38) -> 127832669 | N38: kötelező
B39: Térségi Társulás Önk. Jogalkotó tevékenysége 011130 teljesítés | E39: 576885 | F39: 191251 | G39: 4552021 | H39: 11374362 | I39: 850000 | J39: 0 | K39: 0 | L39: 0 | M39: =SUM(E39:L39) -> 17544519 | N39: önként
K40: 0 | M40: =SUM(E40:L40) -> 0 | N40: kötelező
B41: ÖSSZESEN: | D41: eredeti | E41: =SUM(E35:E36) -> 850000 | F41: =SUM(F35:F36) -> 280840 | G41: =SUM(G35:G36) -> 3420000 | H41: =SUM(H35:H36) -> 14300000 | I41: =SUM(I35:I36) -> 850000 | J41: =SUM(J35:J36) -> 0 | K41: =SUM(K35:K36) -> 93133136 | L41: =SUM(L35:L36) -> 0 | M41: =SUM(M35:M36) -> 112833976 | O41: =SUM(E41:L41) -> 112833976 | P41: =SUM(M35:M36) -> 112833976
B42: ebből kötelező | E42: =E36 -> 0 | F42: =F36 -> 0 | G42: =G36 -> 0 | H42: =H36 -> 0 | I42: =I36 -> 0 | J42: =J36 -> 0 | K42: =K36 -> 93133136 | L42: =L36 -> 0 | M42: =M36 -> 93133136
B43: ebből önként vállalt | E43: =E41-E42 -> 850000 | F43: =F41-F42 -> 280840 | G43: =G41-G42 -> 3420000 | H43: =H41-H42 -> 14300000 | I43: =I41-I42 -> 850000 | J43: =J41-J42 -> 0 | K43: =K41-K42 -> 0 | L43: =L41-L42 -> 0 | M43: =M41-M42 -> 19700840
B44: kötelezőből államigazgatási | E44: 0 | F44: 0 | G44: 0 | H44: 0 | I44: 0 | J44: 0 | K44: 0 | L44: 0 | M44: 0
B45: ÖSSZESEN: | D45: módosított | E45: =E37+E38 -> 850000 | F45: =F37+F38 -> 280840 | G45: =G37+G38 -> 4868926 | H45: =H37+H38 -> 14300000 | I45: =I37+I38 -> 850000 | J45: =J37+J38 -> 0 | K45: =K37+K38 -> 127832669 | L45: =L37+L38 -> 0 | M45: =M37+M38 -> 148982435
B46: ebből kötelező | E46: =E38 -> 0 | F46: =F38 -> 0 | G46: =G38 -> 0 | H46: =H38 -> 0 | I46: =I38 -> 0 | J46: =J38 -> 0 | K46: =K38 -> 127832669 | L46: =L38 -> 0 | M46: =M38 -> 127832669
B47: ebből önként vállalt | E47: =E37 -> 850000 | F47: =F37 -> 280840 | G47: =G37 -> 4868926 | H47: =H37 -> 14300000 | I47: =I37 -> 850000 | J47: =J37 -> 0 | K47: =K37 -> 0 | L47: =L37 -> 0 | M47: =M37 -> 21149766
B48: kötelezőből államigazgatási | E48: 0 | F48: 0 | G48: 0 | H48: 0 | I48: 0 | J48: 0 | K48: 0 | L48: 0 | M48: 0
B49: ÖSSZESEN: | D49: teljesítés | E49: =E39+E40 -> 576885 | F49: =F39+F40 -> 191251 | G49: =G39+G40 -> 4552021 | H49: =H39+H40 -> 11374362 | I49: =I39+I40 -> 850000 | J49: =J39+J40 -> 0 | K49: =K39+K40 -> 0 | L49: =L39+L40 -> 0 | M49: =M39+M40 -> 17544519
B50: ebből kötelező | E50: =E40 -> 0 | F50: =F40 -> 0 | G50: =G40 -> 0 | H50: =H40 -> 0 | I50: =I40 -> 0 | J50: =J40 -> 0 | K50: =K40 -> 0 | L50: =L40 -> 0 | M50: =M40 -> 0
B51: ebből önként vállalt | E51: =E39 -> 576885 | F51: =F39 -> 191251 | G51: =G39 -> 4552021 | H51: =H39 -> 11374362 | I51: =I39 -> 850000 | J51: =J39 -> 0 | K51: =K39 -> 0 | L51: =L39 -> 0 | M51: =M39 -> 17544519
B52: kötelezőből államigazgatási | E52: 0 | F52: 0 | G52: 0 | H52: 0 | I52: 0 | J52: 0 | K52: 0 | L52: 0 | M52: 0
B54: Mosonmagyaróvár Térségi Társulás és intézményei működési kiadásai adatok Ft-ban | M54: 10. melléklet
B56: Intézmények megnevezése | E56: Személyi juttatások Rovatrend K1 | F56: Járulékok Rovatrend K2 | G56: Dologi kiadások Rovatrend K3 | H56: Elvonások Támog. ért.műk. Kiadások Rovatrend K502 K506 | I56: Működési c. pénze. átad. ÁH-n kívülre Rovatrend K512 | J56: Társadalom és szociálpolitikai juttatások Rovatrend K4 | K56: Tartalék Rovatrend K513 | L56: Kölcsön visszafizetése Rovatrend K91 | M56: Összesen
C59: Kistérségi Egyesített Szociális Intézmény eredeti | E59: =E6 -> 860539000 | F59: =F6 -> 122791400 | G59: =G6 -> 644915888 | H59: =H6 -> 0 | I59: =I6 -> 0 | J59: =J6 -> 800000 | K59: =K6 -> 0 | L59: =L6 -> 0 | M59: =M6 -> 1629046288 | N59: kötelező
C61: Kistérségi Egyesített Szociális Intézmény módosított | E61: =E8 -> 940837642 | F61: =F8 -> 132964589 | G61: =G8 -> 635722635 | H61: =H8 -> 7778838 | I61: =I8 -> 0 | J61: =J8 -> 1000000 | K61: =K8 -> 0 | L61: =L8 -> 0 | M61: =SUM(E61:L61) -> 1718303704 | N61: kötelező
C63: Kistérségi Egyesített Szociális Intézmény teljesítés | E63: 837268105 | F63: 109933162 | G63: 524882455 | H63: 7778838 | I63: 0 | J63: 980960 | K63: 0 | L63: 0 | M63: =SUM(E63:L63) -> 1480843520 | N63: kötelező
C65: Család és Gyermekjóléti Központ eredeti | E65: =E12 -> 352586000 | F65: =F12 -> 53403400 | G65: =G12 -> 50472569 | H65: =H12 -> 0 | I65: =I12 -> 0 | J65: =J12 -> 300000 | K65: =K12 -> 0 | L65: =L12 -> 0 | M65: =M12 -> 456761969 | N65: kötelező
C67: Család és Gyermekjóléti Központ módosított | E67: =E14 -> 374207071 | F67: =F14 -> 57979599 | G67: =G14 -> 50566334 | H67: =H14 -> 0 | I67: =I14 -> 0 | J67: =J14 -> 300000 | K67: =K14 -> 0 | L67: =L14 -> 0 | M67: =SUM(E67:L67) -> 483053004 | N67: kötelező
C69: Család és Gyermekjóléti Központ teljesítés | E69: 360975679 | F69: 53980770 | G69: 37450082 | H69: 0 | I69: 0 | J69: 206235 | K69: 0 | L69: 0 | M69: =SUM(E69:L69) -> 452612766 | N69: kötelező
B71: Intézmények eredeti összesen: | E71: =E65+E59 -> 1213125000 | F71: =F65+F59 -> 176194800 | G71: =G65+G59 -> 695388457 | H71: =H65+H59 -> 0 | I71: =I65+I59 -> 0 | J71: =J65+J59 -> 1100000 | K71: =K65+K59 -> 0 | L71: =L65+L59 -> 0 | M71: =M65+M59 -> 2085808257
B72: Ebből kötelezően ellátott | E72: =E65+E59 -> 1213125000 | F72: =F65+F59 -> 176194800 | G72: =G65+G59 -> 695388457 | H72: =H65+H59 -> 0 | I72: =I65+I59 -> 0 | J72: =J65+J59 -> 1100000 | K72: =K65+K59 -> 0 | L72: =L65+L59 -> 0 | M72: =M65+M59 -> 2085808257
B73: Ebből önként ellátott | E73: =E71-E72 -> 0 | F73: =F71-F72 -> 0 | G73: =G71-G72 -> 0 | H73: =H71-H72 -> 0 | I73: =I71-I72 -> 0 | J73: =J71-J72 -> 0 | K73: =K71-K72 -> 0 | L73: =L71-L72 -> 0 | M73: =M71-M72 -> 0
B74: Intézmények módosított összesen: | E74: =E61+E67 -> 1315044713 | F74: =F61+F67 -> 190944188 | G74: =G61+G67 -> 686288969 | H74: =H61+H67 -> 7778838 | I74: =I61+I67 -> 0 | J74: =J61+J67 -> 1300000 | K74: =K61+K67 -> 0 | L74: =L61+L67 -> 0 | M74: =M61+M67 -> 2201356708
B75: Ebből kötelezően ellátott | E75: =E61+E67 -> 1315044713 | F75: =F61+F67 -> 190944188 | G75: =G61+G67 -> 686288969 | H75: =H61+H67 -> 7778838 | I75: =I61+I67 -> 0 | J75: =J61+J67 -> 1300000 | K75: =K61+K67 -> 0 | L75: =L61+L67 -> 0 | M75: =M61+M67 -> 2201356708
B76: Ebből önként ellátott | E76: 0 | F76: 0 | G76: 0 | H76: 0 | I76: 0 | J76: 0 | K76: 0 | L76: 0 | M76: 0
B77: Intézmények teljesítés összesen: | E77: =E63+E69 -> 1198243784 | F77: =F63+F69 -> 163913932 | G77: =G63+G69 -> 562332537 | H77: =H63+H69 -> 7778838 | I77: =I63+I69 -> 0 | J77: =J63+J69 -> 1187195 | K77: =K63+K69 -> 0 | L77: =L63+L69 -> 0 | M77: =M63+M69 -> 1933456286
B78: Ebből kötelezően ellátott | E78: =E63+E69 -> 1198243784 | F78: =F63+F69 -> 163913932 | G78: =G63+G69 -> 562332537 | H78: =H63+H69 -> 7778838 | I78: =I63+I69 -> 0 | J78: =J63+J69 -> 1187195 | K78: =K63+K69 -> 0 | L78: =L63+L69 -> 0 | M78: =M63+M69 -> 1933456286
B79: Ebből önként ellátott | E79: 0 | F79: 0 | G79: 0 | H79: 0 | I79: 0 | J79: 0 | K79: 0 | L79: 0 | M79: 0
B80: Funkció/Feladat megnevezése | E80: Személyi juttatások Rovatrend K1 | F80: Járulékok Rovatrend K2 | G80: Dologi kiadások Rovatrend K3 | H80: Támog. ért.műk. Kiadások, Elszámolások központi ktg-vetés felé Rovatrend K506, K5022 | I80: Működési c. pénze. átad. ÁH-n kívülre Rovatrend K512, működési kölcsön nyújtása K508 | J80: Társadalom és szociálpolitikai juttatások Rovatrend K4 | K80: Tartalék Rovatrend K513 | L80: Kölcsön/Hitel visszafizetése, államháztartási megelőlegezés visszafizetése Rovatrend K91 | M80: Összesen
B83: Térségi Társulás Önk. Jogalkotó tevékenysége 011130 eredeti | E83: =E35 -> 850000 | F83: =F35 -> 280840 | G83: =G35 -> 3420000 | H83: =H35 -> 14300000 | I83: =I35 -> 850000 | J83: =J35 -> 0 | K83: =K35 -> 0 | L83: =L35 -> 0 | M83: =M35 -> 19700840 | N83: önként
E84: =E36 -> 0 | F84: =F36 -> 0 | G84: =G36 -> 0 | H84: =H36 -> 0 | I84: =I36 -> 0 | J84: =J36 -> 0 | K84: =K36 -> 93133136 | L84: =L36 -> 0 | M84: =M36 -> 93133136 | N84: kötelező
B85: Térségi Társulás Önk. Jogalkotó tevékenysége 011130 módosított | E85: =E37 -> 850000 | F85: =F37 -> 280840 | G85: =G37 -> 4868926 | H85: =H37 -> 14300000 | I85: =I37 -> 850000 | J85: =J37 -> 0 | K85: =K37 -> 0 | L85: =L37 -> 0 | M85: =SUM(E85:L85) -> 21149766 | N85: önként
K86: =K38 -> 127832669 | L86: =L38 -> 0 | M86: =SUM(E86:L86) -> 127832669 | N86: kötelező
B87: Térségi Társulás Önk. Jogalkotó tevékenysége 011130 teljesítés | E87: 576885 | F87: 191251 | G87: 4552021 | H87: 11374362 | I87: 850000 | J87: 0 | K87: 0 | L87: 0 | M87: =SUM(E87:L87) -> 17544519 | N87: önként
K88: 0 | L88: 0 | M88: =SUM(E88:L88) -> 0 | N88: kötelező
B89: ÖSSZESEN: | D89: eredeti | E89: =SUM(E83:E84) -> 850000 | F89: =SUM(F83:F84) -> 280840 | G89: =SUM(G83:G84) -> 3420000 | H89: =SUM(H83:H84) -> 14300000 | I89: =SUM(I83:I84) -> 850000 | J89: =SUM(J83:J84) -> 0 | K89: =SUM(K83:K84) -> 93133136 | L89: =SUM(L83:L84) -> 0 | M89: =SUM(M83:M84) -> 112833976
B90: ebből kötelező | E90: =E84 -> 0 | F90: =F84 -> 0 | G90: =G84 -> 0 | H90: =H84 -> 0 | I90: =I84 -> 0 | J90: =J84 -> 0 | K90: =K84 -> 93133136 | L90: =L84 -> 0 | M90: =M84 -> 93133136
B91: ebből önként vállalt | E91: =E89-E90 -> 850000 | F91: =F89-F90 -> 280840 | G91: =G89-G90 -> 3420000 | H91: =H89-H90 -> 14300000 | I91: =I89-I90 -> 850000 | J91: =J89-J90 -> 0 | K91: =K89-K90 -> 0 | L91: =L89-L90 -> 0 | M91: =M89-M90 -> 19700840
B92: kötelezőből államigazgatási | E92: 0 | F92: 0 | G92: 0 | H92: 0 | I92: 0 | J92: 0 | K92: 0 | L92: 0 | M92: 0
B93: ÖSSZESEN: | D93: Módosított | E93: =E85+E86 -> 850000 | F93: =F85+F86 -> 280840 | G93: =G85+G86 -> 4868926 | H93: =H85+H86 -> 14300000 | I93: =I85+I86 -> 850000 | J93: =J85+J86 -> 0 | K93: =K85+K86 -> 127832669 | L93: =L85+L86 -> 0 | M93: =SUM(E93:L93) -> 148982435
B94: ebből kötelező | E94: =E86 -> 0 | F94: =F86 -> 0 | G94: =G86 -> 0 | H94: =H86 -> 0 | I94: =I86 -> 0 | J94: =J86 -> 0 | K94: =K86 -> 127832669 | L94: =L86 -> 0 | M94: =SUM(E94:L94) -> 127832669
B95: ebből önként vállalt | E95: =E85 -> 850000 | F95: =F85 -> 280840 | G95: =G85 -> 4868926 | H95: =H85 -> 14300000 | I95: =I85 -> 850000 | J95: =J85 -> 0 | K95: =K85 -> 0 | L95: =L85 -> 0 | M95: =SUM(E95:L95) -> 21149766
B96: kötelezőből államigazgatási | E96: 0 | F96: 0 | G96: 0 | H96: 0 | I96: 0 | J96: 0 | K96: 0 | L96: 0 | M96: =SUM(E96:L96) -> 0
B97: ÖSSZESEN: | D97: Teljesítés | E97: =E87+E88 -> 576885 | F97: =F87+F88 -> 191251 | G97: =G87+G88 -> 4552021 | H97: =H87+H88 -> 11374362 | I97: =I87+I88 -> 850000 | J97: =J87+J88 -> 0 | K97: =K87+K88 -> 0 | L97: =L87+L88 -> 0 | M97: =M87+M88 -> 17544519
B98: ebből kötelező | E98: =E88 -> 0 | F98: =F88 -> 0 | G98: =G88 -> 0 | H98: =H88 -> 0 | I98: =I88 -> 0 | J98: =J88 -> 0 | K98: =K88 -> 0 | L98: =L88 -> 0 | M98: =M88 -> 0
B99: ebből önként vállalt | E99: =E87 -> 576885 | F99: =F87 -> 191251 | G99: =G87 -> 4552021 | H99: =H87 -> 11374362 | I99: =I87 -> 850000 | J99: =J87 -> 0 | K99: =K87 -> 0 | L99: =L87 -> 0 | M99: =M87 -> 17544519
B100: kötelezőből államigazgatási | E100: 0 | F100: 0 | G100: 0 | H100: 0 | I100: 0 | J100: 0 | K100: 0 | L100: 0 | M100: 0
B101: MINDÖSSZESEN: | D101: eredeti | E101: =E89+E71 -> 1213975000 | F101: =F89+F71 -> 176475640 | G101: =G89+G71 -> 698808457 | H101: =H89+H71 -> 14300000 | I101: =I89+I71 -> 850000 | J101: =J89+J71 -> 1100000 | K101: =K89+K71 -> 93133136 | L101: =L89+L71 -> 0 | M101: =M89+M71 -> 2198642233 | P101: =M101+'Felhalmozási kiadások'!I24 -> 2362663087
B102: ebből kötelező | E102: =E90+E72 -> 1213125000 | F102: =F90+F72 -> 176194800 | G102: =G90+G72 -> 695388457 | H102: =H90+H72 -> 0 | I102: =I90+I72 -> 0 | J102: =J90+J72 -> 1100000 | K102: =K90+K72 -> 93133136 | L102: =L90+L72 -> 0 | M102: =M90+M72 -> 2178941393
B103: ebből önként vállalt | E103: =E101-E102 -> 850000 | F103: =F101-F102 -> 280840 | G103: =G101-G102 -> 3420000 | H103: =H101-H102 -> 14300000 | I103: =I101-I102 -> 850000 | J103: =J101-J102 -> 0 | K103: =K101-K102 -> 0 | L103: =L101-L102 -> 0 | M103: =M101-M102 -> 19700840
B104: kötelezőből államigazgatási | E104: 0 | F104: 0 | G104: 0 | H104: 0 | I104: 0 | J104: 0 | K104: 0 | L104: 0 | M104: 0
B105: MINDÖSSZESEN: | D105: Módosított | E105: =E93+E74 -> 1315894713 | F105: =F93+F74 -> 191225028 | G105: =G93+G74 -> 691157895 | H105: =H93+H74 -> 22078838 | I105: =I93+I74 -> 850000 | J105: =J93+J74 -> 1300000 | K105: =K93+K74 -> 127832669 | L105: =L93+L74 -> 0 | M105: =M93+M74 -> 2350339143
B106: ebből kötelező | E106: =E94+E75 -> 1315044713 | F106: =F94+F75 -> 190944188 | G106: =G94+G75 -> 686288969 | H106: =H94+H75 -> 7778838 | I106: =I94+I75 -> 0 | J106: =J94+J75 -> 1300000 | K106: =K94+K75 -> 127832669 | L106: =L94+L75 -> 0 | M106: =M94+M75 -> 2329189377
B107: ebből önként vállalt | E107: =E95+E76 -> 850000 | F107: =F95+F76 -> 280840 | G107: =G95+G76 -> 4868926 | H107: =H95+H76 -> 14300000 | I107: =I95+I76 -> 850000 | J107: =J95+J76 -> 0 | K107: =K95+K76 -> 0 | L107: =L95+L76 -> 0 | M107: =M95+M76 -> 21149766
B108: kötelezőből államigazgatási | E108: 0 | F108: 0 | G108: 0 | H108: 0 | I108: 0 | J108: 0 | K108: 0 | L108: 0 | M108: 0
B109: MINDÖSSZESEN: | D109: Teljesítés | E109: =E97+E77 -> 1198820669 | F109: =F97+F77 -> 164105183 | G109: =G97+G77 -> 566884558 | H109: =H97+H77 -> 19153200 | I109: =I97+I77 -> 850000 | J109: =J97+J77 -> 1187195 | K109: =K97+K77 -> 0 | L109: =L97+L77 -> 0 | M109: =M97+M77 -> 1951000805
B110: ebből kötelező | E110: =E98+E78 -> 1198243784 | F110: =F98+F78 -> 163913932 | G110: =G98+G78 -> 562332537 | H110: =H98+H78 -> 7778838 | I110: =I98+I78 -> 0 | J110: =J98+J78 -> 1187195 | K110: =K98+K78 -> 0 | L110: =L98+L78 -> 0 | M110: =M98+M78 -> 1933456286
B111: ebből önként vállalt | E111: =E99+E79 -> 576885 | F111: =F99+F79 -> 191251 | G111: =G99+G79 -> 4552021 | H111: =H99+H79 -> 11374362 | I111: =I99+I79 -> 850000 | J111: =J99+J79 -> 0 | K111: =K99+K79 -> 0 | L111: =L99+L79 -> 0 | M111: =M99+M79 -> 17544519
B112: kötelezőből államigazgatási | E112: 0 | F112: 0 | G112: 0 | H112: 0 | I112: 0 | J112: 0 | K112: 0 | L112: 0 | M112: 0

Sheet Felhalmozási kiadások
B1: FELHALMOZÁSI KIADÁSOK adatok Ft-ban
F2: 2024. év | H2: 11. melléklet
B3: Funkció/Feladat megnevezése | E3: Beruházás Rovatrend K 61-67 | F3: Felújítás Rovatrend K 71-74 | G3: Támog.ért. felh.c. pénze. Átadása Rovatrend K 81-84 | H3: Felh.c. pénzeszk. átad. ÁH-n kívüre Rovatrend K 85-89 | I3: Összesen
B6: KESZI: eszközbeszerzés, laptop beszerzések, szoftver beszerzések és csendes szoba kialakítása
B7: 102031 Idősek nappali ellátása | D7: eredeti | E7: 10795000 | F7: 1120855 | G7: 0 | H7: 0 | I7: =SUM(E7:H7) -> 11915855 | J7: kötelező
B8: KESZI: eszközbeszerzés, laptop beszerzések, szoftver beszerzések és csendes szoba kialakítása
B9: 102031 Idősek nappali ellátása | D9: módosított | E9: =10795000+6000000 -> 16795000 | F9: 1120855 | G9: 0 | H9: 0 | I9: =SUM(E9:H9) -> 17915855 | J9: kötelező
B10: KESZI: eszközbeszerzés, laptop beszerzések, szoftver beszerzések és csendes szoba kialakítása
B11: 102031 Idősek nappali ellátása | D11: teljesítés | E11: 15622932 | F11: 0 | G11: 0 | H11: 0 | I11: =SUM(E11:H11) -> 15622932 | J11: kötelező
B12: Család- és Gyermekjóléti Központ: új GYÁÓ épület berendezése, bútorok, kerti gépek beszerzése
B13: 104043 Család- és Gyermekjóléti Központ | D13: eredeti | E13: 1905000 | F13: 0 | G13: 0 | H13: 0 | I13: =SUM(E13:H13) -> 1905000 | J13: kötelező
B14: Család- és Gyermekjóléti Központ: új GYÁÓ épület berendezése, bútorok, kerti gépek beszerzése
B15: 104043 Család- és Gyermekjóléti Központ | D15: módosított | E15: 1905000 | F15: 0 | G15: 0 | H15: 0 | I15: =SUM(E15:H15) -> 1905000 | J15: kötelező
B16: Család- és Gyermekjóléti Központ: új GYÁÓ épület berendezése, bútorok, kerti gépek beszerzése
B17: 104043 Család- és Gyermekjóléti Központ | D17: teljesítés | E17: 1624731 | F17: 0 | G17: 0 | H17: 0 | I17: =SUM(E17:H17) -> 1624731 | J17: kötelező
B18: Térségi Társulás: vagyonkezelt ingatlanokkal kapcsolatos felújítások
B19: 013350 | C19: önkormányzati vagyonnal való gazdálkodás | D19: eredeti | E19: 200000 | F19: 150000000 | G19: 0 | H19: 0 | I19: =SUM(E19:H19)-1 -> 150199999 | J19: kötelező
B20: Térségi Társulás: vagyonkezelt ingatlanokkal kapcsolatos felújítások
B21: 013350 | C21: önkormányzati vagyonnal való gazdálkodás | D21: módosított | E21: 200000 | F21: =149907700-346481 -> 149561219 | G21: 0 | H21: 0 | I21: =SUM(E21:H21) -> 149761219 | J21: kötelező
B22: Térségi Társulás: vagyonkezelt ingatlanokkal kapcsolatos felújítások
B23: 013351 | C23: önkormányzati vagyonnal való gazdálkodás | D23: módosított | E23: 0 | F23: 30023601 | G23: 0 | H23: 0 | I23: =SUM(E23:H23) -> 30023601 | J23: kötelező
B24: Ö S S Z E S E N : | D24: eredeti | E24: =E7+E13+E19 -> 12900000 | F24: =F7+F13+F19 -> 151120855 | G24: =G7+G13+G19 -> 0 | H24: =H7+H13+H19 -> 0 | I24: =I7+I13+I19 -> 164020854
B25: ebből kötelező | E25: =E24 -> 12900000 | F25: =F24 -> 151120855 | G25: =G24 -> 0 | H25: =H24 -> 0 | I25: =I24 -> 164020854
B26: ebből önként vállalt | E26: =SUM(E24-E25) -> 0 | F26: =SUM(F24-F25) -> 0 | G26: =SUM(G24-G25) -> 0 | H26: =SUM(H24-H25) -> 0 | I26: =SUM(I24-I25) -> 0
B27: Társulás | D27: eredeti | E27: =E19 -> 200000 | F27: =F19 -> 150000000 | G27: =G19 -> 0 | H27: =H19 -> 0 | I27: =I19 -> 150199999
B28: Ö S S Z E S E N : | D28: módosított | E28: =E9+E15+E21 -> 18900000 | F28: =F9+F15+F21 -> 150682074 | G28: =G9+G15+G21 -> 0 | H28: =H9+H15+H21 -> 0 | I28: =I9+I15+I21 -> 169582074
B29: ebből kötelező | E29: =E9+E15+E21 -> 18900000 | F29: =F9+F15+F21 -> 150682074 | G29: =G9+G15+G21 -> 0 | H29: =H9+H15+H21 -> 0 | I29: =I9+I15+I21 -> 169582074
B30: ebből önként vállalt | E30: =0 -> 0 | F30: =0 -> 0 | G30: =0 -> 0 | H30: =0 -> 0 | I30: =0 -> 0
B31: Társulás | D31: módosított | E31: =E21 -> 200000 | F31: =F21 -> 149561219 | G31: =G21 -> 0 | H31: =H21 -> 0 | I31: =I21 -> 149761219
B32: Ö S S Z E S E N : | D32: teljesítés | E32: =E23+E17+E11 -> 17247663 | F32: =F23+F17+F11 -> 30023601 | G32: =G23+G17+G11 -> 0 | H32: =H23+H17+H11 -> 0 | I32: =I23+I17+I11 -> 47271264
B33: ebből kötelező | E33: =E23+E17+E11 -> 17247663 | F33: =F23+F17+F11 -> 30023601 | G33: =G23+G17+G11 -> 0 | H33: =H23+H17+H11 -> 0 | I33: =I23+I17+I11 -> 47271264
B34: ebből önként vállalt
B35: Társulás | D35: teljesítés | E35: =E23 -> 0 | F35: =F23 -> 30023601 | G35: =G23 -> 0 | H35: =H23 -> 0 | I35: =I23 -> 30023601

Sheet Állami támogatások 
B2: Állami hozzájárulások 2024. év | D2: 12. melléklet
A4: Rovat | B4: Jogcím | C4: Állami támogatás 2024. év eredeti előirányzat | D4: Állami támogatás 2024. év módosított előirányzat 2024.06.30 | E4: Állami támogatás 2024. év módosított előirányzat 2024.09.30 | F4: Állami támogatás 2024. év módosított előirányzat 2024.12.31 | G4: Teljesítés 2024.12.31-én | H4: Év végi elszámolás alapján járó támogatás | I4: Év végi elszámolás alapján járó (+) vagy visszafizetendő (-) támogatás*
A5: B113 | B5: Család és gyermekjóléti szolgálat támogatása | C5: 194258330 | D5: 194258330 | E5: 194258330 | F5: 194258330 | G5: 194258330 | H5: 194258330 | I5: =H5-G5 -> 0
A6: B113 | B6: Szociális étkeztetés | C6: 40885110 | D6: 40885110 | E6: 40885110 | F6: =40885110-2053590 -> 38831520 | G6: 38831520 | H6: 38364795 | I6: =H6-G6 -> -466725
A7: B113 | B7: Házi segítségnyújtás | C7: 101830300 | D7: 101830300 | E7: =101830300-6266480 -> 95563820 | F7: =101830300-6266480 -> 95563820 | G7: 95563820 | H7: 95563820 | I7: =H7-G7 -> 0
A8: B113 | B8: Időskorúak nappali int. Ellátása | C8: 14692720 | D8: 14692720 | E8: =14692720+3148440 -> 17841160 | F8: =14692720+3148440+524740 -> 18365900 | G8: 18365900 | H8: 18365900 | I8: =H8-G8 -> 0
A9: B113 | B9: Fogyatékos és demens személyek ell. | C9: 63818110 | D9: 63818110 | E9: =63818110+2428920-3151300+3207150 -> 66302880 | F9: =63818110+2428920-3151300+3207150-1069050 -> 65233830 | G9: 65233830 | H9: 64019370 | I9: =H9-G9 -> -1214460
A10: B113 | B10: Hajléktalanok nappali ellátása | C10: 15415560 | D10: 15415560 | E10: ='[1]Állami támogatások (2)'!$E$10 -> 15415560 | F10: ='[1]Állami támogatások (2)'!$E$10 -> 15415560 | G10: 15415560 | H10: 15415560 | I10: =H10-G10 -> 0
A11: B113 | B11: Hajléktalanok átmeneti ellátása | C11: 39680046 | D11: 39680046 | E11: =39680046-944763 -> 38735283 | F11: =39680046-944763+944763 -> 39680046 | G11: 39680046 | H11: 38735283 | I11: =H11-G11 -> -944763
A12: B113 | B12: Éjjeli menedékhely (új) | C12: 5668578 | D12: 5668578 | E12: ='[1]Állami támogatások (2)'!$E$12 -> 5668578 | F12: ='[1]Állami támogatások (2)'!$E$12 -> 5668578 | G12: 5668578 | H12: 5668578 | I12: =H12-G12 -> 0
A13: B113 | B13: Hajléktalanok nappali intézményi ellátása - a szociál- és nyugdíjpolitikáért felelős miniszter által kijelölt intézmény | C13: 13366900 | D13: 13366900 | E13: ='[1]Állami támogatások (2)'!$E$13 -> 13366900 | F13: ='[1]Állami támogatások (2)'!$E$13 -> 13366900 | G13: 13366900 | H13: 13366900 | I13: =H13-G13 -> 0
A14: B113 | B14: Bértámogatás szociális szféra | C14: 231964800 | D14: 231964800 | E14: ='[1]Állami támogatások (2)'!$E$14 -> 231964800 | F14: ='[1]Állami támogatások (2)'!$E$14 -> 231964800 | G14: 231964800 | H14: 246462600 | I14: =H14-G14 -> 14497800
A15: B113 | B15: intézmény üzemeltetési támogatás* | C15: 80690178 | D15: 80690178 | E15: =80690178-1665263 -> 79024915 | F15: =80690178-1665263+3509303 -> 82534218 | G15: 82534218 | H15: 82534218 | I15: =H15-G15 -> 0
A16: B113 | B16: Óvodai és iskolai szociális segítő tevékenység támogatása* | C16: 47808256 | D16: 47808256 | E16: ='[1]Állami támogatások (2)'!$E$16 -> 47808256 | F16: ='[1]Állami támogatások (2)'!$E$16 -> 47808256 | G16: 47808256 | H16: 47808256 | I16: =H16-G16 -> 0
B17: Szociális ágazati pótlék - KESZI | C17: 0 | D17: 43099779 | E17: =43099779+22149144 -> 65248923 | F17: =43099779+22149144+22154839 -> 87403762 | G17: 87403762 | H17: 87403762 | I17: =H17-G17 -> 0
B18: Szociális ágazati pótlék - CSGYK | C18: 0 | D18: 35888678 | E18: =35888678+17696484 -> 53585162 | F18: =35888678+17696484+17255870 -> 70841032 | G18: 70841032 | H18: 70841032 | I18: =H18-G18 -> 0
B19: Egészségügyi kiegészítő pótlék - KESZI | C19: 0 | D19: 1935366 | E19: =1935366+3642831 -> 5578197 | F19: =1935366+3642831+4353239 -> 9931436 | G19: 9931436 | H19: 9931436 | I19: =H19-G19 -> 0
B20: Állami támogatás összesen | C20: =SUM(C5:C19) -> 850078888 | D20: =SUM(D5:D19) -> 931002711 | E20: =SUM(E5:E19) -> 971247874 | F20: =SUM(F5:F19) -> 1016867988 | G20: =SUM(G5:G19) -> 1016867988 | H20: =SUM(H5:H19) -> 1028739840 | I20: =SUM(I5:I19) -> 11871852
B21: - ebből Család és Gyermekjóléti központot illető | C21: 271843251 | D21: =271843251+D18 -> 307731929 | E21: =D21+17696484-84674 -> 325343739 | F21: =325343739+178439+17255870 -> 342778048 | G21: =F21 -> 342778048 | H21: =342778048+4209040 -> 346987088 | I21: 4209040
B22: - ebből Kistérségi Egyesített Szociális Intézményt illető | C22: 578235637 | D22: =D20-D21 -> 623270782 | E22: =E20-E21 -> 645904135 | F22: =645904135-2053590+524740-1069050+944763+3330864+22154839+4353239 -> 674089940 | G22: =G20-G21 -> 674089940 | H22: =674089940-466725-1214460-944763+10288760 -> 681752752 | I22: =I6+I9+I11+10288760 -> 7662812
B24: Az állami támogatást az intézmények a gesztor önkormányzat nettó finanszírozásán keresztül kapják meg, havonta.
B27: 2024. Májusi felmérés eredménye
B28: személyi gondozás | C28: -6266480
B29: időskorúak nappali intézményi ellátása | C29: 3148440
B30: fogyatékos szem-ek nappali intézményi ellátása - autista diagn.nem rend.ellátottak | C30: 2428920
B31: fogyatékos szem-ek nappali intézményi ellátása - autista diagnózisú ellátottak | C31: -3151300
B32: demens személyek nappali intézményi ellátása | C32: 3207150
B33: hajléktalanok átmeneti szállása | C33: -944763
B34: szociális intézmények üzemeltetési támogatása ellátottak alapján | C34: -1665263
B35: Mindösszesen állami támogatás változás | C35: =SUM(C28:C34) -> -3243296
B36: ebből KESZI | C36: -3158622
B37: ebből CSK | C37: -84674
B40: 2024. Októberi felmérés eredménye
B41: Szociális étkeztetés | C41: -2053590
B42: Időskorúak nappali intézményi ellátása | C42: 524740
B43: Demens személyek nappali intézményi ellátása | C43: -1069050
B44: Hajléktalanok átmeneti szállása | C44: 944763
B45: Intézmény üzemeltetési támogatás (szoc.) | C45: 3509303
B46: Minösszesen állami támogatás változás | C46: =SUM(C41:C45) -> 1856166
B47: ebből KESZI | C47: =-1653137+3330864 -> 1677727
B48: ebből CSK | C48: 178439
B51: 2024. évi beszámoló eredménye | C51: Összesen | D51: ebből KESZI | E51: ebből CSGYK
B52: =B6 -> Szociális étkeztetés | C52: =I6 -> -466725 | D52: =C52 -> -466725 | E52: 0
B53: =B9 -> Fogyatékos és demens személyek ell. | C53: =I9 -> -1214460 | D53: =C53 -> -1214460 | E53: 0
B54: =B11 -> Hajléktalanok átmeneti ellátása | C54: =I11 -> -944763 | D54: =C54 -> -944763 | E54: 0
B55: =B14 -> Bértámogatás szociális szféra | C55: =I14 -> 14497800 | D55: 10288760 | E55: 4209040
B56: Összesen járó támogatás | C56: =SUM(C52:C55) -> 11871852 | D56: =SUM(D52:D55) -> 7662812 | E56: =SUM(E52:E55) -> 4209040

Sheet támogatás
D1: 13. MELLÉKLET
A2: MOSONMAGYARÓVÁR TÉRSÉGI TÁRSULÁS
A3: 2024. ÉVI KÖLTSÉGVETÉS VÉGREHAJTÁSÁNAK HATÁROZATÁHOZ
A5: A Mosonmagyaróvár Térségi Társulás által tervezett átvett
A6: támogatások
C7: Eredeti előirányzat 2024.01.01 | F7: Módosított előirányzat 2024.06.30 | I7: Módosított előirányzat 2024.09.30 | L7: Módosított előirányzat 2024.12.31 | O7: Teljesítés 2024.12.31-én
A8: Átadó megnevezése | B8: Átadás célja | C8: Összege Ft-ban | F8: Összege Ft-ban | I8: Összege Ft-ban | L8: Összege Ft-ban | O8: Összege Ft-ban
A9: Magyar Államkincstár | B9: Állami támogatással finanszírozott feladatok ellátásra | C9: ='Állami támogatások '!C20 -> 850078888 | F9: ='Állami támogatások '!D20 -> 931002711 | I9: ='Állami támogatások '!E20 -> 971247874 | L9: ='Állami támogatások '!F20 -> 1016867988 | O9: =848691758+1000 -> 848692758
A10: Nemzeti Szociálpolitikai Intézet | B10: Fejlesztő foglalkoztatás támogatása (gesztor önkormányzaton keresztül) | C10: 20892476 | F10: 20892476 | I10: 20892476 | L10: =20892476+2753524 -> 23646000 | O10: =20892476+2753524 -> 23646000
A11: Nemzeti Szociálpolitikai Intézet | B11: Jelzőrendszer támogatása (gesztor önkormányzaton keresztül) | C11: 5420000 | F11: 5420000 | I11: 5420000 | L11: =5420000+984000 -> 6404000 | O11: =5420000+984000 -> 6404000
A12: Nemzeti Szociálpolitikai Intézet | B12: Utcai szociális munka (gesztor önkormányzaton keresztül) | C12: 9421000 | F12: 9421000 | I12: 9421000 | L12: =9421000+2023000 -> 11444000 | O12: =9421000+2023000 -> 11444000
A13: Mosonmagyaróvár Város Önkormányzata | B13: Kistérségi Egyesített Szociális Intézmény működésének támogatása működési hiány finanszírozása | C13: 215813577 | D13: =SUM(C13:C15) -> 305072522 | E13: összes gesztor Önk. Támogatás | F13: 215813577 | G13: =SUM(F13:F15) -> 305072522 | H13: összes gesztor Önk. Támogatás | I13: 215813577 | J13: =SUM(I13:I15) -> 305072522 | K13: összes gesztor Önk. Támogatás | L13: 215813577 | M13: =SUM(L13:L15) -> 305072522 | N13: összes gesztor Önk. Támogatás | O13: =215813577-1387130 -> 214426447 | P13: =SUM(O13:O15) -> 303685392 | Q13: összes gesztor Önk. Támogatás
A14: Mosonmagyaróvár Város Önkormányzata | B14: Család és Gyermekjóléti Központ működési hiány finanszírozása | C14: 4824005 | F14: 4824005 | I14: 4824005 | L14: 4824005 | O14: 4824005
A15: Mosonmagyaróvár Város Önkormányzata | B15: Térségi társulás működéséhez és egyéb alapokhoz és intézmények működéséhez való hozzájárulás | C15: 84434940 | F15: 84434940 | I15: 84434940 | L15: =72611960+3195400+8627580 -> 84434940 | O15: =72611960+3195400+8627580 -> 84434940
A16: Gesztor önkormányzati hozzájáruláson kívüli tagtelepülések hozzájárulása | B16: Család és Gyermekjóléti Központ működésének finanszírozásához | C16: 118881952 | D16: =C16+C18 -> 138236342 | E16: gesztor Önk. Kívüli tagtelepülési támogatások | F16: 118881952 | G16: =F16+F18 -> 138236342 | H16: gesztor Önk. Kívüli tagtelepülési támogatások | I16: 118881952 | J16: =I16+I18 -> 138236342 | K16: gesztor Önk. Kívüli tagtelepülési támogatások | L16: 118881952 | M16: =L16+L18 -> 138236342 | N16: gesztor Önk. Kívüli tagtelepülési támogatások | O16: =118881952-5 -> 118881947 | P16: =O16+O18 -> 138236337 | Q16: gesztor Önk. Kívüli tagtelepülési támogatások
A17: Gesztor önkormányzati hozzájáruláson kívüli tagtelepülések hozzájárulása | B17: Kistérségi Egyesített Szociális Intézmény működésének finanszírozásához
A18: Gesztor önkormányzati hozzájáruláson kívüli tagtelepülések támogatása | B18: Térségi tagdíj, felújítási alap támogatása | C18: 19354390 | F18: 19354390 | I18: 19354390 | L18: 19354390 | O18: 19354390
A19: Magyar Államkincstár (közvetelenül intézménynél tervezve) | B19: Család és Gyermekjóléti központ összevont ágazati pótlék becsült összege | C19: 85421500 | F19: 49532822 | I19: =49532822-17696484-2873837 -> 28962501 | L19: 0 | O19: 70841032
A20: Magyar Államkincstár (közvetelenül intézménynél tervezve) | B20: Kistérségi Egyesített Szociális Intézmény összevont ágazati pótlék becsült összege | C20: 90556000 | F20: 47456221 | I20: =47456221-22149144 -> 25307077 | L20: 0 | O20: 87403762
A21: Magyar Államkincstár (közvetelenül intézménynél tervezve) | B21: Kistérségi Egyesített Szociális Intézmény bérkompenzáció becsült összege | C21: 0 | F21: 0 | I21: 0 | L21: 0 | O21: 0
A22: Magyar Államkincstár (közvetelenül intézménynél tervezve) | B22: Kistérségi Egyesített Szociális Intézmény egészségügyi pótlék becsült összege | C22: 2704360 | F22: 768994 | I22: =768994-3642831+2873837 -> 0 | L22: =768994-3642831+2873837 -> 0 | O22: 9931436
A23: Mosonmagyaróvár Város Önkormányzata | B23: 130/2024. (VI.27.) Kt. Határozat szerinti 10 % bérfejlesztés és második kétheti bérkiegészítés forrása a gesztor támogatás növelésével - KESZI | C23: 0 | F23: 75499759 | I23: 75499759 | L23: 75499759 | O23: 75499759
A24: Mosonmagyaróvár Város Önkormányzata | B24: 130/2024. (VI.27.) Kt. Határozat szerinti 10 % bérfejlesztés és második kétheti bérkiegészítés forrása a gesztor támogatás növelésével - CSGYK | C24: 0 | F24: 35454887 | I24: 35454887 | L24: 35454887 | O24: 35454887
A25: Nemzeti Népegészségügyi és Gyógyszerészeti Központ. | B25: Család- és Gyermekjóléti Központ KEB-ELT - drogpont elterelés támogatása | C25: 0 | F25: 0 | I25: 0 | L25: 1000000 | O25: 3173400
A26: Elkülönített állami pénzalap | B26: KESZI közfoglalkoztatás támogatása | C26: 0 | F26: 0 | I26: 0 | L26: 0 | O26: 271517
A27: Mosonmagyaróvár Város Önkormányzata | B27: KESZI - élelmiszer vásárlás, évzáró támogatása, Virágoskert Idősek Otthona választókerületi támogatás | C27: 0 | F27: 0 | I27: 0 | L27: 0 | O27: 1615000
A28: Mosonmagyaróvár Város Önkormányzata | B28: CSGYK - tartós élemiszer vásárlás és nyári tábor támogatása | C28: 0 | F28: 0 | I28: 0 | L28: 0 | O28: 1800000
A29: Kistérségi Egyesített Szociális Intézmény | B29: 2023. évi beszámoló és a jelzőrendszeres házi segítségnyújtás 2023. évi elszámolásának visszafizetés a társulás felé | C29: 0 | F29: 0 | I29: 0 | L29: 0 | O29: 7774362
A30: Összesen: | C30: =SUM(C9:C22) -> 1507803088 | F30: =SUM(F9:F24) -> 1618757734 | I30: =SUM(I9:I24) -> 1615514438 | L30: =SUM(L9:L25) -> 1613625498 | O30: =SUM(O9:O29) -> 1625873642
B31: 1. oldal | L31: 1613625498
A33: A Mosonmagyaróvár Térségi Társulás által tervezett átadandó
A34: támogatások
C35: Eredeti előirányzat 2024.01.01 | D35: Módosított előirányzat 2024.06.30 | E35: Módosított előirányzat 2024.09.30 | F35: Módosított előirányzat 2024.12.31 | G35: Teljesítés 2024.12.31
A36: Átvevő megnevezése | B36: Támogatás célja | C36: Összege Ft-ban
A37: Mosonmagyaróvári Polgármesteri Hivatal | B37: Társulási feladatok ellátására hozzájárulás | C37: 3600000 | D37: 3600000 | E37: =[2]Társulás!$G$41 -> 3600000 | F37: =[2]Társulás!$G$41 -> 3600000 | G37: 3600000
A38: Civil szervezet számára Tanács döntése alapján | B38: Társulás által átadandó pénzeszköz | C38: 850000 | D38: 850000 | E38: 850000 | F38: 850000 | G38: 850000
A39: Magyar Államkincstár | B39: Esetleges visszafizetési kötelezettségek (beszámolóhoz kapcsolódóan, utcai szociális munka elszámolásához kapcsolódóan) | C39: =[1]Társulás!$I$21-C37 -> 10600000 | D39: 10700000 | E39: 10700000 | F39: 10700000 | G39: =7770620+3742+4476 -> 7778838
A40: Összesen: | C40: =SUM(C36:C39) -> 15050000 | D40: =SUM(D36:D39) -> 15150000 | E40: =SUM(E36:E39) -> 15150000 | F40: =SUM(F36:F39) -> 15150000 | G40: =SUM(G37:G39) -> 12228838
B41: 2. oldal

Sheet Címrend
A1: Mosonmagyaróvári Térségi Társulás és intézményei | H1: 14. melléklet
A2: 2024. évi költségvetési előirányzat/teljesítés költségvetési szervenként Ft-ban
B4: CÍMREND
F5: bevétel 09.30
A6: Címrendi szám | B6: Intézmény neve | C6: 2024. évi eredeti előirányzat | D6: 2024.06.30-i módosított előirányzat | E6: 2024.09.30-i módosított előirányzat | F6: 2024.12.31-i módosított előirányzat | G6: 2024.12.31 teljesített bevétel | H6: 2024.12.31 teljesített kiadás | I6: k | J6: b | K6: m
A7: 1 1 | B7: Kistérségi Egyesített Szociális Intézmény | C7: ='Működési kiadások'!M59+'Felhalmozási kiadások'!I7 -> 1640962143 | D7: 1644534760 | E7: 1722338837 | F7: 1736219559 | G7: ='Működési bevételek'!L10+'Felhalmozási bevételek'!L8 -> 1594491367 | H7: ='Működési kiadások'!M10+'Felhalmozási kiadások'!I11 -> 1496466452 | I7: 1496466452 | J7: =460554221+1133937146 -> 1594491367 | K7: =J7-I7 -> 98024915
A8: 2 1 | B8: Család és Gyermekvédelmi Központ | C8: ='Működési kiadások'!M12+'Felhalmozási kiadások'!I13 -> 458666969 | D8: 459840900 | E8: 497807463 | F8: 484958004 | G8: ='Működési bevételek'!L16+'Felhalmozási bevételek'!L11 -> 466396218 | H8: ='Működési kiadások'!M16+'Felhalmozási kiadások'!I17 -> 454237497 | I8: 454237497 | J8: =10059548+456336670 -> 466396218 | K8: =J8-I8 -> 12158721
A9: 3 1 | B9: Mosonmagyaróvár Térségi Társulás | C9: ='Működési kiadások'!M41+'Felhalmozási kiadások'!I27 -> 263033975 | D9: 420677793 | E9: 301663857 | F9: 298743654 | G9: ='Működési bevételek'!L30+'Felhalmozási bevételek'!L14 -> 433769087 | H9: =+'Működési kiadások'!M97+'Felhalmozási kiadások'!I23 -> 47568120 | I9: =47568120+1506178551-1506178551 -> 47568120 | J9: =1669607184+270340454-1506178551 -> 433769087 | K9: =J9-I9 -> 386200967
A10: MOSONMAGYARÓVÁR TÉRSÉGI TÁRSULÁS ÖSSZESEN | C10: =SUM(C7:C9) -> 2362663087 | D10: =SUM(D7:D9) -> 2525053453 | E10: =SUM(E7:E9) -> 2521810157 | F10: =SUM(F7:F9) -> 2519921217 | G10: =SUM(G7:G9) -> 2494656672 | H10: =SUM(H7:H9) -> 1998272069 | I10: =SUM(I7:I9) -> 1998272069 | J10: =SUM(J7:J9) -> 2494656672 | K10: =J10-I10 -> 496384603
I13: =1998272069+1506178551 -> 3504450620 | J13: =2140220953+1860614270 -> 4000835223 | K13: =J13-I13 -> 496384603
H15: Int.fin. | I15: 1506178551

Sheet Létszámok
A1: Mosonmagyaróvár Térségi Társulás | F1: 15. melléklet
A2: és felügyelete alá tartozó költségvetési szervek
A3: 2024. évi költségvetésének végrehajtásáról szóló határozatához
A5: Költségvetési engedélyzett létszámhely
B7: adatok: fő-ben
A8: Megnevezés | B8: 2022. január 1. | C8: 2024. január 1. | D8: Közfoglalkoztatottak átlagos létszáma | E8: 2024. december 31. | F8: Közfoglalkoztatottak átlagos létszáma | G8: 2024. december 31. | H8: Közfoglalkoztatottak átlagos létszáma
A9: (intézmény, szakfeladat, stb.) | B9: engedélyezett | C9: engedélyezett | E9: engedélyezett | G9: záró
B10: létszámhely | C10: létszámhely | E10: létszámhely | G10: átlagos statisztikai létszám
A11: Család és Gyermekjóléti Központ | B11: 58.5 | C11: =SUM(C12:C15) -> 58.5 | D11: 0 | E11: =SUM(E12:E15) -> 58.5 | F11: 0 | G11: =SUM(G12:G15) -> 50 | H11: 0
A12: Gyermekek Átmeneti Otthona | B12: 8.5 | C12: 8.5 | D12: 0 | E12: 8.5 | F12: 0 | G12: 8 | H12: 0
A13: Család- és Gyermekjóléti Központ / Hatósági és Speciális Munkacsoporot | B13: 16 | C13: 16 | D13: 0 | E13: 16 | F13: 0 | G13: 11 | H13: 0
A14: Család-és Gyermekjóléti Központ/ Családsegítő Szolgálat | B14: 23 | C14: 23 | D14: 0 | E14: 23 | F14: 0 | G14: 20 | H14: 0
A15: Óvodai és iskolai szociális segítő tevékenység | B15: 11 | C15: 11 | E15: 11 | F15: 0 | G15: 11 | H15: 0
A16: Kistérségi Egyesített Szociális Intézet | B16: =SUM(B17:B28) -> 159 | C16: =SUM(C17:C28) -> 143 | D16: =SUM(D17:D28) -> 0 | E16: =SUM(E17:E28) -> 143 | F16: =SUM(F17:F28) -> 0 | G16: =SUM(G17:G28) -> 124 | H16: =SUM(H17:H28) -> 0
A17: Aranykor Idősek Otthona, Idősek Otthona, Központi irányítás | B17: 48 | C17: 48 | D17: 0 | E17: 48 | F17: 0 | G17: 47 | H17: 0
A18: Idősek Gondozóháza, főzőkonyha, karbantartás | B18: 36 | C18: 20 | D18: 0 | E18: 20 | F18: 0 | G18: 20 | H18: 0
A19: Hajléktalanok Átmeneti Szállása | B19: 9 | C19: 9 | D19: 0 | E19: 9 | F19: 0 | G19: 7 | H19: 0
A20: Idősek klubjai | B20: 15 | C20: 15 | D20: 0 | E20: 15 | F20: 0 | G20: 13 | H20: 0
A21: FÉNI | B21: 6 | C21: 6 | D21: 0 | E21: 6 | F21: 0 | G21: 5 | H21: 0
A22: Nappali melegedő | B22: 3 | C22: 3 | D22: 0 | E22: 3 | F22: 0 | G22: 3 | H22: 0
A23: Éjjeli menedékhely | B23: 2 | C23: 2 | D23: 0 | E23: 2 | F23: 0 | G23: 2 | H23: 0
A24: Utcai szociális munka | B24: 2 | C24: 2 | D24: 0 | E24: 2 | F24: 0 | G24: 2 | H24: 0
A25: Szociális étkezés | B25: 1 | C25: 1 | D25: 0 | E25: 1 | F25: 0 | G25: 1 | H25: 0
A26: Házi segítségnyújtás | B26: 34 | C26: 34 | D26: 0 | E26: 34 | F26: 0 | G26: 22 | H26: 0
A27: Jelzőrendszer | B27: 1 | C27: 1 | D27: 0 | E27: 1 | F27: 0 | G27: 1 | H27: 0
A28: Fejlesztő foglalkoztatás | B28: 2 | C28: 2 | D28: 0 | E28: 2 | F28: 0 | G28: 1 | H28: 0
A29: Mosonmagyaróvár Térségi Társulás állandó létszámhely nincs | B29: 0 | C29: 0 | D29: 0 | E29: 0 | F29: 0 | G29: 0 | H29: 0
A30: Összesen: | B30: =B16+B11 -> 217.5 | C30: =SUM(C11+C16+C29) -> 201.5 | D30: =SUM(D11+D16+D29) -> 0 | E30: =SUM(E11+E16+E29) -> 201.5 | F30: =SUM(F11+F16+F29) -> 0 | G30: =SUM(G11+G16+G29) -> 174 | H30: =SUM(H11+H16+H29) -> 0

Sheet Közvetett támogatások
A1: Közvetett támogatások - 2024. év
C2: 16. melléklet
A4: Mosonmagyaróvár Térségi Társulás és intézményei közvetett támogatást nem nyújtanak.
A6: A gesztor önkormányzat - Mosonmagyaróvár Város Önkormányzat - költségvetési rendelete szerint:
A8: Mosonmagyaróvár Város Önkormányzata a Mosonmagyaróvár Térségi Társulás által fenntartott Kistérségi Egyesített Szociális Intézménye által idősek számára biztosított alapszolgáltatási ellátást igénybe vevők személyi térítési díját megtéríti az ellátottak helyett, a következő feltételek együttes teljesülése esetén: az ellátott a) a mosonmagyaróvári Kistérségi Egyesített Szociális Intézmény által, idősek számára biztosított alapszolgáltatás igénybe vevője, b) Mosonmagyaróváron állandó lakóhellyel rendelkezik, c) betöltötte a 90. életévét és d) tartási vagy öröklési szerződést nem kötött. A személyi térítési díj átvállalása a 90. életév betöltését követő hónaptól történik.
A10: A gesztor önkormányzatnál az így meghatározott közvetett támogatás összege:
A11: 90. életévét betöltő, mosonmagyaróvári állandó lakcímmel rendelkezők teljes ellátására vonatkozó szociális támogatása | C11: 22445266 | D11: Ft

Sheet Finanszírozás
N1: 17. melléklet | O1: ok
A2: Finanszírozási terv 2024. év | C2: adatok Ft-ban
B3: Jan | C3: Febr | D3: Márc | E3: Ápr | F3: Máj | G3: Jún | H3: Júl | I3: Aug | J3: Szept | K3: Okt | L3: Nov | M3: Dec | N3: Összesen
A5: Intézményi működési bevételek | B5: 33488000 | C5: 33488000 | D5: 33488000 | E5: 33488000 | F5: 33488000 | G5: 33488000 | H5: 33488000 | I5: 33488000 | J5: 33488000 | K5: 33488000 | L5: 33488000 | M5: 33492000 | N5: =SUM(B5:M5) -> 401860000 | O5: =Mérleg!C6 -> 401860000 | P5: =Mérleg!C6 -> 401860000 | Q5: =P5-N5 -> 0 | R5: =Q5-N5 -> -401860000 | S5: =Q5/12 -> 0
A6: Támogatásértékű működési bev. | B6: 139609000 | C6: 139609000 | D6: 139609000 | E6: 139609000 | F6: 139609000 | G6: 139609000 | H6: 139609000 | I6: 139609000 | J6: 139609000 | K6: 139609000 | L6: 139609000 | M6: 139607482 | N6: =SUM(B6:M6) -> 1675306482 | O6: =Mérleg!C7 -> 1675306481 | P6: =Mérleg!C7 -> 1675306481 | Q6: =P6-N6 -> -1 | R6: =Q6-N6 -> -1675306483 | S6: =R6/12 -> -1.3960887e+08
A7: Támogatás értékű felhalmozási bevétel | B7: 2500000 | C7: 2500000 | D7: 2500000 | E7: 2500000 | F7: 20000000 | G7: 50000000 | H7: 20000000 | I7: 10000000 | J7: 20000000 | K7: 7000000 | L7: 7000000 | M7: 6000000 | N7: =SUM(B7:M7) -> 150000000 | P7: =Mérleg!C14 -> 150000000 | Q7: =P7-N7 -> 0
A8: Maradványfelhasználás | B8: 0 | C8: =Mérleg!C18 -> 135496606 | N8: =SUM(B8:M8) -> 135496606 | O8: =Mérleg!C18 -> 135496606 | P8: =Mérleg!C18 -> 135496606 | Q8: =P8-N8 -> 0 | R8: =Q8-N8 -> -135496606
A9: Bevételek összesen: | B9: =SUM(B5:B8) -> 175597000 | C9: =SUM(C5:C8) -> 311093606 | D9: =SUM(D5:D8) -> 175597000 | E9: =SUM(E5:E8) -> 175597000 | F9: =SUM(F5:F8) -> 193097000 | G9: =SUM(G5:G8) -> 223097000 | H9: =SUM(H5:H8) -> 193097000 | I9: =SUM(I5:I8) -> 183097000 | ... N9: =SUM(N5:N8) -> 2362663088 | O9: =SUM(N5:N8) -> 2362663088 | P9: =O9-N9 -> 0 | Q9: =SUM(Q5:Q8) -> -1 | R9: =Mérleg!C27 -> 2362663087 | S9: =R9-Q9 -> 2362663088
P10: =O10-N10 -> 0
A11: Személyi juttatások | B11: 97400000 | C11: 97400000 | D11: 97400000 | E11: 97400000 | F11: 97400000 | G11: 97400000 | H11: =97400000+45175000 -> 142575000 | I11: 97400000 | J11: 97400000 | K11: 97400000 | L11: 97400000 | M11: 97400000 | N11: =SUM(B11:M11) -> 1213975000 | O11: =P11-N11 -> 0 | P11: ='Működési kiadások'!E101 -> 1213975000 | Q11: ='Működési kiadások'!E18+'Működési kiadások'!E41 -> 1213975000 | R11: =Q11/13 -> 93382692 | S11: =Q11-N11 -> 0 | T11: =S11/2 -> 0
A12: Járulékok | B12: =B11*0.13 -> 12662000 | C12: =C11*0.13 -> 12662000 | D12: =D11*0.13+4665000 -> 17327000 | E12: =E11*0.13 -> 12662000 | F12: =F11*0.13 -> 12662000 | G12: =G11*0.13+4665000 -> 17327000 | H12: =H11*0.13 -> 18534750 | I12: =I11*0.13 -> 12662000 | J12: =J11*0.13+4665000 -> 17327000 | K12: =K11*0.13 -> 12662000 | L12: =L11*0.13 -> 12662000 | M12: =M11*0.13+4665000-1110 -> 17325890 | N12: =SUM(B12:M12) -> 176475640 | O12: =P12-N12 -> 0 | P12: ='Működési kiadások'!F101 -> 176475640 | Q12: ='Működési kiadások'!F18+'Működési kiadások'!F41 -> 176475640 | R12: =Q12/13 -> 13575049 | S12: =Q12-N12 -> 0 | T12: =S12/2 -> 0
A13: Dologi kiadások | B13: 58200000 | C13: 58200000 | D13: 58200000 | E13: 58200000 | F13: 58200000 | G13: 58200000 | H13: 58200000 | I13: 58200000 | J13: 58200000 | K13: 58200000 | L13: =58200000+458457 -> 58658457 | M13: =58200000-50000 -> 58150000 | N13: =SUM(B13:M13) -> 698808457 | O13: =P13-N13 -> 0 | P13: ='Működési kiadások'!G101 -> 698808457 | Q13: ='Működési kiadások'!G18+'Működési kiadások'!G41 -> 698808457 | R13: =Q13/12 -> 58234038
A14: Ellátottak juttatása | B14: =92000-4000 -> 88000 | C14: 92000 | D14: 92000 | E14: 92000 | F14: 92000 | G14: 92000 | H14: 92000 | I14: 92000 | J14: 92000 | K14: 92000 | L14: 92000 | M14: 92000 | N14: =SUM(B14:M14) -> 1100000 | O14: ='Működési kiadások'!J101-Finanszírozás!N14 -> 0 | P14: ='Működési kiadások'!J101 -> 1100000 | Q14: ='Működési kiadások'!J18 -> 1100000 | R14: =Q14/12 -> 91666.667
A15: Támogatásért.műk.kiadás | B15: 300000 | C15: 300000 | D15: 300000 | E15: 300000 | F15: 300000 | G15: =300000+10700000 -> 11000000 | H15: 300000 | I15: 300000 | J15: 300000 | K15: 300000 | L15: 300000 | M15: 300000 | N15: =SUM(B15:M15) -> 14300000 | O15: =P15-N15 -> 0 | P15: ='Működési kiadások'!H101 -> 14300000 | Q15: ='Működési kiadások'!H41 -> 14300000 | R15: =Q15/12 -> 1191666.7
A16: Műk.c.pénzeszk.átad ÁH-n kív. | B16: 0 | C16: 0 | D16: 0 | E16: 0 | F16: 850000 | G16: 0 | H16: 0 | I16: 0 | J16: 0 | K16: 0 | L16: 0 | M16: 0 | N16: =SUM(B16:M16) -> 850000 | O16: ='Működési kiadások'!I101-Finanszírozás!N16 -> 0 | P16: ='Működési kiadások'!I101 -> 850000 | Q16: ='Működési kiadások'!I41 -> 850000 | R16: =Q16-N16 -> 0
A17: Fejlesztési kiadások | B17: 0 | C17: 1500000 | D17: 5767705 | E17: 50000000 | F17: 5016500 | G17: 50000000 | H17: 5000000 | I17: 0 | J17: 1120855 | K17: 42610619 | L17: 3005176 | M17: 0 | N17: =SUM(B17:M17) -> 164020855 | O17: =P17-N17 -> -1 | P17: ='Felhalmozási kiadások'!I24 -> 164020854 | Q17: ='Felhalmozási kiadások'!I24 -> 164020854 | R17: =Q17/12 -> 13668404 | S17: =Q17-N17 -> -1
A18: Tartalék felhasználás | M18: =93083136+50000 -> 93133136 | N18: =SUM(B18:M18) -> 93133136 | O18: ='Működési kiadások'!K84-Finanszírozás!N18 -> 0 | P18: ='Működési kiadások'!K101 -> 93133136 | Q18: ='Működési kiadások'!K41 -> 93133136 | R18: =Q18-N18 -> 0
A19: Kiadások összesen: | B19: =SUM(B11:B18) -> 168650000 | C19: =SUM(C11:C18) -> 170154000 | D19: =SUM(D11:D18) -> 179086705 | E19: =SUM(E11:E18) -> 218654000 | F19: =SUM(F11:F18) -> 174520500 | G19: =SUM(G11:G18) -> 234019000 | H19: =SUM(H11:H18) -> 224701750 | I19: =SUM(I11:I18) -> 168654000 | ... Q19: =SUM(Q11:Q18) -> 2362663087 | R19: =Mérleg!O29 -> 2362663087 | S19: =R19-Q19 -> 0
A21: Havi egyenleg | B21: =B9-B19 -> 6947000 | C21: =C9-C19 -> 140939606 | D21: =D9-D19 -> -3489705 | E21: =E9-E19 -> -43057000 | F21: =F9-F19 -> 18576500 | G21: =G9-G19 -> -10922000 | H21: =H9-H19 -> -31604750 | I21: =I9-I19 -> 14443000 | ... N21: =N9-N19 -> 0
A22: Gönygyölített egyenleg | B22: =B21 -> 6947000 | C22: =B22+C21 -> 147886606 | D22: =C22+D21 -> 144396901 | E22: =D22+E21 -> 101339901 | F22: =E22+F21 -> 119916401 | G22: =F22+G21 -> 108994401 | H22: =G22+H21 -> 77389651 | I22: =H22+I21 -> 91832651 | J22: =I22+J21 -> 110489796 | ... M22: =L22+M21 -> 0

Sheet Gördülő tervezés
A1: A működési és fejlesztési célú bevételek és kiadások 2024-2027. évi
A2: alakulását bemutató mérleg adatok Ft-ban
E3: 18. melléklet
B5: 2024 | C5: 2025 | D5: 2026 | E5: 2027
A6: Intézményi működési bevétel | B6: =Mérleg!C6 -> 401860000 | C6: =B6*1.05 -> 421953000 | D6: =C6 -> 421953000 | E6: =D6 -> 421953000
A7: Támogatásértékű műk. bevétel | B7: =Mérleg!C7 -> 1675306481 | C7: =B7*1.05 -> 1.7590718e+09 | D7: =C7*1.05-30 -> 1.8470254e+09 | E7: =D7*1.05+5 -> 1.9393766e+09
A8: Műk.c.pénzeszköz átv.ÁH-n kívülről | B8: =Mérleg!C8 -> 0 | C8: 0 | D8: 0 | E8: 0
A9: Állami támogatások | B9: =Mérleg!C9 -> 0 | C9: 0 | D9: 0 | E9: 0
A10: Egyéb közhatlami bevételek | B10: =Mérleg!C11 -> 0 | C10: 0 | D10: 0 | E10: 0
A11: Működési bevételek összesen | B11: =SUM(B6:B10) -> 2077166481 | C11: =SUM(C6:C10) -> 2.1810248e+09 | D11: =SUM(D6:D10) -> 2.2689784e+09 | E11: =SUM(E6:E10) -> 2.3613296e+09
A12: Ingatlanok, tárgyi eszközök értékesítése | B12: =Mérleg!C13 -> 0 | C12: 0 | D12: 0 | E12: 0
A13: Támogtás értékű felhalmozási bev. | B13: =Mérleg!C14 -> 150000000 | C13: 0 | D13: 0 | E13: 0
A14: Felh.c.pénzeszköz átvétel ÁH-n kív. | B14: =Mérleg!C15 -> 0 | C14: 0 | D14: 0 | E14: 0
A15: Önkorm.lakások és helyis.értékesít. | B15: =Mérleg!C16 -> 0 | C15: =B15 -> 0 | D15: =C15 -> 0 | E15: =D15 -> 0
A16: Felhalmozási bev. összesen | B16: =SUM(B12:B15) -> 150000000 | C16: =SUM(C12:C15) -> 0 | D16: =SUM(D12:D15) -> 0 | E16: =SUM(E12:E15) -> 0
A17: Maradványfelhasználás | B17: =Mérleg!C18 -> 135496606 | C17: =124867952-53500 -> 124814452 | D17: =92223788-57245 -> 92166543 | E17: =100135018-61252 -> 100073766
A18: Kölcsönök, visszatérítendő támogatások visszatérülése | B18: =Mérleg!C19 -> 0 | C18: 0 | D18: 0 | E18: 0
A19: Bevételek összesen | B19: =SUM(B11+B16+B17) -> 2362663087 | C19: =SUM(C11:C18) -> 2.3058393e+09 | D19: =SUM(D11:D18) -> 2.3611449e+09 | E19: =SUM(E11:E18) -> 2.4614034e+09
A20: Hitelfelvétel | B20: 0 | C20: 0 | D20: 0 | E20: 0
A21: Bevétel mindösszesen | B21: =B20+B19 -> 2362663087 | C21: =C20+C19 -> 2.3058393e+09 | D21: =D20+D19 -> 2.3611449e+09 | E21: =E20+E19 -> 2.4614034e+09
B22: =B21-Mérleg!C27 -> 0
A23: Kiadások | B23: 2024 | C23: 2025 | D23: 2026 | E23: 2027
A24: Személyi juttatások | B24: ='Működési kiadások'!E18+'Működési kiadások'!E41 -> 1213975000 | C24: =B24*1.03+50 -> 1250394300 | D24: =C24*1.03-29 -> 1287906100 | E24: =D24*1.03+17 -> 1326543300
A25: Járulékok | B25: ='Működési kiadások'!F18+'Működési kiadások'!F41 -> 176475640 | C25: =B25*1.03 -> 1.8176991e+08 | D25: =C25*1.03 -> 1.8722301e+08 | E25: =D25*1.03 -> 1.928397e+08
A26: Dologi kiadások | B26: ='Működési kiadások'!G41+'Működési kiadások'!G18 -> 698808457 | C26: =B26*1.07 -> 7.4772505e+08 | D26: =C26*1.07 -> 8.000658e+08 | E26: =D26*1.07 -> 8.5607041e+08
A27: Ellátottak juttatása | B27: ='Működési kiadások'!J18 -> 1100000 | C27: 1100000 | D27: 1100000 | E27: 1100000
A28: Támogatásért.műk.kiadás | B28: ='Működési kiadások'!H41 -> 14300000 | C28: 14000000 | D28: 14000000 | E28: 14000000
A29: Műk.c.pénzeszk.átad ÁH-n kív. | B29: ='Működési kiadások'!I41 -> 850000 | C29: 850000 | D29: 850000 | E29: 850000
A30: Fejlesztési kiadások | B30: ='Felhalmozási kiadások'!I24 -> 164020854 | C30: 60000000 | D30: 20000000 | E30: 20000000
A31: Tartalék felhasználás | B31: ='Működési kiadások'!K41 -> 93133136 | C31: 50000000 | D31: 50000000 | E31: 50000000
A32: KIADÁSOK MINDÖSSZESEN: | B32: =SUM(B24:B31) -> 2362663087 | C32: =SUM(C24:C31) -> 2.3058393e+09 | D32: =SUM(D24:D31) -> 2.3611449e+09 | E32: =SUM(E24:E31) -> 2.4614034e+09
B33: =B32-Mérleg!O29 -> 0 | C33: =C32-C21 -> 1.1399999 | D33: =D32-D21 -> 0.59279966 | E33: =E32-E21 -> 0.69130611
B34: =B32-B21 -> 0 | C34: =C21-C32 -> -1.1399999 | D34: =D21-D32 -> -0.59279966 | E34: =E21-E32 -> -0.69130611

Sheet  hitel
A1: Hitel-/kölcsön törlesztések és projektvizsgálati díjak (Ft-ban) 2024. év
E2: 19. melléklet
A5: A Mosonmagyaróvár Térségi Társulás 2024. évben hitelállománnyal nem rendelkezik.

Sheet Vagyonmérleg
A1: MOSONMAGYARÓVÁR TÉRSÉGI TÁRSULÁS
A2: ÉS IRÁNYÍTÁSA ALÁ TARTOZÓ INTÉZMÉNYEK
A3: 2024. ÉVI KÖLTSÉGVETÉSÉNEK VÉGREHAJTÁSA
A4: VAGYONMÉRLEG
G5: 17. melléklet
A6: Mosonmagyaróvár Térségi Társulás | E6: Család- és Gyermekjóléti Központ
A8: Megnevezés | B8: Előző időszak 2023.12.31 | C8: Tárgyi időszak 2024.12.31 | E8: Megnevezés | F8: Előző időszak 2023.12.31 | G8: Tárgyi időszak 2024.12.31
A9: A/II/1 Ingatlanok és a kapcsolódó vagyoni értékű jogok | B9: 748736038 | C9: 754523912 | E9: A/II/2 Gépek, berendezések, felszerelések, járművek | F9: 2936056 | G9: 2494270
A10: A/II/2 Gépek, berendezések, felszerelések, járművek | B10: 1391831 | C10: 831391 | E10: A/II Tárgyi eszközök (=A/II/1+...+A/II/5) | F10: 2936056 | G10: 2494270
A11: A/II/4 Beruházások, felújítások | B11: 12711199 | C11: 14574199 | E11: A) NEMZETI VAGYONBA TARTOZÓ BEFEKTETETT ESZKÖZÖK (=A/I+A/II+A/III+A/IV) | F11: 2936056 | G11: 2494270
A12: A/II Tárgyi eszközök (=A/II/1+...+A/II/5) | B12: 762839068 | C12: 769929502 | E12: C/II/1 Forintpénztár | F12: 178070 | G12: 152570
A13: A) NEMZETI VAGYONBA TARTOZÓ BEFEKTETETT ESZKÖZÖK (=A/I+A/II+A/III+A/IV) | B13: 762839068 | C13: 769929502 | E13: C/II Pénztárak, csekkek, betétkönyvek (=C/II/1+C/II/2+C/II/3) | F13: 178070 | G13: 152570
A14: C/III/1 Kincstáron kívüli forintszámlák | B14: 261960269 | C14: 377820782 | E14: C/III/1 Kincstáron kívüli forintszámlák | F14: 9205617 | G14: 9558804
A15: C/III/2 Kincstárban vezetett forintszámlák | B15: 8380185 | C15: 8380185 | E15: C/III Forintszámlák (=C/III/1+C/III/2) | F15: 9205617 | G15: 9558804
A16: C/III Forintszámlák (=C/III/1+C/III/2) | B16: 270340454 | C16: 386200967 | E16: C) PÉNZESZKÖZÖK (=C/I+…+C/IV) | F16: 9383687 | G16: 9711374
A17: C) PÉNZESZKÖZÖK (=C/I+…+C/IV) | B17: 270340454 | C17: 386200967 | E17: D/I/4 Költségvetési évben esedékes követelések működési bevételre (=D/I/4a+…+D/I/4i) | F17: 87714 | G17: 255004
A18: E/I/2 Más előzetesen felszámított levonható általános forgalmi adó | B18: 7984 | C18: 5940 | E18: D/I/4c - ebből: költségvetési évben esedékes követelések ellátási díjakra | F18: 87714 | G18: 255004
A19: E/I Előzetesen felszámított általános forgalmi adó elszámolása (=E/I/1+…+E/I/4) | B19: 7984 | C19: 5940 | E19: D/I Költségvetési évben esedékes követelések (=D/I/1+…+D/I/8) | F19: 87714 | G19: 255004
A20: E/II/2 Más fizetendő általános forgalmi adó | B20: -7984 | C20: -5940 | E20: D/III/1 Adott előlegek (=D/III/1a+…+D/III/1f) | F20: 2237430 | G20: 2599917
... A37: J/3 Halasztott eredményszemléletű bevételek | B37: 259177562 | C37: 278323030 | E37: FORRÁSOK ÖSSZESEN (=G+H+I+J) | F37: 14644887 | G37: 15060565
A38: J) PASSZÍV IDŐBELI ELHATÁROLÁSOK (=J/1+J/2+J/3) | B38: 259315012 | C38: 278466713
A39: FORRÁSOK ÖSSZESEN (=G+H+I+J) | B39: 1033251952 | C39: 1156200558
A42: Kistérségi Egyesített Szociális Intézmény | E42: Mosonmagyaróvár Térségi Társulás és intézményei összevont vagyonmérlege
A44: Megnevezés | B44: Előző időszak 2023.12.31 | C44: Tárgyi időszak 2024.12.31 | E44: Megnevezés | F44: Előző időszak 2023.12.31 | G44: Tárgyi időszak 2024.12.31
A45: A/I/2 Szellemi termékek | B45: 0 | C45: 1396901 | E45: A/I/2 Szellemi termékek | F45: 0 | G45: 1396901
A46: A/I Immateriális javak (=A/I/1+A/I/2+A/I/3) | B46: 0 | C46: 1396901 | E46: A/I Immateriális javak (=A/I/1+A/I/2+A/I/3) | F46: 0 | G46: 1396901
A47: A/II/1 Ingatlanok és a kapcsolódó vagyoni értékű jogok | B47: 214200 | C47: 214200 | E47: A/II/1 Ingatlanok és a kapcsolódó vagyoni értékű jogok | F47: 748950238 | G47: 754738112
A48: A/II/2 Gépek, berendezések, felszerelések, járművek | B48: 6701811 | C48: 11688104 | E48: A/II/2 Gépek, berendezések, felszerelések, járművek | F48: 11029698 | G48: 15013765
A49: A/II Tárgyi eszközök (=A/II/1+...+A/II/5) | B49: 6916011 | C49: 11902304 | E49: A/II/4 Beruházások, felújítások | F49: 12711199 | G49: 14574199
A50: A) NEMZETI VAGYONBA TARTOZÓ BEFEKTETETT ESZKÖZÖK (=A/I+A/II+A/III+A/IV) | B50: 6916011 | C50: 13299205 | E50: A/II Tárgyi eszközök (=A/II/1+...+A/II/5) | F50: 772691135 | G50: 784326076
A51: B/I/1 Vásárolt készletek | B51: 4603483 | C51: 5586493 | E51: A) NEMZETI VAGYONBA TARTOZÓ BEFEKTETETT ESZKÖZÖK (=A/I+A/II+A/III+A/IV) | F51: 772691135 | G51: 785722977
A52: B/I Készletek (=B/I/1+…+B/I/5) | B52: 4603483 | C52: 5586493 | E52: B/I/1 Vásárolt készletek | F52: 4603483 | G52: 5586493
A53: B) NEMZETI VAGYONBA TARTOZÓ FORGÓESZKÖZÖK (= B/I+B/II) | B53: 4603483 | C53: 5586493 | E53: B/I Készletek (=B/I/1+…+B/I/5) | F53: 4603483 | G53: 5586493
A54: C/II/1 Forintpénztár | B54: 1740025 | C54: 1812770 | E54: B) NEMZETI VAGYONBA TARTOZÓ FORGÓESZKÖZÖK (= B/I+B/II) | F54: 4603483 | G54: 5586493
A55: C/II/3 Betétkönyvek, csekkek, elektronikus pénzeszközök | B55: 119971 | C55: 119971 | E55: C/II/1 Forintpénztár | F55: 1918095 | G55: 1965340
A56: C/II Pénztárak, csekkek, betétkönyvek (=C/II/1+C/II/2+C/II/3) | B56: 1859996 | C56: 1932741 | E56: C/II/3 Betétkönyvek, csekkek, elektronikus pénzeszközök | F56: 119971 | G56: 119971
... A92: FORRÁSOK ÖSSZESEN (=G+H+I+J) | B92: 99506103 | C92: 132599453 | E92: H/I Költségvetési évben esedékes kötelezettségek (=H/I/1+…+H/I/9) | F92: 11945304 | G92: 32372765
E93: H/III/1 Kapott előlegek | F93: 109900 | G93: 182165
E94: H/III/7 Letétre, megőrzésre, fedezetkezelésre átvett pénzeszközök, biztosítékok | F94: 4808066 | G94: 3470311
E95: H/III Kötelezettség jellegű sajátos elszámolások (=H/III/1+…+H/III/10) | F95: 4917966 | G95: 3652476
E96: H) KÖTELEZETTSÉGEK (=H/I+H/II+H/III) | F96: 16863270 | G96: 36025241
E97: J/2 Költségek, ráfordítások passzív időbeli elhatárolása | F97: 100986853 | G97: 104211070
E98: J/3 Halasztott eredményszemléletű bevételek | F98: 259177562 | G98: 278323030
E99: J) PASSZÍV IDŐBELI ELHATÁROLÁSOK (=J/1+J/2+J/3) | F99: 360164415 | G99: 382534100
E100: FORRÁSOK ÖSSZESEN (=G+H+I+J) | F100: 1147402942 | G100: 1303860576

Sheet Eredménykimutatás
A1: MOSONMAGYARÓVÁR TÉRSÉGI TÁRSULÁS
A2: ÉS IRÁNYÍTÁSA ALÁ TARTOZÓ INTÉZMÉNYEK
A3: 2024. ÉVI KÖLTSÉGVETÉSÉNEK VÉGREHAJTÁSA
A4: EREDMÉNYKIMUTATÁS
G5: 18. melléklet
A6: Mosonmagyaróvár Térségi Társulás | E6: Család- és Gyermekjóléti Központ
A8: Megnevezés | B8: Előző időszak 2023.12.31 | C8: Tárgyi időszak 2024.12.31 | E8: Megnevezés | F8: Előző időszak 2023.12.31 | G8: Tárgyi időszak 2024.12.31
A9: 02 Eszközök és szolgáltatások értékesítése nettó eredményszemléletű bevételei | B9: 7098862 | C9: 6498924 | E9: 02 Eszközök és szolgáltatások értékesítése nettó eredményszemléletű bevételei | F9: 2619138 | G9: 1464706
A10: I Tevékenység nettó eredményszemléletű bevétele (=01+02+03) | B10: 7098862 | C10: 6498924 | E10: I Tevékenység nettó eredményszemléletű bevétele (=01+02+03) | F10: 2619138 | G10: 1464706
A11: 07 Egyéb működési célú támogatások eredményszemléletű bevételei | B11: 1295624908 | C11: 1619013725 | E11: 06 Központi működési célú támogatások eredményszemléletű bevételei | F11: 363232823 | G11: 444893623
A12: 08 Felhalmozási célú támogatások eredményszemléletű bevételei | B12: 6019221 | C12: 17513270 | E12: 07 Egyéb működési célú támogatások eredményszemléletű bevételei | F12: 4769200 | G12: 6153400
A13: 09 Különféle egyéb eredményszemléletű bevételek | B13: 518697 | C13: 1885 | E13: 09 Különféle egyéb eredményszemléletű bevételek | F13: 3046947 | G13: 2655425
A14: III Egyéb eredményszemléletű bevételek (=06+07+08+09) | B14: 1302162826 | C14: 1636528880 | E14: III Egyéb eredményszemléletű bevételek (=06+07+08+09) | F14: 371048970 | G14: 453702448
A15: 11 Igénybe vett szolgáltatások értéke | B15: 2658363 | C15: 4118541 | E15: 10 Anyagköltség | F15: 4307232 | G15: 3656582
A16: 13 Eladott (közvetített) szolgáltatások értéke | B16: 49389 | C16: 22055 | E16: 11 Igénybe vett szolgáltatások értéke | F16: 24100927 | G16: 28519198
A17: IV Anyagjellegű ráfordítások (=10+11+12+13) | B17: 2707752 | C17: 4140596 | E17: 13 Eladott (közvetített) szolgáltatások értéke | F17: 0 | G17: 4016
A18: 15 Személyi jellegű egyéb kifizetések | B18: 512794 | C18: 563125 | E18: IV Anyagjellegű ráfordítások (=10+11+12+13) | F18: 28408159 | G18: 32179796
A19: 16 Bérjárulékok | B19: 162017 | C19: 197484 | E19: 14 Bérköltség | F19: 271696841 | G19: 337719470
A20: V Személyi jellegű ráfordítások (=14+15+16) | B20: 674811 | C20: 760609 | E20: 15 Személyi jellegű egyéb kifizetések | F20: 22345245 | G20: 27809963
... A26: B) PÉNZÜGYI MŰVELETEK EREDMÉNYE (=VIII-IX) | B26: 14679257 | C26: 7427972 | E26: C) MÉRLEG SZERINTI EREDMÉNY (=±A±B) | F26: 583450 | G26: -5369413
A27: C) MÉRLEG SZERINTI EREDMÉNY (=±A±B) | B27: 98772600 | C27: 103814380
A30: Kistérségi Egyesített Szociális Intézmény | E30: Mosonmagyaróvár Térségi Társulás és intézményei összevont eredménykimutatása
A32: Megnevezés | B32: Előző időszak 2023.12.31 | C32: Tárgyi időszak 2024.12.31 | E32: Megnevezés | F32: Előző időszak 2023.12.31 | G32: Tárgyi időszak 2024.12.31
A33: 02 Eszközök és szolgáltatások értékesítése nettó eredményszemléletű bevételei | B33: 381826522 | C33: 413306374 | E33: 02 Eszközök és szolgáltatások értékesítése nettó eredményszemléletű bevételei | F33: 391544522 | G33: 421270004
A34: I Tevékenység nettó eredményszemléletű bevétele (=01+02+03) | B34: 381826522 | C34: 413306374 | E34: I Tevékenység nettó eredményszemléletű bevétele (=01+02+03) | F34: 391544522 | G34: 421270004
A35: 06 Központi működési célú támogatások eredményszemléletű bevételei | B35: 820788773 | C35: 1061284928 | E35: 06 Központi működési célú támogatások eredményszemléletű bevételei | F35: 1184021596 | G35: 1506178551
A36: 07 Egyéb működési célú támogatások eredményszemléletű bevételei | B36: 4970845 | C36: 7206710 | E36: 07 Egyéb működési célú támogatások eredményszemléletű bevételei | F36: 1305364953 | G36: 1632373835
A37: 09 Különféle egyéb eredményszemléletű bevételek | B37: 6458539 | C37: 7026702 | E37: 08 Felhalmozási célú támogatások eredményszemléletű bevételei | F37: 6019221 | G37: 17513270
A38: III Egyéb eredményszemléletű bevételek (=06+07+08+09) | B38: 832218157 | C38: 1075518340 | E38: 09 Különféle egyéb eredményszemléletű bevételek | F38: 10024183 | G38: 9684012
A39: 10 Anyagköltség | B39: 105610425 | C39: 36136761 | E39: III Egyéb eredményszemléletű bevételek (=06+07+08+09) | F39: 2505429953 | G39: 3165749668
A40: 11 Igénybe vett szolgáltatások értéke | B40: 190350717 | C40: 389414005 | E40: 10 Anyagköltség | F40: 109917657 | G40: 39793343
A41: 13 Eladott (közvetített) szolgáltatások értéke | B41: 5004886 | C41: 1467143 | E41: 11 Igénybe vett szolgáltatások értéke | F41: 217110007 | G41: 422051744
A42: IV Anyagjellegű ráfordítások (=10+11+12+13) | B42: 300966028 | C42: 427017909 | E42: 13 Eladott (közvetített) szolgáltatások értéke | F42: 5054275 | G42: 1493214
A43: 14 Bérköltség | B43: 693483044 | C43: 771373906 | E43: IV Anyagjellegű ráfordítások (=10+11+12+13) | F43: 332081939 | G43: 463338301
A44: 15 Személyi jellegű egyéb kifizetések | B44: 54175807 | C44: 70851020 | E44: 14 Bérköltség | F44: 965179885 | G44: 1109093376
... A50: C) MÉRLEG SZERINTI EREDMÉNY (=±A±B) | B50: 11395331 | C50: 16481011 | E50: A) TEVÉKENYSÉGEK EREDMÉNYE (=I±II+III-IV-V-VI-VII) | F50: 96072124 | G50: 107498006
E51: 20 Egyéb kapott (járó) kamatok és kamatjellegű eredményszemléletű bevételek | F51: 14679257 | G51: 7427972
E52: VIII Pénzügyi műveletek eredményszemléletű bevételei (=17+18+19+20+21) | F52: 14679257 | G52: 7427972
E53: B) PÉNZÜGYI MŰVELETEK EREDMÉNYE (=VIII-IX) | F53: 14679257 | G53: 7427972
E54: C) MÉRLEG SZERINTI EREDMÉNY (=±A±B) | F54: 110751381 | G54: 114925978

Sheet Maradványkimutatás
A1: MOSONMAGYARÓVÁR TÉRSÉGI TÁRSULÁS
A2: ÉS IRÁNYÍTÁSA ALÁ TARTOZÓ INTÉZMÉNYEK
A3: 2024. ÉVI KÖLTSÉGVETÉSÉNEK VÉGREHAJTÁSA
A4: MARADVÁNYKIMUTATÁSA 2024. DECEMBER 31-ÉN
F5: 19. melléklet
A7: Mosonmagyaróvár Térségi Társulás | E7: Család- és Gyermekjóléti Központ
A9: Megnevezés | B9: Összeg 2024.12.31 | E9: Megnevezés | F9: Összeg 2024.12.31
A10: 01 Alaptevékenység költségvetési bevételei | B10: 1669607184 | E10: 01 Alaptevékenység költségvetési bevételei | F10: 10059548
A11: 02 Alaptevékenység költségvetési kiadásai | B11: 47568120 | E11: 02 Alaptevékenység költségvetési kiadásai | F11: 454237497
A12: I Alaptevékenység költségvetési egyenlege (=01-02) | B12: 1622039064 | E12: I Alaptevékenység költségvetési egyenlege (=01-02) | F12: -444177949
A13: 03 Alaptevékenység finanszírozási bevételei | B13: 270340454 | E13: 03 Alaptevékenység finanszírozási bevételei | F13: 456336670
A14: 04 Alaptevékenység finanszírozási kiadásai | B14: 1506178551 | E14: II Alaptevékenység finanszírozási egyenlege (=03-04) | F14: 456336670
A15: II Alaptevékenység finanszírozási egyenlege (=03-04) | B15: -1235838097 | E15: A) Alaptevékenység maradványa (=±I±II) | F15: 12158721
A16: A) Alaptevékenység maradványa (=±I±II) | B16: 386200967 | E16: C) Összes maradvány (=A+B) | F16: 12158721
A17: C) Összes maradvány (=A+B) | B17: 386200967 | E17: E) Alaptevékenység szabad maradványa (=A-D) | F17: 12158721
A18: E) Alaptevékenység szabad maradványa (=A-D) | B18: 386200967
A21: Kistérségi Egyesített Szociális Intézmény | E21: Mosonmagyaróvár Térségi Társulás és intézményei összevont maradványkimutatása
A23: Megnevezés | B23: Összeg 2024.12.31 | E23: Megnevezés | F23: Összeg 2024.12.31
A24: 01 Alaptevékenység költségvetési bevételei | B24: 460554221 | E24: 01 Alaptevékenység költségvetési bevételei | F24: 2140220953
A25: 02 Alaptevékenység költségvetési kiadásai | B25: 1496466452 | E25: 02 Alaptevékenység költségvetési kiadásai | F25: 1998272069
A26: I Alaptevékenység költségvetési egyenlege (=01-02) | B26: -1035912231 | E26: I Alaptevékenység költségvetési egyenlege (=01-02) | F26: 141948884
A27: 03 Alaptevékenység finanszírozási bevételei | B27: 1133937146 | E27: 03 Alaptevékenység finanszírozási bevételei | F27: 1860614270
A28: II Alaptevékenység finanszírozási egyenlege (=03-04) | B28: 1133937146 | E28: 04 Alaptevékenység finanszírozási kiadásai | F28: 1506178551
A29: A) Alaptevékenység maradványa (=±I±II) | B29: 98024915 | E29: II Alaptevékenység finanszírozási egyenlege (=03-04) | F29: 354435719
A30: C) Összes maradvány (=A+B) | B30: 98024915 | E30: A) Alaptevékenység maradványa (=±I±II) | F30: 496384603
A31: E) Alaptevékenység szabad maradványa (=A-D) | B31: 98024915 | E31: C) Összes maradvány (=A+B) | F31: 496384603
E32: E) Alaptevékenység szabad maradványa (=A-D) | F32: 496384603

Sheet Bevételek korm.funkciónként
A1: MOSONMAGYARÓVÁR TÉRSÉGI TÁRSULÁS
A2: ÉS IRÁNYÍTÁSA ALÁ TARTOZÓ INTÉZMÉNYEK
A3: 2024. ÉVI KÖLTSÉGVETÉSÉNEK VÉGREHAJTÁSA
A4: BEVÉTELEK ALAKULÁSA 2024. DECEMBER 31-ÉN
F6: 20. melléklet
A7: Mosonmagyaróvár Térségi Társulás
A9: Megnevezés | B9: Összesen | C9: 011130 Önkormányzatok és önkormányzati hivatalok jogalkotó és általános igazgatási tevékenysége | D9: 018030 Támogatási célú finanszírozási műveletek | E9: 102023 Időskorúak tartós bentlakásos ellátása | F9: 999999 Kormányzati funkcióra fel nem osztott tevékenységek kiadásai és bevételei
A10: Egyéb működési célú támogatások bevételei államháztartáson belülről (=35+…+44) (B16) | B10: 1619013725 | C10: 0 | D10: 1619013725 | E10: 0 | F10: 0
A11: ebből: egyéb fejezeti kezelésű előirányzatok (B16) | B11: 6404000 | C11: 0 | D11: 6404000 | E11: 0 | F11: 0
A12: ebből: helyi önkormányzatok és költségvetési szerveik (B16) | B12: 1612609725 | C12: 0 | D12: 1612609725 | E12: 0 | F12: 0
A13: Működési célú támogatások államháztartáson belülről (=09+...+12+23+34) (B1) | B13: 1619013725 | C13: 0 | D13: 1619013725 | E13: 0 | F13: 0
A14: Egyéb felhalmozási célú támogatások bevételei államháztartáson belülről (=71+…+80) (B25) | B14: 36658738 | C14: 0 | D14: 36658738 | E14: 0 | F14: 0
A15: ebből: helyi önkormányzatok és költségvetési szerveik (B25) | B15: 36658738 | C15: 0 | D15: 36658738 | E15: 0 | F15: 0
A16: Felhalmozási célú támogatások államháztartáson belülről (=46+47+48+59+70) (B2) | B16: 36658738 | C16: 0 | D16: 36658738 | E16: 0 | F16: 0
A17: Közvetített szolgáltatások ellenértéke (>=188) (B403) | B17: 214000 | C17: 214000 | D17: 0 | E17: 0 | F17: 0
A18: ebből: államháztartáson belül (B403) | B18: 214000 | C18: 214000 | D18: 0 | E18: 0 | F18: 0
A19: Ellátási díjak (B405) | B19: 6284924 | C19: 0 | D19: 0 | E19: 6284924 | F19: 0
A20: Kiszámlázott általános forgalmi adó (B406) | B20: 5940 | C20: 5940 | D20: 0 | E20: 0 | F20: 0
A21: Egyéb kapott (járó) kamatok és kamatjellegű bevételek (>=204+205+206) (B4082) | B21: 7427972 | C21: 7427972 | D21: 0 | E21: 0 | F21: 0
... A30: Bevételek összesen (=283+314) (B1-B8) | B30: 1939947638 | C30: 7649797 | D30: 1926012917 | E30: 6284924 | F30: 0
A33: Család- és Gyermekjóléti Központ
A35: Megnevezés | B35: Összesen | C35: 018030 Támogatási célú finanszírozási műveletek | D35: 104012 Gyermekek átmeneti ellátása | E35: 104042 Család és gyermekjóléti szolgáltatások | F35: 104043 Család és gyermekjóléti központ | G35: 999999 Kormányzati funkcióra fel nem osztott tevékenységek kiadásai és bevételei
A36: Egyéb működési célú támogatások bevételei államháztartáson belülről (=35+…+44) (B16) | B36: 4973400 | C36: 1000000 | D36: 0 | E36: 3173400 | F36: 800000 | G36: 0
A37: ebből: egyéb fejezeti kezelésű előirányzatok (B16) | B37: 3173400 | C37: 0 | D37: 0 | E37: 3173400 | F37: 0 | G37: 0
A38: ebből: helyi önkormányzatok és költségvetési szerveik (B16) | B38: 1800000 | C38: 1000000 | D38: 0 | E38: 0 | F38: 800000 | G38: 0
A39: Működési célú támogatások államháztartáson belülről (=09+...+12+23+34) (B1) | B39: 4973400 | C39: 1000000 | D39: 0 | E39: 3173400 | F39: 800000 | G39: 0
A40: Közvetített szolgáltatások ellenértéke (>=188) (B403) | B40: 4016 | C40: 0 | D40: 0 | E40: 0 | F40: 4016 | G40: 0
A41: Ellátási díjak (B405) | B41: 1293400 | C41: 0 | D41: 1293400 | E41: 0 | F41: 0 | G41: 0
A42: Egyéb működési bevételek (>=217+218) (B411) | B42: 2608732 | C42: 0 | D42: 64786 | E42: 34720 | F42: 2509226 | G42: 0
A43: Működési bevételek (=183+184+187+189+196+197+198+207+214+215+216) (B4) | B43: 3906148 | C43: 0 | D43: 1358186 | E43: 34720 | F43: 2513242 | G43: 0
A44: Egyéb működési célú átvett pénzeszközök (=245…+255) (B65) | B44: 1180000 | C44: 0 | D44: 0 | E44: 0 | F44: 1180000 | G44: 0
A45: ebből: egyéb civil szervezetek (B65) | B45: 1180000 | C45: 0 | D45: 0 | E45: 0 | F45: 1180000 | G45: 0
A46: Működési célú átvett pénzeszközök (=231+...+234+244) (B6) | B46: 1180000 | C46: 0 | D46: 0 | E46: 0 | F46: 1180000 | G46: 0
A47: Költségvetési bevételek (=45+81+182+219+230+256+282) (B1-B7) | B47: 10059548 | C47: 1000000 | D47: 1358186 | E47: 3208120 | F47: 4493242 | G47: 0
... A53: Bevételek összesen (=283+314) (B1-B8) | B53: 466396218 | C53: 457336670 | D53: 1358186 | E53: 3208120 | F53: 4493242 | G53: 0
A56: Kistérségi Egyesített Szociális Intézmény
A58: Megnevezés | B58: Összesen | C58: 018030 Támogatási célú finanszírozási műveletek | D58: 041233 Hosszabb időtartamú közfoglalkoztatás | E58: 101221 Fogyatékossággal élők nappali ellátása | F58: 102023 Időskorúak tartós bentlakásos ellátása | G58: 102024 Demens betegek tartós bentlakásos ellátása | H58: 102025 Időskorúak átmeneti ellátása | I58: 102026 Demens betegek átmeneti ellátása | J58: 102031 Idősek nappali ellátása | K58: 102032 Demens betegek nappali ellátása | L58: 107013 Hajléktalanok átmeneti ellátása | M58: 107030 Szociális foglalkoztatás, fejlesztő foglalkoztatás | N58: 107051 Szociális étkeztetés szociális konyhán | O58: 107052 Házi segítségnyújtás | P58: 107053 Jelzőrendszeres házi segítségnyújtás | Q58: 999999 Kormányzati funkcióra fel nem osztott tevékenységek kiadásai és bevételei
A59: Egyéb működési célú támogatások bevételei államháztartáson belülről (=35+…+44) (B16) | B59: 1886517 | C59: 1500000 | D59: 271517 | E59: 0 | F59: 115000 | G59: 0 | H59: 0 | I59: 0 | J59: 0 | K59: 0 | L59: 0 | M59: 0 | N59: 0 | O59: 0 | P59: 0 | Q59: 0
A60: ebből: elkülönített állami pénzalapok (B16) | B60: 271517 | C60: 0 | D60: 271517 | E60: 0 | F60: 0 | G60: 0 | H60: 0 | I60: 0 | J60: 0 | K60: 0 | L60: 0 | M60: 0 | N60: 0 | O60: 0 | P60: 0 | Q60: 0
A61: ebből: helyi önkormányzatok és költségvetési szerveik (B16) | B61: 1615000 | C61: 1500000 | D61: 0 | E61: 0 | F61: 115000 | G61: 0 | H61: 0 | I61: 0 | J61: 0 | K61: 0 | L61: 0 | M61: 0 | N61: 0 | O61: 0 | P61: 0 | Q61: 0
A62: Működési célú támogatások államháztartáson belülről (=09+...+12+23+34) (B1) | B62: 1886517 | C62: 1500000 | D62: 271517 | E62: 0 | F62: 115000 | G62: 0 | H62: 0 | I62: 0 | J62: 0 | K62: 0 | L62: 0 | M62: 0 | N62: 0 | O62: 0 | P62: 0 | Q62: 0
A63: Készletértékesítés ellenértéke (B401) | B63: 1125437 | C63: 0 | D63: 0 | E63: 0 | F63: 0 | G63: 0 | H63: 0 | I63: 0 | J63: 0 | K63: 0 | L63: 0 | M63: 1125437 | N63: 0 | O63: 0 | P63: 0 | Q63: 0
A64: Szolgáltatások ellenértéke (>=185+186) (B402) | B64: 24583272 | C64: 0 | D64: 0 | E64: 0 | F64: 5614326 | G64: 0 | H64: 410600 | I64: 0 | J64: 18479212 | K64: 0 | L64: 0 | M64: 79134 | N64: 0 | O64: 0 | P64: 0 | Q64: 0
A65: Közvetített szolgáltatások ellenértéke (>=188) (B403) | B65: 1550115 | C65: 0 | D65: 0 | E65: 0 | F65: 1530115 | G65: 0 | H65: 0 | I65: 0 | J65: 0 | K65: 0 | L65: 0 | M65: 0 | N65: 0 | O65: 0 | P65: 20000 | Q65: 0
A66: ebből: államháztartáson belül (B403) | B66: 1550115 | C66: 0 | D66: 0 | E66: 0 | F66: 1530115 | G66: 0 | H66: 0 | I66: 0 | J66: 0 | K66: 0 | L66: 0 | M66: 0 | N66: 0 | O66: 0 | P66: 20000 | Q66: 0
A67: Ellátási díjak (B405) | B67: 388260250 | C67: 0 | D67: 0 | E67: 5693700 | F67: 116374590 | G67: 66737080 | H67: 33533420 | I67: 29405680 | J67: 3406659 | K67: 13665309 | L67: 10038720 | M67: 0 | N67: 68339629 | O67: 32719070 | P67: 8346393 | Q67: 0
A68: Kiszámlázott általános forgalmi adó (B406) | B68: 19689370 | C68: 0 | D68: 0 | E68: 781 | F68: 489234 | G68: 0 | H68: 4100 | I68: 0 | J68: 81302 | K68: 319812 | L68: 0 | M68: 325696 | N68: 18451305 | O68: 11740 | P68: 5400 | Q68: 0
A69: Általános forgalmi adó visszatérítése (B407) | B69: 10170000 | C69: 0 | D69: 0 | E69: 0 | F69: 0 | G69: 0 | H69: 0 | I69: 0 | J69: 0 | K69: 0 | L69: 0 | M69: 0 | N69: 10170000 | O69: 0 | P69: 0 | Q69: 0
A70: Egyéb működési bevételek (>=217+218) (B411) | B70: 7969067 | C70: 0 | D70: 0 | E70: 108179 | F70: 2306049 | G70: 0 | H70: 18483 | I70: 0 | J70: 2929341 | K70: 28358 | L70: 2496937 | M70: 1728 | N70: 16679 | O70: 63313 | P70: 0 | Q70: 0
... A81: Bevételek összesen (=283+314) (B1-B8) | B81: 1594491367 | C81: 1135437146 | D81: 271517 | E81: 5952660 | F81: 126950507 | G81: 66737080 | H81: 33966603 | I81: 29405680 | J81: 24896514 | K81: 14013479 | L81: 17184657 | M81: 1531995 | N81: 96977613 | O81: 32794123 | P81: 8371793 | Q81: 0
A84: Mosonmagyaróvár Térségi Társulás összevont
A86: Megnevezés | B86: Összesen | C86: 011130 Önkormányzatok és önkormányzati hivatalok jogalkotó és általános igazgatási tevékenysége | D86: 018030 Támogatási célú finanszírozási műveletek | E86: 041233 Hosszabb időtartamú közfoglalkoztatás | F86: 101221 Fogyatékossággal élők nappali ellátása | G86: 102023 Időskorúak tartós bentlakásos ellátása | H86: 102024 Demens betegek tartós bentlakásos ellátása | I86: 102025 Időskorúak átmeneti ellátása | J86: 102026 Demens betegek átmeneti ellátása | K86: 102031 Idősek nappali ellátása | L86: 102032 Demens betegek nappali ellátása | M86: 104012 Gyermekek átmeneti ellátása | N86: 104042 Család és gyermekjóléti szolgáltatások | O86: 104043 Család és gyermekjóléti központ | P86: 107013 Hajléktalanok átmeneti ellátása | Q86: 107030 Szociális foglalkoztatás, fejlesztő foglalkoztatás | R86: 107051 Szociális étkeztetés szociális konyhán | S86: 107052 Házi segítségnyújtás | T86: 107053 Jelzőrendszeres házi segítségnyújtás | U86: 999999 Kormányzati funkcióra fel nem osztott tevékenységek kiadásai és bevételei
A87: Egyéb működési célú támogatások bevételei államháztartáson belülről (=35+…+44) (B16) | B87: 1625873642 | C87: 0 | D87: 1621513725 | E87: 271517 | F87: 0 | G87: 115000 | H87: 0 | I87: 0 | J87: 0 | K87: 0 | L87: 0 | M87: 0 | N87: 3173400 | O87: 800000 | P87: 0 | Q87: 0 | R87: 0 | S87: 0 | T87: 0 | U87: 0
A88: ebből: egyéb fejezeti kezelésű előirányzatok (B16) | B88: 9577400 | C88: 0 | D88: 6404000 | E88: 0 | F88: 0 | G88: 0 | H88: 0 | I88: 0 | J88: 0 | K88: 0 | L88: 0 | M88: 0 | N88: 3173400 | O88: 0 | P88: 0 | Q88: 0 | R88: 0 | S88: 0 | T88: 0 | U88: 0
A89: ebből: elkülönített állami pénzalapok (B16) | B89: 271517 | C89: 0 | D89: 0 | E89: 271517 | F89: 0 | G89: 0 | H89: 0 | I89: 0 | J89: 0 | K89: 0 | L89: 0 | M89: 0 | N89: 0 | O89: 0 | P89: 0 | Q89: 0 | R89: 0 | S89: 0 | T89: 0 | U89: 0
A90: ebből: helyi önkormányzatok és költségvetési szerveik (B16) | B90: 1616024725 | C90: 0 | D90: 1615109725 | E90: 0 | F90: 0 | G90: 115000 | H90: 0 | I90: 0 | J90: 0 | K90: 0 | L90: 0 | M90: 0 | N90: 0 | O90: 800000 | P90: 0 | Q90: 0 | R90: 0 | S90: 0 | T90: 0 | U90: 0
A91: Működési célú támogatások államháztartáson belülről (=09+...+12+23+34) (B1) | B91: 1625873642 | C91: 0 | D91: 1621513725 | E91: 271517 | F91: 0 | G91: 115000 | H91: 0 | I91: 0 | J91: 0 | K91: 0 | L91: 0 | M91: 0 | N91: 3173400 | O91: 800000 | P91: 0 | Q91: 0 | R91: 0 | S91: 0 | T91: 0 | U91: 0
A92: Egyéb felhalmozási célú támogatások bevételei államháztartáson belülről (=71+…+80) (B25) | B92: 36658738 | C92: 0 | D92: 36658738 | E92: 0 | F92: 0 | G92: 0 | H92: 0 | I92: 0 | J92: 0 | K92: 0 | L92: 0 | M92: 0 | N92: 0 | O92: 0 | P92: 0 | Q92: 0 | R92: 0 | S92: 0 | T92: 0 | U92: 0
A93: ebből: helyi önkormányzatok és költségvetési szerveik (B25) | B93: 36658738 | C93: 0 | D93: 36658738 | E93: 0 | F93: 0 | G93: 0 | H93: 0 | I93: 0 | J93: 0 | K93: 0 | L93: 0 | M93: 0 | N93: 0 | O93: 0 | P93: 0 | Q93: 0 | R93: 0 | S93: 0 | T93: 0 | U93: 0
A94: Felhalmozási célú támogatások államháztartáson belülről (=46+47+48+59+70) (B2) | B94: 36658738 | C94: 0 | D94: 36658738 | E94: 0 | F94: 0 | G94: 0 | H94: 0 | I94: 0 | J94: 0 | K94: 0 | L94: 0 | M94: 0 | N94: 0 | O94: 0 | P94: 0 | Q94: 0 | R94: 0 | S94: 0 | T94: 0 | U94: 0
A95: Készletértékesítés ellenértéke (B401) | B95: 1125437 | C95: 0 | D95: 0 | E95: 0 | F95: 0 | G95: 0 | H95: 0 | I95: 0 | J95: 0 | K95: 0 | L95: 0 | M95: 0 | N95: 0 | O95: 0 | P95: 0 | Q95: 1125437 | R95: 0 | S95: 0 | T95: 0 | U95: 0
A96: Szolgáltatások ellenértéke (>=185+186) (B402) | B96: 24583272 | C96: 0 | D96: 0 | E96: 0 | F96: 0 | G96: 5614326 | H96: 0 | I96: 410600 | J96: 0 | K96: 18479212 | L96: 0 | M96: 0 | N96: 0 | O96: 0 | P96: 0 | Q96: 79134 | R96: 0 | S96: 0 | T96: 0 | U96: 0
A97: Közvetített szolgáltatások ellenértéke (>=188) (B403) | B97: 1768131 | C97: 214000 | D97: 0 | E97: 0 | F97: 0 | G97: 1530115 | H97: 0 | I97: 0 | J97: 0 | K97: 0 | L97: 0 | M97: 0 | N97: 0 | O97: 4016 | P97: 0 | Q97: 0 | R97: 0 | S97: 0 | T97: 20000 | U97: 0
A98: ebből: államháztartáson belül (B403) | B98: 1764115 | C98: 214000 | D98: 0 | E98: 0 | F98: 0 | G98: 1530115 | H98: 0 | I98: 0 | J98: 0 | K98: 0 | L98: 0 | M98: 0 | N98: 0 | O98: 0 | P98: 0 | Q98: 0 | R98: 0 | S98: 0 | T98: 20000 | U98: 0
... A115: Bevételek összesen (=283+314) (B1-B8) | B115: 4000835223 | C115: 7649797 | D115: 3518786733 | E115: 271517 | F115: 5952660 | G115: 133235431 | H115: 66737080 | I115: 33966603 | J115: 29405680 | K115: 24896514 | L115: 14013479 | M115: 1358186 | N115: 3208120 | O115: 4493242 | P115: 17184657 | Q115: 1531995 | R115: 96977613 | S115: 32794123 | T115: 8371793 | U115: 0

Sheet Kiadások korm.funkciónként
A1: MOSONMAGYARÓVÁR TÉRSÉGI TÁRSULÁS
A2: ÉS IRÁNYÍTÁSA ALÁ TARTOZÓ INTÉZMÉNYEK
A3: 2024. ÉVI KÖLTSÉGVETÉSÉNEK VÉGREHAJTÁSA
A4: KIADÁSOK ALAKULÁSA KORMÁNYZATI FUNKCIÓNKÉNT 2024. DECEMBER 31-ÉN
G5: 21. melléklet
A6: Mosonmagyaróvár Térségi Társulás
A8: Megnevezés | B8: Összesen | C8: 011130 Önkormányzatok és önkormányzati hivatalok jogalkotó és általános igazgatási tevékenysége | D8: 013350 Az önkormányzati vagyonnal való gazdálkodással kapcsolatos feladatok | E8: 018030 Támogatási célú finanszírozási műveletek | F8: 084032 Civil szervezetek programtámogatása | G8: 999999 Kormányzati funkcióra fel nem osztott tevékenységek kiadásai és bevételei
A9: Egyéb külső személyi juttatások (K123) | B9: 576885 | C9: 576885 | D9: 0 | E9: 0 | F9: 0 | G9: 0
A10: Külső személyi juttatások (=16+17+18) (K12) | B10: 576885 | C10: 576885 | D10: 0 | E10: 0 | F10: 0 | G10: 0
A11: Személyi juttatások (=15+19) (K1) | B11: 576885 | C11: 576885 | D11: 0 | E11: 0 | F11: 0 | G11: 0
A12: Munkaadókat terhelő járulékok és szociális hozzájárulási adó (=22+…+27) (K2) | B12: 191251 | C12: 191251 | D12: 0 | E12: 0 | F12: 0 | G12: 0
A13: ebből: szociális hozzájárulási adó (K2) | B13: 96295 | C13: 96295 | D13: 0 | E13: 0 | F13: 0 | G13: 0
A14: ebből: munkáltatót terhelő személyi jövedelemadó (K2) | B14: 94956 | C14: 94956 | D14: 0 | E14: 0 | F14: 0 | G14: 0
A15: Informatikai szolgáltatások igénybevétele (K321) | B15: 12000 | C15: 12000 | D15: 0 | E15: 0 | F15: 0 | G15: 0
A16: Kommunikációs szolgáltatások (=32+33) (K32) | B16: 12000 | C16: 12000 | D16: 0 | E16: 0 | F16: 0 | G16: 0
A17: Karbantartási, kisjavítási szolgáltatások (K334) | B17: 594596 | C17: 0 | D17: 594596 | E17: 0 | F17: 0 | G17: 0
A18: Közvetített szolgáltatások (>=45) (K335) | B18: 22000 | C18: 22000 | D18: 0 | E18: 0 | F18: 0 | G18: 0
A19: ebből: államháztartáson belül (K335) | B19: 22000 | C19: 22000 | D19: 0 | E19: 0 | F19: 0 | G19: 0
A20: Egyéb szolgáltatások (>=48) (K337) | B20: 3510145 | C20: 3510145 | D20: 0 | E20: 0 | F20: 0 | G20: 0
... A39: Kiadások összesen (=273+311) (K1-K9) | B39: 1553746671 | C39: 4617530 | D39: 30726228 | E39: 1517552913 | F39: 850000 | G39: 0
A42: Család- és Gyermekjóléti Központ
A44: Megnevezés | B44: Összesen | C44: 104012 Gyermekek átmeneti ellátása | D44: 104042 Család és gyermekjóléti szolgáltatások | E44: 104043 Család és gyermekjóléti központ | F44: 999999 Kormányzati funkcióra fel nem osztott tevékenységek kiadásai és bevételei
A45: Törvény szerinti illetmények, munkabérek (K1101) | B45: 302472599 | C45: 36625330 | D45: 124097605 | E45: 141749664 | F45: 0
A46: Céljuttatás, projektprémium (K1103) | B46: 26248013 | C46: 2562614 | D46: 10373416 | E46: 13311983 | F46: 0
A47: Készenléti, ügyeleti, helyettesítési díj, túlóra, túlszolgálat (K1104) | B47: 4078293 | C47: 2697043 | D47: 906250 | E47: 475000 | F47: 0
A48: Jubileumi jutalom (K1106) | B48: 1467000 | C48: 0 | D48: 0 | E48: 1467000 | F48: 0
A49: Béren kívüli juttatások (K1107) | B49: 11994071 | C49: 1504092 | D49: 4760983 | E49: 5728996 | F49: 0
A50: Közlekedési költségtérítés (K1109) | B50: 6389195 | C50: 215364 | D50: 4125779 | E50: 2048052 | F50: 0
A51: Foglalkoztatottak egyéb személyi juttatásai (>=14) (K1113) | B51: 6475548 | C51: 734029 | D51: 2311044 | E51: 3430475 | F51: 0
A52: Foglalkoztatottak személyi juttatásai (=01+…+13) (K11) | B52: 359124719 | C52: 44338472 | D52: 146575077 | E52: 168211170 | F52: 0
A53: Munkavégzésre irányuló egyéb jogviszonyban nem saját foglalkoztatottnak fizetett juttatások (K122) | B53: 1023060 | C53: 1023060 | D53: 0 | E53: 0 | F53: 0
A54: Egyéb külső személyi juttatások (K123) | B54: 827900 | C54: 0 | D54: 0 | E54: 827900 | F54: 0
A55: Külső személyi juttatások (=16+17+18) (K12) | B55: 1850960 | C55: 1023060 | D55: 0 | E55: 827900 | F55: 0
A56: Személyi juttatások (=15+19) (K1) | B56: 360975679 | C56: 45361532 | D56: 146575077 | E56: 169039070 | F56: 0
... A96: Átlagos statisztikai állományi létszám | B96: 50 | C96: 8 | D96: 20 | E96: 22 | F96: 0
A99: Kistérségi Egyesített Szociális Intézmény
A101: Megnevezés | B101: Összesen | C101: 018030 Támogatási célú finanszírozási műveletek | D101: 041233 Hosszabb időtartamú közfoglalkoztatás | E101: 101221 Fogyatékossággal élők nappali ellátása | F101: 102023 Időskorúak tartós bentlakásos ellátása | G101: 102024 Demens betegek tartós bentlakásos ellátása | H101: 102025 Időskorúak átmeneti ellátása | I101: 102026 Demens betegek átmeneti ellátása | J101: 102031 Idősek nappali ellátása | K101: 102032 Demens betegek nappali ellátása | L101: 107013 Hajléktalanok átmeneti ellátása | M101: 107015 Hajléktalanok nappali ellátása | N101: 107016 Utcai szociális munka | O101: 107030 Szociális foglalkoztatás, fejlesztő foglalkoztatás | P101: 107050 Szociális étkeztetés népkonyhán | Q101: 107051 Szociális étkeztetés szociális konyhán | R101: 107052 Házi segítségnyújtás | S101: 107053 Jelzőrendszeres házi segítségnyújtás | T101: 999999 Kormányzati funkcióra fel nem osztott tevékenységek kiadásai és bevételei
A102: Törvény szerinti illetmények, munkabérek (K1101) | B102: 688304924 | C102: 0 | D102: 341946 | E102: 24838875 | F102: 162757543 | G102: 104842734 | H102: 53776279 | I102: 50777405 | J102: 44579764 | K102: 22839730 | L102: 51743282 | M102: 18750024 | N102: 8654306 | O102: 12684998 | P102: 55286 | Q102: 8020410 | R102: 118029884 | S102: 5612458 | T102: 0
A103: Céljuttatás, projektprémium (K1103) | B103: 58299874 | C103: 0 | D103: 0 | E103: 2203106 | F103: 13496831 | G103: 8747396 | H103: 4668082 | I103: 4411476 | J103: 3188589 | K103: 1543364 | L103: 4493643 | M103: 1724291 | N103: 517127 | O103: 1163253 | P103: 0 | Q103: 726939 | R103: 10849634 | S103: 566143 | T103: 0
A104: Készenléti, ügyeleti, helyettesítési díj, túlóra, túlszolgálat (K1104) | B104: 17727826 | C104: 0 | D104: 0 | E104: 2332 | F104: 6130762 | G104: 3553304 | H104: 1685090 | I104: 1619077 | J104: 0 | K104: 3302 | L104: 640558 | M104: 331087 | N104: 31683 | O104: 0 | P104: 1577 | Q104: 19654 | R104: 0 | S104: 3709400 | T104: 0
A105: Jubileumi jutalom (K1106) | B105: 5376965 | C105: 0 | D105: 0 | E105: 19560 | F105: 1010846 | G105: 734884 | H105: 829606 | I105: 767794 | J105: 671560 | K105: 0 | L105: 19560 | M105: 0 | N105: 0 | O105: 0 | P105: 0 | Q105: 997560 | R105: 325595 | S105: 0 | T105: 0
A106: Béren kívüli juttatások (K1107) | B106: 29460907 | C106: 0 | D106: 0 | E106: 897247 | F106: 6627691 | G106: 4372439 | H106: 2188842 | I106: 2153364 | J106: 1897362 | K106: 1172858 | L106: 2088714 | M106: 857896 | N106: 422018 | O106: 500000 | P106: 0 | Q106: 279077 | R106: 5753399 | S106: 250000 | T106: 0
A107: Közlekedési költségtérítés (K1109) | B107: 5442333 | C107: 0 | D107: 0 | E107: 297637 | F107: 1711361 | G107: 1071043 | H107: 329448 | I107: 321426 | J107: 218053 | K107: 86251 | L107: 414703 | M107: 57063 | N107: 112716 | O107: 0 | P107: 0 | Q107: 5626 | R107: 630526 | S107: 186480 | T107: 0
A108: Foglalkoztatottak egyéb személyi juttatásai (>=14) (K1113) | B108: 15196034 | C108: 0 | D108: 0 | E108: 248236 | F108: 3793464 | G108: 2004540 | H108: 773755 | I108: 730443 | J108: 1134658 | K108: 1176730 | L108: 1148302 | M108: 510732 | N108: 506158 | O108: 251711 | P108: 23885 | Q108: 323001 | R108: 2474169 | S108: 96250 | T108: 0
A109: Foglalkoztatottak személyi juttatásai (=01+…+13) (K11) | B109: 819808863 | C109: 0 | D109: 341946 | E109: 28506993 | F109: 195528498 | G109: 125326340 | H109: 64251102 | I109: 60780985 | J109: 51689986 | K109: 26822235 | L109: 60548762 | M109: 22231093 | N109: 10244008 | O109: 14599962 | P109: 80748 | Q109: 10372267 | R109: 138063207 | S109: 10420731 | T109: 0
A110: Munkavégzésre irányuló egyéb jogviszonyban nem saját foglalkoztatottnak fizetett juttatások (K122) | B110: 7962079 | C110: 0 | D110: 0 | E110: 915543 | F110: 3341809 | G110: 1801189 | H110: 186949 | I110: 174711 | J110: 11873 | K110: 0 | L110: 11873 | M110: 0 | N110: 0 | O110: 0 | P110: 0 | Q110: 11873 | R110: 393098 | S110: 1113161 | T110: 0
A111: Egyéb külső személyi juttatások (K123) | B111: 9497163 | C111: 0 | D111: 0 | E111: 53339 | F111: 983290 | G111: 800085 | H111: 400042 | I111: 400042 | J111: 53339 | K111: 0 | L111: 53339 | M111: 0 | N111: 0 | O111: 5804608 | P111: 0 | Q111: 53339 | R111: 895740 | S111: 0 | T111: 0
A112: Külső személyi juttatások (=16+17+18) (K12) | B112: 17459242 | C112: 0 | D112: 0 | E112: 968882 | F112: 4325099 | G112: 2601274 | H112: 586991 | I112: 574753 | J112: 65212 | K112: 0 | L112: 65212 | M112: 0 | N112: 0 | O112: 5804608 | P112: 0 | Q112: 65212 | R112: 1288838 | S112: 1113161 | T112: 0
A113: Személyi juttatások (=15+19) (K1) | B113: 837268105 | C113: 0 | D113: 341946 | E113: 29475875 | F113: 199853597 | G113: 127927614 | H113: 64838093 | I113: 61355738 | J113: 51755198 | K113: 26822235 | L113: 60613974 | M113: 22231093 | N113: 10244008 | O113: 20404570 | P113: 80748 | Q113: 10437479 | R113: 139352045 | S113: 11533892 | T113: 0
... A158: Átlagos statisztikai állományi létszám | B158: 124 | C158: 0 | D158: 0 | E158: 5 | F158: 28 | G158: 15 | H158: 15 | I158: 9 | J158: 8 | K158: 5 | L158: 9 | M158: 3 | N158: 2 | O158: 1 | P158: 0 | Q158: 1 | R158: 22 | S158: 1 | T158: 0
A161: Mosonmagyaróvár Térségi Társulás összevont
A163: Megnevezés | B163: Összesen | C163: 011130 Önkormányzatok és önkormányzati hivatalok jogalkotó és általános igazgatási tevékenysége | D163: 013350 Az önkormányzati vagyonnal való gazdálkodással kapcsolatos feladatok | E163: 018030 Támogatási célú finanszírozási műveletek | F163: 041233 Hosszabb időtartamú közfoglalkoztatás | G163: 084032 Civil szervezetek programtámogatása | H163: 101221 Fogyatékossággal élők nappali ellátása | I163: 102023 Időskorúak tartós bentlakásos ellátása | J163: 102024 Demens betegek tartós bentlakásos ellátása | K163: 102025 Időskorúak átmeneti ellátása | L163: 102026 Demens betegek átmeneti ellátása | M163: 102031 Idősek nappali ellátása | N163: 102032 Demens betegek nappali ellátása | O163: 104012 Gyermekek átmeneti ellátása | P163: 104042 Család és gyermekjóléti szolgáltatások | Q163: 104043 Család és gyermekjóléti központ | R163: 107013 Hajléktalanok átmeneti ellátása | S163: 107015 Hajléktalanok nappali ellátása | T163: 107016 Utcai szociális munka | U163: 107030 Szociális foglalkoztatás, fejlesztő foglalkoztatás | V163: 107050 Szociális étkeztetés népkonyhán | W163: 107051 Szociális étkeztetés szociális konyhán | X163: 107052 Házi segítségnyújtás | Y163: 107053 Jelzőrendszeres házi segítségnyújtás | Z163: 999999 Kormányzati funkcióra fel nem osztott tevékenységek kiadásai és bevételei
A164: Törvény szerinti illetmények, munkabérek (K1101) | B164: 990777523 | C164: 0 | D164: 0 | E164: 0 | F164: 341946 | G164: 0 | H164: 24838875 | I164: 162757543 | J164: 104842734 | K164: 53776279 | L164: 50777405 | M164: 44579764 | N164: 22839730 | O164: 36625330 | P164: 124097605 | Q164: 141749664 | R164: 51743282 | S164: 18750024 | T164: 8654306 | U164: 12684998 | V164: 55286 | W164: 8020410 | X164: 118029884 | Y164: 5612458 | Z164: 0
A165: Céljuttatás, projektprémium (K1103) | B165: 84547887 | C165: 0 | D165: 0 | E165: 0 | F165: 0 | G165: 0 | H165: 2203106 | I165: 13496831 | J165: 8747396 | K165: 4668082 | L165: 4411476 | M165: 3188589 | N165: 1543364 | O165: 2562614 | P165: 10373416 | Q165: 13311983 | R165: 4493643 | S165: 1724291 | T165: 517127 | U165: 1163253 | V165: 0 | W165: 726939 | X165: 10849634 | Y165: 566143 | Z165: 0
A166: Készenléti, ügyeleti, helyettesítési díj, túlóra, túlszolgálat (K1104) | B166: 21806119 | C166: 0 | D166: 0 | E166: 0 | F166: 0 | G166: 0 | H166: 2332 | I166: 6130762 | J166: 3553304 | K166: 1685090 | L166: 1619077 | M166: 0 | N166: 3302 | O166: 2697043 | P166: 906250 | Q166: 475000 | R166: 640558 | S166: 331087 | T166: 31683 | U166: 0 | V166: 1577 | W166: 19654 | X166: 0 | Y166: 3709400 | Z166: 0
A167: Jubileumi jutalom (K1106) | B167: 6843965 | C167: 0 | D167: 0 | E167: 0 | F167: 0 | G167: 0 | H167: 19560 | I167: 1010846 | J167: 734884 | K167: 829606 | L167: 767794 | M167: 671560 | N167: 0 | O167: 0 | P167: 0 | Q167: 1467000 | R167: 19560 | S167: 0 | T167: 0 | U167: 0 | V167: 0 | W167: 997560 | X167: 325595 | Y167: 0 | Z167: 0
A168: Béren kívüli juttatások (K1107) | B168: 41454978 | C168: 0 | D168: 0 | E168: 0 | F168: 0 | G168: 0 | H168: 897247 | I168: 6627691 | J168: 4372439 | K168: 2188842 | L168: 2153364 | M168: 1897362 | N168: 1172858 | O168: 1504092 | P168: 4760983 | Q168: 5728996 | R168: 2088714 | S168: 857896 | T168: 422018 | U168: 500000 | V168: 0 | W168: 279077 | X168: 5753399 | Y168: 250000 | Z168: 0
A169: Közlekedési költségtérítés (K1109) | B169: 11831528 | C169: 0 | D169: 0 | E169: 0 | F169: 0 | G169: 0 | H169: 297637 | I169: 1711361 | J169: 1071043 | K169: 329448 | L169: 321426 | M169: 218053 | N169: 86251 | O169: 215364 | P169: 4125779 | Q169: 2048052 | R169: 414703 | S169: 57063 | T169: 112716 | U169: 0 | V169: 0 | W169: 5626 | X169: 630526 | Y169: 186480 | Z169: 0
A170: Foglalkoztatottak egyéb személyi juttatásai (>=14) (K1113) | B170: 21671582 | C170: 0 | D170: 0 | E170: 0 | F170: 0 | G170: 0 | H170: 248236 | I170: 3793464 | J170: 2004540 | K170: 773755 | L170: 730443 | M170: 1134658 | N170: 1176730 | O170: 734029 | P170: 2311044 | Q170: 3430475 | R170: 1148302 | S170: 510732 | T170: 506158 | U170: 251711 | V170: 23885 | W170: 323001 | X170: 2474169 | Y170: 96250 | Z170: 0
A171: Foglalkoztatottak személyi juttatásai (=01+…+13) (K11) | B171: 1178933582 | C171: 0 | D171: 0 | E171: 0 | F171: 341946 | G171: 0 | H171: 28506993 | I171: 195528498 | J171: 125326340 | K171: 64251102 | L171: 60780985 | M171: 51689986 | N171: 26822235 | O171: 44338472 | P171: 146575077 | Q171: 168211170 | R171: 60548762 | S171: 22231093 | T171: 10244008 | U171: 14599962 | V171: 80748 | W171: 10372267 | X171: 138063207 | Y171: 10420731 | Z171: 0
A172: Munkavégzésre irányuló egyéb jogviszonyban nem saját foglalkoztatottnak fizetett juttatások (K122) | B172: 8985139 | C172: 0 | D172: 0 | E172: 0 | F172: 0 | G172: 0 | H172: 915543 | I172: 3341809 | J172: 1801189 | K172: 186949 | L172: 174711 | M172: 11873 | N172: 0 | O172: 1023060 | P172: 0 | Q172: 0 | R172: 11873 | S172: 0 | T172: 0 | U172: 0 | V172: 0 | W172: 11873 | X172: 393098 | Y172: 1113161 | Z172: 0
A173: Egyéb külső személyi juttatások (K123) | B173: 10901948 | C173: 576885 | D173: 0 | E173: 0 | F173: 0 | G173: 0 | H173: 53339 | I173: 983290 | J173: 800085 | K173: 400042 | L173: 400042 | M173: 53339 | N173: 0 | O173: 0 | P173: 0 | Q173: 827900 | R173: 53339 | S173: 0 | T173: 0 | U173: 5804608 | V173: 0 | W173: 53339 | X173: 895740 | Y173: 0 | Z173: 0
A174: Külső személyi juttatások (=16+17+18) (K12) | B174: 19887087 | C174: 576885 | D174: 0 | E174: 0 | F174: 0 | G174: 0 | H174: 968882 | I174: 4325099 | J174: 2601274 | K174: 586991 | L174: 574753 | M174: 65212 | N174: 0 | O174: 1023060 | P174: 0 | Q174: 827900 | R174: 65212 | S174: 0 | T174: 0 | U174: 5804608 | V174: 0 | W174: 65212 | X174: 1288838 | Y174: 1113161 | Z174: 0
A175: Személyi juttatások (=15+19) (K1) | B175: 1198820669 | C175: 576885 | D175: 0 | E175: 0 | F175: 341946 | G175: 0 | H175: 29475875 | I175: 199853597 | J175: 127927614 | K175: 64838093 | L175: 61355738 | M175: 51755198 | N175: 26822235 | O175: 45361532 | P175: 146575077 | Q175: 169039070 | R175: 60613974 | S175: 22231093 | T175: 10244008 | U175: 20404570 | V175: 80748 | W175: 10437479 | X175: 139352045 | Y175: 11533892 | Z175: 0
... A230: Átlagos statisztikai állományi létszám | B230: 174 | C230: 0 | D230: 0 | E230: 0 | F230: 0 | G230: 0 | H230: 5 | I230: 28 | J230: 15 | K230: 15 | L230: 9 | M230: 8 | N230: 5 | O230: 8 | P230: 20 | Q230: 22 | R230: 9 | S230: 3 | T230: 2 | U230: 1 | V230: 0 | W230: 1 | X230: 22 | Y230: 1 | Z230: 0

Sheet 2024. tagdíj
B1: Mosonmagyaróvár Térségi Társulás tagjai által fizetendő hozzájárulások, tagdjíak 2024 év
J2: 22. melléklet
B3: Figyelembe véve Mosonmagyaróvár Város Önkormányzat 2022. évi gesztor önkormányzati támogatását | G3: ='[3]2023 tagdíj (2)'!$G$4 -> 178687977
B4: 2024-as előzetes tervek alapján CSGYK plusz finanszírozási igény különbözete, figyelembe véve a tavalyi gesztor önkormányzati támogatás mértékét | G4: ='[1]CSGYK 2024'!F118 -> 4824005
B5: 2024-as előzetes tervek alapján KESZI plusz finanszírozási igény különbözete, figyelembe véve a tavalyi gesztor önkormányzati támogatás mértékét | G5: ='[1]KESZI 2024'!G140 -> 37125600
B6: 2024-es előzetes tervek alapján a gesztor önkormányzat új tagdíj kötelezettsége | G6: =[1]Társulás!$I$58 -> 84434940
B7: Összes hiányfinanszírozás 2024-ben előzetes tervek alapján: | G7: =SUM(G3:G6) -> 3.0507252e+08 | H7: =G4+G5 -> 41949605
D9: intézményekre felosztva | E9: társulás működésére
E10: Meglévő tagdíj 270 Ft/lakos | F10: Gyermekjóléti szolgálat támogatása 100 Ft/lakos
A11: Sorszám | B11: Önkormányzat | C11: Lakos (2023. január 1.) | D11: 580 Ft + 643 Ft/lakos=1 223 Ft/lakos | I11: Intézményekre felosztás
A12: 1. | B12: Mosonmagyaróvár | C12: 31954 | D12: =1223*C12 -> 39079742 | E12: =270*C12 -> 8627580 | F12: =100*C12 -> 3195400 | J12: KESZI | K12: CSK | L12: Összesen
A13: 2. | B13: Ásványráró | C13: 2225 | D13: =1223*C13 -> 2721175 | E13: =270*C13 -> 600750 | F13: =100*C13 -> 222500 | I13: 1223 Ft/lakos | J13: =D40/201.5*143 -> 73133112 | K13: =D40/201.5*58.5 -> 29918091 | L13: =J13+K13 -> 103051203
A14: 3. | B14: Bezenye | C14: 1577 | D14: =1223*C14 -> 1928671 | E14: =270*C14 -> 425790 | F14: =100*C14 -> 157700 | I14: hiányfin. I. | J14: 37516528 | K14: 0 | L14: =J14+K14 -> 37516528
A15: 4. | B15: Dunakiliti | C15: 2307 | D15: =1223*C15 -> 2821461 | E15: =270*C15 -> 622890 | F15: =100*C15 -> 230700 | I15: hiányfin. II. | J15: =F72/201.5*143 -> 30161348 | K15: =F72/201.5*58.5 -> 12338733 | L15: =J15+K15 -> 42500081
A16: 5. | B16: Dunaremete | C16: 278 | D16: =1223*C16 -> 339994 | E16: =270*C16 -> 75060 | F16: =100*C16 -> 27800 | J16: =SUM(J13:J15) -> 1.4081099e+08 | K16: =SUM(K13:K15) -> 42256824 | L16: =SUM(L13:L15) -> 1.8306781e+08
A17: 6. | B17: Dunasziget | C17: 1900 | D17: =1223*C17 -> 2323700 | E17: =270*C17 -> 513000 | F17: =100*C17 -> 190000
A18: 7. | B18: Darnózseli | C18: 1663 | D18: =1223*C18 -> 2033849 | E18: =270*C18 -> 449010 | F18: =100*C18 -> 166300
A19: 8. | B19: Feketeerdő | C19: 723 | D19: =1223*C19 -> 884229 | E19: =270*C19 -> 195210 | F19: =100*C19 -> 72300
A20: 9. | B20: Halászi | C20: 3341 | D20: =1223*C20 -> 4086043 | E20: =270*C20 -> 902070 | F20: =100*C20 -> 334100
A21: 10. | B21: Hegyeshalom | C21: 4036 | D21: =1223*C21 -> 4936028 | E21: =270*C21 -> 1089720 | F21: =100*C21 -> 403600
A22: 11. | B22: Hédervár | C22: 1332 | D22: =1223*C22 -> 1629036 | E22: =270*C22 -> 359640 | F22: =100*C22 -> 133200
A23: 12. | B23: Jánossomorja | C23: 6133 | D23: =1223*C23 -> 7500659 | E23: =270*C23 -> 1655910 | F23: =100*C23 -> 613300
A24: 13. | B24: Károlyháza | C24: 570 | D24: =1223*C24 -> 697110 | E24: =270*C24 -> 153900 | F24: =100*C24 -> 57000
A25: 14. | B25: Kimle | C25: 2378 | D25: =1223*C25 -> 2908294 | E25: =270*C25 -> 642060 | F25: =100*C25 -> 237800
A26: 15. | B26: Kisbodak | C26: 385 | D26: =1223*C26 -> 470855 | E26: =270*C26 -> 103950 | F26: =100*C26 -> 38500
A27: 16. | B27: Levél | C27: 2429 | D27: =1223*C27 -> 2970667 | E27: =270*C27 -> 655830 | F27: =100*C27 -> 242900
A28: 17. | B28: Lébény | C28: 3346 | D28: =1223*C28 -> 4092158 | E28: =270*C28 -> 903420 | F28: =100*C28 -> 334600
... A38: 27. | B38: Várbalog | C38: 453 | D38: =1223*C38 -> 554019 | E38: =270*C38 -> 122310 | F38: =100*C38 -> 45300
C39: =SUM(C12:C38) -> 84261
C40: Összesen | D40: =SUM(D12:D38) -> 103051203 | E40: =SUM(E12:E38) -> 22750470 | F40: =SUM(F12:F39) -> 8426100
A43: Sorszám | B43: Önkormányzat | C43: Lakos (2023. január 1.) | D43: Intézmények működésének támogatása (157.198 Ft + 37.359.330 Ft =37.516.528 Ft) 445,24 Ft/lakos | E43: Felújítási alap 100 Ft/lakos | F43: 2024-ben keletkezett további hiány felének felosztása tagönkormányzatok között 504,38 Ft/lakos | G43: Fizetési kötelezettség összesen | H43: Teljesített befizetés 2024-ben | I43: Eltérés | M43: =M42+#REF! -> #REF!
A44: 1. | B44: Mosonmagyaróvár | C44: 31954 | D44: =SUM(37516528/$C$39*C44)-3562 -> 14223698 | E44: =100*C44 -> 3195400 | F44: 16113120 | G44: =SUM(D12:F12,D44:E44)+F44 -> 84434940 | H44: 84434940 | I44: =H44-G44 -> 0.33620535
A45: 2. | B45: Ásványráró | C45: 2225 | D45: =SUM(37516528/$C$39*C45) -> 990663.23 | E45: =100*C45 -> 222500 | F45: 1122259.2 | G45: =SUM(D13:F13,D45:E45)+F45 -> 5879847.4 | H45: 5879847 | I45: =H45-G45 -> -0.40805355
A46: 3. | B46: Bezenye | C46: 1577 | D46: =SUM(37516528/$C$39*C46) -> 702146.48 | E46: =100*C46 -> 157700 | F46: 795416.95 | G46: =SUM(D14:F14,D46:E46)+F46 -> 4167424.4 | H46: 4167424 | I46: =H46-G46 -> -0.43258447
A47: 4. | B47: Dunakiliti | C47: 2307 | D47: =SUM(37516528/$C$39*C47) -> 1027173.1 | E47: =100*C47 -> 230700 | F47: 1163618.8 | G47: =SUM(D15:F15,D47:E47)+F47 -> 6096542.9 | H47: 6096540 | I47: =H47-G47 -> -2.9080357
A48: 5. | B48: Dunaremete | C48: 278 | D48: =SUM(37516528/$C$39*C48) -> 123777.25 | E48: =100*C48 -> 27800 | F48: 140219.35 | G48: =SUM(D16:F16,D48:E48)+F48-1 -> 734649.6 | H48: 734650 | I48: =H48-G48 -> 0.40249938
A49: 6. | B49: Dunasziget | C49: 1900 | D49: =SUM(37516528/$C$39*C49) -> 845959.62 | E49: =100*C49 -> 190000 | F49: 958333.68 | G49: =SUM(D17:F17,D49:E49)+F49+1 -> 5020994.3 | H49: 5020994 | I49: =H49-G49 -> -0.29227045
A50: 7. | B50: Darnózseli | C50: 1663 | D50: =SUM(37516528/$C$39*C50) -> 740437.28 | E50: =100*C50 -> 166300 | F50: 838794.16 | G50: =SUM(D18:F18,D50:E50)+F50 -> 4394690.4 | H50: 4394690 | I50: =H50-G50 -> -0.44476092
A51: 8. | B51: Feketeerdő | C51: 723 | D51: =SUM(37516528/$C$39*C51) -> 321909.9 | E51: =100*C51 -> 72300 | F51: 364671.18 | G51: =SUM(D19:F19,D51:E51)+F51 -> 1910620.1 | H51: 1910618 | I51: =H51-G51 -> -2.0791113
A52: 9. | B52: Halászi | C52: 3341 | D52: =SUM(37516528/$C$39*C52) -> 1487553.2 | E52: =100*C52 -> 334100 | F52: 1685154.1 | G52: =SUM(D20:F20,D52:E52)+F52 -> 8829020.3 | H52: 8829020 | I52: =H52-G52 -> -0.31025029
A53: 10. | B53: Hegyeshalom | C53: 4036 | D53: =SUM(37516528/$C$39*C53) -> 1796996.3 | E53: =100*C53 -> 403600 | F53: 2035702.5 | G53: =SUM(D21:F21,D53:E53)+F53 -> 10665647 | H53: 10665647 | I53: =H53-G53 -> 0.19599815
A54: 11. | B54: Hédervár | C54: 1332 | D54: =SUM(37516528/$C$39*C54) -> 593062.21 | E54: =100*C54 -> 133200 | F54: 671842.35 | G54: =SUM(D22:F22,D54:E54)+F54-1 -> 3519979.6 | H54: 3519980 | I54: =H54-G54 -> 0.43931356
A55: 12. | B55: Jánossomorja | C55: 6133 | D55: =SUM(37516528/$C$39*C55) -> 2730668.6 | E55: =100*C55 -> 613300 | F55: 3093400.2 | G55: =SUM(D23:F23,D55:E55)+F55 -> 16207238 | H55: 16207238 | I55: =H55-G55 -> 0.17816072
A56: 13. | B56: Károlyháza | C56: 570 | D56: =SUM(37516528/$C$39*C56) -> 253787.88 | E56: =100*C56 -> 57000 | F56: 287500.1 | G56: =SUM(D24:F24,D56:E56)+F56 -> 1506298 | H56: 1506298 | I56: =H56-G56 -> 0.012318866
A57: 14. | B57: Kimle | C57: 2378 | D57: =SUM(37516528/$C$39*C57) -> 1058785.2 | E57: =100*C57 -> 237800 | F57: 1199430.3 | G57: =SUM(D25:F25,D57:E57)+F57 -> 6284169.5 | H57: 6284169 | I57: =H57-G57 -> -0.49948375
A58: 15. | B58: Kisbodak | C58: 385 | D58: =SUM(37516528/$C$39*C58) -> 171418.13 | E58: =100*C58 -> 38500 | F58: 194188.67 | G58: =SUM(D26:F26,D58:E58)+F58 -> 1017411.8 | H58: 1017412 | I58: =H58-G58 -> 0.20130309
A59: 16. | B59: Levél | C59: 2429 | D59: =SUM(37516528/$C$39*C59) -> 1081492.6 | E59: =100*C59 -> 242900 | F59: 1225153.9 | G59: =SUM(D27:F27,D59:E59)+F59 -> 6418943.5 | H59: 6418944 | I59: =H59-G59 -> 0.47003952
A60: 17. | B60: Lébény | C60: 3346 | D60: =SUM(37516528/$C$39*C60) -> 1489779.4 | E60: =100*C60 -> 334600 | F60: 1687676 | G60: =SUM(D28:F28,D60:E60)+F60 -> 8842233.5 | H60: 8842233 | I60: =H60-G60 -> -0.45049311
A61: 18. | B61: Lipót | C61: 866 | D61: =SUM(37516528/$C$39*C61) -> 385579.49 | E61: =100*C61 -> 86600 | F61: 436798.4 | G61: =SUM(D29:F29,D61:E61)+F61 -> 2288515.9 | H61: 2288516 | I61: =H61-G61 -> 0.1099441
A62: 19. | B62: Máriakálnok | C62: 2209 | D62: =SUM(37516528/$C$39*C62) -> 983539.36 | E62: =100*C62 -> 220900 | F62: 1114189 | G62: =SUM(D30:F30,D62:E62)+F62 -> 5837565.4 | H62: 5837565 | I62: =H62-G62 -> -0.35927653
A63: 20. | B63: Mecsér | C63: 660 | D63: =SUM(37516528/$C$39*C63) -> 293859.66 | E63: =100*C63 -> 66000 | F63: 332894.86 | G63: =SUM(D31:F31,D63:E63)+F63 -> 1744134.5 | H63: 1744135 | I63: =H63-G63 -> 0.48794816
A64: 21. | B64: Mosonszentmiklós | C64: 2714 | D64: =SUM(37516528/$C$39*C64) -> 1208386.5 | E64: =100*C64 -> 271400 | F64: 1368904 | G64: =SUM(D32:F32,D64:E64)+F64 -> 7172092.5 | H64: 7172093 | I64: =H64-G64 -> 0.47619895
A65: 22. | B65: Mosonszolnok | C65: 1891 | D65: =SUM(37516528/$C$39*C65) -> 841952.44 | E65: =100*C65 -> 189100 | F65: 953794.2 | G65: =SUM(D33:F33,D65:E65)+F65-1 -> 4997208.6 | H65: 4997209 | I65: =H65-G65 -> 0.36016663
A66: 23. | B66: Mosonudvar | C66: 426 | D66: =SUM(37516528/$C$39*C66) -> 189673.05 | E66: =100*C66 -> 42600 | F66: 214868.5 | G66: =SUM(D34:F34,D66:E66)+F66 -> 1125759.5 | H66: 1125760 | I66: =H66-G66 -> 0.45131199
A67: 24. | B67: Püski | C67: 662 | D67: =SUM(37516528/$C$39*C67) -> 294750.14 | E67: =100*C67 -> 66200 | F67: 333903.63 | G67: =SUM(D35:F35,D67:E67)+F67 -> 1749419.8 | H67: 1749420 | I67: =H67-G67 -> 0.23185103
A68: 25. | B68: Rajka | C68: 6878 | D68: =SUM(37516528/$C$39*C68) -> 3062373.8 | E68: =100*C68 -> 687800 | F68: 3469167.9 | G68: =SUM(D36:F36,D68:E68)+F68 -> 18175996 | H68: 18175996 | I68: =H68-G68 -> 0.28198099
A69: 26. | B69: Újrónafő | C69: 925 | D69: =SUM(37516528/$C$39*C69) -> 411848.76 | E69: =100*C69 -> 92500 | F69: 466557.18 | G69: =SUM(D37:F37,D69:E69)+F69 -> 2444430.9 | H69: 2444431 | I69: =H69-G69 -> 0.055078862
A70: 27. | B70: Várbalog | C70: 453 | D70: 205257 | E70: 46100 | F70: 232522 | G70: =SUM(D38:F38,D70:E70)+F70 -> 1205508 | H70: 1205508 | I70: =H70-G70 -> 0
D72: =SUM(D44:D70) -> 37516528 | E72: =SUM(E44:E70) -> 8426900 | F72: =SUM(F44:F70) -> 42500081 | G72: =SUM(G44:G71) -> 2.2267128e+08 | H72: =SUM(H44:H70) -> 222671277
D73: =D72-'[3]01 (2)'!E45-'[3]01 (2)'!E46 -> 0.41788016
B74: Ebben az esetben Mosonmagyaróvár Város Önkormányzatát mint gesztor önkormányzatot terhelő hiányfinaszírozás és hozzájárulás:
D75: eredeti | F75: beszámoló alapján 2024.12.31
B76: hiányfinanszírozás 2022. évi szinten: | D76: =G3 -> 178687977 | F76: =D76+D77 -> 220637582 | G76: eredeti gesztor támogatás
B77: hiányfinanszírozás felének bevállalása | D77: =[1]Társulás!$I$53+[1]Társulás!$I$54 -> 41949605 | F77: 110954646 | G77: 2024. július 1-jétől hatályos 10 %-os béremelés és a 2. kétheti bérkiegészítés fedezete
B78: ezen kívüli hozzájárulás (tagdíj) | D78: =G44 -> 84434940 | F78: -1387130 | G78: állami támogatás korrekció
D79: =SUM(D76:D78) -> 3.0507252e+08 | F79: =SUM(F76:F78) -> 330205098 | G79: 2024. évi teljesített gesztor támogatás
F80: 84434940 | G80: 2024. évi teljesített tagdíj
B81: 2024. évi befizetési kötelezettség minden tagönkormányzat teljesítette. | F81: =SUM(F79:F80) -> 414640038 | G81: Gesztor 2024. évi teljesített befizetése
B82: Tagtelepülések által KESZI-nek és CSGYK-nak fizetett összeg | E82: =D40+F40+D72+F72-F44-D44-F12-D12 -> 1.1888195e+08
B84: =D72+E72+E40 -> 68693898
B85: =B84-'[3]01 (2)'!I36 -> 1.4526292e+08 | D85: =J72-J44 -> 0

Sheet Felosztás
G1: 23. melléklet
A2: MOSONMAGYARÓVÁR TÉRSÉGI TÁRSULÁS
A3: 2024. ÉVI KÖLTSÉGVETÉS VÉGREHAJTÁSÁRÓL SZÓLÓ HATÁROZAT MELLÉKLETE
B5: Mosonmagyaróvár Térségi Társulás tagönkormányzatai által teljesített befizetések felosztása, elszámolása
B6: 2024. évben
D7: Előirányzat Ft | E7: Teljesített befizetés Ft | F7: Tartozás/Túlfizetés Ft | G7: Megjegyzés
A8: 27 település befizetései | B8: Társulási tagdíj (270 Ft/lakos) | D8: ='2024. tagdíj'!E40 -> 22750470 | E8: 22750470 | F8: =D8-E8 -> 0 | G8: Térségi Társulás finanszírozásra használva
B9: Gyermekjólét támogatása (100 Ft/lakos) | D9: ='2024. tagdíj'!F40 -> 8426100 | E9: 8426100 | F9: =D9-E9 -> 0 | G9: felhasználás a CSGYK szervezet működéséhez
B10: Felújítási alap (100 Ft/lakos) | D10: ='2024. tagdíj'!E72 -> 8426900 | E10: 8426900 | F10: =D10-E10 -> 0 | G10: 2024.12.31-én záró egyenleg 26.001.978,- Ft.
B11: Kiegészítő hozzájárulás (1.223 Ft/lakos) | D11: ='2024. tagdíj'!D40 -> 103051203 | E11: 103051203 | F11: =D11-E11 -> 0 | G11: Részben felhasználásra került a CSGYK-n belül a család és gyermekjóléti szolgálat feladat ellátáshoz, a KESZI- n belül házi segítségnyújtáshoz és a szociális étkeztetés feladat ellátáshoz.
B12: KESZI és CSGYK működési hiányának finanszírozására (445,24 Ft/lakos) | D12: ='2024. tagdíj'!D72 -> 37516528 | E12: 37516528 | F12: =D12-E12 -> 0.41788016
B13: 2024-ben keletkezett hiány felének felosztása | D13: ='2024. tagdíj'!F72 -> 42500081 | E13: 42500081 | F13: 0
B14: Mosonmagyaróvár Város Önkormányzat által finanszírozott hiány a társulás intézményeihez kapcsolódóan (gesztor támogatása) | D14: =E14 -> 330205098 | E14: ='2024. tagdíj'!F79 -> 330205098 | F14: =D14-E14 -> 0
B15: Összesen | D15: =SUM(D8:D14) -> 5.5287638e+08 | E15: =SUM(E8:E14) -> 552876380 | F15: =SUM(F8:F14) -> 0.41788016
B16: Összes befizetésból Mosonmagyaróvár Város Önkormányzatára jutó | E16: ='2024. tagdíj'!F81 -> 414640038 | F16: =E16/E15 -> 0.7499688 | G16: lakosságszám arány: 37,92 %
B17: Összes befizetésből a többi tagtelepülésre jutó | E17: =E15-E16-5 -> 138236337 | F17: =E17/E15 -> 0.25003119 | G17: lakosságszám arány: 62,08 %
B19: Tartozás/Túlfizetés
B20: 2024-ben sem nem túlfizetés sem nem elmaradás nem keletkezett.
B24: Az 1 223 Ft/lakos külön hozzájárulás elszámolása | J24: A 445,24 Ft/lakos működési hiány finanszírozásának külön hozzájárulása elszámolása
J25: 2024-ben keletkezett hiány finanszírozásának külön hozzájárulása elszámolása 504,38 Ft/fő
B26: Összes bevétel: | D26: ='2024. tagdíj'!D40 -> 103051203 | J26: Összes bevétel: | K26: ='2024. tagdíj'!D72+'2024. tagdíj'!F72 -> 80016609
B28: Feladatok | D28: Család és gyermekjóléti szolgálat | E28: Szociális étkeztetés | F28: Házi segítségnyújtás és jelzőrendszeres házi segítségnyújtás | G28: Összesen | J28: Feladatok | L28: 101221-107015 kormányzati funkciók - KESZI | M28: 104012, 104043 kormányzati funkciók - CSGYK | N28: Összesen
B29: 2024. december 31-ig teljesült kiadás | D29: ='Kiadások korm.funkciónként'!D95 -> 181787846 | E29: ='Kiadások korm.funkciónként'!P157+'Kiadások korm.funkciónként'!Q157 -> 177352640 | F29: ='Kiadások korm.funkciónként'!R157+'Kiadások korm.funkciónként'!S157 -> 183175467 | G29: =SUM(D29:F29) -> 542315953 | J29: 2024. december 31-ig teljesült kiadás | L29: =SUM('Kiadások korm.funkciónként'!F157:M157) -> 1042151841 | M29: ='Kiadások korm.funkciónként'!C95+'Kiadások korm.funkciónként'!E95 -> 272449651 | N29: =L29+M29 -> 1314601492
B30: 2024. december 31-ig teljesült bevétel | D30: ='Bevételek korm.funkciónként'!E53 -> 3208120 | E30: ='Bevételek korm.funkciónként'!N81 -> 96977613 | F30: ='Bevételek korm.funkciónként'!S115+'Bevételek korm.funkciónként'!T115 -> 41165916 | G30: =SUM(D30:F30) -> 141351649 | J30: 2024. december 31-ig teljesült bevétel | L30: =SUM('Bevételek korm.funkciónként'!E81:L81) -> 319107180 | M30: ='Bevételek korm.funkciónként'!D53+'Bevételek korm.funkciónként'!F53 -> 5851428 | N30: =L30+M30 -> 324958608
B31: Állami támogatás | D31: 110275460 | E31: ='Állami támogatások '!G6 -> 38831520 | F31: ='Állami támogatások '!G7+támogatás!O11 -> 101967820 | G31: =SUM(D31:F31) -> 251074800 | J31: Állami támogatás | L31: ='Állami támogatások '!G8+'Állami támogatások '!G9+'Állami támogatások '!G10+'Állami támogatások '!G11+'Állami támogatások '!G12+'Állami támogatások '!G13+'Állami támogatások '!G17+'Állami támogatások '!G19+('Állami támogatások '!G14/201.5*143)+('Állami támogatások '!G15/201.5*143) -> 4.7825886e+08 | M31: =83982870+'Állami támogatások '!G16 -> 131791126 | N31: =L31+M31 -> 6.1004999e+08
B32: Gesztor Önkormányzati támogatás létszámarányos felhasználása | D32: =G44/174*50/50*20 -> 9362887.9 | E32: =G44/174*124/124*1 -> 468144.4 | F32: =G44/174*124/124*23 -> 10767321 | G32: =SUM(D32:F32) -> 20598353 | J32: Gesztor Önkormányzati támogatás létszámarányos felhasználása | L32: =G42/174*124/124*97 -> 1.6811364e+08 | M32: =G42/174*50/50*30 -> 51993910 | N32: =L32+M32 -> 2.2010755e+08
B33: Intézményi bevétellel és állami támogatással nem fedezett kiadás | D33: =D29-D30-D31-D32 -> 58941378 | E33: =E29-E30-E31-E32 -> 41075363 | F33: =F29-F30-F31-F32 -> 29274410 | G33: =D33+E33+F33 -> 1.2929115e+08 | J33: Intézményi bevétellel és állami támogatással nem fedezett kiadás | L33: =L29-L30-L31-L32 -> 76672156 | M33: =M29-M30-M31-M32 -> 82813187 | N33: =L33+M33 -> 1.5948534e+08
B34: Teljesített kiegészítő hozzájárulás a hiány finanszírozáshoz | G34: =D26 -> 103051203 | J34: Teljesített kiegészítő hozzájárulás a hiány finanszírozáshoz | N34: ='2024. tagdíj'!D72+'2024. tagdíj'!F72 -> 80016609
B36: A kiemelt kormányzati funkciók vonatkozásában kiegészítő hozzájárulási többlet | G36: 0 | J36: A kiemelt kormányzati funkciók vonatkozásában kiegészítő hozzájárulás többlet | N36: 0
G38: 11038969
B39: 2024. december 31-ig átadott gesztor támogatás | D39: ='2024. tagdíj'!F79 -> 330205098
B40: Intézmény/jogcímek | C40: KESZI | D40: CSGYK | G40: 330205098
B41: Intézmény összes kiadása 2024. december 31-ig | C41: ='Kiadások korm.funkciónként'!B157 -> 1496466452 | D41: ='Kiadások korm.funkciónként'!B95 -> 454237497 | G41: -28640421
G42: =G40+G41 -> 301564677
G43: 220107552
B44: Intézmény saját bevételi forrása előző évi maradványfelhasználással együtt 2024. december 31-ig | C44: ='Bevételek korm.funkciónként'!B71+'Bevételek korm.funkciónként'!B76 -> 525999729 | D44: ='Bevételek korm.funkciónként'!B43+'Bevételek korm.funkciónként'!B49 -> 15349195 | G44: =G42-G43 -> 81457125
B46: Állami támogatás (normatív) | C46: ='Állami támogatások '!G22 -> 674089940 | D46: ='Állami támogatások '!G21 -> 342778048
B48: Egyéb központi támogatás (fejlesztő foglalkozás, jelzőrendszeres házi segítségnyújtás, utcai szociális munka), valamint Mosonmagyaróvár Önk. kapott egyéb támogatás | C48: =támogatás!O10+támogatás!O11+támogatás!O12+támogatás!O27 -> 43109000 | D48: =támogatás!O28 -> 1800000
B50: Tagtelepülések által befizetett hozzájárulások (kiegészítő hozzájárulás, GYÁÓ támogatására fizetett hozzájárulás) | C50: ='2024. tagdíj'!J16 -> 1.4081099e+08 | D50: ='2024. tagdíj'!K16+'2024. tagdíj'!F40 -> 50682924
B52: Társulás céltartalékjából átadott forrás (jubileumi jutalom, felmentési bér) | C52: ='Működési bevételek'!J76 -> 86902949 | D52: ='Működési bevételek'!J82 -> 40540755
B54: Bevételek és kiadások egyenlege | C54: =C52+C50+C48+C46+C44-C41 -> -25553846 | D54: =D52+D50+D48+D46+D44-D41 -> -3086574.6
B55: 1223 Ft/lakos hozzájárulás elszámolásánál felhasznált gesztori támogatás | C55: =G32 -> 20598353
B56: 445,24 Ft/lakos illetve 504,38 Ft/lakos hozzájárulás elszámolásánál felhasznált gesztori támogatás | C56: =N32 -> 2.2010755e+08
B57: Mosonmagyaróvár Város Önkormányzata által átadott, de fel nem használt hiányfinanszírozás | C57: =D39+C54+D54-C55-C56 -> 60858772

Sheet Hitelek
A1: Hitel-/kölcsön törlesztések és projektvizsgálati díjak (Ft-ban) 2024. év | D1: 24. melléklet
A5: AMosonmagyaróvár Térségi Társulás 2024. évben hitelállománnyal nem rendelkezik.

Sheet Többéves 
A2: Többéves kihatású kötelezettségek általános működtetési költségeken kívül Ft-ban | G2: 25. melléklet | K2: 1. oldal
A3: Sorszám | B3: Partner | D3: Szerződés összege (Ft) | E3: 2024 | F3: 2025 | G3: 2026 | H3: 2027 | I3: Szerződés tárgya
A4: 1 | B4: Webnode AG | E4: 90000 | F4: 90000 | G4: 90000 | H4: 90000 | I4: webtárhely - csgykmovar.hu
A5: =A4+1 -> 2 | B5: Abakusz SH Kft | E5: 900000 | I5: Irodaszer, megállapodás alapján
A6: =A5+1 -> 3 | B6: Trendpack Kft | E6: 700000 | I6: Tisztítószer beszerzés
A7: =A6+1 -> 4 | B7: Yettel Magyarország Zrt | E7: 1320000 | F7: 1320000 | G7: 1320000 | H7: 1320000 | I7: mobiltelefon előfizetés
A8: =A7+1 -> 5 | B8: Allianz Biztosító | E8: 90000 | F8: 90000 | G8: 90000 | H8: 90000 | I8: RWL-677 Dacia Lodgy kötelező biztosítás
A9: =A8+1 -> 6 | B9: FU-O-GE Kft | E9: 600000 | F9: 600000 | G9: 600000 | H9: 600000 | I9: foglalkoztatás egészségügyi szolgáltatás
A10: =A9+1 -> 7 | B10: Groupama Biztosító Zrt | E10: 165192 | F10: 165192 | G10: 165192 | H10: 165192 | I10: RWL-677 Dacia Lodgy casco biztosítás
A11: =A10+1 -> 8 | B11: Kálnoki Kenyér Kft | E11: 400000 | F11: 400000 | G11: 400000 | H11: 400000 | I11: GYÁO részére pékáru beszerzés
A12: =A11+1 -> 9 | B12: Karolina Kórház Rendelőintézet | E12: 13600 | F12: 13600 | G12: 13600 | H12: 13600 | I12: Foglalkoztatás egészségügyi tüdőszűrés
A13: =A12+1 -> 10 | B13: Kiss Viktor e.v. | E13: 240000 | F13: 240000 | G13: 240000 | H13: 240000 | I13: CSAGYESZ és CSAGYEK program rendszerfelügyeleti és rendszerkövetési díja
A14: =A13+1 -> 11 | B14: Kiss-Tűz Tűzvédelmi Szolgáltató Bt. | E14: 127000 | F14: 127000 | G14: 127000 | H14: 127000 | I14: tűzvédelmi szolgáltatás
A15: =A14+1 -> 12 | B15: Lindström Kft | E15: 250000 | F15: 250000 | G15: 250000 | H15: 250000 | I15: szőnyegtisztítás
A16: =A15+1 -> 13 | B16: Magyar Telekom Zrt | E16: 220000 | F16: 220000 | G16: 220000 | H16: 220000 | I16: telefonelőfizetés
A17: =A16+1 -> 14 | B17: Menedzser Praxis Szakkiadó és Gazdasági Tanácsadó Kft | D17: havi 120.000.-Ft + ÁFA | E17: 1828800 | F17: 1828800 | G17: 1828800 | H17: 1828800 | I17: adatvédelmi tisztviselő részére kötelezően előírt feladatok ellátása
A18: =A17+1 -> 15 | B18: Mod Zrt. | E18: 600000 | F18: 600000 | G18: 600000 | H18: 600000 | I18: Fénymásoló bérleti díj
A19: =A18+1 -> 16 | B19: Patent Távfelügyelet Kft | E19: 150000 | F19: 150000 | G19: 150000 | H19: 150000 | I19: Távfelügyeleti díj
A20: =A19+1 -> 17 | B20: RLAN Internet Távközlési Kft | E20: 152904 | F20: 152904 | G20: 152904 | H20: 152904 | I20: Internet GYÁO
A21: =A20+1 -> 18 | B21: Soósné Dr. Kiss Zsuzsanna | E21: 2445000 | I21: Családterápia szerződés alapján
A22: =A21+1 -> 19 | B22: Takaró Attila Lajos e.v. | D22: 130 000 Ft/hó | E22: 1560000 | I22: informatikai rendszerfelügyelet, karbantartások
A23: =A22+1 -> 20 | B23: Kiss Szűcs Beáta munkavédelmi technikus E.V. | E23: 228600 | F23: 228600 | G23: 228600 | H23: 228600 | I23: Munkavédelmi szolgáltatás
A24: =A23+1 -> 21 | B24: TÜVI Kft | E24: 65000 | F24: 65000 | G24: 65000 | H24: 65000 | I24: poroltó ellenőrzés
A25: =A24+1 -> 22 | B25: ViDaNet Kábeltelevíziós Szolgáltató Zrt | E25: 111600 | F25: 111600 | G25: 111600 | H25: 111600 | I25: Kábeltévé, internet Vasutas utca 10. Szolgálat
A26: =A25+1 -> 23 | B26: ViDaNet Kábeltelevíziós Szolgáltató Zrt | E26: 96228 | F26: 96228 | G26: 96228 | H26: 96228 | I26: Kábeltévé, internet Vasutas utca 10. Központ
A27: =A26+1 -> 24 | B27: Abakusz SH Kft | E27: 2100000 | I27: Irodaszer, megállapodás alapján
A28: =A27+1 -> 25 | B28: Assist-Trend Kft | E28: 1200000 | I28: Tisztítószer beszerzés
A29: =A28+1 -> 26 | B29: Lajta Clean Kft. | E29: 7000000 | I29: Tisztítószer beszerzés
A30: =A29+1 -> 27 | B30: AG FOODS Hungary Kft | E30: 4300000 | I30: Tisztítószer beszerzés
A31: =A30+1 -> 28 | B31: Turkovics-Elter Violetta | E31: 4300000 | I31: Tisztítószer beszerzés
A32: =A31+1 -> 29 | B32: AEGON Magyarország Általános Biztosító Zrt. | E32: 53820 | F32: 53820 | G32: 53820 | H32: 53820 | I32: MDC 786 Suzuki Splash gépjármű kötelező biztosítás
A33: =A32+1 -> 30 | B33: AEGON Magyarország Általános Biztosító Zrt. | E33: 33523 | F33: 33523 | G33: 33523 | H33: 33523 | I33: LYX 724 Renault Kangoo Casco biztosítás
A34: =A33+1 -> 31 | B34: Generali Biztosító Zrt. | E34: 90697 | F34: 90697 | G34: 90697 | H34: 90697 | I34: általános felelősség biztosítás fejlesztő foglalkoztatás
A35: =A34+1 -> 32 | B35: Generali Biztosító Zrt. | E35: 174186 | F35: 174186 | G35: 174186 | H35: 174186 | I35: NZL 359 Renault Master Casco biztosítás
A36: =A35+1 -> 33 | B36: Allianz Hungária Zrt. | E36: 94800 | F36: 94800 | G36: 94800 | H36: 94800 | I36: LSM 772 KIA Picanto kötelező gépjármű biztosítás
A37: =A36+1 -> 34 | B37: Allianz Hungária Zrt. | E37: 70844 | F37: 70844 | G37: 70844 | H37: 70844 | I37: LSM 772 KIA Picanto casco
A38: =A37+1 -> 35 | B38: ALI TŰZ-REND Kft | E38: 7620 | F38: 7620 | G38: 7620 | H38: 7620 | I38: Jánossomorjai Idősek Klubja Tűzotó készülékek ellenőrzése
A39: =A38+1 -> 36 | B39: CompuTREND Zrt. | E39: 3718882 | F39: 3718882 | G39: 3718882 | H39: 3718882 | I39: CT-Ecostat éves karbantartási díj
A40: =A39+1 -> 37 | B40: Gastro Kont Kft | E40: 20806400 | I40: szociális étkeztetés keretében meleg étel elkészítése és házhozszállítása, éves szerződés
A41: =A40+1 -> 38 | B41: Dr Kacz Károlyné | E41: 600000 | F41: 600000 | G41: 600000 | H41: 600000 | I41: dietetikus szolgáltatás
A42: =A41+1 -> 39 | B42: Dr. Mihályi Zsuzsanna Orvosi Bt | D42: 125.000.-Ft/hó | E42: 1500000 | F42: 1500000 | G42: 1500000 | H42: 1500000 | I42: Rendszereses háziorvosi ellátás Idősek Gonodzóházában
A43: =A42+1 -> 40 | B43: Dr. Ruzsa Judit Emőke | D43: 100.000.-Ft /hó+4.000.-Ft/demensvzsgálat | E43: 1400000 | F43: 1400000 | G43: 1400000 | H43: 1400000 | I43: Pszichiátriai szakorvosi ellátás biztosítása, demencia vizsgálatok elvégzése
A44: =A43+1 -> 41 | B44: Taxon Bt | E44: 600000 | F44: 600000 | G44: 600000 | H44: 600000 | I44: Orvosi alapellátás Hajléktalan ellátó szolgálatnál
A45: =A44+1 -> 42 | B45: Ecoffice Technology Kft | E45: 400000 | F45: 400000 | G45: 400000 | H45: 400000 | I45: Másológép bérleti díj Alapszolgáltatási Centrum
A46: =A45+1 -> 43 | B46: Egyetem Étterem és Konyha Kereskedelmi és Szolgáltató Kft. | E46: 21762000 | I46: szociális étkeztetés keretében meleg étel elkészítése és házhozszállítása, éves szerződés
A47: =A46+1 -> 44 | B47: ÉMI-TÜV SÜD Kft | E47: 80000 | F47: 80000 | G47: 80000 | H47: 80000 | I47: Felvonó éves biztonságtechnikai vizsgálat
A48: =A47+1 -> 45 | B48: Faber Gyógyszertár Kft. | E48: 835000 | I48: Intézményi gyógyszerek biztosítása az Idősek Gondozóháza ellátottjai részére
A49: =A48+1 -> 46 | B49: FleetCor Hungary Kft | E49: 4700000 | F49: 4700000 | G49: 4700000 | H49: 4700000 | I49: üzemanyag a gépjárművekbe
A50: =A49+1 -> 47 | B50: Földes K. G. 2009 Kft | D50: 1.000.-Ft/alkalom +40.- Ft/kg+ÁFA | E50: 1500000 | F50: 1500000 | G50: 1500000 | H50: 1500000 | I50: Ételhulladék elszállítása a Soproni út 65, Lengyári út 2.
A51: =A50+1 -> 48 | B51: Földes K. G. 2009 Kft | D51: 3.000.-Ft/ hó; +40.- Ft/kg+ÁFA | E51: 45720 | F51: 45720 | G51: 45720 | H51: 45720 | I51: Ételhulladék elszállítása a Lébényi Idősek Klubja
A52: =A51+1 -> 49 | B52: Földes K. G. 2009 Kft | D52: 3.000.-Ft/ hó; +40.- Ft/kg+ÁFA | E52: 45720 | F52: 45720 | G52: 45720 | H52: 45720 | I52: Ételhulladék elszállítása a Jánossomorjai Idősek Klubja
A53: =A52+1 -> 50 | B53: Földes K. G. 2009 Kft | D53: 3.000.-Ft/ hó; +40.- Ft/kg+ÁFA | E53: 90000 | F53: 90000 | G53: 90000 | H53: 90000 | I53: Ételhulladék elszállítása a Mosoni Idősek Klubja
A54: =A53+1 -> 51 | B54: Földes K. G. 2009 Kft | D54: 3.000.-Ft/ hó; +40.- Ft/kg+ÁFA | E54: 90000 | F54: 90000 | G54: 90000 | H54: 90000 | I54: Ételhulladék elszállítása a Óvári Idősek Klubja
A55: =A54+1 -> 52 | B55: Funkció Kft | E55: 19000000 | I55: élelmiszer, darabolt sertéshús, marhahús és darabolt baromfi, hentesárú, éves szerződés
A56: =A55+1 -> 53 | B56: FU-O-GE Kft | E56: 1550000 | F56: 1550000 | G56: 1550000 | H56: 1550000 | I56: foglalkoztatás egészségügyi szolgáltatás
A57: =A56+1 -> 54 | B57: Győr-Moson-Sopron Vármegyei Katasztófavédelmi Igazgatóság | E57: 182880 | F57: 182880 | G57: 182880 | H57: 182880 | I57: Távfelügyelet biztosítása Soproni utca 65.
A58: =A57+1 -> 55 | B58: Intézményi Működtető és Gazdálkodási Szervezet | E58: 2670048 | F58: 2670048 | G58: 2670048 | H58: 2670048 | I58: szociális étkeztetés keretében lefőzött ételadagok kiszállítása mosonmagyaróváron lakcímre
A59: =A58+1 -> 56 | B59: Halker Kft | E59: 12155394 | I59: élelmiszer, mélyfagyasztoss és gyorsfagyasztott termékek, éves szerződés
A60: =A59+1 -> 57 | B60: K&H Biztosító Zrt. | E60: 49592 | F60: 49592 | G60: 49592 | H60: 49592 | I60: LYX 724 Renault Kangoo kötelező gépjármű biztosítás
A61: =A60+1 -> 58 | B61: Kaczor Attila e.v. | D61: 440.000.-Ft/hó | E61: 5280000 | I61: Jelzőrendszeres házi segítségnyújtás helyszínre történő kivonulások
A62: =A61+1 -> 59 | B62: Karolina Kórház Rendelőintézet | E62: 165000 | F62: 165000 | G62: 165000 | H62: 165000 | I62: Foglalkoztatás egészségügyi tüdőszűrés
A63: =A62+1 -> 60 | B63: KÉTÜSZ Kapuvár Kft | E63: 125000 | F63: 125000 | G63: 125000 | H63: 125000 | I63: kéményseprés
A64: =A63+1 -> 61 | B64: Kiss János Mihály | E64: 180000 | F64: 180000 | G64: 180000 | H64: 180000 | I64: tűzvédelmi szolgáltatás
A65: =A64+1 -> 62 | B65: KONSZEG Kft | E65: 14500000 | I65: élelmiszer, különféle élelmiszer termékek (szárazáru, konzerv), éves szerződés
A66: =A65+1 -> 63 | B66: Kónyáné Dr. Sándor Andrea | E66: 3000000 | F66: 3000000 | G66: 3000000 | H66: 3000000 | I66: Orvosi alapellátás Aranykor Idősek Otthona Virágoskert Idősek Otthona szolgálatnál
A67: =A66+1 -> 64 | B67: Kránitz Ferenc | E67: 7500000 | F67: 7500000 | G67: 7500000 | H67: 7500000 | I67: élelmiszer, pékárú, éves szerződés
A68: =A67+1 -> 65 | B68: Lindström Kft | E68: 845364 | F68: 845364 | G68: 845364 | H68: 845364 | I68: szőnyegtisztítás
A69: =A68+1 -> 66 | B69: LK-SYSTEMS Bt. | E69: 4500000 | F69: 4500000 | G69: 4500000 | H69: 4500000 | I69: informatikai rendszerfelügyelet, karbantartások
A70: =A69+1 -> 67 | B70: Magyar Telekom Nyrt. | E70: 1500000 | F70: 1500000 | G70: 1500000 | H70: 1500000 | I70: telefon, internet a telephelyeken
A71: =A70+1 -> 68 | B71: MediaWorks Hungary Zrt | E71: 310000 | I71: Kisalföld újság előfizetés
A72: =A71+1 -> 69 | B72: Menedzser Praxis Szakkiadó és Gazdasági Tanácsadó Kft | D72: havi 120.000.-Ft + ÁFA | E72: 1828800 | F72: 1828800 | G72: 1828800 | H72: 1828800 | I72: adatvédelmi tisztviselő részére kötelezően előírt feladatok ellátása
A73: =A72+1 -> 70 | B73: Patent Távfelügyelet Kft | E73: 480384 | F73: 480384 | G73: 480384 | H73: 480384 | I73: Távfelügyeleti díj
A74: =A73+1 -> 71 | B74: HO-MI Kft | E74: 7000000 | I74: élelmiszer, tej, tejtermék
A75: =A74+1 -> 72 | B75: Pannon Elco-Lift Bt. | D75: 16.510.-Ft/hó | E75: 198120 | F75: 198120 | G75: 198120 | H75: 198120 | I75: konyhai felvonó karbantartása
A76: =A75+1 -> 73 | B76: Pannon Tech 2000 Bt | E76: 595860 | F76: 595860 | G76: 595860 | H76: 595860 | I76: fénymásoló bérlés Központi irányítás
A77: =A76+1 -> 74 | B77: Partner Service Kft | E77: 108031 | F77: 108031 | G77: 108031 | H77: 108031 | I77: tűzjelző rendszer karbantartása Soproni út
A78: =A77+1 -> 75 | B78: Satelit Híradástechnikai Kft | D78: 3.829.-Ft / hó | E78: 45948 | I78: internet Jánossomorjai Idősek kLubja
A79: =A78+1 -> 76 | B79: SOS Központ Kft | E79: 10100000 | F79: 10100000 | G79: 10100000 | H79: 10100000 | I79: Jelzőrendszeres házi-segítségnyújtás készülékbérlés
A80: =A79+1 -> 77 | B80: Stercor Kft | E80: 251460 | I80: Egészségügyi hulladékok begyűjtési díja
A81: =A80+1 -> 78 | B81: SPIE AGIS Fire&Security Kft | E81: 355728 | F81: 355728 | G81: 355728 | H81: 355728 | I81: konyhai ansul oltórendszer karbantartása
A82: =A81+1 -> 79 | B82: Szám-Adó Kft. | E82: 71628 | F82: 71628 | G82: 71628 | H82: 71628 | I82: TSZG szoftverfelügyelet Jánossomorjai Idősek Klubja
A83: =A82+1 -> 80 | B83: Szám-Adó Kft. | E83: 685800 | F83: 685800 | G83: 685800 | H83: 685800 | I83: TSZG szoftverfelügyelet Mosoni Idősek Klubja, Alapszolgáltatási Centrum, Hajléktalan Ellátó Szolgálat, Fogyatékossággal Élők Nappali Intézménye
A84: =A83+1 -> 81 | B84: Szám-Adó Kft. | E84: 144780 | F84: 144780 | G84: 144780 | H84: 144780 | I84: TSZG szoftverfelügyelet Lébényi Idősek Klubja
A85: =A84+1 -> 82 | B85: Szám-Adó Kft. | E85: 134112 | F85: 134112 | G85: 134112 | H85: 134112 | I85: TSZG szoftverfelügyelet SzocX Hajléktalan Ellátó Szolgálat,
A86: =A85+1 -> 83 | B86: Yettel Magyarország Zrt | E86: 1200000 | F86: 1200000 | G86: 1200000 | H86: 1200000 | I86: mobiltelefon előfizetés
A87: =A86+1 -> 84 | B87: Temini Kft | E87: 228600 | F87: 228600 | G87: 228600 | H87: 228600 | I87: Soproni út felvonó karbantartás
A88: =A87+1 -> 85 | B88: Kiss Szűcs Beáta munkavédelmi technikus E.V. | E88: 762000 | F88: 762000 | G88: 762000 | H88: 762000 | I88: Munkavédelmi szolgáltatás
A89: =A88+1 -> 86 | B89: TÜVI Kft | E89: 130000 | F89: 130000 | G89: 130000 | H89: 130000 | I89: poroltó ellenőrzés
A90: =A89+1 -> 87 | B90: UNION Vienna Insurance Group Biztosító Zrt. | E90: 197140 | F90: 197140 | G90: 197140 | H90: 197140 | I90: NZL 359 Renault Master kötelező biztosítás
A91: =A90+1 -> 88 | B91: UNION Vienna Insurance Group Biztosító Zrt. | E91: 3930 | F91: 3930 | G91: 3930 | H91: 3930 | I91: XZM 445 utánfutó kötelező biztosítás
A92: =A91+1 -> 89 | B92: ViDaNet Kábeltelevíziós Szolgáltató Zrt | E92: 125000 | I92: Kábeltévé, internet Barátság utca 20.
A93: =A92+1 -> 90 | B93: ViDaNet Kábeltelevíziós Szolgáltató Zrt | E93: 110000 | I93: Kábeltévé, internet Soproni út 65.
A94: =A93+1 -> 91 | B94: ViDaNet Kábeltelevíziós Szolgáltató Zrt | E94: 75000 | I94: Kábeltévé, internet Zichy Mihály utca 5 Alapszolgáltatási Centrum
A95: =A94+1 -> 92 | B95: ViDaNet Kábeltelevíziós Szolgáltató Zrt | E95: 60000 | I95: Kábeltévé, internet Zichy Mihály utca 5 Óvári Idősek Klubja
A96: =A95+1 -> 93 | B96: ViDaNet Kábeltelevíziós Szolgáltató Zrt | E96: 64000 | I96: Kábeltévé, internet Szent István király t 109. Mosoni Idősek Klubja
A97: =A96+1 -> 94 | B97: Vörös Ferenc e.v. | E97: 233000 | F97: 233000 | G97: 233000 | H97: 233000 | I97: rovarírtás, rágcsálóírtás
A98: =A97+1 -> 95 | B98: WD Bt | E98: 2100000 | I98: munkaruha, védőruha
A99: 96 | B99: Yettel Magyarország Zrt | D99: 9.222 Ft/hó | E99: =12*9222 -> 110664 | F99: =12*9222 -> 110664 | G99: =12*9222 -> 110664 | H99: =12*9222 -> 110664 | I99: vállalati internet 2 GB
A102: Többéves kihatású kötelezettségek általnos működtetési költségeken kívül (e Ft)
A104: EU-s támogatással megvalósuló projektek (adatok Ft) | F104: 2024. év | K104: 21. melléklet
...

Sheet EU-s projektek
A1: EU-s támogatással megvalósuló projektek (adatok Ft-ban) | H1: 2024. év | J1: 26. melléklet
A4: Mosonmagyaróvári Térségi Társulás és intézményei 2024. évi teljesítési adatai nem tartalmaznak folyamatban lévő EU-s vagy hazai pályázatot, támogatást.

Sheet Saját bevételek részletezése
A2: Az Áht. 23. § (2) bekezdése alapján a Gst. 8.§ (2) bekezdése szerinti adósságot keletkeztető ügyletek és
A3: az önkormányzati garanciákból és önkormányzati kezességekből fennálló kötelezettségek az adósságot keletkeztető ügylegek futamidejének végéig
A4: adatok Ft-ban
E5: 22. melléklet
A10: Mosonmagyaróvár Térségi Társulás adósságot keletkeztető ügylettel nem rendelkezik, és a Stabilitási tv. 45.§ (1) bekezdés a) pontja szerinti saját bevételekkel nem rendelkezik 2024. évben.

Sheet Adósságot keletkeztető fejleszt
A1: Mosonmagyaróvár Térségi Társulás adósságot keletkeztető
A2: fejlesztési céljai (adatok Ft-ban)
I3: 23. melléklet
A7: Mosonmagyaróvár Térségi Társulás 2024. évben az eredeti előirányzatok között nem tervez adósságot keletkezető ügyletet.

Sheet 2023-2024 tagdíj
F1: 24. melléklet
B2: Mosonmagyaróvár Térségi Társulás tagjai által fizetendő hozzájárulások, tagdjíak 2024 év
B4: Figyelembe véve Mosonmagyaróvár Város Önkormányzat 2022. évi gesztor önkormányzati támogatását | G4: ='[3]2023 tagdíj (2)'!$G$4 -> 178687977
B5: 2024-as előzetes tervek alapján CSGYK plusz finanszírozási igény különbözete, figyelembe véve a tavalyi gesztor önkormányzati támogatás mértékét | G5: ='[1]CSGYK 2024'!F118 -> 4824005 | I5: =SUM(G5:G6) -> 41949605
B6: 2024-as előzetes tervek alapján KESZI plusz finanszírozási igény különbözete, figyelembe véve a tavalyi gesztor önkormányzati támogatás mértékét | G6: ='[1]KESZI 2024'!G140 -> 37125600 | H6: =G6+G5 -> 41949605 | I6: =G8-293249542 -> 11822980 | J6: =G6+G5+G4 -> 220637582 | L6: =I6+I45 -> 54323061
B7: 2024-es előzetes tervek alapján a gesztor önkormányzat új tagdíj kötelezettsége | G7: =[1]Társulás!$I$58 -> 84434940 | I7: =G7-I6 -> 72611960 | J7: =J6+I7 -> 293249542
B8: Összes hiányfinanszírozás 2024-ben előzetes tervek alapján: | G8: =SUM(G4:G7) -> 3.0507252e+08 | H8: =G5+G6 -> 41949605
D10: intézményekre felosztva | E10: társulás működésére
E11: Meglévő tagdíj 270 Ft/lakos | F11: Gyermekjóléti szolgálat támogatása 100 Ft/lakos
A12: Sorszám | B12: Önkormányzat | C12: Lakos (2023. január 1.) | D12: 580 Ft + 643 Ft/lakos=1 223 Ft/lakos
A13: 1. | B13: Mosonmagyaróvár | C13: 31954 | D13: =1223*C13 -> 39079742 | E13: =270*C13 -> 8627580 | F13: =100*C13 -> 3195400
A14: 2. | B14: Ásványráró | C14: 2225 | D14: =1223*C14 -> 2721175 | E14: =270*C14 -> 600750 | F14: =100*C14 -> 222500
A15: 3. | B15: Bezenye | C15: 1577 | D15: =1223*C15 -> 1928671 | E15: =270*C15 -> 425790 | F15: =100*C15 -> 157700
A16: 4. | B16: Dunakiliti | C16: 2307 | D16: =1223*C16 -> 2821461 | E16: =270*C16 -> 622890 | F16: =100*C16 -> 230700
A17: 5. | B17: Dunaremete | C17: 278 | D17: =1223*C17 -> 339994 | E17: =270*C17 -> 75060 | F17: =100*C17 -> 27800
A18: 6. | B18: Dunasziget | C18: 1900 | D18: =1223*C18 -> 2323700 | E18: =270*C18 -> 513000 | F18: =100*C18 -> 190000
A19: 7. | B19: Darnózseli | C19: 1663 | D19: =1223*C19 -> 2033849 | E19: =270*C19 -> 449010 | F19: =100*C19 -> 166300
A20: 8. | B20: Feketeerdő | C20: 723 | D20: =1223*C20 -> 884229 | E20: =270*C20 -> 195210 | F20: =100*C20 -> 72300
A21: 9. | B21: Halászi | C21: 3341 | D21: =1223*C21 -> 4086043 | E21: =270*C21 -> 902070 | F21: =100*C21 -> 334100
A22: 10. | B22: Hegyeshalom | C22: 4036 | D22: =1223*C22 -> 4936028 | E22: =270*C22 -> 1089720 | F22: =100*C22 -> 403600
A23: 11. | B23: Hédervár | C23: 1332 | D23: =1223*C23 -> 1629036 | E23: =270*C23 -> 359640 | F23: =100*C23 -> 133200
A24: 12. | B24: Jánossomorja | C24: 6133 | D24: =1223*C24 -> 7500659 | E24: =270*C24 -> 1655910 | F24: =100*C24 -> 613300
... A26: 14. | B26: Kimle | C26: 2378 | D26: =1223*C26 -> 2908294 | E26: =270*C26 -> 642060 | F26: =100*C26 -> 237800
A27: 15. | B27: Kisbodak | C27: 385 | D27: =1223*C27 -> 470855 | E27: =270*C27 -> 103950 | F27: =100*C27 -> 38500 | J27: =D41-D13+F41-F13+D74-D46+I74-I46 -> 1.1888195e+08 | L27: CSGYK | M27: 58.5
A28: 16. | B28: Levél | C28: 2429 | D28: =1223*C28 -> 2970667 | E28: =270*C28 -> 655830 | F28: =100*C28 -> 242900 | L28: KESZI | M28: 143
A29: 17. | B29: Lébény | C29: 3346 | D29: =1223*C29 -> 4092158 | E29: =270*C29 -> 903420 | F29: =100*C29 -> 334600 | L29: Összesen | M29: =SUM(M27:M28) -> 201.5
A30: 18. | B30: Lipót | C30: 866 | D30: =1223*C30 -> 1059118 | E30: =270*C30 -> 233820 | F30: =100*C30 -> 86600
A31: 19. | B31: Máriakálnok | C31: 2209 | D31: =1223*C31 -> 2701607 | E31: =270*C31 -> 596430 | F31: =100*C31 -> 220900 | L31: CSGYK
A32: 20. | B32: Mecsér | C32: 660 | D32: =1223*C32 -> 807180 | E32: =270*C32 -> 178200 | F32: =100*C32 -> 66000 | L32: gyermekjóléti szolgálat | M32: =F41 -> 8426100
A33: 21. | B33: Mosonszentmiklós | C33: 2714 | D33: =1223*C33 -> 3319222 | E33: =270*C33 -> 732780 | F33: =100*C33 -> 271400 | L33: hiányfinanszírozás I. | M33: =D41/M29*M27 -> 29918091
A34: 22. | B34: Mosonszolnok | C34: 1891 | D34: =1223*C34 -> 2312693 | E34: =270*C34 -> 510570 | F34: =100*C34 -> 189100 | K34: Létszám | L34: hiányfinanszírozás II. | M34: =D74/M29*M27 -> 10891895
A35: 23. | B35: Mosonudvar | C35: 426 | D35: =1223*C35 -> 520998 | E35: =270*C35 -> 115020 | F35: =100*C35 -> 42600 | J35: KESZI | K35: 159 | L35: hiányfinanszírozás III. | M35: =I74/201.5*58.5 -> 12338733
A36: 24. | B36: Püski | C36: 662 | D36: =1223*C36 -> 809626 | E36: =270*C36 -> 178740 | F36: =100*C36 -> 66200 | J36: CSGYK | K36: 58.5 | L36: összesen | M36: =SUM(M32:M35) -> 61574820
A37: 25. | B37: Rajka | C37: 6878 | D37: =1223*C37 -> 8411794 | E37: =270*C37 -> 1857060 | F37: =100*C37 -> 687800 | K37: =K36+K35 -> 217.5 | L37: KESZI
A38: 26. | B38: Újrónafő | C38: 925 | D38: =1223*C38 -> 1131275 | E38: =270*C38 -> 249750 | F38: =100*C38 -> 92500 | L38: hiányfinanszírozás I. | M38: =D41-M33 -> 73133112
A39: 27. | B39: Várbalog | C39: 453 | D39: =1223*C39 -> 554019 | E39: =270*C39 -> 122310 | F39: =100*C39 -> 45300 | L39: hiányfinanszírozás II. | M39: =D74-M34 -> 26624633
C40: =SUM(C13:C39) -> 84261 | L40: hiányfinanszírozás III. | M40: =I74/201.5*143 -> 30161348
C41: Összesen | D41: =SUM(D13:D39) -> 103051203 | E41: =SUM(E13:E39) -> 22750470 | F41: =SUM(F13:F40) -> 8426100 | L41: összesen | M41: =SUM(M38:M40) -> 1.2991909e+08
D44: Intézmények működésének támogatása (157.198 Ft + 37.359.330 Ft =37.516.528 Ft) | E44: Felújítási alap 100 Ft/lakos | F44: Fizetési kötelezettség összesen | G44: 2023-ben teljesített/előírt fizetési kötelezettség | H44: Eltérés előző év eredeti előirányzatához képest | I44: 2024-ben keletkezett további hiány felének felosztása tagönkormányzatok között | J44: 2024. évre tervezett fizetési kötelezettség a 42.500.081 Ft működési hiány bevállalásával együtt
A45: Sorszám | B45: Önkormányzat | C45: Lakos (2023. január 1.) | I45: 42500081 | J45: F45-től F71-ig és az I45-től I71-ig | M45: =M43+M44 -> 0
A46: 1. | B46: Mosonmagyaróvár | C46: 31954 | D46: =SUM(37516528/$C$40*C46)-3562 -> 14223698 | E46: =100*C46 -> 3195400 | F46: =SUM(D13:F13,D46:E46) -> 68321820 | G46: 68841896 | H46: =F46-G46 -> -520076.29 | I46: =SUM($I$45/$C$40*C46)-34507+949+17995+7247+4281 -> 16113120 | J46: =F46+I46 -> 84434940 | L46: =F46+I46 -> 84434940
A47: 2. | B47: Ásványráró | C47: 2225 | D47: =SUM(37516528/$C$40*C47) -> 990663.23 | E47: =100*C47 -> 222500 | F47: =SUM(D14:F14,D47:E47) -> 4757588.2 | G47: 4617574.8 | H47: =F47-G47 -> 140013.45 | I47: =SUM($I$45/$C$40*C47) -> 1122259.2 | J47: =F47+I47 -> 5879847.4 | L47: =SUM(J47:J72) -> 1.3823634e+08 | M47: KESZI-nél és CSGyK felé fel nem használt
A48: 3. | B48: Bezenye | C48: 1577 | D48: =SUM(37516528/$C$40*C48) -> 702146.48 | E48: =100*C48 -> 157700 | F48: =SUM(D15:F15,D48:E48) -> 3372007.5 | G48: 3418760.7 | H48: =F48-G48 -> -46753.263 | I48: =SUM($I$45/$C$40*C48) -> 795416.95 | J48: =F48+I48 -> 4167424.4 | M48: =F74+I74-M36-M41 -> 31177370
A49: 4. | B49: Dunakiliti | C49: 2307 | D49: =SUM(37516528/$C$40*C49) -> 1027173.1 | E49: =100*C49 -> 230700 | F49: =SUM(D16:F16,D49:E49) -> 4932924.1 | G49: 4942967.2 | H49: =F49-G49 -> -10043.092 | I49: =SUM($I$45/$C$40*C49) -> 1163618.8 | J49: =F49+I49 -> 6096542.9
A50: 5. | B50: Dunaremete | C50: 278 | D50: =SUM(37516528/$C$40*C50) -> 123777.25 | E50: =100*C50 -> 27800 | F50: =SUM(D17:F17,D50:E50) -> 594431.25 | G50: 590844.06 | H50: =F50-G50 -> 3587.1881 | I50: =SUM($I$45/$C$40*C50) -> 140219.35 | J50: =F50+I50 -> 734650.6
A51: 6. | B51: Dunasziget | C51: 1900 | D51: =SUM(37516528/$C$40*C51) -> 845959.62 | E51: =100*C51 -> 190000 | F51: =SUM(D18:F18,D51:E51) -> 4062659.6 | G51: 4016027 | H51: =F51-G51 -> 46632.593 | I51: =SUM($I$45/$C$40*C51) -> 958333.68 | J51: =F51+I51 -> 5020993.3
A52: 7. | B52: Darnózseli | C52: 1663 | D52: =SUM(37516528/$C$40*C52) -> 740437.28 | E52: =100*C52 -> 166300 | F52: =SUM(D19:F19,D52:E52) -> 3555896.3 | G52: 3482982.9 | H52: =F52-G52 -> 72913.36 | I52: =SUM($I$45/$C$40*C52) -> 838794.16 | J52: =F52+I52 -> 4394690.4
A53: 8. | B53: Feketeerdő | C53: 723 | D53: =SUM(37516528/$C$40*C53) -> 321909.9 | E53: =100*C53 -> 72300 | F53: =SUM(D20:F20,D53:E53) -> 1545948.9 | G53: 1554176.8 | H53: =F53-G53 -> -8227.8732 | I53: =SUM($I$45/$C$40*C53) -> 364671.18 | J53: =F53+I53 -> 1910620.1
A54: 9. | B54: Halászi | C54: 3341 | D54: =SUM(37516528/$C$40*C54) -> 1487553.2 | E54: =100*C54 -> 334100 | F54: =SUM(D21:F21,D54:E54) -> 7143866.2 | G54: 7032328.8 | H54: =F54-G54 -> 111537.43 | I54: =SUM($I$45/$C$40*C54) -> 1685154.1 | J54: =F54+I54 -> 8829020.3
A55: 10. | B55: Hegyeshalom | C55: 4036 | D55: =SUM(37516528/$C$40*C55) -> 1796996.3 | E55: =100*C55 -> 403600 | F55: =SUM(D22:F22,D55:E55) -> 8629944.3 | G55: 8577942.6 | H55: =F55-G55 -> 52001.74 | I55: =SUM($I$45/$C$40*C55) -> 2035702.5 | J55: =F55+I55 -> 10665647
A56: 11. | B56: Hédervár | C56: 1332 | D56: =SUM(37516528/$C$40*C56) -> 593062.21 | E56: =100*C56 -> 133200 | F56: =SUM(D23:F23,D56:E56) -> 2848138.2 | G56: 2845042.6 | H56: =F56-G56 -> 3095.6169 | I56: =SUM($I$45/$C$40*C56) -> 671842.35 | J56: =F56+I56 -> 3519980.6
A57: 12. | B57: Jánossomorja | C57: 6133 | D57: =SUM(37516528/$C$40*C57) -> 2730668.6 | E57: =100*C57 -> 613300 | F57: =SUM(D24:F24,D57:E57) -> 13113838 | G57: 13112029 | H57: =F57-G57 -> 1809.0641 | I57: =SUM($I$45/$C$40*C57) -> 3093400.2 | J57: =F57+I57 -> 16207238
A58: 13. | B58: Károlyháza | C58: 570 | D58: =SUM(37516528/$C$40*C58) -> 253787.88 | E58: =100*C58 -> 57000 | F58: =SUM(D25:F25,D58:E58) -> 1218797.9 | G58: 1230925.1 | H58: =F58-G58 -> -12127.242 | I58: =SUM($I$45/$C$40*C58) -> 287500.1 | J58: =F58+I58 -> 1506298
A59: 14. | B59: Kimle | C59: 2378 | D59: =SUM(37516528/$C$40*C59) -> 1058785.2 | E59: =100*C59 -> 237800 | F59: =SUM(D26:F26,D59:E59) -> 5084739.2 | G59: 5015752.3 | H59: =F59-G59 -> 68986.945 | I59: =SUM($I$45/$C$40*C59) -> 1199430.3 | J59: =F59+I59 -> 6284169.5
A60: 15. | B60: Kisbodak | C60: 385 | D60: =SUM(37516528/$C$40*C60) -> 171418.13 | E60: =100*C60 -> 38500 | F60: =SUM(D27:F27,D60:E60) -> 823223.13 | G60: 830606.87 | H60: =F60-G60 -> -7383.7357 | I60: =SUM($I$45/$C$40*C60) -> 194188.67 | J60: =F60+I60 -> 1017411.8
... A72: 27. | B72: Várbalog | C72: 461 | D72: =SUM(37516528/$C$40*C72) -> 205256.52 | E72: =100*C72 -> 46100 | F72: =SUM(D39:F39,D72:E72) -> 972985.52 | G72: 986880.84 | H72: =F72-G72 -> -13895.324 | I72: =SUM($I$45/$C$40*C72) -> 232522.01 | J72: =F72+I72 -> 1205507.5
D74: =SUM(D46:D72) -> 37516528 | E74: =SUM(E46:E72) -> 8426900 | F74: =SUM(F46:F73) -> 1.801712e+08 | G74: =SUM(G46:G72) -> 179374691 | H74: =F74-G74 -> 796509.94 | I74: =SUM(I46:I72) -> 42500081 | J74: =SUM(F74+I74) -> 2.2267128e+08 | L74: =J74-196284321 -> 26386961
D75: =D74-'[3]01 (2)'!E45-'[3]01 (2)'!E46 -> -0.064774923 | I75: =I74-I45 -> 0.089163437
B76: Ebben az esetben Mosonmagyaróvár Város Önkormányzatát mint gesztor önkormányzatot terhelő hiányfinaszírozás és hozzájárulás:
B77: hiányfinanszírozás 2022. évi szinten: | D77: =G4 -> 178687977
B78: hiányfinanszírozás felének bevállalása | D78: =[1]Társulás!$I$53+[1]Társulás!$I$54 -> 41949605
B79: ezen kívüli hozzájárulás | D79: =J46 -> 84434940 | E79: 2024-ben | I79: =E74-E46+E41-E13 -> 19354390
D80: =SUM(D77:D79) -> 3.0507252e+08
B82: A többi település esetén a "Fizetési kötelezettség összesen" oszlopban nyerhető ki információ.
B85: =D74+E74+E41 -> 68693898
B86: =B85-'[3]01 (2)'!I36 -> 1.4526292e+08 | D86: =J74-J46 -> 1.3823634e+08
