Workbook

Sheet Tartalom
B1: Mosonmagyaróvári Térségi Társulás és intézményei
A3: 2024. évi költségvetés végrehajtása - mellékletek
A5: 1 | B5: Összevont mérleg, bevételek és kiadások összesítése
A7: =A5+1 -> 2 | B7: Összevont mérleg, működés és fejlesztés egyenlege
A9: =A7+1 -> 3 | B9: Működési bevételek, Intézmények
A11: =A9+1 -> 4 | B11: Működési bevételek, Társulás
A13: =A11+1 -> 5 | B13: Működési bevételek Társulás és intézményei
A15: =A13+1 -> 6 | B15: Intézményi finanszírozási bevételek részletezése
A17: =A15+1 -> 7 | B17: Felhalmozási bevételek jogímenként
A19: =A17+1 -> 8 | B19: Működési kiadások, Intézmények
A21: =A19+1 -> 9 | B21: Működési kiadások, Társulás
A23: =A21+1 -> 10 | B23: Működési kiadások, Társulás és intézményei összevontan
A25: =A23+1 -> 11 | B25: Felhalmozási kiadások
A27: =A25+1 -> 12 | B27: Állami hozzájárulások
A29: =A27+1 -> 13 | B29: Társulás által biztosítandó támogatások
... A51: =A49+1 -> 24 | B51: Hitel-, kölcsöntörlesztések, kamatfizetési kötelezettségek
A53: 25 | B53: Többéves kihatású kötelezettségek általános működtetési költségeken kívül Ft-ban
A55: 26 | B55: EU-s támogatással megvalósuló projektek

Sheet Mérleg
B1: Mosonmagyaróvári Térségi Társulás és intézmnyei 2024. évi összevont költségvetési mérlege | Y1: Mosonmagyaróvái Térségi Társulás és intézményei 2024. évi összevont költségvetési mérlege
AE2: 2. melléklet
B3: Bevételek, kiadások összesítése Ft-ban | N3: 1. melléklet | Y3: Működés egyenlege | AD3: Fejlesztés egyenlege
D4: Eredeti előirányzatból | G4: Módosított előirányzatból | J4: Teljesítésből | P4: Eredeti előirányzatból | S4: Módosított előirányatból | V4: Teljesítésből
A5: Rovatrend | B5: Bevételek | C5: Eredeti | D5: Ebből kötelező feladat | E5: Ebből önként vállalt feladat | F5: Módosított | G5: Ebből kötelező feladat | H5: Ebből önként vállalt feladat | I5: Teljesítés | J5: Ebből kötelező feladat | K5: Ebből önként vállalt feladat | M5: Rovatrend | N5: Kiadások | O5: Eredeti | P5: Ebből kötelező feladat | Q5: Ebből önként vállalt feladat | R5: Módosított | S5: Ebből kötelező feladat | T5: Ebből önként vállalt feladat | U5: Teljesítés | V5: Ebből kötelező feladat | W5: Ebből önként vállalt feladat | Y5: Bevételek | Z5: Eredeti | AA5: Módosított | AB5: Teljesítés | AD5: Bevételek | AE5: Eredeti | AF5: Módosított | AG5: Teljesítés
A6: B4 | B6: Intézményi működési bevétel | C6: ='Működési bevételek'!E64 -> 401860000 | D6: =C6-E6 -> 382500000 | E6: ='Működési bevételek'!E28 -> 19360000 | F6: ='Működési bevételek'!E65 -> 401860000 | G6: =F6-H6 -> 382500000 | H6: ='Működési bevételek'!E29 -> 19360000 | I6: ='Működési bevételek'!E66 -> 471188380 | J6: =I6-K6 -> 457253659 | K6: ='Működési bevételek'!E60 -> 13934721 | M6: K1-K5 | N6: Intézmények működési kiadása | O6: ='Működési kiadások'!M71 -> 2085808257 | P6: =O6-Q6 -> 2085808257 | Q6: ='Működési kiadások'!M20 -> 0 | R6: ='Működési kiadások'!M74 -> 2201356708 | S6: =R6-T6 -> 2201356708 | T6: ='Működési kiadások'!P20 -> 0 | U6: ='Működési kiadások'!M24 -> 1933456286 | V6: =U6-W6 -> 1933456286 | W6: ='Működési kiadások'!S20 -> 0 | Y6: Intézményi működési bevétel | Z6: =C6 -> 401860000 | AA6: =F6 -> 401860000 | AB6: =I6 -> 471188380 | AD6: Tárgyi eszközök értékesítése | AE6: =C13 -> 0 | AF6: =D13 -> 0 | AG6: =E13 -> 0
A7: B16 | B7: Támogatásértékű műk. bevétel | C7: ='Működési bevételek'!H64+'Működési bevételek'!F18+'Működési bevételek'!G18 -> 1675306481 | D7: =C7-E7 -> 1674965641 | E7: =390840-50000 -> 340840 | F7: =támogatás!L30 -> 1613625498 | G7: =F7-H7 -> 1613625498 | H7: 0 | I7: =támogatás!O30 -> 1625873642 | J7: =I7-K7 -> 1625873642 | K7: 0 | M7: K1-K5 | N7: Térségi Társulás működési kiadásai | O7: ='Működési kiadások'!M89 -> 112833976 | P7: ='Működési kiadások'!M36 -> 93133136 | Q7: =O7-P7 -> 19700840 | R7: ='Működési kiadások'!M93 -> 148982435 | S7: ='Működési kiadások'!M94 -> 127832669 | T7: =R7-S7 -> 21149766 | U7: ='Működési kiadások'!M49 -> 17544519 | V7: ='Működési kiadások'!P94 -> 0 | W7: =U7-V7 -> 17544519 | Y7: Támogatásértékű műk. bevétel | Z7: =C7 -> 1675306481 | AA7: =F7 -> 1613625498 | AB7: =I7 -> 1625873642 | AD7: Támogtás értékű felhalmozási bev. | AE7: =C14 -> 150000000 | AF7: =D14 -> 150000000 | AG7: =I14 -> 36658738
A8: B65 | B8: Műk.c.pénzeszköz átv.ÁH-n kívülről, visszatérítendő működési támogatás | C8: ='Működési bevételek'!I18+'Működési bevételek'!I31 -> 0 | D8: 0 | E8: =C8 -> 0 | F8: 0 | G8: 0 | H8: =F8 -> 0 | I8: ='Működési bevételek'!I66 -> 6500193 | J8: 6500193 | K8: 0 | N8: Működés összesen | O8: =SUM(O6:O7) -> 2198642233 | P8: =SUM(P6:P7) -> 2178941393 | Q8: =SUM(Q6:Q7) -> 19700840 | R8: =SUM(R6:R7) -> 2350339143 | S8: =SUM(S6:S7) -> 2329189377 | T8: =SUM(T6:T7) -> 21149766 | U8: =SUM(U6:U7) -> 1951000805 | V8: =SUM(V6:V7) -> 1933456286 | W8: =SUM(W6:W7) -> 17544519 | Y8: Műk.c.pénzeszköz átv.ÁH-n kívülről | Z8: =C8 -> 0 | AA8: =D8 -> 0 | AB8: =I8 -> 6500193 | AD8: Felh.c.pénzeszköz átvétel ÁH-n kív. | AE8: =C15 -> 0 | AF8: =D15 -> 0 | AG8: =E15 -> 0
A9: B11 | B9: Közvetlen állami támogatás | C9: ='Működési bevételek'!F31 -> 0 | D9: =C9 -> 0 | E9: =C9-D9 -> 0 | F9: ='Működési bevételek'!I31 -> 0 | G9: =F9 -> 0 | H9: =F9-G9 -> 0 | I9: 0 | J9: =I9 -> 0 | K9: =I9-J9 -> 0 | M9: K6-K8 | N9: Felhalmozási kiadások | O9: ='Felhalmozási kiadások'!I24 -> 164020854 | P9: =O9-Q9 -> 164020854 | Q9: ='Felhalmozási kiadások'!I26 -> 0 | R9: ='Felhalmozási kiadások'!I28 -> 169582074 | S9: =R9-T9 -> 169582074 | T9: ='Felhalmozási kiadások'!L26 -> 0 | U9: ='Felhalmozási kiadások'!I32 -> 47271264 | V9: =U9-W9 -> 47271264 | W9: ='Felhalmozási kiadások'!O26 -> 0 | Y9: Állami támogatás | Z9: =C9+C23 -> 0 | AA9: =D9+D23 -> 0 | AB9: =E9+E23 -> 0 | AD9: Közhatalmi bevétel | AE9: 0 | AF9: 0 | AG9: 0
N10: Hitelek törlesztése | AD10: Lakások és helyis.értékesít. | AE10: =C16 -> 0 | AF10: =D16 -> 0 | AG10: =E16 -> 0
A11: B3 | B11: Közhatalmi bevételek (helyi adók nélkül) | C11: 0 | D11: =C11-E11 -> 0 | E11: 0 | F11: 0 | G11: 0 | H11: 0 | I11: 0 | J11: 0 | K11: 0 | M11: K9111 | N11: Beruházási hitelek | O11: 0 | P11: =O11 -> 0 | Q11: 0 | R11: 0 | S11: =R11 -> 0 | T11: 0 | U11: 0 | V11: =U11 -> 0 | W11: 0 | Y11: Önkormányzati sajátos műk.b. | Z11: =C11 -> 0 | AA11: =D11 -> 0 | AB11: =E11 -> 0 | AD11: Felhalmozási bevételek össz. | AE11: =SUM(AE6:AE10) -> 150000000 | AF11: =SUM(AF6:AF10) -> 150000000 | AG11: =SUM(AG6:AG10) -> 36658738
B12: Működési bevételek összesen | C12: =SUM(C6:C11) -> 2077166481 | D12: =SUM(D6:D11) -> 2057465641 | E12: =SUM(E6:E11) -> 19700840 | F12: =SUM(F6:F11) -> 2015485498 | G12: =SUM(G6:G11) -> 1996125498 | H12: =SUM(H6:H11) -> 19360000 | I12: =SUM(I6:I11) -> 2103562215 | J12: =SUM(J6:J11) -> 2089627494 | K12: =SUM(K6:K11) -> 13934721 | M12: K914 | N12: Államháztartási megelőlegezés visszafizetése | O12: 0 | P12: =O12 -> 0 | Q12: 0 | R12: 0 | S12: =R12 -> 0 | T12: 0 | U12: 0 | V12: =U12 -> 0 | W12: 0 | Y12: Működési bevételek összesen | Z12: =C12+C23 -> 2077166481 | AA12: =SUM(AA6:AA11) -> 2015485498 | AB12: =SUM(AB6:AB11) -> 2103562215 | AD12: Kölcsönök visszatérülése | AE12: =C19 -> 0 | AF12: =D19 -> 0 | AG12: =E19 -> 0
A13: B52 | B13: Ingatlanok, tárgyi eszközök értékesítése | C13: ='Felhalmozási bevételek'!E15 -> 0 | D13: 0 | E13: =C13-D13 -> 0 | F13: ='Felhalmozási bevételek'!H15 -> 0 | G13: 0 | H13: =F13-G13 -> 0 | I13: 0 | J13: 0 | K13: =I13-J13 -> 0 | M13: K353 | N13: Kamatköltségek | O13: 0 | P13: =O13 -> 0 | Q13: 0 | R13: 0 | S13: =R13 -> 0 | T13: 0 | U13: 0 | V13: =U13 -> 0 | W13: 0 | Y13: Közhatalmi bevételek | Z13: 0 | AA13: 0 | AB13: 0 | AD13: Bevételek összesen | AE13: =SUM(AE11:AE12) -> 150000000 | AF13: =SUM(AF11:AF12) -> 150000000 | AG13: =SUM(AG11:AG12) -> 36658738
A14: B21, B25 | B14: Támogtás értékű felhalmozási bev. | C14: ='Felhalmozási bevételek'!F15 -> 150000000 | D14: 150000000 | E14: =C14-D14 -> 0 | F14: ='Felhalmozási bevételek'!F13 -> 150000000 | G14: 150000000 | H14: =F14-G14 -> 0 | I14: ='Felhalmozási bevételek'!F20 -> 36658738 | J14: 36658738 | K14: =I14-J14 -> 0 | Y14: Működési célú maradvány felhasználás | Z14: ='Működési bevételek'!K64 -> 121475751 | AA14: =340507164-5653519 -> 334853645 | AB14: 0
A15: B75 | B15: Felh.c.pénzeszköz átvétel ÁH-n kív. | C15: ='Felhalmozási bevételek'!G15 -> 0 | D15: =C15-E15 -> 0 | E15: 0 | F15: ='Felhalmozási bevételek'!J15 -> 0 | G15: 0 | H15: 0 | I15: ='Felhalmozási bevételek'!M15 -> 0 | J15: 0 | K15: 0 | Y15: Bevételek mindösszesen | Z15: =Z12+Z14+1 -> 2198642233 | AA15: =AA12+AA14 -> 2350339143 | AB15: =AB12+AB14 -> 2103562215 | AD15: Értékpapír beváltás | AE15: =C21 -> 0 | AF15: =D21 -> 0 | AG15: =E21 -> 0
A16: B52 | B16: Önkorm.lakások és helyis.értékesít. | C16: ='Felhalmozási bevételek'!H15 -> 0 | D16: 0 | E16: =C16 -> 0 | F16: 0 | G16: 0 | H16: =F16 -> 0 | I16: 0 | J16: 0 | K16: =I16 -> 0 | Y16: Kiadások | AD16: Állampapír beváltás összesen | AE16: =SUM(AE14:AE15) -> 0 | AF16: =SUM(AF14:AF15) -> 0 | AG16: =SUM(AG14:AG15) -> 0
B17: Felhalmozási bev. összesen | C17: =SUM(C13:C16) -> 150000000 | D17: =SUM(D13:D16) -> 150000000 | E17: =SUM(E13:E16) -> 0 | F17: =SUM(F13:F16) -> 150000000 | G17: =SUM(G13:G16) -> 150000000 | H17: =SUM(H13:H16) -> 0 | I17: =SUM(I13:I16) -> 36658738 | J17: =SUM(J13:J16) -> 36658738 | K17: =SUM(K13:K16) -> 0 | Y17: Intézmények működési kiadása | Z17: =O6 -> 2085808257 | AA17: =R6 -> 2201356708 | AB17: =U6 -> 1933456286 | AD17: Maradvány felhasználás | AE17: ='Felhalmozási bevételek'!K15-1 -> 14020854 | AF17: =F18-AA14 -> 19582074 | AG17: =I18 -> 354435719
A18: B8131 | B18: Maradványfelhasználás | C18: ='Működési bevételek'!K64+'Felhalmozási bevételek'!K15 -> 135496606 | D18: =C18-E18 -> 135496606 | E18: 0 | F18: 354435719 | G18: =F18-H18 -> 352645953 | H18: 1789766 | I18: ='Működési bevételek'!K66+'Működési bevételek'!I86+'Felhalmozási bevételek'!K19 -> 354435719 | J18: =I18-K18 -> 350825921 | K18: 3609798 | Y18: Térségi Társulás működési kiadása | Z18: =O7+O12 -> 112833976 | AA18: =R7 -> 148982435 | AB18: =U7 -> 17544519
A19: B74 | B19: Felhalmozási célú kölcsönök, visszatérítendő támogatások visszatérülése | C19: ='Felhalmozási bevételek'!I15 -> 0 | D19: 0 | E19: 0 | F19: 0 | G19: 0 | H19: 0 | I19: 0 | J19: 0 | K19: 0 | Y19: Működés összesen | Z19: =SUM(Z17:Z18) -> 2198642233 | AA19: =SUM(AA17:AA18) -> 2350339143 | AB19: =SUM(AB17:AB18) -> 1951000805 | AD19: Kiadások mindösszesen | AE19: =O9 -> 164020854 | AF19: =R9 -> 169582074 | AG19: =U9 -> 47271264
B20: Bevételek összesen | C20: =C12+C18+C17 -> 2362663087 | D20: =D12+D18+D17 -> 2342962247 | E20: =E12+E18+E17 -> 19700840 | F20: =F12+F18+F17 -> 2519921217 | G20: =G12+G18+G17 -> 2498771451 | H20: =H12+H18+H17 -> 21149766 | I20: =I12+I18+I17 -> 2494656672 | J20: =J12+J18+J17 -> 2477112153 | K20: =K12+K18+K17 -> 17544519
A21: B812 | B21: Állampapír ügyletek | C21: 0 | D21: =C21 -> 0 | E21: 0 | F21: 0 | G21: =F21 -> 0 | H21: 0 | I21: 0 | J21: =I21 -> 0 | K21: 0 | Y21: Folyószámla hitelkamat | Z21: 0 | AA21: 0 | AB21: 0
A22: B8111 | B22: Kölcsönfelvétel | C22: 0 | F22: 0 | I22: 0
A23: B814 | B23: Államháztartási megelőlegezés | C23: 0 | D23: =C23 -> 0 | E23: 0 | F23: 0 | G23: =F23 -> 0 | H23: 0 | I23: 0 | J23: =I23 -> 0 | K23: 0 | Y23: Kiadások mindösszesen | Z23: =SUM(Z19:Z22) -> 2198642233 | AA23: =SUM(AA19:AA22) -> 2350339143 | AB23: =SUM(AB19:AB22) -> 1951000805
A25: B81 | B25: Finanszírozási műveletek | C25: =SUM(C21:C24) -> 0 | D25: =SUM(D21:D24) -> 0 | E25: =SUM(E21:E24) -> 0 | F25: =SUM(F21:F24) -> 0 | G25: =SUM(G21:G24) -> 0 | H25: =SUM(H21:H24) -> 0 | I25: =SUM(I21:I24) -> 0 | J25: =SUM(J21:J24) -> 0 | K25: =SUM(K21:K24) -> 0
C26: 0 | D26: 0 | E26: 0 | F26: 0 | G26: 0 | H26: 0 | I26: 0 | J26: 0 | K26: 0 | AD26: Bevétel és kiadás egyenlege | AE26: =AE11+AE12+AE17-AE19 -> 0 | AF26: =AF11+AF12+AF17-AF19 -> 0 | AG26: =AG11+AG12+AG17-AG19 -> 343823193
B27: Bevétel mindösszesen | C27: =C26+C25+C20 -> 2362663087 | D27: =D20+D25+D26 -> 2342962247 | E27: =E20+E25+E26 -> 19700840 | F27: =F26+F25+F20 -> 2519921217 | G27: =G20+G25+G26 -> 2498771451 | H27: =H20+H25+H26 -> 21149766 | I27: =I26+I25+I20 -> 2494656672 | J27: =J20+J25+J26 -> 2477112153 | K27: =K20+K25+K26 -> 17544519 | Y27: Bevétel és kiadás egyenlege | Z27: =Z15-Z23 -> 0 | AA27: =AA15-AA23 -> 0 | AB27: =AB15-AB23 -> 152561410
B28: Kötelező feladat ellátásból államigazgatási feladatellátáshoz kapcsolódó | D28: =P30 -> 0 | G28: =Y30 -> 0 | J28: =AC30 -> 0
N29: Kiadás mindösszesen | O29: =O8+O9+O11+O12+O13 -> 2362663087 | P29: =P8+P9+P11+P12+P13 -> 2342962247 | Q29: =Q8+Q9+Q11+Q12+Q13 -> 19700840 | R29: =R8+R9+R11+R12+R13 -> 2519921217 | S29: =S8+S9+S11+S12+S13 -> 2498771451 | T29: =T8+T9+T11+T12+T13 -> 21149766 | U29: =U8+U9+U11+U12+U13 -> 1998272069 | V29: =V8+V9+V11+V12+V13 -> 1980727550 | W29: =W8+W9+W11+W12+W13 -> 17544519 | Y29: Egyenleg: | Z29: 0 | AA29: 0 | AB29: =AB27 -> 152561410 | AE29: 0 | AF29: 0 | AG29: =AG26 -> 343823193
N30: Kötelező feladat ellátásból államigazgatási feladatellátáshoz kapcsolódó | P30: 0 | S30: 0 | V30: 0
E31: Egyenleg: | I31: =I27-U29 -> 496384603 | M31: =O29-C27 -> 0
A33: Mosonmagyaróvár, 2025. május 15. | F33: =F27-F18 -> 2165485498 | G33: =G27-G18 -> 2146125498 | H33: =H27-H18 -> 19360000 | I33: =I27-I18 -> 2140220953 | J33: =J27-J18 -> 2126286232 | K33: =K27-K18 -> 13934721
D35: =C27-C18 -> 2227166481 | O35: =O7+O13+O11+O12 -> 112833976
D36: =D27-D18 -> 2207465641 | O36: =O8+O11+O12+O13 -> 2198642233

Sheet Működési bevételek
B1: MŰKÖDÉSI BEVÉTELEK - INTÉZMÉNYEK (Ft) | H1: 2024. év
K2: 3. melléklet | N2: =M7-L7 -> 0
B3: Intézmények megnevezése | E3: Intézményi működési bevételek Rovatszám: B4 | F3: Állami támogatás Rovatszám: B816 | G3: Intézmény finanszírozás (állami támogatáson túl) Rovatszám: B816 | H3: Támog. ért.műk. Bevétel Rovatszám: B16 | I3: Működési c. pénze. átv. ÁH-n kívülről Rovatszám: B63-65 | J3: Sajátos bevételek Rovatszám: B4 | K3: Maradvány felhasználás, működési, Rovat: B8131 | L3: Összesen | N3: =M12-L12 -> -60200665
C6: Kistérségi Egyesített Szociális Intézmény eredeti | E6: 378000000 | F6: 578235637 | G6: 531466145 | H6: 93260360 | I6: 0 | J6: 0 | K6: 48084145 | L6: =SUM(E6:K6) -> 1629046287 | M6: =1249720806-5715000-1120855 -> 1242884951 | N6: =K6+'Felhalmozási bevételek'!K6 -> 60000000 | O6: =N6-'[1]KESZI 2024'!$G$85 -> -1580962143
C8: Kistérségi Egyesített Szociális Intézmény módosított | E8: 378000000 | F8: =578235637+43099779+1935366-3158622+22149144+3642831-1653137+3330864+22154839+4353239 -> 674089940 | G8: =531466145-12652218+3572617+1+75499758+2947040+2515901+984000+2753524+2023000+894113+1473520 -> 611477401 | H8: =93260360-43099779-1935366-22149144-3642831-22154839-4353239-3152238+7227076 -> 0 | I8: 0 | J8: 0 | K8: 60736363 | L8: =SUM(E8:K8) -> 1724303704
C10: Kistérségi Egyesített Szociális Intézmény teljesítés | E10: 453347511 | F10: 674089940 | G10: =F76+G76+H76+I76+J76 -> 387194988 | H10: 1886517 | I10: 5320193 | J10: 0 | K10: =72652218-'Felhalmozási bevételek'!L8 -> 60736363 | L10: =SUM(E10:K10) -> 1582575512
C12: Család és Gyermekjóléti Központ eredeti | E12: 4500000 | F12: 271843251 | G12: 83902218 | H12: 85421500 | I12: 0 | J12: 0 | K12: 11095000 | L12: =SUM(E12:K12) -> 456761969 | M12: =398061304-1500000 -> 396561304 | N12: =K12+'Felhalmozási bevételek'!K9 -> 13000000 | O12: =N12-'[1]CSGYK 2024'!$F$84 -> -445666969
C14: Család és Gyermekjóléti Központ módosított | E14: 4500000 | F14: =271843251+35888678-84674+17696484+178439+17255870 -> 342778048 | G14: =83902218+1173931+1556953+35454887+1491210+1105140+552570 -> 125236909 | H14: =85421500-35888678-17696484-13580468-17255870 -> 1000000 | I14: 0 | J14: 0 | K14: =11443047-1905000 -> 9538047 | L14: =SUM(E14:K14) -> 483053004
C16: Család és Gyermekjóléti Központ teljesítés | E16: 3906148 | F16: 342778048 | G16: =444893623-342778048 -> 102115575 | H16: 4973400 | I16: 1180000 | J16: 0 | K16: 9538047 | L16: =SUM(E16:K16) -> 464491218
B18: Intézmények eredeti összesen: | E18: =E12+E6 -> 382500000 | F18: =F12+F6 -> 850078888 | G18: =G12+G6 -> 615368363 | H18: =H12+H6 -> 178681860 | I18: =I12+I6 -> 0 | J18: =J12+J6 -> 0 | K18: =K12+K6 -> 59179145 | L18: =L12+L6 -> 2085808256
B19: Intézmények módosított összesen: | E19: =E8+E14 -> 382500000 | F19: =F8+F14 -> 1016867988 | G19: =G8+G14 -> 736714310 | H19: =H8+H14 -> 1000000 | I19: =I8+I14 -> 0 | J19: =J8+J14 -> 0 | K19: =K8+K14 -> 70274410 | L19: =L8+L14 -> 2207356708
B20: Intézmények teljesítés összesen: | E20: =E10+E16 -> 457253659 | F20: =F10+F16 -> 1016867988 | G20: =G10+G16 -> 489310563 | H20: =H10+H16 -> 6859917 | I20: =I10+I16 -> 6500193 | J20: =J10+J16 -> 0 | K20: =K10+K16 -> 70274410 | L20: =L10+L16 -> 2047066730
G21: =F18+G18 -> 1465447251
B23: Mosonmagyaróvár Térségi Társulás működési bevételei adatok Ft-ban | H23: 2024. év | L23: 4. melléklet
B25: Kormányzati funkció szerint | E25: Intézményi működési bevételek Rovatszám: B4 | F25: Állami támogatás Rovatszám: B11 | G25: ÖK támogatás Rovatszám: B816 | H25: Támog. ért.műk. Bevétel Rovatszám: B16 | I25: Működési c. pénze. átv. ÁH-n kívülről Rovatszám: B63- B65 | J25: Közhatalmi bevételek Rovatszám: B3 | K25: Maradvány felhasználás, ÁHT. Belüli megelőlegezés, értékpapír beváltása, működési Rovat: B812, B8131, B814 | L25: Összesen
B28: Önk. Jogalkotó tevékenysége 011130 eredeti | E28: 19360000 | F28: 0 | G28: 0 | H28: 31177370 | I28: 0 | J28: 0 | K28: 62296606 | L28: =E28+F28+G28+H28+I28+J28+K28 -> 112833976 | N28: =K28+'Felhalmozási bevételek'!K12 -> 62496606 | O28: =N28-263033976 -> -200537370
B29: Önk. Jogalkotó tevékenysége 011130 módosított | E29: 19360000 | F29: 0 | G29: 0 | H29: 41494000 | I29: 0 | J29: 0 | K29: 87689654 | L29: =SUM(E29:K29) -> 148543654
B30: Önk. Jogalkotó tevékenysége 011130 teljesítés | E30: 13934721 | F30: 0 | G30: 0 | H30: 241714121 | K30: =270340454-I76-I82-'Felhalmozási bevételek'!K14 -> 141261507 | L30: =SUM(E30:K30) -> 396910349
B31: Eredeti összesen: | E31: =SUM(E28:E28) -> 19360000 | F31: =SUM(F28:F28) -> 0 | G31: =SUM(G28:G28) -> 0 | H31: =SUM(H28:H28) -> 31177370 | I31: =SUM(I28:I28) -> 0 | J31: =SUM(J28:J28) -> 0 | K31: =SUM(K28:K28) -> 62296606 | L31: =SUM(L28:L28) -> 112833976
B32: Módosított összesen: | E32: =E29 -> 19360000 | F32: =F29 -> 0 | G32: =G29 -> 0 | H32: =H29 -> 41494000 | I32: =I29 -> 0 | J32: =J29 -> 0 | K32: =K29 -> 87689654 | L32: =SUM(E32:K32) -> 148543654
B33: Teljesítés összesen: | E33: =E30 -> 13934721 | F33: =F30 -> 0 | G33: =G30 -> 0 | H33: =H30 -> 241714121 | I33: =I30 -> 0 | J33: =J30 -> 0 | K33: =K30 -> 141261507 | L33: =L30 -> 396910349
B35: Mosonmagyaróvár Térségi Társulás és intézményei működési bevételei adatok Ft-ban
L36: 5. melléklet
B37: Intézmények megnevezése | E37: Intézményi működési bevételek Rovatszám: B4 | F37: Állami támogatás Rovatszám: B816 | G37: Intézmény finanszírozás (állami támogatáson túl) Rovatszám: B816 | H37: Támog. ért.műk. Bevétel Rovatszám: B16 | I37: Működési c. pénze. átv. ÁH-n kívülről Rovatszám: B63-65 | J37: Sajátos bevételek Rovatszám: B4 | K37: Maradvány | L37: Összesen
K38: felhasználás
K39: működési Rovatszám: B8131
B40: Kistérségi Egyesített Szociális Intézmény eredeti | E40: =E6 -> 378000000 | F40: =F6 -> 578235637 | G40: =G6 -> 531466145 | H40: =H6 -> 93260360 | I40: =I6 -> 0 | J40: =J6 -> 0 | K40: =K6 -> 48084145 | L40: =SUM(E40:K40) -> 1629046287
B42: Kistérségi Egyesített Szociális Intézmény módosított | E42: =E8 -> 378000000 | F42: =F8 -> 674089940 | G42: =G8 -> 611477401 | H42: =H8 -> 0 | I42: =I8 -> 0 | J42: =J8 -> 0 | K42: =K8 -> 60736363 | L42: =L8 -> 1724303704
B44: Kistérségi Egyesített Szociális Intézmény teljesítés | E44: =E10 -> 453347511 | F44: =F10 -> 674089940 | G44: =G10 -> 387194988 | H44: =H10 -> 1886517 | I44: =I10 -> 5320193 | J44: =J10 -> 0 | K44: =K10 -> 60736363 | L44: =L10 -> 1582575512
B46: Család és Gyermekjóléti Központ eredeti | E46: =E12 -> 4500000 | F46: =F12 -> 271843251 | G46: =G12 -> 83902218 | H46: =H12 -> 85421500 | I46: =I12 -> 0 | J46: =J12 -> 0 | K46: =K12 -> 11095000 | L46: =L12 -> 456761969
B48: Család és Gyermekjóléti Központ módosított | E48: =E14 -> 4500000 | F48: =F14 -> 342778048 | G48: =G14 -> 125236909 | H48: =H14 -> 1000000 | I48: =I14 -> 0 | J48: =J14 -> 0 | K48: =K14 -> 9538047 | L48: =SUM(E48:K48) -> 483053004
B50: Család és Gyermekjóléti Központ teljesítés | E50: =E16 -> 3906148 | F50: =F16 -> 342778048 | G50: =G16 -> 102115575 | H50: =H16 -> 4973400 | I50: =I16 -> 1180000 | J50: =J16 -> 0 | K50: =K16 -> 9538047 | L50: =L16 -> 464491218
B52: Intézmények eredeti összesen: | E52: =E46+E40 -> 382500000 | F52: =F46+F40 -> 850078888 | G52: =G46+G40 -> 615368363 | H52: =H46+H40 -> 178681860 | I52: =I46+I40 -> 0 | J52: =J46+J40 -> 0 | K52: =K46+K40 -> 59179145 | L52: =L46+L40 -> 2085808256
B53: Intézmények módosított összesen: | E53: =E42+E48 -> 382500000 | F53: =F42+F48 -> 1016867988 | G53: =G42+G48 -> 736714310 | H53: =H42+H48 -> 1000000 | I53: =I42+I48 -> 0 | J53: =J42+J48 -> 0 | K53: =K42+K48 -> 70274410 | L53: =L42+L48 -> 2207356708
B54: Intézmények teljesítés összesen: | E54: =E44+E50 -> 457253659 | F54: =F44+F50 -> 1016867988 | G54: =G44+G50 -> 489310563 | H54: =H44+H50 -> 6859917 | I54: =I44+I50 -> 6500193 | J54: =J44+J50 -> 0 | K54: =K44+K50 -> 70274410 | L54: =L44+L50 -> 2047066730
B55: Kormányzati funkció szerint | E55: Intézményi működési bevételek Rovatszám: B4 | F55: Állami támogatás Rovatszám: B11 | G55: ÖK támogatás Rovatszám: B816 | H55: Támog. ért.műk. Bevétel Rovatszám: B16 | I55: Működési c. pénze. átv. ÁH-n kívülről Rovatszám: B63- B65 | J55: Közhatalmi bevételek Rovatszám: B3 | K55: Maradvány | L55: Összesen
K56: felhasználás, ÁHT. Belüli megelőlegezés, értékpapír beváltása
K57: működési Rovatszám: B812, B8131, B814
B58: Térségi Társulás Önk. Jogalkotó tevékenysége 011130 eredeti | E58: =E28 -> 19360000 | F58: =F28 -> 0 | G58: =G28 -> 0 | H58: =H28 -> 31177370 | I58: =I28 -> 0 | J58: =J28 -> 0 | K58: =K28 -> 62296606 | L58: =SUM(E58:K58) -> 112833976
B59: Térségi Társulás Önk. Jogalkotó tevékenysége 011130 módosított | E59: =E29 -> 19360000 | F59: =F29 -> 0 | G59: =G29 -> 0 | H59: =H29 -> 41494000 | I59: =I29 -> 0 | J59: =J29 -> 0 | K59: =K29 -> 87689654 | L59: =SUM(E59:K59) -> 148543654
...

Sheet Felhalmozási bevételek
B1: FELHALMOZÁSI BEVÉTELEK (Ft) | F1: 2024. év
K2: 7. melléklet
A3: Kormányzati funkció | B3: Feladat megnevezése | E3: Ingatlanok, tárgyi eszk. értékesít. Rovatrend B52 | F3: Támog.ért. felhalm. bevétel Rovatrend B21, B25 | G3: Felh.célú pénze.átv. ÁH-n kív. B75 | H3: Önk. lak. és helyis. értékes. Rovatrend B52 | I3: Felhalmozási | J3: Fejlesztési | K3: Felhalmozási | L3: Összesen
I4: célú kölcsön | J4: célra | K4: célú
I5: visszatérülés Rovatrend B74, B75 | J5: Kötvény visszaváltás Rovat B812 | K5: maradvány Rovatrend B8131
A6: 018030 Támogatási célú finanszírozási műveletek | B6: Maradványfelhasználás fejlesztési célra KESZI | D6: eredeti | K6: 11915855 | L6: =SUM(E6:K6) -> 11915855
D7: módosított | K7: 11915855 | L7: =SUM(E7:K7) -> 11915855
D8: teljesítés | K8: 11915855 | L8: =SUM(E8:K8) -> 11915855
A9: 018030 Támogatási célú finanszírozási műveletek | B9: Maradványfelhasználás fejlesztési célra Családsegítő | D9: eredeti | K9: 1905000 | L9: =SUM(E9:K9) -> 1905000
D10: módosított | K10: 1905000 | L10: =SUM(E10:K10) -> 1905000
D11: teljesítés | K11: 1905000 | L11: =SUM(E11:K11) -> 1905000
A12: 018030 Támogatási célú finanszírozási műveletek | B12: Maradványfelhasználás fejlesztési célra Térségi Társulás | D12: eredeti | F12: 150000000 | K12: 200000 | L12: =SUM(E12:K12) -> 150200000
D13: módosított | F13: 150000000 | K13: 200000 | L13: =SUM(E13:K13) -> 150200000
D14: teljesítés | F14: 36658738 | K14: 200000 | L14: =SUM(E14:K14) -> 36858738
B15: Eredeti összesen: | D15: eredeti | E15: =E12+E6+E9 -> 0 | F15: =F12+F6+F9 -> 150000000 | G15: =G12+G6+G9 -> 0 | H15: =H12+H6+H9 -> 0 | I15: =I12+I6+I9 -> 0 | J15: =J12+J6+J9 -> 0 | K15: =K12+K6+K9 -> 14020855 | L15: =L12+L6+L9 -> 164020855
B16: ebből Társulás: | D16: eredeti | E16: =E12 -> 0 | F16: =F12 -> 150000000 | G16: =G12 -> 0 | H16: =H12 -> 0 | I16: =I12 -> 0 | J16: =J12 -> 0 | K16: =K12 -> 200000 | L16: =L12 -> 150200000
B17: Módosított összesen: | D17: módosított | E17: =E7+E10+E13 -> 0 | F17: =F7+F10+F13 -> 150000000 | G17: =G7+G10+G13 -> 0 | H17: =H7+H10+H13 -> 0 | I17: =I7+I10+I13 -> 0 | J17: =J7+J10+J13 -> 0 | K17: =K7+K10+K13 -> 14020855 | L17: =L7+L10+L13 -> 164020855
B18: ebből Társulás: | D18: módosított | E18: =E13 -> 0 | F18: =F13 -> 150000000 | G18: =G13 -> 0 | H18: =H13 -> 0 | I18: =I13 -> 0 | J18: =J13 -> 0 | K18: =K13 -> 200000 | L18: =L13 -> 150200000
B19: Teljesítés összesen: | D19: teljesítés | E19: =E8+E11+E14 -> 0 | F19: =F8+F11+F14 -> 36658738 | G19: =G8+G11+G14 -> 0 | H19: =H8+H11+H14 -> 0 | I19: =I8+I11+I14 -> 0 | J19: =J8+J11+J14 -> 0 | K19: =K8+K11+K14 -> 14020855 | L19: =L8+L11+L14 -> 50679593
B20: ebből Társulás: | D20: teljesítés | E20: =E14 -> 0 | F20: =F14 -> 36658738 | G20: =G14 -> 0 | H20: =H14 -> 0 | I20: =I14 -> 0 | J20: =J14 -> 0 | K20: =K14 -> 200000 | L20: =L14 -> 36858738

Sheet Működési kiadások
B1: MŰKÖDÉSI KIADÁSOK - INTÉZMÉNYEK (Ft) | H1: 2024. év
C2: Kötelezően ellátott feladatok | M2: 8. melléklet
B3: Intézmények megnevezése | E3: Személyi juttatások Rovatrend K1 | F3: Járulékok Rovatrend K2 | G3: Dologi kiadások Rovatrend K3 | H3: Elvonások Támog. ért.műk. Kiadások Rovatrend K502 K506 | I3: Működési c. pénze. átad. ÁH-n kívülre Rovatrend K512 | J3: Társadalom és szociálpolitikai juttatások Rovatrend K4 | K3: Tartalék Rovatrend K513 | L3: Kölcsön visszafizetése Rovatrend K91 | M3: Összesen
C6: Kistérségi Egyesített Szociális Intézmény eredeti | E6: 860539000 | F6: 122791400 | G6: 644915888 | H6: 0 | I6: 0 | J6: 800000 | K6: 0 | L6: 0 | M6: =SUM(E6:L6) -> 1629046288 | N6: kötelező | P6: =M6+'Felhalmozási kiadások'!I7 -> 1640962143
C8: Kistérségi Egyesített Szociális Intézmény módosított | E8: =863525102+65381927+11930613 -> 940837642 | F8: =123377915+9314292+272382 -> 132964589 | G8: =637137348+3107858-298-4522273 -> 635722635 | H8: =7778540+298 -> 7778838 | I8: 0 | J8: =800000+200000 -> 1000000 | K8: 0 | L8: 0 | M8: =SUM(E8:L8) -> 1718303704 | N8: kötelező
C10: Kistérségi Egyesített Szociális Intézmény teljesítés | E10: 837268105 | F10: 109933162 | G10: 524882455 | H10: 7778838 | I10: 0 | J10: 980960 | K10: 0 | L10: 0 | M10: =SUM(E10:L10) -> 1480843520 | N10: kötelező
C12: Család és Gyermekjóléti Központ eredeti | E12: 352586000 | F12: 53403400 | G12: 50472569 | H12: 0 | I12: 0 | J12: 300000 | K12: 0 | L12: 0 | M12: =SUM(E12:L12) -> 456761969 | N12: kötelező | P12: =M12+'Felhalmozási kiadások'!I13 -> 458666969
C14: Család és Gyermekjóléti Központ módosított | E14: =353624877+33673662-13580468+489000 -> 374207071 | F14: =53538454+4377575+63570 -> 57979599 | G14: =50472569-84674+178439 -> 50566334 | H14: 0 | I14: 0 | J14: 300000 | K14: 0 | L14: 0 | M14: =SUM(E14:L14) -> 483053004 | N14: kötelező
C16: Család és Gyermekjóléti Központ teljesítés | E16: 360975679 | F16: 53980770 | G16: 37450082 | H16: 0 | I16: 0 | J16: 206235 | K16: 0 | L16: 0 | M16: =SUM(E16:L16) -> 452612766 | N16: kötelező
B18: Intézmények eredeti összesen: | E18: =E12+E6 -> 1213125000 | F18: =F12+F6 -> 176194800 | G18: =G12+G6 -> 695388457 | H18: =H12+H6 -> 0 | I18: =I12+I6 -> 0 | J18: =J12+J6 -> 1100000 | K18: =K12+K6 -> 0 | L18: =L12+L6 -> 0 | M18: =M12+M6 -> 2085808257
B19: Ebből kötelezően ellátott | E19: =E12+E6 -> 1213125000 | F19: =F12+F6 -> 176194800 | G19: =G12+G6 -> 695388457 | H19: =H12+H6 -> 0 | I19: =I12+I6 -> 0 | J19: =J12+J6 -> 1100000 | K19: =K12+K6 -> 0 | L19: =L12+L6 -> 0 | M19: =M12+M6 -> 2085808257
B20: Ebből önként ellátott | E20: =E18-E19 -> 0 | F20: =F18-F19 -> 0 | G20: =G18-G19 -> 0 | H20: =H18-H19 -> 0 | I20: =I18-I19 -> 0 | J20: =J18-J19 -> 0 | K20: =K18-K19 -> 0 | L20: =L18-L19 -> 0 | M20: =M18-M19 -> 0
B21: Intézmények módosított összesen: | E21: =E8+E14 -> 1315044713 | F21: =F8+F14 -> 190944188 | G21: =G8+G14 -> 686288969 | H21: =H8+H14 -> 7778838 | I21: =I8+I14 -> 0 | J21: =J8+J14 -> 1300000 | K21: =K8+K14 -> 0 | L21: =L8+L14 -> 0 | M21: =M8+M14 -> 2201356708
B22: Ebből kötelezően ellátott | E22: =E8+E14 -> 1315044713 | F22: =F8+F14 -> 190944188 | G22: =G8+G14 -> 686288969 | H22: =H8+H14 -> 7778838 | I22: =I8+I14 -> 0 | J22: =J8+J14 -> 1300000 | K22: =K8+K14 -> 0 | L22: =L8+L14 -> 0 | M22: =M8+M14 -> 2201356708
B23: Ebből önként ellátott | E23: 0 | F23: 0 | G23: 0 | H23: 0 | I23: 0 | J23: 0 | K23: 0 | L23: 0 | M23: 0
B24: Intézmények teljesítés összesen: | E24: =E10+E16 -> 1198243784 | F24: =F10+F16 -> 163913932 | G24: =G10+G16 -> 562332537 | H24: =H10+H16 -> 7778838 | I24: =I10+I16 -> 0 | J24: =J10+J16 -> 1187195 | K24: =K10+K16 -> 0 | L24: =L10+L16 -> 0 | M24: =M10+M16 -> 1933456286
B25: Ebből kötelezően ellátott | E25: =E10+E16 -> 1198243784 | F25: =F10+F16 -> 163913932 | G25: =G10+G16 -> 562332537 | H25: =H10+H16 -> 7778838 | I25: =I10+I16 -> 0 | J25: =J10+J16 -> 1187195 | K25: =K10+K16 -> 0 | L25: =L10+L16 -> 0 | M25: =M10+M16 -> 1933456286
B26: Ebből önként ellátott | E26: 0 | F26: 0 | G26: 0 | H26: 0 | I26: 0 | J26: 0 | K26: 0 | L26: 0 | M26: 0
B30: Mosonmagyaróvár Térségi Társulás működési kiadásai adatok Ft-ban | K30: 2024. év | M30: 9. melléklet
B32: Funkció/Feladat megnevezése | E32: Személyi juttatások Rovatrend K1 | F32: Járulékok Rovatrend K2 | G32: Dologi kiadások Rovatrend K3 | H32: Támog. ért.műk. Kiadások, Elszámolások központi ktg-vetés felé Rovatrend K506, K5022 | I32: Működési c. pénze. átad. ÁH-n kívülre Rovatrend K512, működési kölcsön nyújtása K508 | J32: Társadalom és szociálpolitikai juttatások Rovatrend K4 | K32: Tartalék Rovatrend K513 | L32: Kölcsön/Hitel visszafizetése, államháztartási megelőlegezés visszafizetése Rovatrend K91 | M32: Összesen
B35: Térségi Társulás Önk. Jogalkotó tevékenysége 011130 eredeti | E35: 850000 | F35: 280840 | G35: 3420000 | H35: 14300000 | I35: 850000 | J35: 0 | K35: 0 | M35: =SUM(E35:L35) -> 19700840 | N35: önként
E36: 0 | F36: 0 | G36: 0 | H36: 0 | I36: 0 | J36: 0 | K36: 93133136 | L36: 0 | M36: =SUM(E36:L36) -> 93133136 | N36: kötelező | O36: =M36+M35 -> 112833976 | P36: =M35+M36+'Felhalmozási kiadások'!I19 -> 263033975
B37: Térségi Társulás Önk. Jogalkotó tevékenysége 011130 módosított | E37: 850000 | F37: 280840 | G37: =3512300+1010145+346481 -> 4868926 | H37: 14300000 | I37: 850000 | J37: 0 | K37: 0 | L37: 0 | M37: =SUM(E37:L37) -> 21149766 | N37: önként
K38: =250776953-2515901-2947040-1105140-1491210-75499758-35454887-552570-1473520-894113-1010145 -> 127832669 | M38: =SUM(E38:L38) -> 127832669 | N38: kötelező
B39: Térségi Társulás Önk. Jogalkotó tevékenysége 011130 teljesítés | E39: 576885 | F39: 191251 | G39: 4552021 | H39: 11374362 | I39: 850000 | J39: 0 | K39: 0 | L39: 0 | M39: =SUM(E39:L39) -> 17544519 | N39: önként
K40: 0 | M40: =SUM(E40:L40) -> 0 | N40: kötelező
B41: ÖSSZESEN: | D41: eredeti | E41: =SUM(E35:E36) -> 850000 | F41: =SUM(F35:F36) -> 280840 | G41: =SUM(G35:G36) -> 3420000 | H41: =SUM(H35:H36) -> 14300000 | I41: =SUM(I35:I36) -> 850000 | J41: =SUM(J35:J36) -> 0 | K41: =SUM(K35:K36) -> 93133136 | L41: =SUM(L35:L36) -> 0 | M41: =SUM(M35:M36) -> 112833976 | O41: =SUM(E41:L41) -> 112833976 | P41: =SUM(M35:M36) -> 112833976
B42: ebből kötelező | E42: =E36 -> 0 | F42: =F36 -> 0 | G42: =G36 -> 0 | H42: =H36 -> 0 | I42: =I36 -> 0 | J42: =J36 -> 0 | K42: =K36 -> 93133136 | L42: =L36 -> 0 | M42: =M36 -> 93133136
B43: ebből önként vállalt | E43: =E41-E42 -> 850000 | F43: =F41-F42 -> 280840 | G43: =G41-G42 -> 3420000 | H43: =H41-H42 -> 14300000 | I43: =I41-I42 -> 850000 | J43: =J41-J42 -> 0 | K43: =K41-K42 -> 0 | L43: =L41-L42 -> 0 | M43: =M41-M42 -> 19700840
B44: kötelezőből államigazgatási | E44: 0 | F44: 0 | G44: 0 | H44: 0 | I44: 0 | J44: 0 | K44: 0 | L44: 0 | M44: 0
B45: ÖSSZESEN: | D45: módosított | E45: =E37+E38 -> 850000 | F45: =F37+F38 -> 280840 | G45: =G37+G38 -> 4868926 | H45: =H37+H38 -> 14300000 | I45: =I37+I38 -> 850000 | J45: =J37+J38 -> 0 | K45: =K37+K38 -> 127832669 | L45: =L37+L38 -> 0 | M45: =M37+M38 -> 148982435
B46: ebből kötelező | E46: =E38 -> 0 | F46: =F38 -> 0 | G46: =G38 -> 0 | H46: =H38 -> 0 | I46: =I38 -> 0 | J46: =J38 -> 0 | K46: =K38 -> 127832669 | L46: =L38 -> 0 | M46: =M38 -> 127832669
B47: ebből önként vállalt | E47: =E37 -> 850000 | F47: =F37 -> 280840 | G47: =G37 -> 4868926 | H47: =H37 -> 14300000 | I47: =I37 -> 850000 | J47: =J37 -> 0 | K47: =K37 -> 0 | L47: =L37 -> 0 | M47: =M37 -> 21149766
B48: kötelezőből államigazgatási | E48: 0 | F48: 0 | G48: 0 | H48: 0 | I48: 0 | J48: 0 | K48: 0 | L48: 0 | M48: 0
B49: ÖSSZESEN: | D49: teljesítés | E49: =E39+E40 -> 576885 | F49: =F39+F40 -> 191251 | G49: =G39+G40 -> 4552021 | H49: =H39+H40 -> 11374362 | I49: =I39+I40 -> 850000 | J49: =J39+J40 -> 0 | K49: =K39+K40 -> 0 | L49: =L39+L40 -> 0 | M49: =M39+M40 -> 17544519
B50: ebből kötelező | E50: =E40 -> 0 | F50: =F40 -> 0 | G50: =G40 -> 0 | H50: =H40 -> 0 | I50: =I40 -> 0 | J50: =J40 -> 0 | K50: =K40 -> 0 | L50: =L40 -> 0 | M50: =M40 -> 0
B51: ebből önként vállalt | E51: =E39 -> 576885 | F51: =F39 -> 191251 | G51: =G39 -> 4552021 | H51: =H39 -> 11374362 | I51: =I39 -> 850000 | J51: =J39 -> 0 | K51: =K39 -> 0 | L51: =L39 -> 0 | M51: =M39 -> 17544519
B52: kötelezőből államigazgatási | E52: 0 | F52: 0 | G52: 0 | H52: 0 | I52: 0 | J52: 0 | K52: 0 | L52: 0 | M52: 0
B54: Mosonmagyaróvár Térségi Társulás és intézményei működési kiadásai adatok Ft-ban | M54: 10. melléklet
B56: Intézmények megnevezése | E56: Személyi juttatások Rovatrend K1 | F56: Járulékok Rovatrend K2 | G56: Dologi kiadások Rovatrend K3 | H56: Elvonások Támog. ért.műk. Kiadások Rovatrend K502 K506 | I56: Működési c. pénze. átad. ÁH-n kívülre Rovatrend K512 | J56: Társadalom és szociálpolitikai juttatások Rovatrend K4 | K56: Tartalék Rovatrend K513 | L56: Kölcsön visszafizetése Rovatrend K91 | M56: Összesen
...

Sheet Felhalmozási kiadások
B1: FELHALMOZÁSI KIADÁSOK adatok Ft-ban
F2: 2024. év | H2: 11. melléklet
B3: Funkció/Feladat megnevezése | E3: Beruházás Rovatrend K 61-67 | F3: Felújítás Rovatrend K 71-74 | G3: Támog.ért. felh.c. pénze. Átadása Rovatrend K 81-84 | H3: Felh.c. pénzeszk. átad. ÁH-n kívüre Rovatrend K 85-89 | I3: Összesen
B6: KESZI: eszközbeszerzés, laptop beszerzések, szoftver beszerzések és csendes szoba kialakítása
B7: 102031 Idősek nappali ellátása | D7: eredeti | E7: 10795000 | F7: 1120855 | G7: 0 | H7: 0 | I7: =SUM(E7:H7) -> 11915855 | J7: kötelező
B8: KESZI: eszközbeszerzés, laptop beszerzések, szoftver beszerzések és csendes szoba kialakítása
B9: 102031 Idősek nappali ellátása | D9: módosított | E9: =10795000+6000000 -> 16795000 | F9: 1120855 | G9: 0 | H9: 0 | I9: =SUM(E9:H9) -> 17915855 | J9: kötelező
B10: KESZI: eszközbeszerzés, laptop beszerzések, szoftver beszerzések és csendes szoba kialakítása
B11: 102031 Idősek nappali ellátása | D11: teljesítés | E11: 15622932 | F11: 0 | G11: 0 | H11: 0 | I11: =SUM(E11:H11) -> 15622932 | J11: kötelező
B12: Család- és Gyermekjóléti Központ: új GYÁÓ épület berendezése, bútorok, kerti gépek beszerzése
B13: 104043 Család- és Gyermekjóléti Központ | D13: eredeti | E13: 1905000 | F13: 0 | G13: 0 | H13: 0 | I13: =SUM(E13:H13) -> 1905000 | J13: kötelező
B14: Család- és Gyermekjóléti Központ: új GYÁÓ épület berendezése, bútorok, kerti gépek beszerzése
B15: 104043 Család- és Gyermekjóléti Központ | D15: módosított | E15: 1905000 | F15: 0 | G15: 0 | H15: 0 | I15: =SUM(E15:H15) -> 1905000 | J15: kötelező
B16: Család- és Gyermekjóléti Központ: új GYÁÓ épület berendezése, bútorok, kerti gépek beszerzése
B17: 104043 Család- és Gyermekjóléti Központ | D17: teljesítés | E17: 1624731 | F17: 0 | G17: 0 | H17: 0 | I17: =SUM(E17:H17) -> 1624731 | J17: kötelező
B18: Térségi Társulás: vagyonkezelt ingatlanokkal kapcsolatos felújítások
B19: 013350 | C19: önkormányzati vagyonnal való gazdálkodás | D19: eredeti | E19: 200000 | F19: 150000000 | G19: 0 | H19: 0 | I19: =SUM(E19:H19)-1 -> 150199999 | J19: kötelező
B20: Térségi Társulás: vagyonkezelt ingatlanokkal kapcsolatos felújítások
B21: 013350 | C21: önkormányzati vagyonnal való gazdálkodás | D21: módosított | E21: 200000 | F21: =149907700-346481 -> 149561219 | G21: 0 | H21: 0 | I21: =SUM(E21:H21) -> 149761219 | J21: kötelező
B22: Térségi Társulás: vagyonkezelt ingatlanokkal kapcsolatos felújítások
B23: 013351 | C23: önkormányzati vagyonnal való gazdálkodás | D23: módosított | E23: 0 | F23: 30023601 | G23: 0 | H23: 0 | I23: =SUM(E23:H23) -> 30023601 | J23: kötelező
B24: Ö S S Z E S E N : | D24: eredeti | E24: =E7+E13+E19 -> 12900000 | F24: =F7+F13+F19 -> 151120855 | G24: =G7+G13+G19 -> 0 | H24: =H7+H13+H19 -> 0 | I24: =I7+I13+I19 -> 164020854
B25: ebből kötelező | E25: =E24 -> 12900000 | F25: =F24 -> 151120855 | G25: =G24 -> 0 | H25: =H24 -> 0 | I25: =I24 -> 164020854
B26: ebből önként vállalt | E26: =SUM(E24-E25) -> 0 | F26: =SUM(F24-F25) -> 0 | G26: =SUM(G24-G25) -> 0 | H26: =SUM(H24-H25) -> 0 | I26: =SUM(I24-I25) -> 0
B27: Társulás | D27: eredeti | E27: =E19 -> 200000 | F27: =F19 -> 150000000 | G27: =G19 -> 0 | H27: =H19 -> 0 | I27: =I19 -> 150199999
B28: Ö S S Z E S E N : | D28: módosított | E28: =E9+E15+E21 -> 18900000 | F28: =F9+F15+F21 -> 150682074 | G28: =G9+G15+G21 -> 0 | H28: =H9+H15+H21 -> 0 | I28: =I9+I15+I21 -> 169582074
B29: ebből kötelező | E29: =E9+E15+E21 -> 18900000 | F29: =F9+F15+F21 -> 150682074 | G29: =G9+G15+G21 -> 0 | H29: =H9+H15+H21 -> 0 | I29: =I9+I15+I21 -> 169582074
B30: ebből önként vállalt | E30: =0 -> 0 | F30: =0 -> 0 | G30: =0 -> 0 | H30: =0 -> 0 | I30: =0 -> 0
B31: Társulás | D31: módosított | E31: =E21 -> 200000 | F31: =F21 -> 149561219 | G31: =G21 -> 0 | H31: =H21 -> 0 | I31: =I21 -> 149761219
B32: Ö S S Z E S E N : | D32: teljesítés | E32: =E23+E17+E11 -> 17247663 | F32: =F23+F17+F11 -> 30023601 | G32: =G23+G17+G11 -> 0 | H32: =H23+H17+H11 -> 0 | I32: =I23+I17+I11 -> 47271264
B33: ebből kötelező | E33: =E23+E17+E11 -> 17247663 | F33: =F23+F17+F11 -> 30023601 | G33: =G23+G17+G11 -> 0 | H33: =H23+H17+H11 -> 0 | I33: =I23+I17+I11 -> 47271264
B34: ebből önként vállalt
B35: Társulás | D35: teljesítés | E35: =E23 -> 0 | F35: =F23 -> 30023601 | G35: =G23 -> 0 | H35: =H23 -> 0 | I35: =I23 -> 30023601

Sheet Állami támogatások 
B2: Állami hozzájárulások 2024. év | D2: 12. melléklet
A4: Rovat | B4: Jogcím | C4: Állami támogatás 2024. év eredeti előirányzat | D4: Állami támogatás 2024. év módosított előirányzat 2024.06.30 | E4: Állami támogatás 2024. év módosított előirányzat 2024.09.30 | F4: Állami támogatás 2024. év módosított előirányzat 2024.12.31 | G4: Teljesítés 2024.12.31-én | H4: Év végi elszámolás alapján járó támogatás | I4: Év végi elszámolás alapján járó (+) vagy visszafizetendő (-) támogatás*
A5: B113 | B5: Család és gyermekjóléti szolgálat támogatása | C5: 194258330 | D5: 194258330 | E5: 194258330 | F5: 194258330 | G5: 194258330 | H5: 194258330 | I5: =H5-G5 -> 0
A6: B113 | B6: Szociális étkeztetés | C6: 40885110 | D6: 40885110 | E6: 40885110 | F6: =40885110-2053590 -> 38831520 | G6: 38831520 | H6: 38364795 | I6: =H6-G6 -> -466725
A7: B113 | B7: Házi segítségnyújtás | C7: 101830300 | D7: 101830300 | E7: =101830300-6266480 -> 95563820 | F7: =101830300-6266480 -> 95563820 | G7: 95563820 | H7: 95563820 | I7: =H7-G7 -> 0
A8: B113 | B8: Időskorúak nappali int. Ellátása | C8: 14692720 | D8: 14692720 | E8: =14692720+3148440 -> 17841160 | F8: =14692720+3148440+524740 -> 18365900 | G8: 18365900 | H8: 18365900 | I8: =H8-G8 -> 0
A9: B113 | B9: Fogyatékos és demens személyek ell. | C9: 63818110 | D9: 63818110 | E9: =63818110+2428920-3151300+3207150 -> 66302880 | F9: =63818110+2428920-3151300+3207150-1069050 -> 65233830 | G9: 65233830 | H9: 64019370 | I9: =H9-G9 -> -1214460
A10: B113 | B10: Hajléktalanok nappali ellátása | C10: 15415560 | D10: 15415560 | E10: ='[1]Állami támogatások (2)'!$E$10 -> 15415560 | F10: ='[1]Állami támogatások (2)'!$E$10 -> 15415560 | G10: 15415560 | H10: 15415560 | I10: =H10-G10 -> 0
A11: B113 | B11: Hajléktalanok átmeneti ellátása | C11: 39680046 | D11: 39680046 | E11: =39680046-944763 -> 38735283 | F11: =39680046-944763+944763 -> 39680046 | G11: 39680046 | H11: 38735283 | I11: =H11-G11 -> -944763
A12: B113 | B12: Éjjeli menedékhely (új) | C12: 5668578 | D12: 5668578 | E12: ='[1]Állami támogatások (2)'!$E$12 -> 5668578 | F12: ='[1]Állami támogatások (2)'!$E$12 -> 5668578 | G12: 5668578 | H12: 5668578 | I12: =H12-G12 -> 0
A13: B113 | B13: Hajléktalanok nappali intézményi ellátása - a szociál- és nyugdíjpolitikáért felelős miniszter által kijelölt intézmény | C13: 13366900 | D13: 13366900 | E13: ='[1]Állami támogatások (2)'!$E$13 -> 13366900 | F13: ='[1]Állami támogatások (2)'!$E$13 -> 13366900 | G13: 13366900 | H13: 13366900 | I13: =H13-G13 -> 0
A14: B113 | B14: Bértámogatás szociális szféra | C14: 231964800 | D14: 231964800 | E14: ='[1]Állami támogatások (2)'!$E$14 -> 231964800 | F14: ='[1]Állami támogatások (2)'!$E$14 -> 231964800 | G14: 231964800 | H14: 246462600 | I14: =H14-G14 -> 14497800
A15: B113 | B15: intézmény üzemeltetési támogatás* | C15: 80690178 | D15: 80690178 | E15: =80690178-1665263 -> 79024915 | F15: =80690178-1665263+3509303 -> 82534218 | G15: 82534218 | H15: 82534218 | I15: =H15-G15 -> 0
A16: B113 | B16: Óvodai és iskolai szociális segítő tevékenység támogatása* | C16: 47808256 | D16: 47808256 | E16: ='[1]Állami támogatások (2)'!$E$16 -> 47808256 | F16: ='[1]Állami támogatások (2)'!$E$16 -> 47808256 | G16: 47808256 | H16: 47808256 | I16: =H16-G16 -> 0
B17: Szociális ágazati pótlék - KESZI | C17: 0 | D17: 43099779 | E17: =43099779+22149144 -> 65248923 | F17: =43099779+22149144+22154839 -> 87403762 | G17: 87403762 | H17: 87403762 | I17: =H17-G17 -> 0
B18: Szociális ágazati pótlék - CSGYK | C18: 0 | D18: 35888678 | E18: =35888678+17696484 -> 53585162 | F18: =35888678+17696484+17255870 -> 70841032 | G18: 70841032 | H18: 70841032 | I18: =H18-G18 -> 0
B19: Egészségügyi kiegészítő pótlék - KESZI | C19: 0 | D19: 1935366 | E19: =1935366+3642831 -> 5578197 | F19: =1935366+3642831+4353239 -> 9931436 | G19: 9931436 | H19: 9931436 | I19: =H19-G19 -> 0
B20: Állami támogatás összesen | C20: =SUM(C5:C19) -> 850078888 | D20: =SUM(D5:D19) -> 931002711 | E20: =SUM(E5:E19) -> 971247874 | F20: =SUM(F5:F19) -> 1016867988 | G20: =SUM(G5:G19) -> 1016867988 | H20: =SUM(H5:H19) -> 1028739840 | I20: =SUM(I5:I19) -> 11871852
B21: - ebből Család és Gyermekjóléti központot illető | C21: 271843251 | D21: =271843251+D18 -> 307731929 | E21: =D21+17696484-84674 -> 325343739 | F21: =325343739+178439+17255870 -> 342778048 | G21: =F21 -> 342778048 | H21: =342778048+4209040 -> 346987088 | I21: 4209040
B22: - ebből Kistérségi Egyesített Szociális Intézményt illető | C22: 578235637 | D22: =D20-D21 -> 623270782 | E22: =E20-E21 -> 645904135 | F22: =645904135-2053590+524740-1069050+944763+3330864+22154839+4353239 -> 674089940 | G22: =G20-G21 -> 674089940 | H22: =674089940-466725-1214460-944763+10288760 -> 681752752 | I22: =I6+I9+I11+10288760 -> 7662812
B24: Az állami támogatást az intézmények a gesztor önkormányzat nettó finanszírozásán keresztül kapják meg, havonta.
B27: 2024. Májusi felmérés eredménye
B28: személyi gondozás | C28: -6266480
B29: időskorúak nappali intézményi ellátása | C29: 3148440
B30: fogyatékos szem-ek nappali intézményi ellátása - autista diagn.nem rend.ellátottak | C30: 2428920
B31: fogyatékos szem-ek nappali intézményi ellátása - autista diagnózisú ellátottak | C31: -3151300
B32: demens személyek nappali intézményi ellátása | C32: 3207150
B33: hajléktalanok átmeneti szállása | C33: -944763
B34: szociális intézmények üzemeltetési támogatása ellátottak alapján | C34: -1665263
B35: Mindösszesen állami támogatás változás | C35: =SUM(C28:C34) -> -3243296
B36: ebből KESZI | C36: -3158622
B37: ebből CSK | C37: -84674
B40: 2024. Októberi felmérés eredménye
B41: Szociális étkeztetés | C41: -2053590
B42: Időskorúak nappali intézményi ellátása | C42: 524740
B43: Demens személyek nappali intézményi ellátása | C43: -1069050
B44: Hajléktalanok átmeneti szállása | C44: 944763
B45: Intézmény üzemeltetési támogatás (szoc.) | C45: 3509303
B46: Minösszesen állami támogatás változás | C46: =SUM(C41:C45) -> 1856166
B47: ebből KESZI | C47: =-1653137+3330864 -> 1677727
...

Sheet támogatás
D1: 13. MELLÉKLET
A2: MOSONMAGYARÓVÁR TÉRSÉGI TÁRSULÁS
A3: 2024. ÉVI KÖLTSÉGVETÉS VÉGREHAJTÁSÁNAK HATÁROZATÁHOZ
A5: A Mosonmagyaróvár Térségi Társulás által tervezett átvett
A6: támogatások
C7: Eredeti előirányzat 2024.01.01 | F7: Módosított előirányzat 2024.06.30 | I7: Módosított előirányzat 2024.09.30 | L7: Módosított előirányzat 2024.12.31 | O7: Teljesítés 2024.12.31-én
A8: Átadó megnevezése | B8: Átadás célja | C8: Összege Ft-ban | F8: Összege Ft-ban | I8: Összege Ft-ban | L8: Összege Ft-ban | O8: Összege Ft-ban
A9: Magyar Államkincstár | B9: Állami támogatással finanszírozott feladatok ellátásra | C9: ='Állami támogatások '!C20 -> 850078888 | F9: ='Állami támogatások '!D20 -> 931002711 | I9: ='Állami támogatások '!E20 -> 971247874 | L9: ='Állami támogatások '!F20 -> 1016867988 | O9: =848691758+1000 -> 848692758
A10: Nemzeti Szociálpolitikai Intézet | B10: Fejlesztő foglalkoztatás támogatása (gesztor önkormányzaton keresztül) | C10: 20892476 | F10: 20892476 | I10: 20892476 | L10: =20892476+2753524 -> 23646000 | O10: =20892476+2753524 -> 23646000
A11: Nemzeti Szociálpolitikai Intézet | B11: Jelzőrendszer támogatása (gesztor önkormányzaton keresztül) | C11: 5420000 | F11: 5420000 | I11: 5420000 | L11: =5420000+984000 -> 6404000 | O11: =5420000+984000 -> 6404000
A12: Nemzeti Szociálpolitikai Intézet | B12: Utcai szociális munka (gesztor önkormányzaton keresztül) | C12: 9421000 | F12: 9421000 | I12: 9421000 | L12: =9421000+2023000 -> 11444000 | O12: =9421000+2023000 -> 11444000
A13: Mosonmagyaróvár Város Önkormányzata | B13: Kistérségi Egyesített Szociális Intézmény működésének támogatása működési hiány finanszírozása | C13: 215813577 | D13: =SUM(C13:C15) -> 305072522 | E13: összes gesztor Önk. Támogatás | F13: 215813577 | G13: =SUM(F13:F15) -> 305072522 | H13: összes gesztor Önk. Támogatás | I13: 215813577 | J13: =SUM(I13:I15) -> 305072522 | K13: összes gesztor Önk. Támogatás | L13: 215813577 | M13: =SUM(L13:L15) -> 305072522 | N13: összes gesztor Önk. Támogatás | O13: =215813577-1387130 -> 214426447 | P13: =SUM(O13:O15) -> 303685392 | Q13: összes gesztor Önk. Támogatás
A14: Mosonmagyaróvár Város Önkormányzata | B14: Család és Gyermekjóléti Központ működési hiány finanszírozása | C14: 4824005 | F14: 4824005 | I14: 4824005 | L14: 4824005 | O14: 4824005
A15: Mosonmagyaróvár Város Önkormányzata | B15: Térségi társulás működéséhez és egyéb alapokhoz és intézmények működéséhez való hozzájárulás | C15: 84434940 | F15: 84434940 | I15: 84434940 | L15: =72611960+3195400+8627580 -> 84434940 | O15: =72611960+3195400+8627580 -> 84434940
A16: Gesztor önkormányzati hozzájáruláson kívüli tagtelepülések hozzájárulása | B16: Család és Gyermekjóléti Központ működésének finanszírozásához | C16: 118881952 | D16: =C16+C18 -> 138236342 | E16: gesztor Önk. Kívüli tagtelepülési támogatások | F16: 118881952 | G16: =F16+F18 -> 138236342 | H16: gesztor Önk. Kívüli tagtelepülési támogatások | I16: 118881952 | J16: =I16+I18 -> 138236342 | K16: gesztor Önk. Kívüli tagtelepülési támogatások | L16: 118881952 | M16: =L16+L18 -> 138236342 | N16: gesztor Önk. Kívüli tagtelepülési támogatások | O16: =118881952-5 -> 118881947 | P16: =O16+O18 -> 138236337 | Q16: gesztor Önk. Kívüli tagtelepülési támogatások
A17: Gesztor önkormányzati hozzájáruláson kívüli tagtelepülések hozzájárulása | B17: Kistérségi Egyesített Szociális Intézmény működésének finanszírozásához
A18: Gesztor önkormányzati hozzájáruláson kívüli tagtelepülések támogatása | B18: Térségi tagdíj, felújítási alap támogatása | C18: 19354390 | F18: 19354390 | I18: 19354390 | L18: 19354390 | O18: 19354390
A19: Magyar Államkincstár (közvetelenül intézménynél tervezve) | B19: Család és Gyermekjóléti központ összevont ágazati pótlék becsült összege | C19: 85421500 | F19: 49532822 | I19: =49532822-17696484-2873837 -> 28962501 | L19: 0 | O19: 70841032
A20: Magyar Államkincstár (közvetelenül intézménynél tervezve) | B20: Kistérségi Egyesített Szociális Intézmény összevont ágazati pótlék becsült összege | C20: 90556000 | F20: 47456221 | I20: =47456221-22149144 -> 25307077 | L20: 0 | O20: 87403762
A21: Magyar Államkincstár (közvetelenül intézménynél tervezve) | B21: Kistérségi Egyesített Szociális Intézmény bérkompenzáció becsült összege | C21: 0 | F21: 0 | I21: 0 | L21: 0 | O21: 0
A22: Magyar Államkincstár (közvetelenül intézménynél tervezve) | B22: Kistérségi Egyesített Szociális Intézmény egészségügyi pótlék becsült összege | C22: 2704360 | F22: 768994 | I22: =768994-3642831+2873837 -> 0 | L22: =768994-3642831+2873837 -> 0 | O22: 9931436
A23: Mosonmagyaróvár Város Önkormányzata | B23: 130/2024. (VI.27.) Kt. Határozat szerinti 10 % bérfejlesztés és második kétheti bérkiegészítés forrása a gesztor támogatás növelésével - KESZI | C23: 0 | F23: 75499759 | I23: 75499759 | L23: 75499759 | O23: 75499759
A24: Mosonmagyaróvár Város Önkormányzata | B24: 130/2024. (VI.27.) Kt. Határozat szerinti 10 % bérfejlesztés és második kétheti bérkiegészítés forrása a gesztor támogatás növelésével - CSGYK | C24: 0 | F24: 35454887 | I24: 35454887 | L24: 35454887 | O24: 35454887
A25: Nemzeti Népegészségügyi és Gyógyszerészeti Központ. | B25: Család- és Gyermekjóléti Központ KEB-ELT - drogpont elterelés támogatása | C25: 0 | F25: 0 | I25: 0 | L25: 1000000 | O25: 3173400
A26: Elkülönített állami pénzalap | B26: KESZI közfoglalkoztatás támogatása | C26: 0 | F26: 0 | I26: 0 | L26: 0 | O26: 271517
A27: Mosonmagyaróvár Város Önkormányzata | B27: KESZI - élelmiszer vásárlás, évzáró támogatása, Virágoskert Idősek Otthona választókerületi támogatás | C27: 0 | F27: 0 | I27: 0 | L27: 0 | O27: 1615000
A28: Mosonmagyaróvár Város Önkormányzata | B28: CSGYK - tartós élemiszer vásárlás és nyári tábor támogatása | C28: 0 | F28: 0 | I28: 0 | L28: 0 | O28: 1800000
A29: Kistérségi Egyesített Szociális Intézmény | B29: 2023. évi beszámoló és a jelzőrendszeres házi segítségnyújtás 2023. évi elszámolásának visszafizetés a társulás felé | C29: 0 | F29: 0 | I29: 0 | L29: 0 | O29: 7774362
A30: Összesen: | C30: =SUM(C9:C22) -> 1507803088 | F30: =SUM(F9:F24) -> 1618757734 | I30: =SUM(I9:I24) -> 1615514438 | L30: =SUM(L9:L25) -> 1613625498 | O30: =SUM(O9:O29) -> 1625873642
B31: 1. oldal | L31: 1613625498
A33: A Mosonmagyaróvár Térségi Társulás által tervezett átadandó
A34: támogatások
C35: Eredeti előirányzat 2024.01.01 | D35: Módosított előirányzat 2024.06.30 | E35: Módosított előirányzat 2024.09.30 | F35: Módosított előirányzat 2024.12.31 | G35: Teljesítés 2024.12.31
A36: Átvevő megnevezése | B36: Támogatás célja | C36: Összege Ft-ban
A37: Mosonmagyaróvári Polgármesteri Hivatal | B37: Társulási feladatok ellátására hozzájárulás | C37: 3600000 | D37: 3600000 | E37: =[2]Társulás!$G$41 -> 3600000 | F37: =[2]Társulás!$G$41 -> 3600000 | G37: 3600000
A38: Civil szervezet számára Tanács döntése alapján | B38: Társulás által átadandó pénzeszköz | C38: 850000 | D38: 850000 | E38: 850000 | F38: 850000 | G38: 850000
A39: Magyar Államkincstár | B39: Esetleges visszafizetési kötelezettségek (beszámolóhoz kapcsolódóan, utcai szociális munka elszámolásához kapcsolódóan) | C39: =[1]Társulás!$I$21-C37 -> 10600000 | D39: 10700000 | E39: 10700000 | F39: 10700000 | G39: =7770620+3742+4476 -> 7778838
A40: Összesen: | C40: =SUM(C36:C39) -> 15050000 | D40: =SUM(D36:D39) -> 15150000 | E40: =SUM(E36:E39) -> 15150000 | F40: =SUM(F36:F39) -> 15150000 | G40: =SUM(G37:G39) -> 12228838
B41: 2. oldal

Sheet Címrend
A1: Mosonmagyaróvári Térségi Társulás és intézményei | H1: 14. melléklet
A2: 2024. évi költségvetési előirányzat/teljesítés költségvetési szervenként Ft-ban
B4: CÍMREND
F5: bevétel 09.30
A6: Címrendi szám | B6: Intézmény neve | C6: 2024. évi eredeti előirányzat | D6: 2024.06.30-i módosított előirányzat | E6: 2024.09.30-i módosított előirányzat | F6: 2024.12.31-i módosított előirányzat | G6: 2024.12.31 teljesített bevétel | H6: 2024.12.31 teljesített kiadás | I6: k | J6: b | K6: m
A7: 1 1 | B7: Kistérségi Egyesített Szociális Intézmény | C7: ='Működési kiadások'!M59+'Felhalmozási kiadások'!I7 -> 1640962143 | D7: 1644534760 | E7: 1722338837 | F7: 1736219559 | G7: ='Működési bevételek'!L10+'Felhalmozási bevételek'!L8 -> 1594491367 | H7: ='Működési kiadások'!M10+'Felhalmozási kiadások'!I11 -> 1496466452 | I7: 1496466452 | J7: =460554221+1133937146 -> 1594491367 | K7: =J7-I7 -> 98024915
A8: 2 1 | B8: Család és Gyermekvédelmi Központ | C8: ='Működési kiadások'!M12+'Felhalmozási kiadások'!I13 -> 458666969 | D8: 459840900 | E8: 497807463 | F8: 484958004 | G8: ='Működési bevételek'!L16+'Felhalmozási bevételek'!L11 -> 466396218 | H8: ='Működési kiadások'!M16+'Felhalmozási kiadások'!I17 -> 454237497 | I8: 454237497 | J8: =10059548+456336670 -> 466396218 | K8: =J8-I8 -> 12158721
A9: 3 1 | B9: Mosonmagyaróvár Térségi Társulás | C9: ='Működési kiadások'!M41+'Felhalmozási kiadások'!I27 -> 263033975 | D9: 420677793 | E9: 301663857 | F9: 298743654 | G9: ='Működési bevételek'!L30+'Felhalmozási bevételek'!L14 -> 433769087 | H9: =+'Működési kiadások'!M97+'Felhalmozási kiadások'!I23 -> 47568120 | I9: =47568120+1506178551-1506178551 -> 47568120 | J9: =1669607184+270340454-1506178551 -> 433769087 | K9: =J9-I9 -> 386200967
A10: MOSONMAGYARÓVÁR TÉRSÉGI TÁRSULÁS ÖSSZESEN | C10: =SUM(C7:C9) -> 2362663087 | D10: =SUM(D7:D9) -> 2525053453 | E10: =SUM(E7:E9) -> 2521810157 | F10: =SUM(F7:F9) -> 2519921217 | G10: =SUM(G7:G9) -> 2494656672 | H10: =SUM(H7:H9) -> 1998272069 | I10: =SUM(I7:I9) -> 1998272069 | J10: =SUM(J7:J9) -> 2494656672 | K10: =J10-I10 -> 496384603
I13: =1998272069+1506178551 -> 3504450620 | J13: =2140220953+1860614270 -> 4000835223 | K13: =J13-I13 -> 496384603
H15: Int.fin. | I15: 1506178551

Sheet Létszámok
A1: Mosonmagyaróvár Térségi Társulás | F1: 15. melléklet
A2: és felügyelete alá tartozó költségvetési szervek
A3: 2024. évi költségvetésének végrehajtásáról szóló határozatához
A5: Költségvetési engedélyzett létszámhely
B7: adatok: fő-ben
A8: Megnevezés | B8: 2022. január 1. | C8: 2024. január 1. | D8: Közfoglalkoztatottak átlagos létszáma | E8: 2024. december 31. | F8: Közfoglalkoztatottak átlagos létszáma | G8: 2024. december 31. | H8: Közfoglalkoztatottak átlagos létszáma
A9: (intézmény, szakfeladat, stb.) | B9: engedélyezett | C9: engedélyezett | E9: engedélyezett | G9: záró
B10: létszámhely | C10: létszámhely | E10: létszámhely | G10: átlagos statisztikai létszám
A11: Család és Gyermekjóléti Központ | B11: 58.5 | C11: =SUM(C12:C15) -> 58.5 | D11: 0 | E11: =SUM(E12:E15) -> 58.5 | F11: 0 | G11: =SUM(G12:G15) -> 50 | H11: 0
A12: Gyermekek Átmeneti Otthona | B12: 8.5 | C12: 8.5 | D12: 0 | E12: 8.5 | F12: 0 | G12: 8 | H12: 0
A13: Család- és Gyermekjóléti Központ / Hatósági és Speciális Munkacsoporot | B13: 16 | C13: 16 | D13: 0 | E13: 16 | F13: 0 | G13: 11 | H13: 0
A14: Család-és Gyermekjóléti Központ/ Családsegítő Szolgálat | B14: 23 | C14: 23 | D14: 0 | E14: 23 | F14: 0 | G14: 20 | H14: 0
A15: Óvodai és iskolai szociális segítő tevékenység | B15: 11 | C15: 11 | E15: 11 | F15: 0 | G15: 11 | H15: 0
A16: Kistérségi Egyesített Szociális Intézet | B16: =SUM(B17:B28) -> 159 | C16: =SUM(C17:C28) -> 143 | D16: =SUM(D17:D28) -> 0 | E16: =SUM(E17:E28) -> 143 | F16: =SUM(F17:F28) -> 0 | G16: =SUM(G17:G28) -> 124 | H16: =SUM(H17:H28) -> 0
A17: Aranykor Idősek Otthona, Idősek Otthona, Központi irányítás | B17: 48 | C17: 48 | D17: 0 | E17: 48 | F17: 0 | G17: 47 | H17: 0
A18: Idősek Gondozóháza, főzőkonyha, karbantartás | B18: 36 | C18: 20 | D18: 0 | E18: 20 | F18: 0 | G18: 20 | H18: 0
A19: Hajléktalanok Átmeneti Szállása | B19: 9 | C19: 9 | D19: 0 | E19: 9 | F19: 0 | G19: 7 | H19: 0
A20: Idősek klubjai | B20: 15 | C20: 15 | D20: 0 | E20: 15 | F20: 0 | G20: 13 | H20: 0
A21: FÉNI | B21: 6 | C21: 6 | D21: 0 | E21: 6 | F21: 0 | G21: 5 | H21: 0
A22: Nappali melegedő | B22: 3 | C22: 3 | D22: 0 | E22: 3 | F22: 0 | G22: 3 | H22: 0
A23: Éjjeli menedékhely | B23: 2 | C23: 2 | D23: 0 | E23: 2 | F23: 0 | G23: 2 | H23: 0
A24: Utcai szociális munka | B24: 2 | C24: 2 | D24: 0 | E24: 2 | F24: 0 | G24: 2 | H24: 0
A25: Szociális étkezés | B25: 1 | C25: 1 | D25: 0 | E25: 1 | F25: 0 | G25: 1 | H25: 0
A26: Házi segítségnyújtás | B26: 34 | C26: 34 | D26: 0 | E26: 34 | F26: 0 | G26: 22 | H26: 0
A27: Jelzőrendszer | B27: 1 | C27: 1 | D27: 0 | E27: 1 | F27: 0 | G27: 1 | H27: 0
A28: Fejlesztő foglalkoztatás | B28: 2 | C28: 2 | D28: 0 | E28: 2 | F28: 0 | G28: 1 | H28: 0
A29: Mosonmagyaróvár Térségi Társulás állandó létszámhely nincs | B29: 0 | C29: 0 | D29: 0 | E29: 0 | F29: 0 | G29: 0 | H29: 0
A30: Összesen: | B30: =B16+B11 -> 217.5 | C30: =SUM(C11+C16+C29) -> 201.5 | D30: =SUM(D11+D16+D29) -> 0 | E30: =SUM(E11+E16+E29) -> 201.5 | F30: =SUM(F11+F16+F29) -> 0 | G30: =SUM(G11+G16+G29) -> 174 | H30: =SUM(H11+H16+H29) -> 0

Sheet Közvetett támogatások
A1: Közvetett támogatások - 2024. év
C2: 16. melléklet
A4: Mosonmagyaróvár Térségi Társulás és intézményei közvetett támogatást nem nyújtanak.
A6: A gesztor önkormányzat - Mosonmagyaróvár Város Önkormányzat - költségvetési rendelete szerint:
A8: Mosonmagyaróvár Város Önkormányzata a Mosonmagyaróvár Térségi Társulás által fenntartott Kistérségi Egyesített Szociális Intézménye által idősek számára biztosított alapszolgáltatási ellátást igénybe vevők személyi térítési díját megtéríti az ellátottak helyett, a következő feltételek együttes teljesülése esetén: az ellátott a) a mosonmagyaróvári Kistérségi Egyesített Szociális Intézmény által, idősek számára biztosított alapszolgáltatás igénybe vevője, b) Mosonmagyaróváron állandó lakóhellyel rendelkezik, c) betöltötte a 90. életévét és d) tartási vagy öröklési szerződést nem kötött. A személyi térítési díj átvállalása a 90. életév betöltését követő hónaptól történik.
A10: A gesztor önkormányzatnál az így meghatározott közvetett támogatás összege:
A11: 90. életévét betöltő, mosonmagyaróvári állandó lakcímmel rendelkezők teljes ellátására vonatkozó szociális támogatása | C11: 22445266 | D11: Ft

Sheet Finanszírozás
N1: 17. melléklet | O1: ok
A2: Finanszírozási terv 2024. év | C2: adatok Ft-ban
B3: Jan | C3: Febr | D3: Márc | E3: Ápr | F3: Máj | G3: Jún | H3: Júl | I3: Aug | J3: Szept | K3: Okt | L3: Nov | M3: Dec | N3: Összesen
A5: Intézményi működési bevételek | B5: 33488000 | C5: 33488000 | D5: 33488000 | E5: 33488000 | F5: 33488000 | G5: 33488000 | H5: 33488000 | I5: 33488000 | J5: 33488000 | K5: 33488000 | L5: 33488000 | M5: 33492000 | N5: =SUM(B5:M5) -> 401860000 | O5: =Mérleg!C6 -> 401860000 | P5: =Mérleg!C6 -> 401860000 | Q5: =P5-N5 -> 0 | R5: =Q5-N5 -> -401860000 | S5: =Q5/12 -> 0
A6: Támogatásértékű működési bev. | B6: 139609000 | C6: 139609000 | D6: 139609000 | E6: 139609000 | F6: 139609000 | G6: 139609000 | H6: 139609000 | I6: 139609000 | J6: 139609000 | K6: 139609000 | L6: 139609000 | M6: 139607482 | N6: =SUM(B6:M6) -> 1675306482 | O6: =Mérleg!C7 -> 1675306481 | P6: =Mérleg!C7 -> 1675306481 | Q6: =P6-N6 -> -1 | R6: =Q6-N6 -> -1675306483 | S6: =R6/12 -> -1.3960887e+08
A7: Támogatás értékű felhalmozási bevétel | B7: 2500000 | C7: 2500000 | D7: 2500000 | E7: 2500000 | F7: 20000000 | G7: 50000000 | H7: 20000000 | I7: 10000000 | J7: 20000000 | K7: 7000000 | L7: 7000000 | M7: 6000000 | N7: =SUM(B7:M7) -> 150000000 | P7: =Mérleg!C14 -> 150000000 | Q7: =P7-N7 -> 0
A8: Maradványfelhasználás | B8: 0 | C8: =Mérleg!C18 -> 135496606 | N8: =SUM(B8:M8) -> 135496606 | O8: =Mérleg!C18 -> 135496606 | P8: =Mérleg!C18 -> 135496606 | Q8: =P8-N8 -> 0 | R8: =Q8-N8 -> -135496606
A9: Bevételek összesen: | B9: =SUM(B5:B8) -> 175597000 | C9: =SUM(C5:C8) -> 311093606 | D9: =SUM(D5:D8) -> 175597000 | E9: =SUM(E5:E8) -> 175597000 | F9: =SUM(F5:F8) -> 193097000 | G9: =SUM(G5:G8) -> 223097000 | H9: =SUM(H5:H8) -> 193097000 | I9: =SUM(I5:I8) -> 183097000 | ... N9: =SUM(N5:N8) -> 2362663088 | O9: =SUM(N5:N8) -> 2362663088 | P9: =O9-N9 -> 0 | Q9: =SUM(Q5:Q8) -> -1 | R9: =Mérleg!C27 -> 2362663087 | S9: =R9-Q9 -> 2362663088
P10: =O10-N10 -> 0
