Workbook

Sheet 1_
B1: 1. SZÁMÚ MELLÉKLET
A5: MOSONMAGYARÓVÁR TÉRSÉGI TÁRSULÁS
A6: 2016. ÉVI KÖLTSÉGVETÉSI HATOZATÁHOZ
A11: A Mosonmagyaróvár Térségi Társulás és irányítása alá tartozó költségvetési szervek
A12: 2016. évi költségvetéséről szóló …../2016. (II….) TT. határozatához
A14: CÍMRENDJÉT
A15: az alábbiak szerint állapítja meg:
A20: Címszám | B20: Megnevezés
A21: 1. | B21: Mosonmagyaróvár Térségi Társulás
A22: 2. | B22: Kistérségi Egyesített Szociális Intézmény
A23: 3. | B23: Család és Gyermekjóléti Központ

Sheet 2A
B1: 2./A SZÁMÚ MELLÉKLET
A3: MOSONMAGYARÓVÁR TÉRSÉGI TÁRSULÁS
A4: 2016. ÉVI KÖLTSÉGVETÉSI HATOZATÁHOZ
A5: PÉNZFORGALMI MÉRLEG
A6: adatok ezer Ft-ban
A8: MOSONMAGYARÓVÁRI TÖBBCÉLÚ KISTÉRSÉGI TÁRSULÁS ÉS KÖLTSÉGVETÉSI SZERVEI | D8: kötelező | E8: önként
A9: Megnevezés | B9: eredeti | C9: eredeti | D9: eredeti | E9: eredeti | F9: Rovatrend
B10: előirányzat 2015. | C10: előirányzat 2016. | D10: előirányzat 2016. | E10: előirányzat 2016. | F10: 2015. év
A11: Személyi juttatások | B11: 385136 | C11: ='2B'!C12+'2C'!C12+'2D'!C12 -> 418968.81 | D11: =SUM(C11-E11) -> 418468.81 | E11: ='2D'!C12 -> 500 | F11: K1
A12: Munkaadót terhelő járulékok | B12: 102785 | C12: ='2B'!C13+'2C'!C13+'2D'!C13 -> 113513 | D12: =SUM(C12-E12) -> 113257 | E12: ='2D'!C13 -> 256 | F12: K2
A13: Dologi és egyéb folyó kiadások | B13: 220124 | C13: ='2B'!C14+'2C'!C14+'2D'!C14 -> 228860 | D13: =SUM(C13-E13) -> 227141 | E13: ='2D'!C14-10091 -> 1719 | F13: K3
A14: Pénzeszköz átadás, támogatás | B14: 7247 | C14: ='2B'!C15+'2C'!C15+'2D'!C15 -> 7610 | D14: =SUM(C14-E14) -> 1270 | E14: ='2D'!C15 -> 6340 | F14: K4
A15: Felhalmozási kiadások | B15: 2435 | C15: ='2D'!C17 -> 151800 | D15: =SUM(C15-E15) -> 151800 | E15: 0 | F15: K61-67, K71-74
A16: Hitelek és kölcsönök kiadásai | B16: 0 | C16: 0 | D16: =SUM(C16-E16) -> 0 | E16: 0 | F16: K9111
A17: Pénzforgalmi kiadások | B17: =SUM(B11:B16) -> 717727 | C17: =SUM(C11:C16) -> 920751.81 | D17: =SUM(C17-E17) -> 911936.81 | E17: =SUM(E11:E16) -> 8815
A18: Államháztartási tartalék | B18: 18060 | C18: ='2D'!C20 -> 26447.958 | D18: =SUM(C18-E18) -> 25400.958 | E18: 1047 | F18: K512
A19: Kiegyenlítő, átfutó, függő kiadás | B19: nem releváns | C19: nem releváns
A20: Kiadások összesen: | B20: =B17+B18 -> 735787 | C20: =C17+C18 -> 947199.77 | D20: =SUM(C20-E20) -> 937337.77 | E20: =SUM(E17+E18) -> 9862
A22: Intézményi működési bevételek | B22: 200170 | C22: ='2B'!C22+'2C'!C22+'2D'!C24 -> 233922 | D22: =C22-E22 -> 233922 | E22: ='2D'!C24-10091 -> 0 | F22: B4
A23: Költségvetési visszatérülések | B23: 0 | C23: 0 | D23: =C23-E23 -> 0 | E23: 0
A24: Felhalmozási és tőke jellegű bevételek | B24: 0 | C24: 150000 | D24: =C24-E24 -> 0 | E24: ='2D'!C26 -> 150000 | F24: B21, B25, B52, B72, B73
A25: ebből: sajátos felhalm. és tőkef. | B25: 0 | C25: 0 | D25: =C25-E25 -> 0 | E25: 0
A26: Támogatások, kiegészítések és átvett pénzeszközök | B26: 533182 | C26: ='2B'!C25+'2C'!C25+'2D'!C28 -> 523403.69 | D26: =C26-E26 -> 513541.69 | E26: 9862 | F26: B816
A27: ebből: önkorm. költségvetési tám. | B27: 321246 | C27: ='2D'!C29 -> 317116.1 | D27: =C27-E27 -> 317116.1 | E27: 0
A28: Hitelek, kölcsönök bevételei | B28: 0 | C28: 0 | D28: =C28-E28 -> 0 | E28: 0 | F28: B8111
A29: Pénzforgalmi bevételek összesen | B29: =B26+B22 -> 733352 | C29: =C26+C22+C24 -> 907325.69 | D29: =C29-E29 -> 897463.69 | E29: =E26+E22 -> 9862
A30: Maradvány felhasználás | B30: 2435 | C30: ='2B'!C30+'2C'!C30+'2D'!C33 -> 39874.078 | D30: 39874 | E30: 0
A31: Kiegyenlítő, átfutó, függő bevételek | B31: nem releváns | C31: nem releváns
A32: Bevételek összesen: | B32: =B29+B30 -> 735787 | C32: =C29+C30 -> 947199.77 | D32: =C32-E32 -> 937337.77 | E32: =E29+E30 -> 9862
A35: Mosonmagyaróvár, 2016. január 31.
B36: 65./2015. (XI. 24.) TT. Határozat alapján
B38: 200 Ft/lakos | C38: térségi társulás támogatása | E38: évi kétszeri befizetés
B39: 100 Ft/lakos | C39: KGYCSSZK támogatására
B40: 20 Ft/lakos | C40: Kórház támogatására
B41: 10 Ft/lakos | C41: Szolidaritási alap
B42: 100 Ft/lakos | C42: Felújítási alap | E42: évi kétszeri befizetés

Sheet 2B
B1: 2./B SZÁMÚ MELLÉKLET
A3: MOSONMAGYARÓVÁR TÉRSÉGI TÁRSULÁS
A4: 2016. ÉVI KÖLTSÉGVETÉSI HATOZATÁHOZ
A5: PÉNZFORGALMI MÉRLEG
A6: adatok ezer Ft-ban
C8: kötelező feladat
A9: KISTÉRSÉGI EGYESÍTETT SZOCIÁLIS INTÉZET
A10: Megnevezés | B10: eredeti | C10: eredeti | D10: változás | E10: Rovatrend
B11: előirányzat 2015. | C11: előirányzat 2016. | D11: 2016. évhez képest | E11: 2015. év
A12: Személyi juttatások | B12: 286274 | C12: =[1]KESZI!$E$24/1000 -> 317527.5 | D12: =C12-B12 -> 31253.5 | E12: K1
A13: Munkaadót terhelő járulékok | B13: 77778 | C13: =[1]KESZI!$E$25/1000 -> 86295 | D13: =C13-B13 -> 8517 | E13: K2
A14: Dologi és egyéb folyó kiadások | B14: 188626 | C14: =[1]KESZI!$E$64/1000 -> 190900 | D14: =C14-B14 -> 2274 | E14: K3
A15: Pénzeszköz átadás, támogatás | B15: 700 | C15: =[1]KESZI!$E$65/1000 -> 850 | D15: =C15-B15 -> 150 | E15: K4
A16: Felhalmozási kiadások | B16: 2435 | C16: 0 | D16: =C16-B16 -> -2435 | E16: K61-67, K71-74
A17: Hitelek és kölcsönök kiadásai | B17: 0 | C17: 0 | D17: =C17-B17 -> 0 | E17: K9111
A18: Pénzforgalmi kiadások | B18: =SUM(B12:B17) -> 555813 | C18: =SUM(C12:C17) -> 595572.5 | D18: =SUM(D12:D17) -> 39759.5
A19: Kiegyenlítő, átfutó, függő kiadás | B19: nem releváns | C19: nem releváns
A20: Kiadások összesen: | B20: =SUM(B18) -> 555813 | C20: =SUM(C18) -> 595572.5 | D20: =SUM(D14:D19) -> 39748.5
A22: Intézményi működési bevételek | B22: 197930 | C22: =[1]KESZI!$D$97/1000+[1]KESZI!$D$95/1000 -> 220931 | D22: =C22-B22 -> 23001 | E22: B4
A23: Felhalmozási és tőke jellegű bevételek | B23: 0 | C23: 0 | D23: =C23-B23 -> 0 | E23: B21, B25, B52, B72, B73
A24: ebből: sajátos felhalm. és tőkef. | B24: 0 | C24: 0 | D24: =C24-B24 -> 0
A25: Támogatások, kiegészítések és átvett pénzeszközök | B25: 34693 | C25: =[1]KESZI!$D$96/1000+[1]KESZI!$D$98/1000 -> 17000 | D25: =C25-B25 -> -17693 | E25: B16, B63
A26: ebből: önkorm. költségvetési tám. | B26: 10091 | C26: 10091 | D26: =C26-B26 -> 0
A27: Irányító szervtől kapott támogatás | B27: 320755 | C27: =[1]KESZI!$D$102/1000+[1]KESZI!$D$92/1000 -> 338722.7 | D27: =C27-B27 -> 17967.697 | E27: B816
A28: Hitelek, kölcsönök bevételei | B28: 0 | C28: 0 | D28: =C28-B28 -> 0 | E28: B8111
A29: Pénzforgalmi bevételek összesen | B29: =SUM(B28+B27+B25+B23+B22) -> 553378 | C29: =SUM(C28+C27+C25+C23+C22) -> 576653.7 | D29: =C29-B29 -> 23275.697
A30: Maradvány felhasználás | B30: 2435 | C30: =[1]KESZI!$D$99/1000 -> 18918.803 | D30: =C30-B30 -> 16483.803
A31: Kiegyenlítő, átfutó, függő bevételek | B31: nem releváns | C31: nem releváns
A32: Bevételek összesen: | B32: =B29+B30 -> 555813 | C32: =C29+C30 -> 595572.5 | D32: =C32-B32 -> 39759.5
A35: Irányító szervi támogatás részletezése 2015.-2016. év eredeti Ft-ban | B35: adatok Ft-ban
B36: 2015. évi | C36: 2016. évi | D36: Változás 2016-hoz képest
A37: Szociális étkeztetés | B37: =[2]Munka1!$E$18 -> 25941696 | C37: =[1]KESZI!$D$82 -> 25576320 | D37: =C37-B37 -> -365376
A38: Házi segítségnyújtás | B38: =[2]Munka1!$E$19 -> 36192000 | C38: =[1]KESZI!$D$83 -> 35815000 | D38: =C38-B38 -> -377000
A39: Időskorúak nappali int. Ellátása | B39: =[2]Munka1!$E$20 -> 6213000 | C39: =[1]KESZI!$D$84 -> 6376500 | D39: =C39-B39 -> 163500
A40: Fogyatékos és demens személyek ell. | B40: =[2]Munka1!$E$21+[2]Munka1!$E$22+[2]Munka1!$E$23 -> 24970000 | C40: =[1]KESZI!$D$85+[1]KESZI!$D$86+[1]KESZI!$D$87 -> 24090000 | D40: =C40-B40 -> -880000
A41: Hajléktalanok nappali ellátása | B41: =[2]Munka1!$E$24 -> 8903520 | C41: =[1]KESZI!$D$88 -> 8903520 | D41: =C41-B41 -> 0
A42: Hajléktalanok átmeneti ellátása | B42: =[2]Munka1!$E$25 -> 20607400 | C42: =[1]KESZI!$D$89 -> 20607400 | D42: =C42-B42 -> 0
A43: Bértámogatás szociális szféra | B43: =[2]Munka1!$E$26 -> 83393280 | C43: =[1]KESZI!$D$90 -> 82898132 | D43: =C43-B43 -> -495148
A44: intézmény üzemeltetési támogatás | B44: 25725104 | C44: =[1]KESZI!$D$91 -> 19795000 | D44: =C44-B44 -> -5930104
A45: Gesztor önkormányzat támogatása | B45: ='[3]KESZI költségvetés'!$D$27*1000 -> 72513000 | C45: =[1]KESZI!$D$105 -> 93047238 | D45: =C45-B45 -> 20534238
A46: Szociális foglalkoztatás támogatása (gesztor önk. Keresztül) | B46: ='[3]KESZI költségvetés'!$D$26*1000 -> 12615000 | C46: 13005120 | D46: =C46-B46 -> 390120
A47: Térségi Társulás felé befizetett tagdíjból átadásra kerülő | B47: ='[3]KESZI költségvetés'!$D$28*1000 -> 3681000 | C47: =[1]KESZI!$D$104 -> 8608467 | D47: =C47-B47 -> 4927467
A48: Társulás maradványából | B48: 0 | C48: 0 | D48: 0
B49: =SUM(B37:B47) -> 320755000 | C49: =SUM(C37:C48) -> 338722697 | D49: =SUM(D37:D48) -> 17967697
A51: Mosonmagyaróvár, 2016. január 31.

Sheet 2C
B1: 2./C SZÁMÚ MELLÉKLET
A3: MOSONMAGYARÓVÁR TÉRSÉGI TÁRSULÁS
A4: 2016. ÉVI KÖLTSÉGVETÉSI HATOZATÁHOZ
A5: PÉNZFORGALMI MÉRLEG
A6: adatok ezer Ft-ban
C8: kötelező feladat
A9: Család és Gyermekjóléti Központ
A10: Megnevezés | B10: eredeti | C10: eredeti | E10: Rovatrend
B11: előirányzat 2015. | C11: előirányzat 2016. | D11: Eltérés 2016. képest | E11: 2015. év
A12: Személyi juttatások | B12: 97862 | C12: =[1]KGYCSSZK!$E$24/1000 -> 100941.31 | D12: =C12-B12 -> 3079.313 | E12: K1
A13: Munkaadót terhelő járulékok | B13: 24495 | C13: =[1]KGYCSSZK!$E$25/1000 -> 26962 | D13: =C13-B13 -> 2467 | E13: K2
A14: Dologi és egyéb folyó kiadások | B14: 18677 | C14: =[1]KGYCSSZK!$E$64/1000 -> 26150 | D14: =C14-B14 -> 7473 | E14: K3
A15: Pénzeszköz átadás, támogatás | B15: 420 | C15: =[1]KGYCSSZK!$E$65/1000 -> 420 | D15: =C15-B15 -> 0 | E15: K4
A16: Felhalmozási kiadások | B16: 0 | C16: 0 | D16: =C16-B16 -> 0 | E16: K61-67, K71-74
A17: Hitelek és kölcsönök kiadásai | B17: 0 | C17: 0 | D17: =C17-B17 -> 0 | E17: K9111
A18: Pénzforgalmi kiadások | B18: =SUM(B12:B17) -> 141454 | C18: =SUM(C12:C17) -> 154473.31 | D18: =SUM(D12:D17) -> 13019.313
A19: Kiegyenlítő, átfutó, függő kiadás | B19: nem releváns | C19: nem releváns
A20: Kiadások összesen: | B20: =B18 -> 141454 | C20: =C18 -> 154473.31 | D20: =D18 -> 13019.313
A22: Intézményi működési bevételek | B22: 2240 | C22: =[1]KGYCSSZK!$D$92/1000 -> 2900 | D22: =C22-B22 -> 660 | E22: B4
A23: Felhalmozási és tőke jellegű bevételek | B23: 0 | C23: 0 | D23: =C23-B23 -> 0 | E23: B21, B25, B52, B72, B73
A24: ebből: sajátos felhalm. és tőkef. | B24: 0 | C24: 0 | D24: =C24-B24 -> 0
A25: Támogatások, kiegészítések és átvett pénzeszközök | B25: 370 | C25: =[1]KGYCSSZK!$D$93/1000 -> 700 | D25: =C25-B25 -> 330 | E25: B16, B63
A26: ebből: önkorm. költségvetési tám. | B26: 0 | C26: 0 | D26: =C26-B26 -> 0
A27: Felügyeleti szervtől átvett támogatás | B27: 138844 | C27: =[1]KGYCSSZK!$D$89/1000+[1]KGYCSSZK!$D$98/1000 -> 146645.03 | D27: =C27-B27 -> 7801.029 | E27: B816
A28: Hitelek, kölcsönök bevételei | B28: 0 | C28: 0 | D28: =C28-B28 -> 0 | E28: B8111
A29: Pénzforgalmi bevételek összesen | B29: =SUM(B28,B27,B25,B22) -> 141454 | C29: =SUM(C28,C27,C25,C22) -> 150245.03 | D29: =SUM(D28,D27,D25,D22) -> 8791.029
A30: Maradvány felhasználást | B30: 0 | C30: =[1]KGYCSSZK!$D$94/1000 -> 4228.284 | D30: =C30-B30 -> 4228.284
A31: Kiegyenlítő, átfutó, függő bevételek | B31: nem releváns | C31: nem releváns
A32: Bevételek összesen: | B32: =SUM(B29+B30) -> 141454 | C32: =SUM(C29+C30) -> 154473.31 | D32: =SUM(D29+D30) -> 13019.313
A34: Irányító szervi támogatás részletezése 2015.-2016. év eredeti | B34: adatok Ft-ban
B35: 2015. év | C35: 2016. év
A36: Szociális és gyermekjóléti alapszolg., állami támogatás | B36: 78138520 | C36: 79200000
A37: Gyermekek átmeneti int. Ellátása, állami támogatás | B37: 11162080
A38: GYÁÓ bértámogatás és intézményüzemeltetési támogatás | C38: 13854228
A39: Gesztor önkormányzat támogatása | B39: 42261266 | C39: =[1]KGYCSSZK!$D$100 -> 49444585
A40: Térségi Társulástól érkező támogatás | B40: 7282500 | C40: =[1]KGYCSSZK!$D$99 -> 4146216
A41: Összesen | B41: =SUM(B36:B40) -> 138844366 | C41: =SUM(C36:C40) -> 146645029
A43: Mosonmagyaróvár, 2016. január 31.

Sheet 2D
B1: 2./D SZÁMÚ MELLÉKLET
A3: MOSONMAGYARÓVÁR TÉRSÉGI TÁRSULÁS
A4: 2016. ÉVI KÖLTSÉGVETÉSI HATOZATÁHOZ
A5: PÉNZFORGALMI MÉRLEG
A6: adatok ezer Ft-ban
C8: önként vállalt feladat
A9: Mosonmagyaróvár Térségi Társulás
A10: Megnevezés | B10: eredeti | C10: eredeti | D10: Rovatrend
B11: előirányzat 2015. | C11: előirányzat 2016. | D11: 2015. év
A12: Személyi juttatások | B12: 1000 | C12: =[1]Társulás!$E$8/1000 -> 500 | D12: K1 | E12: *
A13: Munkaadót terhelő járulékok | B13: 512 | C13: =[1]Társulás!$E$12/1000 -> 256 | D13: K2 | E13: *
A14: Dologi és egyéb folyó kiadások | B14: 12821 | C14: =[1]Társulás!$E$20/1000 -> 11810 | D14: K3 | E14: *
A15: Pénzeszköz átadás, támogatás | B15: 6127 | C15: =[1]Társulás!$E$25/1000 -> 6340 | D15: K5
A16: Felügyelet alá tartozó költségvetési szerv. Támogat. | B16: =SUM('2B'!B27+'2C'!B27) -> 459599 | C16: ='2B'!C27+'2C'!C27 -> 485367.73 | D16: K915
A17: Felhalmozási kiadások | B17: 0 | C17: =[1]Társulás!$E$36/1000+150000 -> 151800 | D17: K61-67, K71-74
A18: Hitelek és kölcsönök kiadásai | B18: 0 | C18: 0 | D18: K9111
A19: Pénzforgalmi kiadások | B19: =SUM(B12:B18) -> 480059 | C19: =SUM(C12:C18) -> 656073.73
A20: Államháztartási tartalék | B20: 18060 | C20: =[1]Társulás!$E$26/1000 -> 26447.958 | D20: K513
A21: Kiegyenlítő, átfutó, függő kiadás | B21: nem releváns | C21: nem releváns
A22: Kiadások összesen: | B22: =SUM(B19+B20) -> 498119 | C22: =SUM(C19+C20) -> 682521.68
A24: Intézményi működési bevételek | B24: 0 | C24: =[1]Társulás!$E$71/1000 -> 10091 | D24: B4
A25: Költségvetési visszatérülések | B25: 0 | C25: 0
A26: Felhalmozási és tőke jellegű bevételek | B26: 0 | C26: 150000 | D26: B21, B25, B52, B72, B73
A27: ebből: sajátos felhalm. és tőkef. | B27: 0 | C27: 0
A28: Támogatások, kiegészítések és átvett pénzeszközök | B28: 498119 | C28: =[1]Társulás!$E$52/1000+[1]Társulás!$E$53/1000+[1]Társulás!$E$56/1000+[1]Társulás!$E$63/1000 -> 505703.69 | D28: B16, 816
A29: ebből: önkorm. költségvetési tám. | B29: 321246 | C29: =[1]Társulás!$E$52/1000 -> 317116.1
A30: Felügyeleti szervtől átvett támogatás | B30: 0 | C30: 0
A31: Hitelek, kölcsönök bevételei | B31: 0 | C31: 0 | D31: B8111
A32: Pénzforgalmi bevételek összesen | B32: =SUM(B24+B25+B26+B28+B30+B31) -> 498119 | C32: =SUM(C24+C25+C26+C28+C30+C31) -> 665794.69
A33: Maradvány felhasználást | B33: 0 | C33: =[1]Társulás!$E$72/1000 -> 16726.991
A34: Kiegyenlítő, átfutó, függő bevételek | B34: nem releváns | C34: nem releváns
A35: Bevételek összesen: | B35: =B32+B33 -> 498119 | C35: =C32+C33 -> 682521.68
A41: Mosonmagyaróvár, 2016. január 31.

Sheet 5
G1: 5. SZÁMÚ MELLÉKLET
A2: MOSONMAGYARÓVÁR TÉRSÉGI TÁRSULÁS
A3: 2016. ÉVI KÖLTSÉGVETÉSI HATOZATÁHOZ
A5: Kiadások és Bevételek működési egyensúlya
A6: 2016. év terv
A7: adatok ezer Ft-ban
A8: Működési kiadások ezer Ft
A10: Intézmény megnevezése | B10: Személyi juttatások | C10: Járulékok | D10: Dologi kiadások | E10: Ellátottak juttatása | F10: Tartalékképzés | G10: Átadott pénzeszközök működési | H10: Összesen
A11: Kistérségi Egyesített Szociális Intézmény | B11: ='2B'!C12 -> 317527.5 | C11: ='2B'!C13 -> 86295 | D11: ='2B'!C14 -> 190900 | E11: ='2B'!C15 -> 850 | F11: 0 | G11: 0 | H11: =SUM(B11:G11) -> 595572.5
A12: Család és Gyermekjóléti Központ | B12: ='2C'!C12 -> 100941.31 | C12: ='2C'!C13 -> 26962 | D12: ='2C'!C14 -> 26150 | E12: ='2C'!C15 -> 420 | F12: 0 | G12: 0 | H12: =SUM(B12:G12) -> 154473.31
A13: Mosonmagyaróvár Térségi Társulás | B13: ='2D'!C12 -> 500 | C13: ='2D'!C13 -> 256 | D13: ='2D'!C14 -> 11810 | E13: 0 | F13: ='2D'!C20 -> 26447.958 | G13: ='2D'!C15 -> 6340 | H13: =SUM(B13:G13) -> 45353.958
A14: Mindösszesen: | B14: =SUM(B11:B13) -> 418968.81 | C14: =SUM(C11:C13) -> 113513 | D14: =SUM(D11:D13) -> 228860 | E14: =SUM(E11:E13) -> 1270 | F14: =SUM(F11:F13) -> 26447.958 | G14: =SUM(G11:G13) -> 6340 | H14: =SUM(H11:H13) -> 795399.77
A16: Működési bevételek ezer Ft
A18: Intézmény megnevezése | B18: Intézmény saját bevételei | C18: Állami támogatás | D18: MÖK támogatás | E18: Egyéb támogatás értékű műk. bevétel | F18: Feladatfinanszírozás | G18: Maradvány felhasználás | H18: Összesen
A19: Kistérségi Egyesített Szociális Intézmény | B19: ='2B'!C22 -> 220931 | C19: =SUM('2B'!C37:C44)/1000 -> 224061.87 | D19: ='2B'!C45/1000 -> 93047.238 | E19: ='2B'!C25+'2B'!C47/1000 -> 25608.467 | F19: ='2B'!C46/1000 -> 13005.12 | G19: ='2B'!C30 -> 18918.803 | H19: =SUM(B19:G19) -> 595572.5
A20: Család és Gyermekjóléti Központ | B20: ='2C'!C22 -> 2900 | C20: =SUM('2C'!C36:C38)/1000 -> 93054.228 | D20: ='2C'!C39/1000 -> 49444.585 | E20: ='2C'!C25+[1]KGYCSSZK!$D$99/1000 -> 4846.216 | F20: 0 | G20: ='2C'!C30 -> 4228.284 | H20: =SUM(B20:G20) -> 154473.31
A21: Mosonmagyaróvár Térségi Társulás | B21: ='2D'!C24 -> 10091 | C21: 0 | D21: 0 | E21: 20336 | F21: 0 | G21: ='2D'!C33-1800 -> 14926.991 | H21: =SUM(B21:G21) -> 45353.991
A22: Mindösszesen: | B22: =SUM(B19:B21) -> 233922 | C22: =SUM(C19:C21) -> 317116.1 | D22: =SUM(D19:D21) -> 142491.82 | E22: =SUM(E19:E21) -> 50790.683 | F22: =SUM(F19:F21) -> 13005.12 | G22: =SUM(G19:G21) -> 38074.078 | H22: =SUM(H19:H21) -> 795399.8
A24: Felhalmozási kiadások ezer Ft | E24: Felhalmozási bevételek ezer Ft
A25: Intézmény megnevezése | B25: Felhalmozási kiadások | C25: Összesen | E25: Intézmény megnevezése | F25: Maradvány felhasználás | G25: Összesen
A26: Kistérségi Egyesített Szociális Intézmény | B26: 0 | C26: 0 | E26: Kistérségi Egyesített Szociális Intézmény | F26: 0 | G26: 0
A27: Család és Gyermekjóléti Központ | B27: 0 | C27: 0 | E27: Család és Gyermekjóléti Központ | F27: 0 | G27: 0
A28: Mosonmagyaróvár Térségi Társulás | B28: =1800+150000 -> 151800 | C28: =B28 -> 151800 | E28: Mosonmagyaróvár Térségi Társulás | F28: =1800+150000 -> 151800 | G28: =1800+150000 -> 151800
A29: Mindösszesen: | B29: =SUM(B26:B28) -> 151800 | C29: =SUM(C26:C28) -> 151800 | E29: Mindösszesen: | F29: =SUM(F26:F28) -> 151800 | G29: =SUM(G26:G28) -> 151800
A34: Mosonmagyaróvár, 2016. január 31.

Sheet 3
H1: 3. SZÁMÚ MELLÉKLET
A3: MOSONMAGYARÓVÁR TÉRSÉGI TÁRSULÁS
A4: 2016. ÉVI KÖLTSÉGVETÉSI HATOZATÁHOZ
A6: Kiadások összefoglalása
A7: 2016. év terv
A8: adatok ezer Ft-ban
A10: Tervezett kiadások összesítése ezer Ft
A12: Intézmény megnevezése | B12: Személyi juttatások | C12: Járulékok | D12: Dologi kiadások | E12: Ellátottak juttatása | F12: Tartalékképzés | G12: Átadott pénzeszközök működési | H12: Felhalmozási kiadások | I12: Összesen
A13: Kistérségi Egyesített Szociális Intézmény | B13: ='2B'!C12 -> 317527.5 | C13: ='2B'!C13 -> 86295 | D13: ='2B'!C14 -> 190900 | E13: ='2B'!C15 -> 850 | F13: 0 | G13: 0 | H13: ='2B'!C16 -> 0 | I13: =SUM(B13:H13) -> 595572.5
A14: Család és Gyermekjóléti Központ | B14: ='2C'!C12 -> 100941.31 | C14: ='2C'!C13 -> 26962 | D14: ='2C'!C14 -> 26150 | E14: ='2C'!C15 -> 420 | F14: 0 | G14: 0 | H14: 0 | I14: =SUM(B14:H14) -> 154473.31
A15: Mosonmagyaróvár Térségi Társulás | B15: ='2D'!C12 -> 500 | C15: ='2D'!C13 -> 256 | D15: ='2D'!C14 -> 11810 | E15: 0 | F15: ='2D'!C20 -> 26447.958 | G15: ='2D'!C15 -> 6340 | H15: =1800+150000 -> 151800 | I15: =SUM(B15:H15) -> 197153.96
A16: Mindösszesen: | B16: =SUM(B13:B15) -> 418968.81 | C16: =SUM(C13:C15) -> 113513 | D16: =SUM(D13:D15) -> 228860 | E16: =SUM(E13:E15) -> 1270 | F16: =SUM(F13:F15) -> 26447.958 | G16: =SUM(G13:G15) -> 6340 | H16: =SUM(H13:H15) -> 151800 | I16: =SUM(I13:I15) -> 947199.77
A20: Mosonmagyaróvár, 2016. január 31.

Sheet 4
I1: 4. SZÁMÚ MELLÉKLET
A3: MOSONMAGYARÓVÁR TÉRSÉGI TÁRSULÁS
A4: 2016. ÉVI KÖLTSÉGVETÉSI HATOZATÁHOZ
A6: Bevételek összefoglalása
A7: 2016. év terv
A8: adatok ezer Ft-ban
A10: Tervezett bevételek összesítése ezer Ft
A12: Intézmény megnevezése | B12: Intézmény saját bevételei | C12: Állami támogatás | D12: MÖK támogatás | E12: Egyéb támogatás értékű műk. bevétel | F12: TOP-s pályázatok bevételi forrása | G12: Feladatfinanszírozás | H12: Társulási támogatás | I12: Maradvány felhasználás | J12: Összesen
A13: Kistérségi Egyesített Szociális Intézmény | B13: ='2B'!C22 -> 220931 | C13: =SUM('2B'!C37+'2B'!C38+'2B'!C39+'2B'!C40+'2B'!C41+'2B'!C42+'2B'!C43+'2B'!C44)/1000 -> 224061.87 | D13: ='2B'!C45/1000 -> 93047.238 | E13: ='2B'!C25 -> 17000 | F13: 0 | G13: ='2B'!C46/1000 -> 13005.12 | H13: ='2B'!C47/1000 -> 8608.467 | I13: ='2B'!C30 -> 18918.803 | J13: =SUM(B13:I13) -> 595572.5
A14: Család és Gyermekjóléti Központ | B14: ='2C'!C22 -> 2900 | C14: 93054 | D14: ='2C'!C39/1000 -> 49444.585 | E14: ='2C'!C25 -> 700 | F14: 0 | G14: 0 | H14: ='2C'!C40/1000 -> 4146.216 | I14: ='2C'!C30 -> 4228.284 | J14: =SUM(B14:I14) -> 154473.08
A15: Mosonmagyaróvár Térségi Társulás | B15: ='2D'!C24 -> 10091 | C15: 0 | D15: 0 | E15: 20336 | F15: 150000 | G15: 0 | I15: ='2D'!C33 -> 16726.991 | J15: =SUM(B15:I15) -> 197153.99
A16: Mindösszesen: | B16: =SUM(B13:B15) -> 233922 | C16: =SUM(C13:C15) -> 317115.87 | D16: =SUM(D13:D15) -> 142491.82 | E16: =SUM(E13:E15) -> 38036 | F16: =SUM(F13:F15) -> 150000 | G16: =SUM(G13:G15) -> 13005.12 | H16: =SUM(H13:H15) -> 12754.683 | I16: =SUM(I13:I15) -> 39874.078 | J16: =SUM(J13:J15) -> 947199.58
A20: Mosonmagyaróvár, 2016. január 31.

Sheet 6
B1: 6. SZÁMÚ MELLÉKLET
A5: MOSONMAGYARÓVÁR TÉRSÉGI TÁRSULÁS
A6: 2016. ÉVI KÖLTSÉGVETÉSI HATÁROZATÁHOZ
A9: A Mosonmagyaróvár Térségi Társulás által tervezett átvett
A10: támogatások
A12: Átadó megnevezése | B12: Átadás célja | C12: Összege ezer Ft-ban
A13: Magyar Államkincstár | B13: Állami támogatással finanszírozott feladatok ellátásra | C13: ='4'!C16 -> 317115.87
A14: Nemzeti Rehabilitációs és Szociális Hivatal | B14: Szociális foglalkoztatás feladatalapú finanszírozása (gesztor önkormányzaton keresztül) | C14: 13005
A15: Nemzeti Rehabilitációs és Szociális Hivatal | B15: Jelzőrendszer támogatása (Térségi Társuláson keresztül) | C15: =[3]Munka1!$C$44/1000 -> 10091
A16: Mosonmagyaróvár Város Önkormányzata | B16: Kistérségi Egyesített Szociális Intézmény működésének támogatása | C16: =[1]Társulás!$E$55/1000 -> 93047.238
A17: Mosonmagyaróvár Város Önkormányzata | B17: Kistérségi Gyermekjóléti és Családsegítő Szolgáltató Központ működési támogatása | C17: =[1]Társulás!$E$54/1000 -> 49444.585
A18: Település önkormányzatok (magába foglalja gesztor önkormányzat támogatását is) | B18: Kistérségi Gyermekjóléti és Családsegítő Szolgáltató Központ működési támogatása | C18: =[1]Társulás!$G$66/1000 -> 7695.5
A19: Település önkormányzatok (magába foglalja gesztor önkormányzat támogatását is) | B19: Térségi tagdíj, felújítási alap, szolidaritási alap, orvosi gép- műszer beszerzés támogatása | C19: =SUM([1]Társulás!$G$64+[1]Társulás!$G$65+[1]Társulás!$G$67+[1]Társulás!$G$68)/1000 -> 25395.15
A20: Összesen: | C20: =SUM(C13:C19) -> 515794.35
B21: 1. oldal
A23: A Mosonmagyaróvár Térségi Társulás által tervezett átadandó
A24: támogatások
A26: Átvevő megnevezése | B26: Támogatás célja | C26: Összege ezer Ft-ban
A27: Mosonmagyaróvári Polgármesteri Hivatal | B27: Társulási feladatok ellátására hozzájárulás | C27: =[3]Munka1!$C$21/1000 -> 3600
A28: Civil szervezet számára Tanács döntése alapján | B28: Társulás által átadandó pénzeszköz | C28: 900
A29: Karolina Kórház - Rendelőintézet | B29: Orvosi gép-, műszer beszerzés támogatása | C29: =[1]Társulás!$E$24/1000 -> 1840
A30: Család és Gyermekjóléti Központ | B30: Működési támogatás, mely tartalmazza normatív állami támogatást, feladatalapú támogatást, MÖK támogatást, társulási támogatást | C30: ='2C'!C27 -> 146645.03
A31: Kistérségi Egyesített Szociális Intézet | B31: Működési támogatás, mely tartalmazza normatív állami támogatást, feladatalapú támogatást, MÖK támogatást, társulási támogatást | C31: ='2B'!C27 -> 338722.7
A32: Kistérségi Egyesített Szociális Intézet | B32: Jelzőrendszer működési hozzájárulás (nem tényleges támogatás továbbszámlázott szolgáltatás bevételeként jelenik meg szerződés szerint) | C32: =[3]Munka1!$C$16/1000 -> 10091
A33: Család és Gyermekjóléti Központ | B33: Jubileumi jutalomra, felmentési bérre átadandó | C33: =[1]Társulás!$E$32/1000 -> 6616.9995
A34: Kistérségi Egyesített Szociális Intézet | B34: Jubileumi jutalomra, felmentési bérre átadandó | C34: =[1]Társulás!$E$33/1000 -> 6094.0003
A35: Összesen: | C35: =SUM(C27:C34) -> 514509.73
B36: 2. oldal
A38: Mosonmagyaróvár, 2016. január 31.

Sheet 7
M1: 7. SZÁMÚ MELLÉKLET
A5: MOSONMAGYARÓVÁR TÉRSÉGI TÁRSULÁS
A6: 2016. ÉVI KÖLTSÉGVETÉSI HATOZATÁHOZ
A8: Mosonmagyaróvári Többcélú Kistérségi Társulás Tanácsa
A9: likviditási ütemterve 2016. év ezer Ft-ban
A11: Havi bontás | B11: január | C11: február | D11: március | E11: április | F11: május | G11: június | H11: július | I11: augusztus | J11: szeptember | K11: október | L11: november | M11: december | N11: összesen
A12: Kiadásnem
A13: Személyi juttatás | B13: 0 | C13: 0 | D13: 0 | E13: 0 | F13: 0 | G13: 250 | H13: 0 | I13: 0 | J13: 0 | K13: 0 | L13: 0 | M13: 250 | N13: =SUM(B13:M13) -> 500
A14: Járulékok | B14: 0 | C14: 0 | D14: 0 | E14: 0 | F14: 0 | G14: 128 | H14: 0 | I14: 0 | J14: 0 | K14: 0 | L14: 0 | M14: 128 | N14: =SUM(B14:M14) -> 256
A15: Dologi kiadások | B15: 143 | C15: 143 | D15: =2522+143 -> 2665 | E15: 143 | F15: 143 | G15: =2522+143 -> 2665 | H15: 143 | I15: 143 | J15: =2522+143 -> 2665 | K15: 143 | L15: 143 | M15: =2525+143+3 -> 2671 | N15: =SUM(B15:M15) -> 11810
A16: Támogatások | B16: 0 | C16: 0 | D16: 0 | E16: 1800 | F16: 900 | G16: 1840 | H16: 0 | I16: 0 | J16: 0 | K16: 1800 | L16: 0 | M16: 0 | N16: =SUM(B16:M16) -> 6340
A17: Beruházási kiadás | B17: 0 | C17: 1800 | D17: 0 | E17: 0 | F17: 0 | G17: 25000 | H17: 25000 | I17: 25000 | J17: 25000 | K17: 25000 | L17: 25000 | M17: 0 | N17: =SUM(B17:M17) -> 151800
A18: Tartalékképzés | B18: 2204 | C18: 0 | D18: 0 | E18: 0 | F18: 0 | G18: 0 | H18: 0 | I18: 0 | J18: 0 | K18: 0 | L18: 12268 | M18: 11976 | N18: =SUM(B18:M18) -> 26448 | O18: 26448
A19: Kiadások összesen | B19: =SUM(B13:B18) -> 2347 | C19: =SUM(C13:C18) -> 1943 | D19: =SUM(D13:D18) -> 2665 | E19: =SUM(E13:E18) -> 1943 | F19: =SUM(F13:F18) -> 1043 | G19: =SUM(G13:G18) -> 29883 | H19: =SUM(H13:H18) -> 25143 | I19: =SUM(I13:I18) -> 25143 | ... N19: =SUM(N13:N18) -> 197154
A21: Havi bontás | B21: január | C21: február | D21: március | E21: április | F21: május | G21: június | H21: július | I21: augusztus | J21: szeptember | K21: október | L21: november | M21: december | N21: összesen
A22: Bevétel
A23: Intézményi működési bevétel | B23: 0 | C23: 0 | D23: 2522 | E23: 0 | F23: 0 | G23: 2522 | H23: 0 | I23: 0 | J23: 2522 | K23: 0 | L23: 0 | M23: 2525 | N23: =SUM(B23:M23) -> 10091
A24: Állami támogatás | B24: 0 | C24: 0 | D24: 0 | E24: 0 | F24: 0 | G24: 0 | H24: 0 | I24: 0 | J24: 0 | K24: 0 | L24: 0 | M24: 0 | N24: 0
A25: Egyéb támogatás | B25: 0 | C25: 0 | D25: 10168 | E25: 0 | F25: 0 | G25: 0 | H25: 0 | I25: 0 | J25: 0 | K25: 10168 | L25: 0 | M25: 0 | N25: =SUM(B25:M25) -> 20336
A26: Felhalmozási projekt bevétel | B26: 0 | C26: 0 | D26: 0 | E26: 0 | F26: 37500 | G26: 0 | H26: 0 | I26: 50000 | J26: 0 | K26: 0 | L26: 50000 | M26: =15000-2500 -> 12500 | N26: =SUM(B26:M26) -> 150000
A27: Pénzmaradvány felhasználás | B27: 2347 | C27: 4147 | D27: 0 | E27: 0 | F27: 0 | G27: 4138 | H27: 2347 | I27: 2347 | J27: =2347-946 -> 1401 | K27: 0 | L27: 0 | M27: 0 | N27: =SUM(B27:M27) -> 16727
A28: Bevételek összesen | B28: =SUM(B23:B27) -> 2347 | C28: =SUM(C23:C27) -> 4147 | D28: =SUM(D23:D27) -> 12690 | E28: =SUM(E23:E27) -> 0 | F28: =SUM(F23:F27) -> 37500 | G28: =SUM(G23:G27) -> 6660 | H28: =SUM(H23:H27) -> 2347 | I28: =SUM(I23:I27) -> 52347 | ... N28: =SUM(N23:N27) -> 197154
A30: 1. oldal
A32: MOSONMAGYARÓVÁR TÉRSÉGI TÁRSULÁS
A33: 2016. ÉVI KÖLTSÉGVETÉSI HATOZATÁHOZ
A35: Család és Gyermekjóléti Központ
A36: likviditási ütemterve 2016. év ezer Ft-ban
A38: Havi bontás | B38: január | C38: február | D38: március | E38: április | F38: május | G38: június | H38: július | I38: augusztus | J38: szeptember | K38: október | L38: november | M38: december | N38: összesen
A39: Kiadásnem
A40: Személyi juttatás | B40: 8075 | C40: 8075 | D40: 8075 | E40: 8075 | F40: 8075 | G40: 8075 | H40: 8075 | I40: 8075 | J40: 8075 | K40: 8075 | L40: =8075+4041 -> 12116 | M40: 8075 | N40: =SUM(B40:M40) -> 100941
A41: Járulékok | B41: 2157 | C41: 2157 | D41: 2157 | E41: 2157 | F41: 2157 | G41: 2157 | H41: 2157 | I41: 2157 | J41: 2157 | K41: 2157 | L41: =2157+1078 -> 3235 | M41: 2157 | N41: =SUM(B41:M41) -> 26962
A42: Dologi kiadások | B42: 2179 | C42: 2179 | D42: 2179 | E42: 2179 | F42: 2179 | G42: 2179 | H42: 2179 | I42: 2179 | J42: 2179 | K42: 2179 | L42: 2179 | M42: 2181 | N42: =SUM(B42:M42) -> 26150
A43: Támogatások | B43: 35 | C43: 35 | D43: 35 | E43: 35 | F43: 35 | G43: 35 | H43: 35 | I43: 35 | J43: 35 | K43: 35 | L43: 35 | M43: 35 | N43: =SUM(B43:M43) -> 420
A44: Beruházási kiadás | N44: 0
A45: Kiadások összesen | B45: =SUM(B40:B44) -> 12446 | C45: =SUM(C40:C44) -> 12446 | D45: =SUM(D40:D44) -> 12446 | E45: =SUM(E40:E44) -> 12446 | F45: =SUM(F40:F44) -> 12446 | G45: =SUM(G40:G44) -> 12446 | H45: =SUM(H40:H44) -> 12446 | I45: =SUM(I40:I44) -> 12446 | ... N45: =SUM(N40:N44) -> 154473
A47: Havi bontás | B47: január | C47: február | D47: március | E47: április | F47: május | G47: június | H47: július | I47: augusztus | J47: szeptember | K47: október | L47: november | M47: december | N47: összesen
A48: Bevétel
A49: Intézményi működési bevétel | B49: 242 | C49: 242 | D49: 242 | E49: 242 | F49: 242 | G49: 242 | H49: 242 | I49: 242 | J49: 242 | K49: 242 | L49: 242 | M49: 238 | N49: =SUM(B49:M49) -> 2900
A50: Állami támogatás | B50: 7754 | C50: 7754 | D50: 7754 | E50: 7754 | F50: 7754 | G50: 7754 | H50: 7754 | I50: 7754 | J50: 7754 | K50: 7754 | L50: 7754 | M50: 7760 | N50: =SUM(B50:M50) -> 93054
A51: Egyéb támogatás | B51: 4524 | C51: 4524 | D51: 4524 | E51: 4524 | F51: 4524 | G51: 4524 | H51: 4524 | I51: 4524 | J51: 4524 | K51: 4524 | L51: 4527 | M51: 4524 | N51: =SUM(B51:M51) -> 54291
A52: Pénzmaradvány felhasználás | B52: 0 | C52: 0 | D52: 0 | E52: 0 | F52: 0 | G52: 0 | H52: 0 | I52: 0 | J52: 0 | K52: 0 | L52: 4228 | M52: 0 | N52: =SUM(B52:M52) -> 4228
A53: Bevételek összesen | B53: =SUM(B49:B52) -> 12520 | C53: =SUM(C49:C52) -> 12520 | D53: =SUM(D49:D52) -> 12520 | E53: =SUM(E49:E52) -> 12520 | F53: =SUM(F49:F52) -> 12520 | G53: =SUM(G49:G52) -> 12520 | H53: =SUM(H49:H52) -> 12520 | I53: =SUM(I49:I52) -> 12520 | ... N53: =SUM(N49:N52) -> 154473
A56: MOSONMAGYARÓVÁR TÉRSÉGI TÁRSULÁS
A57: 2016. ÉVI KÖLTSÉGVETÉSI HATOZATÁHOZ
A59: Egyesített Szociális Intézet
A60: likviditási ütemterve 2016. év ezer Ft-ban
A62: Havi bontás | B62: január | C62: február | D62: március | E62: április | F62: május | G62: június | H62: július | I62: augusztus | J62: szeptember | K62: október | L62: november | M62: december | N62: összesen
A63: Kiadásnem
A64: Személyi juttatás | B64: 25402 | C64: 25402 | D64: 25402 | E64: 25402 | F64: 25402 | G64: 25402 | H64: 25402 | I64: 25402 | J64: 25402 | K64: 25402 | L64: =25402+12704 -> 38106 | M64: 25402 | N64: =SUM(B64:M64) -> 317528
A65: Járulékok | B65: 6904 | C65: 6904 | D65: 6904 | E65: 6904 | F65: 6904 | G65: 6904 | H65: 6904 | I65: 6904 | J65: 6904 | K65: 6904 | L65: =6904+3447 -> 10351 | M65: 6904 | N65: =SUM(B65:M65) -> 86295
A66: Dologi kiadások | B66: 15908 | C66: 15908 | D66: 15908 | E66: 15908 | F66: 15908 | G66: 15908 | H66: 15908 | I66: 15908 | J66: 15908 | K66: 15908 | L66: 15908 | M66: 15912 | N66: =SUM(B66:M66) -> 190900
A67: Támogatások | B67: 71 | C67: 71 | D67: 71 | E67: 71 | F67: 71 | G67: 71 | H67: 71 | I67: 71 | J67: 71 | K67: 71 | L67: 70 | M67: 70 | N67: =SUM(B67:M67) -> 850
A68: Beruházási kiadás | B68: 0 | C68: 0 | D68: 0 | E68: 0 | F68: 0 | G68: 0 | H68: 0 | I68: 0 | J68: 0 | K68: 0 | L68: 0 | M68: 0 | N68: 0
A69: Kiadások összesen | B69: =SUM(B64:B68) -> 48285 | C69: =SUM(C64:C68) -> 48285 | D69: =SUM(D64:D68) -> 48285 | E69: =SUM(E64:E68) -> 48285 | F69: =SUM(F64:F68) -> 48285 | G69: =SUM(G64:G68) -> 48285 | H69: =SUM(H64:H68) -> 48285 | I69: =SUM(I64:I68) -> 48285 | ... N69: =SUM(N64:N68) -> 595573
A71: Havi bontás | B71: január | C71: február | D71: március | E71: április | F71: május | G71: június | H71: július | I71: augusztus | J71: szeptember | K71: október | L71: november | M71: december | N71: összesen
A72: Bevétel
A73: Intézményi működési bevétel | B73: 18411 | C73: 18411 | D73: 18411 | E73: 18411 | F73: 18411 | G73: 18411 | H73: 18411 | I73: 18411 | J73: 18411 | K73: 18411 | L73: 18411 | M73: 18410 | N73: =SUM(B73:M73) -> 220931
A74: Állami támogatás | B74: 18671 | C74: 18671 | D74: 18671 | E74: 18671 | F74: 18671 | G74: 18671 | H74: 18671 | I74: 18671 | J74: 18671 | K74: 18671 | L74: 18671 | M74: 18671 | N74: =SUM(B74:M74) -> 224052
A75: Egyéb támogatás | B75: 10130 | C75: 10130 | D75: =2522+10130 -> 12652 | E75: 10130 | F75: 10130 | G75: =2522+10130 -> 12652 | H75: 10130 | I75: 10130 | J75: =2522+10130 -> 12652 | K75: 10130 | L75: 10130 | M75: =2525+10130+10 -> 12665 | N75: =SUM(B75:M75) -> 131661
A76: Pénzmaradvány felhasználás | B76: 1073 | C76: 1073 | D76: 0 | E76: 0 | F76: 697 | G76: 0 | H76: 0 | I76: 697 | J76: 0 | K76: 0 | L76: 15379 | M76: 0 | N76: =SUM(B76:M76) -> 18919
A77: Bevételek összesen | B77: =SUM(B73:B76) -> 48285 | C77: =SUM(C73:C76) -> 48285 | D77: =SUM(D73:D76) -> 49734 | E77: =SUM(E73:E76) -> 47212 | F77: =SUM(F73:F76) -> 47909 | G77: =SUM(G73:G76) -> 49734 | H77: =SUM(H73:H76) -> 47212 | I77: =SUM(I73:I76) -> 47909 | ... N77: =SUM(N73:N76) -> 595563
A80: 2. oldal
A81: Mosonmagyaróvár, 2016. január 31.

Sheet 8
C1: 8. számú melléklet
A3: Mosonmagyaróvár Térségi Társulás
A4: és felügyelete alá tartozó költségvetési szerv
A5: 2016. évi költségvetéséről szóló határozatához
A7: Költségvetési engedélyzett létszámhely
B9: adatok: fő-ben
A10: Megnevezés | B10: 2015. január 1. | C10: 2016. január 1. | D10: Közfoglalkoztatottak átlagos létszáma
A11: (intézmény, szakfeladat, stb.) | B11: engedélyezett | C11: engedélyezett
B12: létszámhely | C12: létszámhely
A13: Család és Gyermekjóléti Központ | B13: =SUM(B14:B16) -> 43 | C13: =SUM(C14:C16) -> 43 | D13: 0
A14: GyÁÓ | B14: 8 | C14: 8 | D14: 0
A15: Gyermekjóléti szolgálat | B15: 16 | C15: 16 | D15: 0
A16: Családsegítő | B16: 19 | C16: 19 | D16: 0
A17: Kistérségi Egyesített Szociális Intézet | B17: =SUM(B18:B28) -> 134 | C17: 141 | D17: =SUM(D18:D28) -> 0
A18: Aranykor, kp.-i irányítás | B18: 42 | C18: 43 | D18: 0
A19: Gondozóház | B19: 28 | C19: 28 | D19: 0
A20: ESZO | D20: 0
A21: Hajléktalan | B21: 6 | C21: 6 | D21: 0
A22: Idősek klubja | B22: 16 | C22: 16 | D22: 0
A23: FÉNI | B23: 7 | C23: 7 | D23: 0
A24: Nappali melegedő | B24: 2 | C24: 2 | D24: 0
A25: Szociális étkezés | B25: 4 | C25: 4 | D25: 0
A26: Házi segítségnyújtás | B26: 24 | C26: 30 | D26: 0
A27: Jelzőrendszer | B27: 1 | C27: 1 | D27: 0
A28: Szoc. foglalkoztatás | B28: 4 | C28: 4 | D28: 0
A29: Mosonmagyaróvár Térségi Társulás | B29: 0 | C29: 0 | D29: 0
A30: TÁMOP 5.4.9-11/1-2012-0014 | B30: 0 | C30: 0 | D30: 0
A31: Összesen: | B31: =SUM(B13+B17+B29) -> 177 | C31: =SUM(C13+C17+C29) -> 184 | D31: =SUM(D13+D17+D29) -> 0
A33: Mosonmagyaróvár, 2016. január 31.

Sheet 9
B1: 9. számú melléklet
A2: Mosonmagyaróvár Térségi Társulás
A4: Állami támogatások
A6: Kistérségi Egyesített Szociális Intézmény
A7: Rovat: B113
A8: Jogcím | B8: Feladat | C8: Fajlagos támogatás 2015. évi C. tv. Alapján | D8: mutató | E8: Eredeti előirányzat
A9: 3.c. | B9: Szociális étkeztetés | C9: 60896 | D9: 426 | E9: =SUM(D9*C9) -> 25941696
A10: 3.d. | B10: Házi segítségnyújtás | C10: 188500 | D10: 192 | E10: =SUM(D10*C10) -> 36192000
A11: 3.f. | B11: Időskorúak nappali int. ellátása | C11: 163500 | D11: 38 | E11: =SUM(D11*C11) -> 6213000
A12: 3.g. | B12: Fogyatékos személyek napp. int. ellátása | C12: 550000 | D12: 11 | E12: =SUM(D12*C12) -> 6050000
A13: 3.g. | B13: Foglalkoztatási támogatásban rész. fogy. | C13: 220000 | D13: 16 | E13: =SUM(D13*C13) -> 3520000
A14: 3.g. | B14: Demens szem. napp. int. ellátása | C14: 550000 | D14: 28 | E14: =SUM(D14*C14) -> 15400000
A15: 3.i. | B15: Hajléktalanik napp. int. ellátása | C15: 247320 | D15: 36 | E15: =SUM(D15*C15) -> 8903520
A16: 3.k. | B16: Hajléktalanok Átmeneti Szállása | C16: 515185 | D16: 40 | E16: =SUM(D16*C16) -> 20607400
A17: 4.a. | B17: Bértámogatás | C17: 2606040 | D17: 32 | E17: 83393280
A18: 4.b. | B18: Intézmény-üzemeltetési támogatás | E18: 25725104
B19: Összesen | E19: =SUM(E9:E18) -> 231946000
A21: Család és Gyermekjóléti Központ
A22: Jogcím | B22: Feladat | C22: Fajlagos támogatás 2015. évi C. tv. Alapján | D22: mutató | E22: Eredeti előirányzat
A23: 3.a. | B23: Család és gyermekjóléti szolgálat | C23: 3000000 Ft/mutató | D23: 15.6 | E23: 46800000
A24: 3.b | B24: Család és gyermekjóléti központ | C24: 3000000 Ft/mutató | D24: 10.8 | E24: 32400000
A25: 4.a | B25: GyÁÓ bértámogatás | D25: 8 fő | E25: 5707228
A26: 4.b. | B26: GyÁÓ intézmény-üzelemtetés | C26: étkeztetéshez kapcsolódó kiadások és bevételek alapján | E26: 8147000
B27: Összesen: | E27: =SUM(E23:E26) -> 93054228
B29: Mindösszesen | E29: =E19+E27 -> 325000228
A31: Mosonmagyaróvár, 2016. január 31.
