Workbook

Sheet Tartalom
B1: Mosonmagyaróvári Térségi Társulás és intézményei
A3: 2025. évi költségvetési határozat mellékletei
A5: 1 | B5: Összevont mérleg, bevételek és kiadások összesítése
A7: =A5+1 -> 2 | B7: Összevont mérleg, működés és fejlesztés egyenlege
A9: =A7+1 -> 3 | B9: Működési bevételek, Intézmények
A11: =A9+1 -> 4 | B11: Működési bevételek, Társulás
A13: =A11+1 -> 5 | B13: Működési bevételek Társulás és intézményei
A15: =A13+1 -> 6 | B15: Intézményi finanszírozási bevételek részletezése
A17: =A15+1 -> 7 | B17: Felhalmozási bevételek jogímenként
A19: =A17+1 -> 8 | B19: Működési kiadások, Intézmények
A21: =A19+1 -> 9 | B21: Működési kiadások, Társulás
A23: =A21+1 -> 10 | B23: Működési kiadások, Társulás és intézményei összevontan
A25: =A23+1 -> 11 | B25: Felhalmozási kiadások
A27: =A25+1 -> 12 | B27: Állami hozzájárulások
A29: =A27+1 -> 13 | B29: Társulás által biztosítandó támogatások
... A47: =A45+1 -> 22 | B47: Társulás saját bevételeinek részletezése adósságot
B48: keletkeztető ügyletből származó tárgyévi fizetési kötelezettség
B49: megállapításához adatok Ft-ban
A51: =A47+1 -> 23 | B51: Adósságot keletkeztető feljesztési célok
A53: =A51+1 -> 24 | B53: Települési hozzájárulások, tagdíjak részletezése

Sheet Mérleg
B1: Mosonmagyaróvári Térségi Társulás és intézmnyei 2025. évi összevont költségvetési mérlege | M1: Mosonmagyaróvái Térségi Társulás és intézményei 2025. évi összevont költségvetési mérlege
Q2: 2. melléklet
B3: Bevételek, kiadások összesítése Ft-ban | H3: 1 melléklet | M3: Működés egyenlege | P3: Fejlesztés egyenlege
D4: Eredeti előirányzatból | J4: Eredeti előirányzatból
A5: Rovatrend | B5: Bevételek | C5: Eredeti | D5: Ebből kötelező feladat | E5: Ebből önként vállalt feladat | G5: Rovatrend | H5: Kiadások | I5: Eredeti | J5: Ebből kötelező feladat | K5: Ebből önként vállalt feladat | M5: Bevételek | P5: Bevételek
A6: B4 | B6: Intézményi működési bevétel | C6: ='Működési bevételek'!E36 -> 404310000 | D6: =C6-E6 -> 399310000 | E6: ='Működési bevételek'!E18 -> 5000000 | G6: K1-K5 | H6: Intézmények működési kiadása | I6: ='Működési kiadások'!M37 -> 2480303906 | J6: =I6-K6 -> 2480303906 | K6: ='Működési kiadások'!M12 -> 0 | M6: Intézményi működési bevétel | N6: =C6 -> 404310000 | P6: Tárgyi eszközök értékesítése | Q6: =C13 -> 0
A7: B16 | B7: Támogatásértékű műk. bevétel | C7: ='Működési bevételek'!H10+'Működési bevételek'!E46+'Működési bevételek'!F46+'Működési bevételek'!G46+'Működési bevételek'!H46+'Működési bevételek'!I46+'Működési bevételek'!H19 -> 1755957841 | D7: =C7-E7 -> 1755957841 | G7: K1-K5 | H7: Térségi Társulás működési kiadásai | I7: ='Működési kiadások'!M45 -> 83896439 | J7: ='Működési kiadások'!M22 -> 63499753 | K7: =I7-J7 -> 20396686 | M7: Támogatásértékű műk. bevétel | N7: =C7 -> 1755957841 | P7: Támogtás értékű felhalmozási bev. | Q7: =C14 -> 50000000
A8: B65 | B8: Műk.c.pénzeszköz átv.ÁH-n kívülről, visszatérítendő működési támogatás | C8: ='Működési bevételek'!I10+'Működési bevételek'!I19 -> 0 | D8: 0 | E8: =C8 -> 0 | H8: Működés összesen | I8: =SUM(I6:I7) -> 2564200345 | J8: =SUM(J6:J7) -> 2543803659 | K8: =SUM(K6:K7) -> 20396686 | M8: Műk.c.pénzeszköz átv.ÁH-n kívülről | N8: =C8 -> 0 | P8: Felh.c.pénzeszköz átvétel ÁH-n kív. | Q8: =C15 -> 0
A9: B11 | B9: Közvetlen állami támogatás | C9: ='Működési bevételek'!F19 -> 0 | D9: =C9 -> 0 | E9: =C9-D9 -> 0 | G9: K6-K8 | H9: Felhalmozási kiadások | I9: ='Felhalmozási kiadások'!I12 -> 105067496 | J9: =I9-K9 -> 105067496 | K9: ='Felhalmozási kiadások'!I14 -> 0 | M9: Állami támogatás | N9: =C9+C23 -> 0 | P9: Közhatalmi bevétel | Q9: 0
H10: Hitelek törlesztése | P10: Lakások és helyis.értékesít. | Q10: =C16 -> 0
A11: B3 | B11: Közhatalmi bevételek (helyi adók nélkül) | C11: 0 | D11: =C11-E11 -> 0 | E11: 0 | G11: K9111 | H11: Beruházási hitelek | I11: 0 | J11: =I11 -> 0 | K11: 0 | M11: Önkormányzati sajátos műk.b. | N11: =C11 -> 0 | P11: Felhalmozási bevételek össz. | Q11: =SUM(Q6:Q10) -> 50000000
B12: Működési bevételek összesen | C12: =SUM(C6:C11) -> 2160267841 | D12: =SUM(D6:D11) -> 2155267841 | E12: =SUM(E6:E11) -> 5000000 | G12: K914 | H12: Államháztartási megelőlegezés visszafizetése | I12: 0 | J12: =I12 -> 0 | K12: 0 | M12: Működési bevételek összesen | N12: =C12+C23 -> 2160267841 | P12: Kölcsönök visszatérülése | Q12: =C19 -> 0
A13: B52 | B13: Ingatlanok, tárgyi eszközök értékesítése | C13: ='Felhalmozási bevételek'!E12 -> 0 | D13: 0 | E13: =C13-D13 -> 0 | G13: K353 | H13: Kamatköltségek | I13: 0 | J13: =I13 -> 0 | K13: 0 | M13: Közhatalmi bevételek | N13: 0 | P13: Bevételek összesen | Q13: =SUM(Q11:Q12) -> 50000000
A14: B21, B25 | B14: Támogtás értékű felhalmozási bev. | C14: ='Felhalmozási bevételek'!F12 -> 50000000 | D14: ='Felhalmozási bevételek'!F10 -> 50000000 | E14: =C14-D14 -> 0 | M14: Működési célú maradvány felhasználás | N14: =C18-Q17 -> 403932504
A15: B75 | B15: Felh.c.pénzeszköz átvétel ÁH-n kív. | C15: ='Felhalmozási bevételek'!G12 -> 0 | D15: =C15-E15 -> 0 | E15: 0 | M15: Bevételek mindösszesen | N15: =N12+N14 -> 2564200345 | P15: Értékpapír beváltás | Q15: =C21 -> 0
A16: B52 | B16: Önkorm.lakások és helyis.értékesít. | C16: ='Felhalmozási bevételek'!H12 -> 0 | D16: 0 | E16: =C16 -> 0 | M16: Kiadások | P16: Állampapír beváltás összesen | Q16: =SUM(Q14:Q15) -> 0
B17: Felhalmozási bev. összesen | C17: =SUM(C13:C16) -> 50000000 | D17: =SUM(D13:D16) -> 50000000 | E17: =SUM(E13:E16) -> 0 | M17: Intézmények működési kiadása | N17: =I6 -> 2480303906 | P17: Maradvány felhasználás | Q17: 55067496 | R17: =Q17+N14 -> 459000000
A18: B8131 | B18: Maradványfelhasználás | C18: ='Működési bevételek'!K36+'Felhalmozási bevételek'!K12+'Működési bevételek'!J46 -> 459000000 | D18: =C18-E18 -> 443603314 | E18: 15396686 | M18: Térségi Társulás működési kiadása | N18: =I7+I12 -> 83896439
A19: B74 | B19: Felhalmozási célú kölcsönök, visszatérítendő támogatások visszatérülése | C19: ='Felhalmozási bevételek'!I12 -> 0 | D19: 0 | E19: 0 | M19: Működés összesen | N19: =SUM(N17:N18) -> 2564200345 | P19: Kiadások mindösszesen | Q19: =I9 -> 105067496
B20: Bevételek összesen | C20: =C12+C18+C17 -> 2669267841 | D20: =D12+D18+D17 -> 2648871155 | E20: =E12+E18+E17 -> 20396686
A21: B812 | B21: Állampapír ügyletek | C21: 0 | D21: =C21 -> 0 | E21: 0 | M21: Folyószámla hitelkamat | N21: 0
A22: B8111 | B22: Kölcsönfelvétel | C22: 0
A23: B814 | B23: Államháztartási megelőlegezés | C23: 0 | D23: =C23 -> 0 | E23: 0 | M23: Kiadások mindösszesen | N23: =SUM(N19:N22) -> 2564200345
A25: B81 | B25: Finanszírozási műveletek | C25: =SUM(C21:C24) -> 0 | D25: =SUM(D21:D24) -> 0 | E25: =SUM(E21:E24) -> 0
C26: 0 | D26: 0 | E26: 0 | P26: Bevétel és kiadás egyenlege | Q26: =Q11+Q12+Q17-Q19 -> 0
B27: Bevétel mindösszesen | C27: =C26+C25+C20 -> 2669267841 | D27: =D20+D25+D26 -> 2648871155 | E27: =E20+E25+E26 -> 20396686 | M27: Bevétel és kiadás egyenlege | N27: =N15-N23 -> 0
B28: Kötelező feladat ellátásból államigazgatási feladatellátáshoz kapcsolódó | D28: =J30 -> 0
H29: Kiadás mindösszesen | I29: =I8+I9+I11+I12+I13 -> 2669267841 | J29: =J8+J9+J11+J12+J13 -> 2648871155 | K29: =K8+K9+K11+K12+K13 -> 20396686 | M29: Egyenleg: | N29: 0
C30: =C27-C18 -> 2210267841 | D30: =D27-D18 -> 2205267841 | E30: =E27-E18 -> 5000000 | H30: Kötelező feladat ellátásból államigazgatási feladatellátáshoz kapcsolódó | J30: 0
E31: Egyenleg: | G31: =I29-C27 -> 0
A33: Mosonmagyaróvár, 2025. február 12.
I35: =I7+I13+I11+I12 -> 83896439
I36: =I8+I11+I12+I13 -> 2564200345

Sheet Működési bevételek
B1: MŰKÖDÉSI BEVÉTELEK - INTÉZMÉNYEK (Ft) | H1: 2025. év
K2: 3. melléklet
B3: Intézmények megnevezése | E3: Intézményi működési bevételek Rovatszám: B4 | F3: Állami támogatás Rovatszám: B816 | G3: Intézmény finanszírozás (állami támogatáson túl) Rovatszám: B816 | H3: Támog. ért.műk. Bevétel Rovatszám: B16 | I3: Működési c. pénze. átv. ÁH-n kívülről Rovatszám: B63-65 | J3: Sajátos bevételek Rovatszám: B4 | K3: Maradvány felhasználás, működési, Rovat: B8131 | L3: Összesen
C6: Kistérségi Egyesített Szociális Intézmény | E6: 395810000 | F6: 615349683 | G6: 677330015 | H6: 131464049 | I6: 0 | J6: 0 | K6: =90000000-19535855 -> 70464145 | L6: =SUM(E6:K6) -> 1890417892 | N6: =K6+'Felhalmozási bevételek'!K6 -> 90000000
C8: Család és Gyermekjóléti Központ | E8: 3500000 | F8: 259051009 | G8: 235207505 | H8: 85032500 | I8: 0 | J8: 0 | K8: =9000000-1905000 -> 7095000 | L8: =SUM(E8:K8) -> 589886014 | N8: =K8+'Felhalmozási bevételek'!K8 -> 9000000
B10: Intézmények eredeti összesen: | E10: =E8+E6 -> 399310000 | F10: =F8+F6 -> 874400692 | G10: =G8+G6 -> 912537520 | H10: =H8+H6 -> 216496549 | I10: =I8+I6 -> 0 | J10: =J8+J6 -> 0 | K10: =K8+K6 -> 77559145 | L10: =L8+L6 -> 2480303906
G11: =F10+G10 -> 1786938212
B13: Mosonmagyaróvár Térségi Társulás működési bevételei adatok Ft-ban | H13: 2025. év | L13: 4. melléklet
B15: Kormányzati funkció szerint | E15: Intézményi működési bevételek Rovatszám: B4 | F15: Állami támogatás Rovatszám: B11 | G15: ÖK támogatás Rovatszám: B816 | H15: Támog. ért.műk. Bevétel Rovatszám: B16 | I15: Működési c. pénze. átv. ÁH-n kívülről Rovatszám: B63- B65 | J15: Közhatalmi bevételek Rovatszám: B3 | K15: Maradvány felhasználás, ÁHT. Belüli megelőlegezés, értékpapír beváltása, működési Rovat: B812, B8131, B814 | L15: Összesen
B18: Önk. Jogalkotó tevékenysége 011130 | E18: 5000000 | F18: 0 | G18: 0 | H18: 32895849 | K18: =79627231-25735871 -> 53891360 | L18: =E18+F18+G18+H18+I18+J18+K18 -> 91787209 | N18: =K18+'Felhalmozási bevételek'!K10 -> 79627231 | O18: =360000000-N18 -> 280372769
B19: ÖSSZESEN: | E19: =SUM(E18:E18) -> 5000000 | F19: =SUM(F18:F18) -> 0 | G19: =SUM(G18:G18) -> 0 | H19: =SUM(H18:H18) -> 32895849 | I19: =SUM(I18:I18) -> 0 | J19: =SUM(J18:J18) -> 0 | K19: =SUM(K18:K18) -> 53891360 | L19: =SUM(L18:L18) -> 91787209
B21: Mosonmagyaróvár Térségi Társulás és intézményei működési bevételei adatok Ft-ban
L22: 5. melléklet
B23: Intézmények megnevezése | E23: Intézményi működési bevételek Rovatszám: B4 | F23: Állami támogatás Rovatszám: B816 | G23: Intézmény finanszírozás (állami támogatáson túl) Rovatszám: B816 | H23: Támog. ért.műk. Bevétel Rovatszám: B16 | I23: Működési c. pénze. átv. ÁH-n kívülről Rovatszám: B63-65 | J23: Sajátos bevételek Rovatszám: B4 | K23: Maradvány | L23: Összesen
K24: felhasználás
K25: működési Rovatszám: B8131
B26: Kistérségi Egyesített Szociális Intézmény | E26: =E6 -> 395810000 | F26: =F6 -> 615349683 | G26: =G6 -> 677330015 | H26: =H6 -> 131464049 | I26: =I6 -> 0 | J26: =J6 -> 0 | K26: =K6 -> 70464145 | L26: =SUM(E26:K26) -> 1890417892
B28: Család és Gyermekjóléti Központ | E28: =E8 -> 3500000 | F28: =F8 -> 259051009 | G28: =G8 -> 235207505 | H28: =H8 -> 85032500 | I28: =I8 -> 0 | J28: =J8 -> 0 | K28: =K8 -> 7095000 | L28: =L8 -> 589886014
B30: Intézmények eredeti összesen: | E30: =E28+E26 -> 399310000 | F30: =F28+F26 -> 874400692 | G30: =G28+G26 -> 912537520 | H30: =H28+H26 -> 216496549 | I30: =I28+I26 -> 0 | J30: =J28+J26 -> 0 | K30: =K28+K26 -> 77559145 | L30: =L28+L26 -> 2480303906
B31: Kormányzati funkció szerint | E31: Intézményi működési bevételek Rovatszám: B4 | F31: Állami támogatás Rovatszám: B11 | G31: ÖK támogatás Rovatszám: B816 | H31: Támog. ért.műk. Bevétel Rovatszám: B16 | I31: Működési c. pénze. átv. ÁH-n kívülről Rovatszám: B63- B65 | J31: Közhatalmi bevételek Rovatszám: B3 | K31: Maradvány | L31: Összesen
K32: felhasználás, ÁHT. Belüli megelőlegezés, értékpapír beváltása
K33: működési Rovatszám: B812, B8131, B814
B34: Térségi Társulás Önk. Jogalkotó tevékenysége 011130 | E34: =E18 -> 5000000 | F34: =F18 -> 0 | G34: =G18 -> 0 | H34: =H18 -> 32895849 | I34: =I18 -> 0 | J34: =J18 -> 0 | K34: =K18 -> 53891360 | L34: =SUM(E34:K34) -> 91787209
B35: ÖSSZESEN: | E35: =SUM(E34:E34) -> 5000000 | F35: =SUM(F34:F34) -> 0 | G35: =SUM(G34:G34) -> 0 | H35: =SUM(H34:H34) -> 32895849 | I35: =SUM(I34:I34) -> 0 | J35: =SUM(J34:J34) -> 0 | K35: =SUM(K34:K34) -> 53891360 | L35: =SUM(L34:L34) -> 91787209
B36: MINDÖSSZESEN: | E36: =E35+E30 -> 404310000 | F36: =F35+F30 -> 874400692 | G36: =G35+G30 -> 912537520 | H36: =H35+H30 -> 249392398 | I36: =I35+I30 -> 0 | J36: =J35+J30 -> 0 | K36: =K35+K30 -> 131450505 | L36: =L35+L30 -> 2572091115 | N36: =L36+'Felhalmozási bevételek'!L12 -> 2669267841 | P36: =L35+L28+L26 -> 2572091115
N37: =L36+'Felhalmozási bevételek'!L12 -> 2669267841
B38: Intézményfinanszírozás részletezése | I38: =E46+F46+G46+H46+H36 -> 1687469175 | L38: 6. melléklet
B40: Intézmények megnevezése | E40: Állami támogatás rovatszám: B816 | F40: Térségi Társuláshoz befolyt hozzájárulásból származó finanszírozás B16 | G40: Mosonmagyaróvár Város Önkormányzatától származó hiányfinanszírozás B16 | H40: Feladat alapú támogatások* B16 | I40: Ágazati pótlékok B16 | J40: Társulási maradvány felhasználása intézményfin.-ra B8131 | K40: Intézmnyfinanszíro-zás összesen
B42: Kistérségi Egyesített Szociális Intézmény | E42: =F6 -> 615349683 | F42: 137069287 | G42: 235323517 | H42: 30050000 | I42: 48604860 | J42: 226282351 | K42: =SUM(E42:J42) -> 1292679698 | L42: 1292679698 | M42: =L42-K42 -> 0
B44: Család és Gyermekjóléti Központ | E44: =F8 -> 259051009 | F44: 64964570 | G44: 96268711 | H44: 0 | I44: 19883806 | J44: 54090418 | K44: =SUM(E44:J44) -> 494258514 | L44: 494258514 | M44: =L44-K44 -> 0
B46: ÖSSZESEN: | E46: =SUM(E42:E44) -> 874400692 | F46: =SUM(F42:F44) -> 202033857 | G46: =SUM(G42:G44) -> 331592228 | H46: =SUM(H42:H44) -> 30050000 | I46: =SUM(I42:I44) -> 68488666 | J46: =SUM(J42:J44) -> 280372769 | K46: =SUM(K42:K44) -> 1786938212 | L46: =SUM(L42:L45) -> 1786938212 | M46: =L46-K46 -> 0
B48: *Feladat alapú támogatások: jelzőrendszeres házi segítségnyújtás, fejlesztő foglalkoztatás

Sheet Felhalmozási bevételek
B1: FELHALMOZÁSI BEVÉTELEK (Ft) | F1: 2025. év
K2: 7. melléklet
A3: Kormányzati funkció | B3: Feladat megnevezése | E3: Ingatlanok, tárgyi eszk. értékesít. Rovatrend B52 | F3: Támog.ért. felhalm. bevétel Rovatrend B21, B25 | G3: Felh.célú pénze.átv. ÁH-n kív. B75 | H3: Önk. lak. és helyis. értékes. Rovatrend B52 | I3: Felhalmozási | J3: Fejlesztési | K3: Felhalmozási | L3: Összesen
I4: célú kölcsön | J4: célra | K4: célú
I5: visszatérülés Rovatrend B74, B75 | J5: Kötvény visszaváltás Rovat B812 | K5: maradvány Rovatrend B8131
A6: 018030 Támogatási célú finanszírozási műveletek | B6: Maradványfelhasználás fejlesztési célra KESZI | D6: eredeti | K6: 19535855 | L6: =SUM(E6:K6) -> 19535855
A8: 018030 Támogatási célú finanszírozási műveletek | B8: Maradványfelhasználás fejlesztési célra Családsegítő | D8: eredeti | K8: ='[1]CSGYK 2024'!$F$78 -> 1905000 | L8: =SUM(E8:K9) -> 1905000
A10: 018030 Támogatási célú finanszírozási műveletek | B10: Maradványfelhasználás és MVÖ támogatás fejlesztési célra Térségi Társulás | D10: eredeti | F10: 50000000 | K10: 25735871 | L10: =SUM(E10:K10) -> 75735871
B12: Ö S S Z E S E N : | D12: eredeti | E12: =E10+E6+E8 -> 0 | F12: =F10+F6+F8 -> 50000000 | G12: =G10+G6+G8 -> 0 | H12: =H10+H6+H8 -> 0 | I12: =I10+I6+I8 -> 0 | J12: =J10+J6+J8 -> 0 | K12: =K10+K6+K8 -> 47176726 | L12: =L10+L6+L8 -> 97176726
B13: EBBŐL TÁRSULÁS | D13: eredeti | E13: =E10 -> 0 | F13: =F10 -> 50000000 | G13: =G10 -> 0 | H13: =H10 -> 0 | I13: =I10 -> 0 | J13: =J10 -> 0 | K13: =K10 -> 25735871 | L13: =L10 -> 75735871

Sheet Működési kiadások
B1: MŰKÖDÉSI KIADÁSOK - INTÉZMÉNYEK (Ft) | H1: 2025. év
C2: Kötelezően ellátott feladatok | M2: 8. melléklet
B3: Intézmények megnevezése | E3: Személyi juttatások Rovatrend K1 | F3: Járulékok Rovatrend K2 | G3: Dologi kiadások Rovatrend K3 | H3: Elvonások Támog. ért.műk. Kiadások Rovatrend K502 K506 | I3: Működési c. pénze. átad. ÁH-n kívülre Rovatrend K512 | J3: Társadalom és szociálpolitikai juttatások Rovatrend K4 | K3: Tartalék Rovatrend K513 | L3: Kölcsön visszafizetése Rovatrend K91 | M3: Összesen
C6: Kistérségi Egyesített Szociális Intézmény | E6: 1037871958 | F6: 146699343 | G6: 704846591 | H6: 0 | I6: 0 | J6: 1000000 | K6: 0 | L6: 0 | M6: =SUM(E6:L6) -> 1890417892 | N6: kötelező | P6: =M6+'Felhalmozási kiadások'!I7 -> 1909953747
C8: Család és Gyermekjóléti Központ | E8: 471136015 | F8: 70524894 | G8: 47925105 | H8: 0 | I8: 0 | J8: ='[1]CSGYK 2024'!$F$69 -> 300000 | K8: 0 | L8: 0 | M8: =SUM(E8:L8) -> 589886014 | N8: kötelező | P8: =M8+'Felhalmozási kiadások'!I9 -> 591791014
B10: Intézmények összesen: | E10: =E8+E6 -> 1509007973 | F10: =F8+F6 -> 217224237 | G10: =G8+G6 -> 752771696 | H10: =H8+H6 -> 0 | I10: =I8+I6 -> 0 | J10: =J8+J6 -> 1300000 | K10: =K8+K6 -> 0 | L10: =L8+L6 -> 0 | M10: =M8+M6 -> 2480303906
B11: Ebből kötelezően ellátott | E11: =E8+E6 -> 1509007973 | F11: =F8+F6 -> 217224237 | G11: =G8+G6 -> 752771696 | H11: =H8+H6 -> 0 | I11: =I8+I6 -> 0 | J11: =J8+J6 -> 1300000 | K11: =K8+K6 -> 0 | L11: =L8+L6 -> 0 | M11: =M8+M6 -> 2480303906
B12: Ebből önként ellátott | E12: =E10-E11 -> 0 | F12: =F10-F11 -> 0 | G12: =G10-G11 -> 0 | H12: =H10-H11 -> 0 | I12: =I10-I11 -> 0 | J12: =J10-J11 -> 0 | K12: =K10-K11 -> 0 | L12: =L10-L11 -> 0 | M12: =M10-M11 -> 0
B16: Mosonmagyaróvár Térségi Társulás működési kiadásai adatok Ft-ban | K16: 2025. év | M16: 9. melléklet
B18: Funkció/Feladat megnevezése | E18: Személyi juttatások Rovatrend K1 | F18: Járulékok Rovatrend K2 | G18: Dologi kiadások Rovatrend K3 | H18: Támog. ért.műk. Kiadások, Elszámolások központi ktg-vetés felé Rovatrend K506, K5022 | I18: Működési c. pénze. átad. ÁH-n kívülre Rovatrend K512, működési kölcsön nyújtása K508 | J18: Társadalom és szociálpolitikai juttatások Rovatrend K4 | K18: Tartalék Rovatrend K513 | L18: Kölcsön/Hitel visszafizetése, államháztartási megelőlegezés visszafizetése Rovatrend K91 | M18: Összesen
B21: Térségi Társulás Önk. Jogalkotó tevékenysége 011130 | E21: 850000 | F21: 342186 | G21: 4754500 | H21: 13600000 | I21: =[1]Társulás!$I$23 -> 850000 | J21: 0 | K21: 0 | M21: =SUM(E21:L21) -> 20396686 | N21: önként
E22: 0 | F22: 0 | G22: 0 | H22: 0 | I22: 0 | J22: 0 | K22: 63499753 | M22: =SUM(E22:L22) -> 63499753 | N22: kötelező | O22: =M22+M21 -> 83896439 | P22: =M21+M22+'Felhalmozási kiadások'!I11 -> 167523080
B23: ÖSSZESEN: | D23: eredeti | E23: =SUM(E21:E22) -> 850000 | F23: =SUM(F21:F22) -> 342186 | G23: =SUM(G21:G22) -> 4754500 | H23: =SUM(H21:H22) -> 13600000 | I23: =SUM(I21:I22) -> 850000 | J23: =SUM(J21:J22) -> 0 | K23: =SUM(K21:K22) -> 63499753 | L23: =SUM(L21:L22) -> 0 | M23: =SUM(M21:M22) -> 83896439 | O23: =SUM(E23:L23) -> 83896439
B24: ebből kötelező | E24: =E22 -> 0 | F24: =F22 -> 0 | G24: =G22 -> 0 | H24: =H22 -> 0 | I24: =I22 -> 0 | J24: =J22 -> 0 | K24: =K22 -> 63499753 | L24: =L22 -> 0 | M24: =M22 -> 63499753
B25: ebből önként vállalt | E25: =E23-E24 -> 850000 | F25: =F23-F24 -> 342186 | G25: =G23-G24 -> 4754500 | H25: =H23-H24 -> 13600000 | I25: =I23-I24 -> 850000 | J25: =J23-J24 -> 0 | K25: =K23-K24 -> 0 | L25: =L23-L24 -> 0 | M25: =M23-M24 -> 20396686
B26: kötelezőből államigazgatási | E26: 0 | F26: 0 | G26: 0 | H26: 0 | I26: 0 | J26: 0 | K26: 0 | L26: 0 | M26: 0
B28: Mosonmagyaróvár Térségi Társulás és intézményei működési kiadásai adatok Ft-ban | M28: 10. melléklet
B30: Intézmények megnevezése | E30: Személyi juttatások Rovatrend K1 | F30: Járulékok Rovatrend K2 | G30: Dologi kiadások Rovatrend K3 | H30: Elvonások Támog. ért.műk. Kiadások Rovatrend K502 K506 | I30: Működési c. pénze. átad. ÁH-n kívülre Rovatrend K512 | J30: Társadalom és szociálpolitikai juttatások Rovatrend K4 | K30: Tartalék Rovatrend K513 | L30: Kölcsön visszafizetése Rovatrend K91 | M30: Összesen
C33: Kistérségi Egyesített Szociális Intézmény | E33: =E6 -> 1037871958 | F33: =F6 -> 146699343 | G33: =G6 -> 704846591 | H33: =H6 -> 0 | I33: =I6 -> 0 | J33: =J6 -> 1000000 | K33: =K6 -> 0 | L33: =L6 -> 0 | M33: =M6 -> 1890417892
C35: Család és Gyermekjóléti Központ | E35: =E8 -> 471136015 | F35: =F8 -> 70524894 | G35: =G8 -> 47925105 | H35: =H8 -> 0 | I35: =I8 -> 0 | J35: =J8 -> 300000 | K35: =K8 -> 0 | L35: =L8 -> 0 | M35: =M8 -> 589886014
B37: Intézmények összesen: | E37: =E35+E33 -> 1509007973 | F37: =F35+F33 -> 217224237 | G37: =G35+G33 -> 752771696 | H37: =H35+H33 -> 0 | I37: =I35+I33 -> 0 | J37: =J35+J33 -> 1300000 | K37: =K35+K33 -> 0 | L37: =L35+L33 -> 0 | M37: =M35+M33 -> 2480303906
B38: Ebből kötelezően ellátott | E38: =E35+E33 -> 1509007973 | F38: =F35+F33 -> 217224237 | G38: =G35+G33 -> 752771696 | H38: =H35+H33 -> 0 | I38: =I35+I33 -> 0 | J38: =J35+J33 -> 1300000 | K38: =K35+K33 -> 0 | L38: =L35+L33 -> 0 | M38: =M35+M33 -> 2480303906
B39: Ebből önként ellátott | E39: =E37-E38 -> 0 | F39: =F37-F38 -> 0 | G39: =G37-G38 -> 0 | H39: =H37-H38 -> 0 | I39: =I37-I38 -> 0 | J39: =J37-J38 -> 0 | K39: =K37-K38 -> 0 | L39: =L37-L38 -> 0 | M39: =M37-M38 -> 0
B40: Funkció/Feladat megnevezése | E40: Személyi juttatások Rovatrend K1 | F40: Járulékok Rovatrend K2 | G40: Dologi kiadások Rovatrend K3 | H40: Támog. ért.műk. Kiadások, Elszámolások központi ktg-vetés felé Rovatrend K506, K5022 | I40: Működési c. pénze. átad. ÁH-n kívülre Rovatrend K512, működési kölcsön nyújtása K508 | J40: Társadalom és szociálpolitikai juttatások Rovatrend K4 | K40: Tartalék Rovatrend K513 | L40: Kölcsön/Hitel visszafizetése, államháztartási megelőlegezés visszafizetése Rovatrend K91 | M40: Összesen
B43: Térségi Társulás Önk. Jogalkotó tevékenysége 011130 | E43: =E21 -> 850000 | F43: =F21 -> 342186 | G43: =G21 -> 4754500 | H43: =H21 -> 13600000 | I43: =I21 -> 850000 | J43: =J21 -> 0 | K43: =K21 -> 0 | L43: =L21 -> 0 | M43: =M21 -> 20396686
E44: =E22 -> 0 | F44: =F22 -> 0 | G44: =G22 -> 0 | H44: =H22 -> 0 | I44: =I22 -> 0 | J44: =J22 -> 0 | K44: =K22 -> 63499753 | L44: =L22 -> 0 | M44: =M22 -> 63499753
B45: ÖSSZESEN: | D45: eredeti | E45: =SUM(E43:E44) -> 850000 | F45: =SUM(F43:F44) -> 342186 | G45: =SUM(G43:G44) -> 4754500 | H45: =SUM(H43:H44) -> 13600000 | I45: =SUM(I43:I44) -> 850000 | J45: =SUM(J43:J44) -> 0 | K45: =SUM(K43:K44) -> 63499753 | L45: =SUM(L43:L44) -> 0 | M45: =SUM(M43:M44) -> 83896439
B46: ebből kötelező | E46: =E44 -> 0 | F46: =F44 -> 0 | G46: =G44 -> 0 | H46: =H44 -> 0 | I46: =I44 -> 0 | J46: =J44 -> 0 | K46: =K44 -> 63499753 | L46: =L44 -> 0 | M46: =M44 -> 63499753
B47: ebből önként vállalt | E47: =E45-E46 -> 850000 | F47: =F45-F46 -> 342186 | G47: =G45-G46 -> 4754500 | H47: =H45-H46 -> 13600000 | I47: =I45-I46 -> 850000 | J47: =J45-J46 -> 0 | K47: =K45-K46 -> 0 | L47: =L45-L46 -> 0 | M47: =M45-M46 -> 20396686
B48: kötelezőből államigazgatási | E48: 0 | F48: 0 | G48: 0 | H48: 0 | I48: 0 | J48: 0 | K48: 0 | L48: 0 | M48: 0
B49: MINDÖSSZESEN: | D49: eredeti | E49: =E45+E37 -> 1509857973 | F49: =F45+F37 -> 217566423 | G49: =G45+G37 -> 757526196 | H49: =H45+H37 -> 13600000 | I49: =I45+I37 -> 850000 | J49: =J45+J37 -> 1300000 | K49: =K45+K37 -> 63499753 | L49: =L45+L37 -> 0 | M49: =M45+M37 -> 2564200345 | P49: =M49+'Felhalmozási kiadások'!I12 -> 2669267841
B50: ebből kötelező | E50: =E46+E38 -> 1509007973 | F50: =F46+F38 -> 217224237 | G50: =G46+G38 -> 752771696 | H50: =H46+H38 -> 0 | I50: =I46+I38 -> 0 | J50: =J46+J38 -> 1300000 | K50: =K46+K38 -> 63499753 | L50: =L46+L38 -> 0 | M50: =M46+M38 -> 2543803659
B51: ebből önként vállalt | E51: =E49-E50 -> 850000 | F51: =F49-F50 -> 342186 | G51: =G49-G50 -> 4754500 | H51: =H49-H50 -> 13600000 | I51: =I49-I50 -> 850000 | J51: =J49-J50 -> 0 | K51: =K49-K50 -> 0 | L51: =L49-L50 -> 0 | M51: =M49-M50 -> 20396686
B52: kötelezőből államigazgatási | E52: 0 | F52: 0 | G52: 0 | H52: 0 | I52: 0 | J52: 0 | K52: 0 | L52: 0 | M52: 0

Sheet Felhalmozási kiadások
B1: FELHALMOZÁSI KIADÁSOK adatok Ft-ban
F2: 2025. év | H2: 11. melléklet
B3: Funkció/Feladat megnevezése | E3: Beruházás Rovatrend K 61-67 | F3: Felújítás Rovatrend K 71-74 | G3: Támog.ért. felh.c. pénze. Átadása Rovatrend K 81-84 | H3: Felh.c. pénzeszk. átad. ÁH-n kívüre Rovatrend K 85-89 | I3: Összesen
B6: KESZI: kisértékű eszközbeszerzések, laptop és szoftver beszerzések, ipari mosógép vásárlása, csendes szoba kialakítása
B7: 102031 Idősek nappali ellátása | E7: 18415000 | F7: 1120855 | G7: 0 | H7: 0 | I7: =SUM(E7:H7) -> 19535855 | J7: kötelező
B8: Család- és Gyermekjóléti Központ: számítógépek vásárlása
B9: 104043 Család- és Gyermekjóléti Központ | E9: 1905000 | F9: 0 | G9: 0 | H9: 0 | I9: =SUM(E9:H9) -> 1905000 | J9: kötelező
B10: Térségi Társulás: vagyonkezelt ingatlanokkal kapcsolatos felújítások
B11: 013350 | C11: önkormányzati vagyonnal való gazdálkodás | E11: 0 | F11: 83626641 | G11: 0 | H11: 0 | I11: =SUM(E11:H11) -> 83626641 | J11: kötelező
B12: Ö S S Z E S E N : | D12: eredeti | E12: =SUM(E7:E11) -> 20320000 | F12: =SUM(F7:F11) -> 84747496 | G12: =SUM(G7:G11) -> 0 | H12: =SUM(H7:H11) -> 0 | I12: =SUM(I7:I11) -> 105067496
B13: ebből kötelező | E13: =E12 -> 20320000 | F13: =F12 -> 84747496 | G13: =G12 -> 0 | H13: =H12 -> 0 | I13: =I12 -> 105067496
B14: ebből önként vállalt | E14: =SUM(E12-E13) -> 0 | F14: =SUM(F12-F13) -> 0 | G14: =SUM(G12-G13) -> 0 | H14: =SUM(H12-H13) -> 0 | I14: =SUM(I12-I13) -> 0
B15: Társulás | D15: eredeti | E15: =E11 -> 0 | F15: =F11 -> 83626641 | G15: =G11 -> 0 | H15: =H11 -> 0 | I15: =I11 -> 83626641

Sheet Állami támogatások 
B2: Állami hozzájárulások 2025. év | D2: 12. melléklet
A4: Rovat | B4: Jogcím | C4: Várható állami támogatás 2025. év
A5: B113 | B5: Család- és gyermekjóléti szolgálat, valamint család- és gyermekjóléti központ támogatása | C5: =110275460+87333000 -> 197608460
A6: B113 | B6: Óvodai és iskolai szociális segítő tevékenység támogatása | C6: 52008735
A7: B113 | B7: Szociális étkeztetés | C7: 40522560
A8: B113 | B8: Személyi gondozás | C8: 102797200
A9: B113 | B9: Időskorúak nappali intézményi ellátása | C9: 19558000
A10: B113 | B10: Fogyatékos és demens személyek ellátása | C10: =15547200+8404500+6995700+1008500+36953400 -> 68909300
A11: B113 | B11: Hajléktalanok nappali ellátása | C11: 16495200
A12: B113 | B12: Hajléktalanok átmeneti ellátása | C12: 42218400
A13: B113 | B13: Hajléktalanok éjjeli menedékhelye | C13: 6031200
A14: B113 | B14: Hajléktalanok nappali intézményi ellátása - a szociál- és nyugdíjpolitikáért felelős miniszter által kijelölt intézmény | C14: 14302600
A15: B113 | B15: Utcai szociális munka | C15: 12067000
A16: B113 | B16: Bértámogatás szociális szféra | C16: 249318400
B17: intézmény üzemeltetési támogatás | C17: 52563637
B18: Település önkormányzat szociális feladatainak támogatása | C18: =SUM(C5:C17) -> 874400692
B19: ebből Kistérségi Egyesített Szociális Intézmény támogatása | C19: =C7+C8+C9+C10+C11+C12+C13+C14+C15+241527200+50921023 -> 615349683
B20: ebből Család- és Gyermekjóléti Központ támogatása | C20: =C5+C6+7791200+1642614 -> 259051009
B23: Az állami támogatást az intézmények a gesztor önkormányzat nettó finanszírozásán keresztül kapják meg, havonta.

Sheet támogatás
D1: 13. MELLÉKLET
A2: MOSONMAGYARÓVÁR TÉRSÉGI TÁRSULÁS
A3: 2025. ÉVI KÖLTSÉGVETÉSI HATÁROZATÁHOZ
A5: A Mosonmagyaróvár Térségi Társulás által tervezett átvett
A6: támogatások
A8: Átadó megnevezése | B8: Átadás célja | C8: Összege Ft-ban
A9: Magyar Államkincstár | B9: Állami támogatással finanszírozott feladatok ellátásra | C9: ='Állami támogatások '!C18 -> 874400692
A10: Nemzeti Szociálpolitikai Intézet | B10: Fejlesztő foglalkoztatás támogatása (gesztor önkormányzaton keresztül) | C10: 23646000
A11: Nemzeti Szociálpolitikai Intézet | B11: Jelzőrendszeres házi segítségnyújtás támogatása (társulás a szerződő) | C11: 6404000
A12: Mosonmagyaróvár Város Önkormányzata | B12: Kistérségi Egyesített Szociális Intézmény működésének támogatása működési hiány finanszírozása | C12: 235323517 | D12: =SUM(C12:C14) -> 4.1998289e+08 | E12: összes gesztor Önk. Támogatás
A13: Mosonmagyaróvár Város Önkormányzata | B13: Család és Gyermekjóléti Központ működési hiány finanszírozása | C13: 96268711
A14: Mosonmagyaróvár Város Önkormányzata | B14: Térségi társulás működéséhez, felújítási alaphoz és intézmények működéséhez való hozzájárulás | C14: ='2025. tagdíj'!G45 -> 88390658
A15: Gesztor önkormányzati hozzájáruláson kívüli tagtelepülések hozzájárulása | B15: Család és Gyermekjóléti Központ működésének finanszírozásához | C15: =64964570-24442465 -> 40522105 | D15: =C15+C16+C17 -> 146539048 | E15: gesztor Önk. Kívüli tagtelepülési támogatások
A16: Gesztor önkormányzati hozzájáruláson kívüli tagtelepülések hozzájárulása | B16: Kistérségi Egyesített Szociális Intézmény működésének finanszírozásához | C16: =137069287-51571360 -> 85497927
A17: Gesztor önkormányzati hozzájáruláson kívüli tagtelepülések támogatása | B17: Térségi tagdíj, felújítási alap támogatása | C17: =5545680+14973336 -> 20519016
A18: Magyar Államkincstár (közvetelenül intézménynél tervezve) | B18: Család és Gyermekjóléti központ összevont ágazati pótlék becsült összege | C18: =85032500 -> 85032500
A19: Magyar Államkincstár (közvetelenül intézménynél tervezve) | B19: Kistérségi Egyesített Szociális Intézmény összevont ágazati pótlék becsült összege | C19: =111652061 -> 111652061
A20: Magyar Államkincstár (közvetelenül intézménynél tervezve) | B20: Kistérségi Egyesített Szociális Intézmény egészségügyi pótlék becsült összege | C20: 19811988
A21: Magyar Államkincstár (társulásnál tervezve) | B21: Ágazati pótlékok | C21: 68488666
A22: Összesen: | C22: =SUM(C9:C21) -> 1.7559578e+09
B23: 1. oldal | C23: 1755957841
C24: =C23-C22 -> -0.16000009
A25: A Mosonmagyaróvár Térségi Társulás által tervezett átadandó
A26: támogatások
A28: Átvevő megnevezése | B28: Támogatás célja | C28: Összege Ft-ban
A29: Mosonmagyaróvári Polgármesteri Hivatal | B29: Társulási feladatok ellátására hozzájárulás (K506) | C29: =[2]Társulás!$G$41 -> 3600000
A30: Civil szervezet számára Tanács döntése alapján | B30: Társulás által átadandó pénzeszköz (K512) | C30: 850000
A31: Magyar Államkincstár | B31: Esetleges visszafizetési kötelezettségek (beszámolóhoz kapcsolódóan, feladatfinanszírozások elszámolásához kapcsolódóan, K506) | C31: 10000000
A32: Összesen: | C32: =SUM(C28:C31) -> 14450000

Sheet Létszámok
C1: 15. melléklet
A3: Mosonmagyaróvár Térségi Társulás
A4: és felügyelete alá tartozó költségvetési szervek
A5: 2025. évi költségvetéséről szóló határozatához
A7: Költségvetési engedélyzett létszámhely
B9: adatok: fő-ben
A10: Megnevezés | B10: 2022. január 1. | C10: 2025. január 1. | D10: Közfoglalkoztatottak átlagos létszáma
A11: (intézmény, szakfeladat, stb.) | B11: engedélyezett | C11: engedélyezett
B12: létszámhely | C12: létszámhely
A13: Család és Gyermekjóléti Központ | B13: 58.5 | C13: =SUM(C14:C17) -> 58.5 | D13: 0
A14: Gyermekek Átmeneti Otthona | B14: 8.5 | C14: 8.5 | D14: 0
A15: Család- és Gyermekjóléti Központ / Hatósági és Speciális Munkacsoporot | B15: 16 | C15: 16 | D15: 0
A16: Család-és Gyermekjóléti Központ/ Családsegítő Szolgálat | B16: 23 | C16: 23 | D16: 0
A17: Óvodai és iskolai szociális segítő tevékenység | B17: 11 | C17: 11
A18: Kistérségi Egyesített Szociális Intézet | B18: =SUM(B19:B30) -> 159 | C18: =SUM(C19:C30) -> 143 | D18: =SUM(D19:D30) -> 0
A19: Aranykor Idősek Otthona, Idősek Otthona, Központi irányítás | B19: 48 | C19: 48 | D19: 0
A20: Idősek Gondozóháza, főzőkonyha, karbantartás | B20: 36 | C20: 20 | D20: 0
A21: Hajléktalanok Átmeneti Szállása | B21: 9 | C21: 9 | D21: 0
A22: Idősek klubjai | B22: 15 | C22: 15 | D22: 0
A23: FÉNI | B23: 6 | C23: 6 | D23: 0
A24: Nappali melegedő | B24: 3 | C24: 3 | D24: 0
A25: Éjjeli menedékhely | B25: 2 | C25: 2
A26: Utcai szociális munka | B26: 2 | C26: 2
A27: Szociális étkezés | B27: 1 | C27: 1 | D27: 0
A28: Házi segítségnyújtás | B28: 34 | C28: 34 | D28: 0
A29: Jelzőrendszer | B29: 1 | C29: 1 | D29: 0
A30: Fejlesztő foglalkoztatás | B30: 2 | C30: 2 | D30: 0
A31: Mosonmagyaróvár Térségi Társulás állandó létszámhely nincs | B31: 0 | C31: 0 | D31: 0
A32: Összesen: | B32: =B18+B13 -> 217.5 | C32: =SUM(C13+C18+C31) -> 201.5 | D32: =SUM(D13+D18+D31) -> 0

Sheet Címrend
A1: Mosonmagyaróvári Térségi Társulás és intézményei | D1: ok kiadás | E1: ok bev.
A2: 2025. évi költségvetési előirányzat költségvetési szervenként Ft-ban
C4: 14. melléklet
A5: Címrendi szám | B5: Intézmény neve | C5: 2025. évi előirányzat
A6: 1 1 | B6: Kistérségi Egyesített Szociális Intézmény | C6: ='Működési kiadások'!M33+'Felhalmozási kiadások'!I7 -> 1909953747 | D6: ='Működési bevételek'!L6+'Felhalmozási bevételek'!L6 -> 1909953747 | E6: =D6-C6 -> 0
A7: 2 1 | B7: Család és Gyermekvédelmi Központ | C7: ='Működési kiadások'!M8+'Felhalmozási kiadások'!I9 -> 591791014 | D7: ='Felhalmozási bevételek'!L8+'Működési bevételek'!L8 -> 591791014 | E7: =D7-C7 -> 0
A8: 3 1 | B8: Mosonmagyaróvár Térségi Társulás | C8: ='Működési kiadások'!M23+'Felhalmozási kiadások'!I15 -> 167523080 | D8: ='Működési bevételek'!L19+'Felhalmozási bevételek'!L10 -> 167523080 | E8: =D8-C8 -> 0
A9: MOSONMAGYARÓVÁR TÉRSÉGI TÁRSULÁS ÖSSZESEN | C9: =SUM(C6:C8) -> 2669267841 | D9: =SUM(D6:D8) -> 2669267841

Sheet Közvetett támogatások
A1: Közvetett támogatások - 2025. év
C2: 16. melléklet
A4: Mosonmagyaróvár Térségi Társulás és intézményei közvetett támogatást nem nyújtanak.
A6: A gesztor önkormányzat - Mosonmagyaróvár Város Önkormányzat - költségvetési rendelete szerint:
A8: Mosonmagyaróvár Város Önkormányzata a Mosonmagyaróvár Térségi Társulás által fenntartott Kistérségi Egyesített Szociális Intézménye által idősek számára biztosított alapszolgáltatási ellátást igénybe vevők személyi térítési díját megtéríti az ellátottak helyett, a következő feltételek együttes teljesülése esetén: az ellátott a) a mosonmagyaróvári Kistérségi Egyesített Szociális Intézmény által, idősek számára biztosított alapszolgáltatás igénybe vevője, b) Mosonmagyaróváron állandó lakóhellyel rendelkezik, c) betöltötte a 90. életévét és d) tartási vagy öröklési szerződést nem kötött. A személyi térítési díj átvállalása a 90. életév betöltését követő hónaptól történik.
A10: A gesztor önkormányzatnál az így meghatározott közvetett támogatás összege:
A11: 90. életévét betöltő, mosonmagyaróvári állandó lakcímmel rendelkezők teljes ellátására vonatkozó szociális támogatása | C11: 22445266 | D11: Ft

Sheet Finanszírozás
N1: 17. melléklet
A2: Finanszírozási terv 2025. év | C2: adatok Ft-ban
B3: Jan | C3: Febr | D3: Márc | E3: Ápr | F3: Máj | G3: Jún | H3: Júl | I3: Aug | J3: Szept | K3: Okt | L3: Nov | M3: Dec | N3: Összesen
A5: Intézményi működési bevételek | B5: 33692500 | C5: 33692500 | D5: 33692500 | E5: 33692500 | F5: 33692500 | G5: 33692500 | H5: 33692500 | I5: 33692500 | J5: 33692500 | K5: 33692500 | L5: 33692500 | M5: 33692500 | N5: =SUM(B5:M5) -> 404310000 | O5: =Mérleg!C6 -> 404310000 | P5: =O5-N5 -> 0
A6: Támogatásértékű működési bev. | B6: 146330000 | C6: 146330000 | D6: 146330000 | E6: 146330000 | F6: 146330000 | G6: 146330000 | H6: 146330000 | I6: 146330000 | J6: 146330000 | K6: 146330000 | L6: 146330000 | M6: 146327841 | N6: =SUM(B6:M6) -> 1755957841 | O6: =Mérleg!C7 -> 1755957841 | P6: =O6-N6 -> 0
A7: Támogatás értékű felhalmozási bevétel | B7: 0 | C7: 0 | D7: 0 | E7: 0 | F7: 0 | G7: 5000000 | H7: 0 | I7: 10000000 | J7: 15000000 | K7: 7000000 | L7: 7000000 | M7: 6000000 | N7: =SUM(B7:M7) -> 50000000 | O7: =Mérleg!C14 -> 50000000 | P7: =O7-N7 -> 0
A8: Maradványfelhasználás | B8: 30000000 | C8: 32000000 | D8: 52000000 | E8: 76000000 | F8: 21000000 | G8: 82000000 | H8: 21000000 | I8: 5000000 | J8: 0 | K8: 41000000 | L8: 19000000 | M8: 80000000 | N8: =SUM(B8:M8) -> 459000000 | O8: =Mérleg!C18 -> 459000000 | P8: =O8-N8 -> 0
A9: Bevételek összesen: | B9: =SUM(B5:B8) -> 210022500 | C9: =SUM(C5:C8) -> 212022500 | D9: =SUM(D5:D8) -> 232022500 | E9: =SUM(E5:E8) -> 256022500 | F9: =SUM(F5:F8) -> 201022500 | G9: =SUM(G5:G8) -> 267022500 | H9: =SUM(H5:H8) -> 201022500 | I9: =SUM(I5:I8) -> 195022500 | ... O9: =SUM(O5:O8) -> 2669267841 | P9: =O9-N9 -> 0
A11: Személyi juttatások | B11: 116142000 | C11: 116142000 | D11: 116142000 | E11: 116142000 | F11: 116142000 | G11: =116142000+58076986 -> 174218986 | H11: 116142000 | I11: 116142000 | J11: 116142000 | K11: 116142000 | L11: 116142000 | M11: =116142000+58076987 -> 174218987 | N11: =SUM(B11:M11) -> 1509857973 | O11: ='Működési kiadások'!E49 -> 1509857973 | P11: =O11-N11 -> 0
A12: Járulékok | B12: 15098460 | C12: =15098460+1470000 -> 16568460 | D12: =15098460+7702000 -> 22800460 | E12: =15098460+1470000 -> 16568460 | F12: 15098460 | G12: 22648468 | H12: =15098460+1470000 -> 16568460 | I12: 15098460 | J12: 15098460 | K12: =15098460+1470000 -> 16568460 | L12: =15098460+7702000 -> 22800460 | M12: =887+22648468 -> 22649355 | N12: =SUM(B12:M12) -> 217566423 | O12: ='Működési kiadások'!F49 -> 217566423 | P12: =O12-N12 -> 0
A13: Dologi kiadások | B13: 63127000 | C13: 63127000 | D13: 63127000 | E13: 63127000 | F13: 63127000 | G13: 63127000 | H13: 63127000 | I13: 63127000 | J13: 63127000 | K13: 63127000 | L13: 63127000 | M13: 63129196 | N13: =SUM(B13:M13) -> 757526196 | O13: ='Működési kiadások'!G49 -> 757526196 | P13: =O13-N13 -> 0
A14: Ellátottak juttatása | B14: 80000 | C14: 92000 | D14: 150000 | E14: 92000 | F14: 92000 | G14: 150000 | H14: 88000 | I14: 92000 | J14: 140000 | K14: 92000 | L14: 92000 | M14: 140000 | N14: =SUM(B14:M14) -> 1300000 | O14: ='Működési kiadások'!J49 -> 1300000 | P14: =O14-N14 -> 0
A15: Támogatásért.műk.kiadás | B15: 0 | C15: 0 | D15: 10000000 | E15: 0 | F15: 0 | G15: 1800000 | H15: 0 | I15: 0 | J15: 0 | K15: 1800000 | L15: 0 | M15: 0 | N15: =SUM(B15:M15) -> 13600000 | O15: ='Működési kiadások'!H49 -> 13600000 | P15: =O15-N15 -> 0
A16: Műk.c.pénzeszk.átad ÁH-n kív. | B16: 0 | C16: 0 | D16: 0 | E16: 0 | F16: 850000 | G16: 0 | H16: 0 | I16: 0 | J16: 0 | K16: 0 | L16: 0 | M16: 0 | N16: =SUM(B16:M16) -> 850000 | O16: ='Működési kiadások'!I49 -> 850000 | P16: =O16-N16 -> 0
A17: Fejlesztési kiadások | B17: 0 | C17: 0 | D17: 5767705 | E17: 50000000 | F17: 5016500 | G17: 5000000 | H17: 5000000 | I17: 0 | J17: 1120855 | K17: 30000000 | L17: 3162436 | M17: 0 | N17: =SUM(B17:M17) -> 105067496 | O17: ='Felhalmozási kiadások'!I12 -> 105067496 | P17: =O17-N17 -> 0
A18: Tartalék felhasználás | M18: 63499753 | N18: =SUM(B18:M18) -> 63499753 | O18: ='Működési kiadások'!K49 -> 63499753 | P18: =O18-N18 -> 0
A19: Kiadások összesen: | B19: =SUM(B11:B18) -> 194447460 | C19: =SUM(C11:C18) -> 195929460 | D19: =SUM(D11:D18) -> 217987165 | E19: =SUM(E11:E18) -> 245929460 | F19: =SUM(F11:F18) -> 200325960 | G19: =SUM(G11:G18) -> 266944454 | H19: =SUM(H11:H18) -> 200925460 | I19: =SUM(I11:I18) -> 194459460 | ... O19: =SUM(O11:O18) -> 2669267841 | P19: =O19-N19 -> 0
A21: Havi egyenleg | B21: =B9-B19 -> 15575040 | C21: =C9-C19 -> 16093040 | D21: =D9-D19 -> 14035335 | E21: =E9-E19 -> 10093040 | F21: =F9-F19 -> 696540 | G21: =G9-G19 -> 78046 | H21: =H9-H19 -> 97040 | I21: =I9-I19 -> 563040 | ... N21: =N9-N19 -> 0
A22: Gönygyölített egyenleg | B22: =B21 -> 15575040 | C22: =B22+C21 -> 31668080 | D22: =C22+D21 -> 45703415 | E22: =D22+E21 -> 55796455 | F22: =E22+F21 -> 56492995 | G22: =F22+G21 -> 56571041 | H22: =G22+H21 -> 56668081 | I22: =H22+I21 -> 57231121 | J22: =I22+J21 -> 56625306 | ... M22: =L22+M21 -> 0

Sheet Gördülő tervezés
A1: A működési és fejlesztési célú bevételek és kiadások 2025-2028. évi
A2: alakulását bemutató mérleg adatok Ft-ban
E3: 18. melléklet
B5: 2025 | C5: 2026 | D5: 2027 | E5: 2028
A6: Intézményi működési bevétel | B6: =Mérleg!C6 -> 404310000 | C6: =B6*1.05 -> 424525500 | D6: =C6 -> 424525500 | E6: =D6 -> 424525500
A7: Támogatásértékű műk. bevétel | B7: =Mérleg!C7 -> 1755957841 | C7: =B7*1.05 -> 1.8437557e+09 | D7: =C7*1.05-30 -> 1.9359435e+09 | E7: =D7*1.05+5 -> 2.0327407e+09
A8: Műk.c.pénzeszköz átv.ÁH-n kívülről | B8: =Mérleg!C8 -> 0 | C8: 0 | D8: 0 | E8: 0
A9: Állami támogatások | B9: =Mérleg!C9 -> 0 | C9: 0 | D9: 0 | E9: 0
A10: Egyéb közhatlami bevételek | B10: =Mérleg!C11 -> 0 | C10: 0 | D10: 0 | E10: 0
A11: Működési bevételek összesen | B11: =SUM(B6:B10) -> 2160267841 | C11: =SUM(C6:C10) -> 2.2682812e+09 | D11: =SUM(D6:D10) -> 2.360469e+09 | E11: =SUM(E6:E10) -> 2.4572662e+09
A12: Ingatlanok, tárgyi eszközök értékesítése | B12: =Mérleg!C13 -> 0 | C12: 0 | D12: 0 | E12: 0
A13: Támogtás értékű felhalmozási bev. | B13: =Mérleg!C14 -> 50000000 | C13: 50000000 | D13: 50000000 | E13: 50000000
A14: Felh.c.pénzeszköz átvétel ÁH-n kív. | B14: =Mérleg!C15 -> 0 | C14: 0 | D14: 0 | E14: 0
A15: Önkorm.lakások és helyis.értékesít. | B15: =Mérleg!C16 -> 0 | C15: =B15 -> 0 | D15: =C15 -> 0 | E15: =D15 -> 0
A16: Felhalmozási bev. összesen | B16: =SUM(B12:B15) -> 50000000 | C16: =SUM(C12:C15) -> 50000000 | D16: =SUM(D12:D15) -> 50000000 | E16: =SUM(E12:E15) -> 50000000
A17: Maradványfelhasználás | B17: =Mérleg!C18 -> 459000000 | C17: 331918451 | D17: 292878206 | E17: 292818412
A18: Kölcsönök, visszatérítendő támogatások visszatérülése | B18: =Mérleg!C19 -> 0 | C18: 0 | D18: 0 | E18: 0
A19: Bevételek összesen | B19: =SUM(B11+B16+B17) -> 2669267841 | C19: =SUM(C11:C18) -> 2.7001997e+09 | D19: =SUM(D11:D18) -> 2.7533472e+09 | E19: =SUM(E11:E18) -> 2.8500846e+09
A20: Hitelfelvétel | B20: 0 | C20: 0 | D20: 0 | E20: 0
A21: Bevétel mindösszesen | B21: =B20+B19 -> 2669267841 | C21: =C20+C19 -> 2.7001997e+09 | D21: =D20+D19 -> 2.7533472e+09 | E21: =E20+E19 -> 2.8500846e+09
B22: =B21-Mérleg!C27 -> 0
A23: Kiadások | B23: 2025 | C23: 2026 | D23: 2027 | E23: 2028
A24: Személyi juttatások | B24: ='Működési kiadások'!E10+'Működési kiadások'!E23 -> 1509857973 | C24: =B24*1.03+50 -> 1.5551538e+09 | D24: =C24*1.03-29 -> 1.6018083e+09 | E24: =D24*1.03+17 -> 1.6498626e+09
A25: Járulékok | B25: ='Működési kiadások'!F10+'Működési kiadások'!F23 -> 217566423 | C25: =B25*1.03 -> 2.2409342e+08 | D25: =C25*1.03 -> 2.3081622e+08 | E25: =D25*1.03 -> 2.377407e+08
A26: Dologi kiadások | B26: ='Működési kiadások'!G23+'Működési kiadások'!G10 -> 757526196 | C26: =B26*1.05 -> 7.9540251e+08 | D26: =C26*1.05 -> 8.3517263e+08 | E26: =D26*1.05 -> 8.7693126e+08
A27: Ellátottak juttatása | B27: ='Működési kiadások'!J10 -> 1300000 | C27: 1100000 | D27: 1100000 | E27: 1100000
A28: Támogatásért.műk.kiadás | B28: ='Működési kiadások'!H23 -> 13600000 | C28: 13600000 | D28: 13600000 | E28: 13600000
A29: Műk.c.pénzeszk.átad ÁH-n kív. | B29: ='Működési kiadások'!I23 -> 850000 | C29: 850000 | D29: 850000 | E29: 850000
A30: Fejlesztési kiadások | B30: ='Felhalmozási kiadások'!I12 -> 105067496 | C30: 60000000 | D30: 20000000 | E30: 20000000
A31: Tartalék felhasználás | B31: ='Működési kiadások'!K23 -> 63499753 | C31: 50000000 | D31: 50000000 | E31: 50000000
A32: KIADÁSOK MINDÖSSZESEN: | B32: =SUM(B24:B31) -> 2669267841 | C32: =SUM(C24:C31) -> 2.7001997e+09 | D32: =SUM(D24:D31) -> 2.7533472e+09 | E32: =SUM(E24:E31) -> 2.8500846e+09
B33: =B32-Mérleg!I29 -> 0 | C33: =C32-C21 -> -0.36999989 | D33: =D32-D21 -> -0.39610004 | E33: =E32-E21 -> -0.40023327
B34: =B32-B21 -> 0 | C34: =C21-C32 -> 0.36999989 | D34: =D21-D32 -> 0.39610004 | E34: =E21-E32 -> 0.40023327

Sheet  hitel
A1: Hitel-/kölcsön törlesztések és projektvizsgálati díjak (Ft-ban) 2025. év
E2: 19. melléklet
A5: A Mosonmagyaróvár Térségi Társulás 2025. évben hitelállománnyal nem rendelkezik.

Sheet Többéves 
A2: Többéves kihatású kötelezettségek általános működtetési költségeken kívül Ft-ban | G2: 20. melléklet | K2: 1. oldal
A3: Sorszám | B3: Partner | D3: Szerződés összege (Ft) | E3: 2025 | F3: 2026 | G3: 2027 | H3: 2028 | I3: Szerződés tárgya
A4: 1. | B4: Abakusz SH Kft | E4: 500000 | F4: 500000 | G4: 500000 | H4: 500000 | I4: Irodaszer, megállapodás alapján CSGYK
A5: 2. | B5: Alfa Vienna Insurance Group Biztosító Zrt | E5: 76000 | F5: 76000 | G5: 76000 | H5: 76000 | I5: MDC 786 Suzuki Splash gépjármű kötelező biztosítás
A6: 3. | B6: Allianz Hungária Biztosító | E6: 253000 | F6: 253000 | G6: 253000 | H6: 253000 | I6: KIA KGFB és CASCO + RWL 677 Dacia Lodgy KGFB
A7: 4. | B7: Aqua Szolgáltató Kft | E7: 3700000 | F7: 3700000 | G7: 3700000 | H7: 3700000 | I7: Ivóvíz szolgáltatás
A8: 5. | B8: Central Mediacsoport Zrt | E8: 125000 | F8: 125000 | G8: 125000 | H8: 125000 | I8: Újság előfizetés
A9: 6. | B9: CompuTREND Zrt. | E9: 4200000 | F9: 4200000 | G9: 4200000 | H9: 4200000 | I9: CT-Ecostat éves karbantartási díj
A10: 7. | B10: Dr. Mihályi Zsuzsanna Orvosi Bt | D10: 125.000.-Ft/hó | E10: 1500000 | F10: 1500000 | G10: 1500000 | H10: 1500000 | I10: Rendszereses háziorvosi ellátás Idősek Gonodzóházában
A11: 8. | B11: Dr. Ruzsa Judit Emőke | D11: 100.000.-Ft /hó+4.000.-Ft/demensvzsgálat | E11: 1400000 | F11: 1400000 | G11: 1400000 | H11: 1400000 | I11: Pszichiátriai szakorvosi ellátás biztosítása, demencia vizsgálatok elvégzése
A12: 9. | B12: Ecoffice Technology Kft | E12: 350000 | F12: 350000 | G12: 350000 | H12: 350000 | I12: Másológép bérleti díj Alapszolgáltatási Centrum
A13: 10. | B13: Egyetem Étterem és Konyha Kereskedelmi és Szolgáltató Kft. | E13: 79500000 | F13: 79500000 | G13: 79500000 | H13: 79500000 | I13: szociális étkeztetés keretében meleg étel elkészítése és házhozszállítása, éves szerződés
A14: 11. | B14: ÉMI-TÜV SÜD Kft | E14: 151000 | F14: 151000 | G14: 151000 | H14: 151000 | I14: Felvonó éves biztonságtechnikai vizsgálat
A15: 12. | B15: FleetCor Hungary Kft | E15: 2550000 | F15: 2550000 | G15: 2550000 | H15: 2550000 | I15: üzemanyag a gépjárművekbe
A16: 13. | B16: Földes K. G. 2009 Kft | E16: 250000 | F16: 250000 | G16: 250000 | H16: 250000 | I16: Ételhulladék elszállítása a Soproni út 65, Lengyári út 2.
B17: Földes K. G. 2009 Kft | E17: 51000 | F17: 51000 | G17: 51000 | H17: 51000 | I17: Ételhulladék elszállítása a Ferenczy Károly utca GYÁO
A18: 14. | B18: Földes K. G. 2009 Kft | E18: 45720 | F18: 45720 | G18: 45720 | H18: 45720 | I18: Ételhulladék elszállítása a Lébényi Idősek Klubja
A19: 15. | B19: Földes K. G. 2009 Kft | E19: 45720 | F19: 45720 | G19: 45720 | H19: 45720 | I19: Ételhulladék elszállítása a Jánossomorjai Idősek Klubja
A20: 16. | B20: Földes K. G. 2009 Kft | E20: 150000 | F20: 150000 | G20: 150000 | H20: 150000 | I20: Ételhulladék elszállítása a Mosoni Idősek Klubja
A21: 17. | B21: Földes K. G. 2009 Kft | E21: 150000 | F21: 150000 | G21: 150000 | H21: 150000 | I21: Ételhulladék elszállítása a Óvári Idősek Klubja
A22: 18. | B22: FU-O-GE Kft | E22: 2350000 | F22: 2350000 | G22: 2350000 | H22: 2350000 | I22: foglalkoztatás egészségügyi szolgáltatás KESZI+CSGYK
A23: 19. | B23: Futura Szolgáltató Központ | E23: 280200000 | F23: 280200000 | G23: 280200000 | H23: 280200000 | I23: Étkezetés biztosítása KESZI+CSGYK
A24: 20. | B24: Generali Biztosító Zrt. | E24: 112000 | F24: 112000 | G24: 112000 | H24: 112000 | I24: általános felelősség biztosítás fejlesztő foglalkoztatás
A25: 21. | B25: Generali Biztosító Zrt. | E25: 500000 | F25: 500000 | G25: 500000 | H25: 500000 | I25: NZL 359 Renault Master, Skoda Oktavia SIX 196 Casco biztosítás
A26: 22. | B26: Groupama Biztosító Zrt | E26: 90000 | F26: 90000 | G26: 90000 | H26: 90000 | I26: RWL-677 Dacia Lodgy casco biztosítás CSGYK
A27: 23. | B27: Győr-Moson-Sopron Vármegyei Katasztófavédelmi Igazgatóság | E27: 138000 | F27: 138000 | G27: 138000 | H27: 138000 | I27: Távfelügyelet biztosítása Soproni utca 65.
A28: 24. | B28: Horizon Higiénia Kft | E28: 2400000 | F28: 2400000 | G28: 2400000 | H28: 2400000 | I28: Tisztítószer beszerzés
A29: 25. | B29: Jánossomroja Város Önkormányzata | E29: 1000000 | F29: 1000000 | G29: 1000000 | H29: 1000000 | I29: Jánossomorjai Idősek Klubja közüzemi díjak
A30: 26. | B30: K&H Biztosító | E30: 70000 | F30: 70000 | G30: 70000 | H30: 70000 | I30: Suzuki Splas Casco MDC 786
A31: 27. | B31: Kaczor Attila e.v. | D31: 220.000 Ft/hó | E31: 2660000 | F31: 2660000 | G31: 2660000 | H31: 2660000 | I31: Jelzőrendszeres házi segítségnyújtás helyszínre történő kivonulások
A32: 28. | B32: Kantharosz Gyógyszertár Kft | E32: 710000 | F32: 710000 | G32: 710000 | H32: 710000 | I32: Intézményi gyógyszerek biztosítása az Idősek Gondozóháza ellátottjai részére
A33: 29. | B33: KÉTÜSZ Kapuvár Kft | E33: 30000 | F33: 30000 | G33: 30000 | H33: 30000 | I33: kéményseprés
A34: 30. | B34: Kiss János Mihály | E34: 280000 | F34: 280000 | G34: 280000 | H34: 280000 | I34: tűzvédelmi szolgáltatás KESZI+CSGYK
A35: 31. | B35: Kiss Szűcs Beáta munkavédelmi technikus E.V. | E35: 910000 | F35: 910000 | G35: 910000 | H35: 910000 | I35: Munkavédelmi szolgáltatás KESZI+CSGYK
A36: 32. | B36: Kiss Viktor e.v. | E36: 317000 | F36: 317000 | G36: 317000 | H36: 317000 | I36: CSAGYESZ és CSAGYEK program rendszerfelügyeleti és rendszerkövetési díja
A37: 33. | B37: Kistérségi Egyesített Szociális Intézmény | E37: 1985000 | F37: 1985000 | G37: 1985000 | H37: 1985000 | I37: CT-EcoStat karbantartási díj
A38: 34. | B38: Kitax Kft | E38: 5000000 | F38: 5000000 | G38: 5000000 | H38: 5000000 | I38: Tisztítószer beszerzés
A39: 35. | B39: Kónyáné Dr. Sándor Andrea | D39: 250.000 Ft/hó | E39: 2750000 | F39: 2750000 | G39: 2750000 | H39: 2750000 | I39: Orvosi alapellátás Aranykor Idősek Otthona Virágoskert Idősek Otthona szolgálatnál
A40: 36. | B40: Lajta Clean Kft. | E40: 2900000 | F40: 2900000 | G40: 2900000 | H40: 2900000 | I40: Tisztítószer beszerzés
A41: 37. | B41: Lindström Kft | E41: 1250000 | F41: 1250000 | G41: 1250000 | H41: 1250000 | I41: szőnyegtisztítás KESZI+CSGYK
...

Sheet Saját bevételek részletezése
A2: Az Áht. 23. § (2) bekezdése alapján a Gst. 8.§ (2) bekezdése szerinti adósságot keletkeztető ügyletek és
A3: az önkormányzati garanciákból és önkormányzati kezességekből fennálló kötelezettségek az adósságot keletkeztető ügylegek futamidejének végéig
A4: adatok Ft-ban
E5: 22. melléklet
A10: Mosonmagyaróvár Térségi Társulás adósságot keletkeztető ügylettel nem rendelkezik, és a Stabilitási tv. 45.§ (1) bekezdés a) pontja szerinti saját bevételekkel nem rendelkezik 2025. évben.

Sheet Adósságot keletkeztető fejleszt
A1: Mosonmagyaróvár Térségi Társulás adósságot keletkeztető
A2: fejlesztési céljai (adatok Ft-ban)
I3: 23. melléklet
A7: Mosonmagyaróvár Térségi Társulás 2025. évben az eredeti előirányzatok között nem tervez adósságot keletkezető ügyletet.

Sheet 2025. tagdíj
F1: 24. melléklet
B2: Mosonmagyaróvár Térségi Társulás tagjai által fizetendő hozzájárulások, tagdjíak 2025. év
B4: Mosonmagyaróvár Város Önkormányzat 2022. évi gesztor önkormányzati támogatása | G4: 178687977
B5: 2024-ben keletkezett hiány felének bevállalása a gesztor támogatás részeként | G5: 41949605
B6: 2024-ben az évközi béremelés és második kétheti bérkieg. finanszírozása a gesztor részéről | G6: 110954646
B7: Összes gesztori finanszírozás 2025-ben előzetes tervek alapján: | G7: =SUM(G4:G6) -> 331592228
D9: intézményekre felosztva | E9: társulás működésére | F9: CSK
D10: kieg.hozzájárulás | E10: Meglévő tagdíj 283,5 Ft/lakos | F10: Gyermekjóléti szolgálat támogatása 105 Ft/lakos
A11: Sorszám | B11: Önkormányzat | C11: Lakos (2024. január 1.) | D11: 609 Ft + 675 Ft/lakos = 1.284 Ft/lakos
A12: 1. | B12: Mosonmagyaróvár | C12: 31858 | D12: =1284*C12 -> 40905672 | E12: =283.5*C12 -> 9031743 | F12: =105*C12 -> 3345090
A13: 2. | B13: Ásványráró | C13: 2273 | D13: =1284*C13 -> 2918532 | E13: =283.5*C13 -> 644395.5 | F13: =105*C13 -> 238665
A14: 3. | B14: Bezenye | C14: 1564 | D14: =1284*C14 -> 2008176 | E14: =283.5*C14 -> 443394 | F14: =105*C14 -> 164220
A15: 4. | B15: Dunakiliti | C15: 2311 | D15: =1284*C15 -> 2967324 | E15: =283.5*C15 -> 655168.5 | F15: =105*C15 -> 242655
A16: 5. | B16: Dunaremete | C16: 270 | D16: =1284*C16 -> 346680 | E16: =283.5*C16 -> 76545 | F16: =105*C16 -> 28350
A17: 6. | B17: Dunasziget | C17: 1935 | D17: =1284*C17 -> 2484540 | E17: =283.5*C17 -> 548572.5 | F17: =105*C17 -> 203175
A18: 7. | B18: Darnózseli | C18: 1680 | D18: =1284*C18 -> 2157120 | E18: =283.5*C18 -> 476280 | F18: =105*C18 -> 176400
A19: 8. | B19: Feketeerdő | C19: 729 | D19: =1284*C19 -> 936036 | E19: =283.5*C19 -> 206671.5 | F19: =105*C19 -> 76545
A20: 9. | B20: Halászi | C20: 3367 | D20: =1284*C20 -> 4323228 | E20: =283.5*C20 -> 954544.5 | F20: =105*C20 -> 353535
A21: 10. | B21: Hegyeshalom | C21: 4024 | D21: =1284*C21 -> 5166816 | E21: =283.5*C21 -> 1140804 | F21: =105*C21 -> 422520
A22: 11. | B22: Hédervár | C22: 1350 | D22: =1284*C22 -> 1733400 | E22: =283.5*C22 -> 382725 | F22: =105*C22 -> 141750
A23: 12. | B23: Jánossomorja | C23: 6126 | D23: =1284*C23 -> 7865784 | E23: =283.5*C23 -> 1736721 | F23: =105*C23 -> 643230
... A33: 22. | B33: Mosonszolnok | C33: 1947 | D33: =1284*C33 -> 2499948 | E33: =283.5*C33 -> 551974.5 | F33: =105*C33 -> 204435
A34: 23. | B34: Mosonudvar | C34: 421 | D34: =1284*C34 -> 540564 | E34: =283.5*C34 -> 119353.5 | F34: =105*C34 -> 44205 | J34: KESZI
A35: 24. | B35: Püski | C35: 673 | D35: =1284*C35 -> 864132 | E35: =283.5*C35 -> 190795.5 | F35: =105*C35 -> 70665 | J35: CSGYK
A36: 25. | B36: Rajka | C36: 6953 | D36: =1284*C36 -> 8927652 | E36: =283.5*C36 -> 1971175.5 | F36: =105*C36 -> 730065
A37: 26. | B37: Újrónafő | C37: 930 | D37: =1284*C37 -> 1194120 | E37: =283.5*C37 -> 263655 | F37: =105*C37 -> 97650
A38: 27. | B38: Várbalog | C38: 461 | D38: =1284*C38 -> 591924 | E38: =283.5*C38 -> 130693.5 | F38: =105*C38 -> 48405
C39: =SUM(C12:C38) -> 84674
C40: Összesen | D40: =SUM(D12:D38) -> 108721416 | E40: =SUM(E12:E38) -> 24005079 | F40: =SUM(F12:F39) -> 8890770
D43: int.felosztva | E43: társulás felújításra | F43: int.felosztva
A44: Sorszám | B44: Önkormányzat | C44: Lakos (2024. január 1.) | D44: Intézmények működésének támogatása (2023-as hiány felosztása)2024-ben 445,24 Ft/fő, 2025-ben 467,46 Ft/fő - hiányfin. I. | E44: Felújítási alap 105 Ft/lakos | F44: 2024-ben keletkezett hiány felének felosztása 2024-ben 504,34 Ft/fő, 2025-ben 529,56 Ft/fő, a másik 50 %-ot Móvár vállalta be - hiányfin. II. | G44: Fizetési kötelezettség összesen 2025. | H44: 2024-ben teljesített/előírt fizetési kötelezettség | I44: Eltérés előző év eredeti előirányzatához képest
A45: 1. | B45: Mosonmagyaróvár | C45: 31858 | D45: =467.46*C45 -> 14892341 | E45: =105*C45 -> 3345090 | F45: =529.56*C45 -> 16870722 | G45: =D12+E12++F12+D45+E45+F45 -> 88390658 | H45: 84434940 | I45: =G45-H45 -> 3955718.2
A46: 2. | B46: Ásványráró | C46: 2273 | D46: =467.46*C46 -> 1062536.6 | E46: =105*C46 -> 238665 | F46: =529.56*C46 -> 1203689.9 | G46: =D13+E13++F13+D46+E46+F46 -> 6306484 | H46: 5879847 | I46: =G46-H46 -> 426636.96
A47: 3. | B47: Bezenye | C47: 1564 | D47: =467.46*C47 -> 731107.44 | E47: =105*C47 -> 164220 | F47: =529.56*C47 -> 828231.84 | G47: =D14+E14++F14+D47+E47+F47 -> 4339349.3 | H47: 4167424 | I47: =G47-H47 -> 171925.28
A48: 4. | B48: Dunakiliti | C48: 2311 | D48: =467.46*C48 -> 1080300.1 | E48: =105*C48 -> 242655 | F48: =529.56*C48 -> 1223813.2 | G48: =D15+E15++F15+D48+E48+F48 -> 6411915.7 | H48: 6096543 | I48: =G48-H48 -> 315372.72
A49: 5. | B49: Dunaremete | C49: 270 | D49: =467.46*C49 -> 126214.2 | E49: =105*C49 -> 28350 | F49: =529.56*C49 -> 142981.2 | G49: =D16+E16++F16+D49+E49+F49 -> 749120.4 | H49: 734651 | I49: =G49-H49 -> 14469.4
A50: 6. | B50: Dunasziget | C50: 1935 | D50: =467.46*C50 -> 904535.1 | E50: =105*C50 -> 203175 | F50: =529.56*C50 -> 1024698.6 | G50: =D17+E17++F17+D50+E50+F50 -> 5368696.2 | H50: 5020993 | I50: =G50-H50 -> 347703.2
A51: 7. | B51: Darnózseli | C51: 1680 | D51: =467.46*C51 -> 785332.8 | E51: =105*C51 -> 176400 | F51: =529.56*C51 -> 889660.8 | G51: =D18+E18++F18+D51+E51+F51 -> 4661193.6 | H51: 4394690 | I51: =G51-H51 -> 266503.6
A52: 8. | B52: Feketeerdő | C52: 729 | D52: =467.46*C52 -> 340778.34 | E52: =105*C52 -> 76545 | F52: =529.56*C52 -> 386049.24 | G52: =D19+E19++F19+D52+E52+F52 -> 2022625.1 | H52: 1910620 | I52: =G52-H52 -> 112005.08
A53: 9. | B53: Halászi | C53: 3367 | D53: =467.46*C53 -> 1573937.8 | E53: =105*C53 -> 353535 | F53: =529.56*C53 -> 1783028.5 | G53: =D20+E20++F20+D53+E53+F53 -> 9341808.8 | H53: 8829020 | I53: =G53-H53 -> 512788.84
...
